{"text_format":"1","workbook":"xlsx","n_sheets":8,"sheets":["อ่านก่อนใช้","Provider Info","Buy FX","Sell FX","FCD","Dimension","Balance","Summary Buy_Sell"],"not_rendered":{"charts":0,"images":0,"macros":1,"external_links":1,"defined_names":73,"comments":1,"pivot_tables":0},"unopened":[],"bounds":{"document_bytes":16777216,"sheet_cells":100000,"rows_first":2000,"rows_last":500,"rows_between":2000,"halvings":0,"cell_chars":16384,"cell_head_chars":4096},"cells_cut":0,"cells_raw":0,"read":"whole","date_system":"1900"}

{"sheet":"อ่านก่อนใช้","index":0,"n_rows":15,"n_cols":3,"rows_kept":15,"cut":false,"hidden":false,"merged":[]}
["Version : March 2019 (รองรับเฉพาะ Excel 2010 ขึ้นไปเท่านั้น)"]
["ธนาคารแห่งประเทศไทยขอสงวนสิทธิ์ความรับผิดชอบกรณีที่มีการลบ หรือแก้ไขข้อมูลใด ๆ ซึ่งอาจจะทำให้ข้อมูลที่ได้ไม่ถูกต้อง"]
["ไฟล์ Excel Macro ประกอบด้วย 2 sheets คือ"]
[null,"sheet ชื่อ \"อ่านก่อนใช้\""]
[null,"sheet ชื่อ \"Provider Info\""]
["วิธีการป้อนข้อมูล"]
[null,"1. ป้อนข้อมูล Provider Info และงวด ใน cell B3-B8 และข้อมูล Path สำหรับเก็บไฟล์ เช่น \"C:\\MC\" cell A14"]
[null,"2. กด Generate Input File Excel จะทำการ Generate Input File (.xlsx) ใน Folder ตาม License Number ที่ระบุ"]
[null,null,"- หากยังไม่มี Folder จะทำการสร้าง Folder ใน Path ที่ระบุอัตโนมัติ โดยมีชื่อตาม License Number ที่ระบุ"]
[null,null,"- ให้ทำการระบุข้อมูลใน Excel File ที่ Generate"]
[null,"3. กด Generate Outstanding จะทำการ Generate Outstanding ใน Folder ตาม License Number ที่ระบุ"]
[null,null,"- กรณีงวด 03/2019 จะทำการดึงยอดคงค้างจากไฟล์เดิม (256202_XXXXXXXXX.xlsm) ใน Folder เดียวกัน หากไม่มีจะกำหนดให้ยอดคงค้างเป็น 0"]
[null,null,"- กรณีงวดอื่น ๆ จะทำการดึงยอดคงค้างจากไฟล์รูปแบบใหม่"]
[null,"4. ห้ามแก้ไขรูปแบบและสูตรที่ปรากฏในแบบฟอร์มรายงาน (ยกเว้น Column \"วัตถุประสงค์\" สามารถแก้ไขสูตรเพื่อใส่ข้อความที่ต้องการได้) "]
[null,"5. กรณีเพิ่มรายการใหม่สามารถคัดลอกรูปแบบและสูตรจากรายการเก่ามาใส่ได้"]

{"sheet":"Provider Info","index":1,"n_rows":16,"n_cols":3,"rows_kept":16,"cut":false,"hidden":false,"merged":[[0,0,0,1]]}
["รายละเอียดข้อมูลของบุคคลรับอนุญาต"]
["รหัสสถาบันผู้ส่งข้อมูล :"]
["ชื่อบุคคลรับอนุญาต :"]
["License No :"]
["ชื่อสถานประกอบการ หรือ ชื่อสาขา :"]
["เลขที่ หรือรหัสพื้นที่ของสถานประกอบการ :"]
["ประจำงวด (เดือน) :","มีนาคม"]
["ประจำงวด (ปี) :",2020]
["วันที่ชุดข้อมูล (YYYY-MM-DD) :",{"$f":"DATE(B8,VLOOKUP('Provider Info'!B7,Dimension!S3:T14,2,FALSE)+1,0)","v":"2020-03-31"}]
[]
[]
[]
["Path","Name File","Generate"]
["C:","MMCSMCXXXXXXXXX_YYYYMMDD_EMC.xlsx","Input File"]
[null,"ข้อมูลยอดคงค้างXXXXXXXXX_YYYYMM.xlsx","Outstanding"]
[null,"256302_XXXXXXXXX.xlsm"]

{"sheet":"Buy FX","index":2,"n_rows":500,"n_cols":20,"rows_kept":500,"cut":false,"hidden":true,"merged":[[6,17,7,17],[7,5,7,6],[0,0,0,17],[6,0,7,0],[6,1,6,6],[6,7,7,7],[6,8,6,9],[6,10,7,11],[6,12,7,12],[6,13,7,13],[6,14,6,15],[6,16,7,16]]}
["รายงานการซื้อเงินตราต่างประเทศของบุคคลรับอนุญาต "]
["รหัสสถาบันผู้ส่งข้อมูล :",{"$f":"'Provider Info'!B2","v":0},"วันที่ชุดข้อมูล :",{"$f":"'Provider Info'!B9","v":"2020-03-31"}]
["ชื่อบุคคลรับอนุญาต :",{"$f":"'Provider Info'!B3","v":0},"ชื่อสถานประกอบการ หรือ ชื่อสาขา :",{"$f":"'Provider Info'!B5","v":0},null,"วันที่"]
["License No :",{"$f":"'Provider Info'!B4","v":0},"เลขที่ หรือรหัสพื้นที่ของสถานประกอบการ :",{"$f":"'Provider Info'!B6","v":0},null,{"$f":"IF(OR(B5=1,B5=3,B5=5,B5=7,B5=8,B5=10,B5=12),31,IF(OR(B5=4,B5=6,B5=9,B5=11),30,IF(MOD(V6,4)=0,29,28)))","v":31}]
["ประจำงวด (เดือน) :",{"$f":"VLOOKUP('Provider Info'!B7,Dimension!S3:T14,2,FALSE)","v":3},"ประจำงวด (ปี) :",{"$f":"'Provider Info'!B8","v":2020},null,null,null,null,null,null,null,null,null,null,null,null,null,"Column สีนี้ไม่ต้องกรอก"]
[]
["วันที่เกิดธุรกรรม","ข้อมูลลูกค้า",null,null,null,null,null,"วัตถุประสงค์","ซื้อเงินตราต่างประเทศ",null,"รหัสสกุลเงิน",null,"อัตราแลกเปลี่ยน","จำนวนเงินซื้อ \n(ตามสกุลเงินตราต่างประเทศ)","จ่ายเงินบาท",null,"จำนวนเงิน\n(บาท)","หมายเหตุ"]
[null,"ประเภทของลูกค้า ","ชื่อลูกค้า","ประเภทรหัสลูกค้า","รหัสลูกค้า","สัญชาติ",null,null,"จุดซื้อเงินตราต่างประเทศ","ช่องทางซื้อ\nเงินตราต่างประเทศ",null,null,null,null,"จุดจ่าย\nเงินบาท","ช่องทางจ่าย\nเงินบาท"]
[null,null,null,{"$f":"IF(B9=Dimension!$A$8,Dimension!$C$9,IF(B9=Dimension!$A$6,CD,\"\"))","v":""},null,{"$f":"IF(OR(B9=Dimension!$A$3,B9=Dimension!$A$4,B9=Dimension!$A$6,B9=Dimension!$A$8),CCYA,\"\")","v":""},{"$f":"IFERROR(VLOOKUP(F9,Dimension!$G$3:$H$252,2,FALSE),\"\")","v":""},{"$f":"IF(OR(B9=Dimension!$A$3,B9=Dimension!$A$4,B9=Dimension!$A$5),\"เดินทาง/ท่องเที่ยว\",\"\")","v":""},{"$f":"IF(OR(B9=Dimension!$A$6,B9=Dimension!$A$7,B9=Dimension!$A$8,B9=Dimension!$A$9),\"\",IF(OR(B9=Dimension!$A$3,B9=Dimension!$A$4,B9=Dimension!$A$5),\"สถานประกอบการ\",\"\"))","v":""},{"$f":"IF(OR(B9=Dimension!$A$3,B9=Dimension!$A$4,B9=Dimension!$A$5,B9=Dimension!$A$6,,B9=Dimension!$A$7,B9=Dimension!$A$8,B9=Dimension!$A$9),Payment_ID2,\"\")","v":""},null,{"$f":"IFERROR(VLOOKUP(K9,Dimension!$J$3:$K$179,2,FALSE),\"\")","v":""},null,null,{"$f":"IF(OR(B9=Dimension!$A$6,B9=Dimension!$A$7,B9=Dimension!$A$8,B9=Dimension!$A$9),\"\",IF(OR(B9=Dimension!$A$3,B9=Dimension!$A$4,B9=Dimension!$A$5),\"สถานประกอบการ\",\"\"))","v":""},{"$f":"IF(OR(B9=Dimension!$A$6,B9=Dimension!$A$7,B9=Dimension!$A$8,B9=Dimension!$A$9,B9=\"\"),\"\",Payment_ID2)","v":""},{"$f":"IF(OR(M9=\"\",N9=\"\"),\"\",ROUND(M9*N9,2))","v":""},null,null,{"$f":"IF(D9=Dimension!$C$9,IF(LEFT(UPPER(E9),2)=\"MC\",TRUE,FALSE),TRUE)","v":true}]
[null,null,null,{"$f":"IF(B10=Dimension!$A$8,Dimension!$C$9,IF(B10=Dimension!$A$6,CD,\"\"))","v":""},null,{"$f":"IF(OR(B10=Dimension!$A$3,B10=Dimension!$A$4,B10=Dimension!$A$6,B10=Dimension!$A$8),CCYA,\"\")","v":""},{"$f":"IFERROR(VLOOKUP(F10,Dimension!$G$3:$H$252,2,FALSE),\"\")","v":""},{"$f":"IF(OR(B10=Dimension!$A$3,B10=Dimension!$A$4,B10=Dimension!$A$5),\"เดินทาง/ท่องเที่ยว\",\"\")","v":""},{"$f":"IF(OR(B10=Dimension!$A$6,B10=Dimension!$A$7,B10=Dimension!$A$8,B10=Dimension!$A$9),\"\",IF(OR(B10=Dimension!$A$3,B10=Dimension!$A$4,B10=Dimension!$A$5),\"สถานประกอบการ\",\"\"))","v":""},{"$f":"IF(OR(B10=Dimension!$A$3,B10=Dimension!$A$4,B10=Dimension!$A$5,B10=Dimension!$A$6,,B10=Dimension!$A$7,B10=Dimension!$A$8,B10=Dimension!$A$9),Payment_ID2,\"\")","v":""},null,{"$f":"IFERROR(VLOOKUP(K10,Dimension!$J$3:$K$179,2,FALSE),\"\")","v":""},null,null,{"$f":"IF(OR(B10=Dimension!$A$6,B10=Dimension!$A$7,B10=Dimension!$A$8,B10=Dimension!$A$9),\"\",IF(OR(B10=Dimension!$A$3,B10=Dimension!$A$4,B10=Dimension!$A$5),\"สถานประกอบการ\",\"\"))","v":""},{"$f":"IF(OR(B10=Dimension!$A$6,B10=Dimension!$A$7,B10=Dimension!$A$8,B10=Dimension!$A$9,B10=\"\"),\"\",Payment_ID2)","v":""},{"$f":"IF(OR(M10=\"\",N10=\"\"),\"\",ROUND(M10*N10,2))","v":""},null,null,{"$f":"IF(D10=Dimension!$C$9,IF(LEFT(UPPER(E10),2)=\"MC\",TRUE,FALSE),TRUE)","v":true}]
[null,null,null,{"$f":"IF(B11=Dimension!$A$8,Dimension!$C$9,IF(B11=Dimension!$A$6,CD,\"\"))","v":""},null,{"$f":"IF(OR(B11=Dimension!$A$3,B11=Dimension!$A$4,B11=Dimension!$A$6,B11=Dimension!$A$8),CCYA,\"\")","v":""},{"$f":"IFERROR(VLOOKUP(F11,Dimension!$G$3:$H$252,2,FALSE),\"\")","v":""},{"$f":"IF(OR(B11=Dimension!$A$3,B11=Dimension!$A$4,B11=Dimension!$A$5),\"เดินทาง/ท่องเที่ยว\",\"\")","v":""},{"$f":"IF(OR(B11=Dimension!$A$6,B11=Dimension!$A$7,B11=Dimension!$A$8,B11=Dimension!$A$9),\"\",IF(OR(B11=Dimension!$A$3,B11=Dimension!$A$4,B11=Dimension!$A$5),\"สถานประกอบการ\",\"\"))","v":""},{"$f":"IF(OR(B11=Dimension!$A$3,B11=Dimension!$A$4,B11=Dimension!$A$5,B11=Dimension!$A$6,,B11=Dimension!$A$7,B11=Dimension!$A$8,B11=Dimension!$A$9),Payment_ID2,\"\")","v":""},null,{"$f":"IFERROR(VLOOKUP(K11,Dimension!$J$3:$K$179,2,FALSE),\"\")","v":""},null,null,{"$f":"IF(OR(B11=Dimension!$A$6,B11=Dimension!$A$7,B11=Dimension!$A$8,B11=Dimension!$A$9),\"\",IF(OR(B11=Dimension!$A$3,B11=Dimension!$A$4,B11=Dimension!$A$5),\"สถานประกอบการ\",\"\"))","v":""},{"$f":"IF(OR(B11=Dimension!$A$6,B11=Dimension!$A$7,B11=Dimension!$A$8,B11=Dimension!$A$9,B11=\"\"),\"\",Payment_ID2)","v":""},"",null,null,{"$f":"IF(D11=Dimension!$C$9,IF(LEFT(UPPER(E11),2)=\"MC\",TRUE,FALSE),TRUE)","v":true}]
[null,null,null,{"$f":"IF(B12=Dimension!$A$8,Dimension!$C$9,IF(B12=Dimension!$A$6,CD,\"\"))","v":""},null,{"$f":"IF(OR(B12=Dimension!$A$3,B12=Dimension!$A$4,B12=Dimension!$A$6,B12=Dimension!$A$8),CCYA,\"\")","v":""},{"$f":"IFERROR(VLOOKUP(F12,Dimension!$G$3:$H$252,2,FALSE),\"\")","v":""},{"$f":"IF(OR(B12=Dimension!$A$3,B12=Dimension!$A$4,B12=Dimension!$A$5),\"เดินทาง/ท่องเที่ยว\",\"\")","v":""},{"$f":"IF(OR(B12=Dimension!$A$6,B12=Dimension!$A$7,B12=Dimension!$A$8,B12=Dimension!$A$9),\"\",IF(OR(B12=Dimension!$A$3,B12=Dimension!$A$4,B12=Dimension!$A$5),\"สถานประกอบการ\",\"\"))","v":""},{"$f":"IF(OR(B12=Dimension!$A$3,B12=Dimension!$A$4,B12=Dimension!$A$5,B12=Dimension!$A$6,,B12=Dimension!$A$7,B12=Dimension!$A$8,B12=Dimension!$A$9),Payment_ID2,\"\")","v":""},null,{"$f":"IFERROR(VLOOKUP(K12,Dimension!$J$3:$K$179,2,FALSE),\"\")","v":""},null,null,{"$f":"IF(OR(B12=Dimension!$A$6,B12=Dimension!$A$7,B12=Dimension!$A$8,B12=Dimension!$A$9),\"\",IF(OR(B12=Dimension!$A$3,B12=Dimension!$A$4,B12=Dimension!$A$5),\"สถานประกอบการ\",\"\"))","v":""},{"$f":"IF(OR(B12=Dimension!$A$6,B12=Dimension!$A$7,B12=Dimension!$A$8,B12=Dimension!$A$9,B12=\"\"),\"\",Payment_ID2)","v":""},"",null,null,{"$f":"IF(D12=Dimension!$C$9,IF(LEFT(UPPER(E12),2)=\"MC\",TRUE,FALSE),TRUE)","v":true}]
[null,null,null,{"$f":"IF(B13=Dimension!$A$8,Dimension!$C$9,IF(B13=Dimension!$A$6,CD,\"\"))","v":""},null,{"$f":"IF(OR(B13=Dimension!$A$3,B13=Dimension!$A$4,B13=Dimension!$A$6,B13=Dimension!$A$8),CCYA,\"\")","v":""},{"$f":"IFERROR(VLOOKUP(F13,Dimension!$G$3:$H$252,2,FALSE),\"\")","v":""},{"$f":"IF(OR(B13=Dimension!$A$3,B13=Dimension!$A$4,B13=Dimension!$A$5),\"เดินทาง/ท่องเที่ยว\",\"\")","v":""},{"$f":"IF(OR(B13=Dimension!$A$6,B13=Dimension!$A$7,B13=Dimension!$A$8,B13=Dimension!$A$9),\"\",IF(OR(B13=Dimension!$A$3,B13=Dimension!$A$4,B13=Dimension!$A$5),\"สถานประกอบการ\",\"\"))","v":""},{"$f":"IF(OR(B13=Dimension!$A$3,B13=Dimension!$A$4,B13=Dimension!$A$5,B13=Dimension!$A$6,,B13=Dimension!$A$7,B13=Dimension!$A$8,B13=Dimension!$A$9),Payment_ID2,\"\")","v":""},null,{"$f":"IFERROR(VLOOKUP(K13,Dimension!$J$3:$K$179,2,FALSE),\"\")","v":""},null,null,{"$f":"IF(OR(B13=Dimension!$A$6,B13=Dimension!$A$7,B13=Dimension!$A$8,B13=Dimension!$A$9),\"\",IF(OR(B13=Dimension!$A$3,B13=Dimension!$A$4,B13=Dimension!$A$5),\"สถานประกอบการ\",\"\"))","v":""},{"$f":"IF(OR(B13=Dimension!$A$6,B13=Dimension!$A$7,B13=Dimension!$A$8,B13=Dimension!$A$9,B13=\"\"),\"\",Payment_ID2)","v":""},"",null,null,{"$f":"IF(D13=Dimension!$C$9,IF(LEFT(UPPER(E13),2)=\"MC\",TRUE,FALSE),TRUE)","v":true}]
[null,null,null,{"$f":"IF(B14=Dimension!$A$8,Dimension!$C$9,IF(B14=Dimension!$A$6,CD,\"\"))","v":""},null,{"$f":"IF(OR(B14=Dimension!$A$3,B14=Dimension!$A$4,B14=Dimension!$A$6,B14=Dimension!$A$8),CCYA,\"\")","v":""},{"$f":"IFERROR(VLOOKUP(F14,Dimension!$G$3:$H$252,2,FALSE),\"\")","v":""},{"$f":"IF(OR(B14=Dimension!$A$3,B14=Dimension!$A$4,B14=Dimension!$A$5),\"เดินทาง/ท่องเที่ยว\",\"\")","v":""},{"$f":"IF(OR(B14=Dimension!$A$6,B14=Dimension!$A$7,B14=Dimension!$A$8,B14=Dimension!$A$9),\"\",IF(OR(B14=Dimension!$A$3,B14=Dimension!$A$4,B14=Dimension!$A$5),\"สถานประกอบการ\",\"\"))","v":""},{"$f":"IF(OR(B14=Dimension!$A$3,B14=Dimension!$A$4,B14=Dimension!$A$5,B14=Dimension!$A$6,,B14=Dimension!$A$7,B14=Dimension!$A$8,B14=Dimension!$A$9),Payment_ID2,\"\")","v":""},null,{"$f":"IFERROR(VLOOKUP(K14,Dimension!$J$3:$K$179,2,FALSE),\"\")","v":""},null,null,{"$f":"IF(OR(B14=Dimension!$A$6,B14=Dimension!$A$7,B14=Dimension!$A$8,B14=Dimension!$A$9),\"\",IF(OR(B14=Dimension!$A$3,B14=Dimension!$A$4,B14=Dimension!$A$5),\"สถานประกอบการ\",\"\"))","v":""},{"$f":"IF(OR(B14=Dimension!$A$6,B14=Dimension!$A$7,B14=Dimension!$A$8,B14=Dimension!$A$9,B14=\"\"),\"\",Payment_ID2)","v":""},"",null,null,{"$f":"IF(D14=Dimension!$C$9,IF(LEFT(UPPER(E14),2)=\"MC\",TRUE,FALSE),TRUE)","v":true}]
[null,null,null,{"$f":"IF(B15=Dimension!$A$8,Dimension!$C$9,IF(B15=Dimension!$A$6,CD,\"\"))","v":""},null,{"$f":"IF(OR(B15=Dimension!$A$3,B15=Dimension!$A$4,B15=Dimension!$A$6,B15=Dimension!$A$8),CCYA,\"\")","v":""},{"$f":"IFERROR(VLOOKUP(F15,Dimension!$G$3:$H$252,2,FALSE),\"\")","v":""},{"$f":"IF(OR(B15=Dimension!$A$3,B15=Dimension!$A$4,B15=Dimension!$A$5),\"เดินทาง/ท่องเที่ยว\",\"\")","v":""},{"$f":"IF(OR(B15=Dimension!$A$6,B15=Dimension!$A$7,B15=Dimension!$A$8,B15=Dimension!$A$9),\"\",IF(OR(B15=Dimension!$A$3,B15=Dimension!$A$4,B15=Dimension!$A$5),\"สถานประกอบการ\",\"\"))","v":""},{"$f":"IF(OR(B15=Dimension!$A$3,B15=Dimension!$A$4,B15=Dimension!$A$5,B15=Dimension!$A$6,,B15=Dimension!$A$7,B15=Dimension!$A$8,B15=Dimension!$A$9),Payment_ID2,\"\")","v":""},null,{"$f":"IFERROR(VLOOKUP(K15,Dimension!$J$3:$K$179,2,FALSE),\"\")","v":""},null,null,{"$f":"IF(OR(B15=Dimension!$A$6,B15=Dimension!$A$7,B15=Dimension!$A$8,B15=Dimension!$A$9),\"\",IF(OR(B15=Dimension!$A$3,B15=Dimension!$A$4,B15=Dimension!$A$5),\"สถานประกอบการ\",\"\"))","v":""},{"$f":"IF(OR(B15=Dimension!$A$6,B15=Dimension!$A$7,B15=Dimension!$A$8,B15=Dimension!$A$9,B15=\"\"),\"\",Payment_ID2)","v":""},"",null,null,{"$f":"IF(D15=Dimension!$C$9,IF(LEFT(UPPER(E15),2)=\"MC\",TRUE,FALSE),TRUE)","v":true}]
[null,null,null,{"$f":"IF(B16=Dimension!$A$8,Dimension!$C$9,IF(B16=Dimension!$A$6,CD,\"\"))","v":""},null,{"$f":"IF(OR(B16=Dimension!$A$3,B16=Dimension!$A$4,B16=Dimension!$A$6,B16=Dimension!$A$8),CCYA,\"\")","v":""},{"$f":"IFERROR(VLOOKUP(F16,Dimension!$G$3:$H$252,2,FALSE),\"\")","v":""},{"$f":"IF(OR(B16=Dimension!$A$3,B16=Dimension!$A$4,B16=Dimension!$A$5),\"เดินทาง/ท่องเที่ยว\",\"\")","v":""},{"$f":"IF(OR(B16=Dimension!$A$6,B16=Dimension!$A$7,B16=Dimension!$A$8,B16=Dimension!$A$9),\"\",IF(OR(B16=Dimension!$A$3,B16=Dimension!$A$4,B16=Dimension!$A$5),\"สถานประกอบการ\",\"\"))","v":""},{"$f":"IF(OR(B16=Dimension!$A$3,B16=Dimension!$A$4,B16=Dimension!$A$5,B16=Dimension!$A$6,,B16=Dimension!$A$7,B16=Dimension!$A$8,B16=Dimension!$A$9),Payment_ID2,\"\")","v":""},null,{"$f":"IFERROR(VLOOKUP(K16,Dimension!$J$3:$K$179,2,FALSE),\"\")","v":""},null,null,{"$f":"IF(OR(B16=Dimension!$A$6,B16=Dimension!$A$7,B16=Dimension!$A$8,B16=Dimension!$A$9),\"\",IF(OR(B16=Dimension!$A$3,B16=Dimension!$A$4,B16=Dimension!$A$5),\"สถานประกอบการ\",\"\"))","v":""},{"$f":"IF(OR(B16=Dimension!$A$6,B16=Dimension!$A$7,B16=Dimension!$A$8,B16=Dimension!$A$9,B16=\"\"),\"\",Payment_ID2)","v":""},"",null,null,{"$f":"IF(D16=Dimension!$C$9,IF(LEFT(UPPER(E16),2)=\"MC\",TRUE,FALSE),TRUE)","v":true}]
[null,null,null,{"$f":"IF(B17=Dimension!$A$8,Dimension!$C$9,IF(B17=Dimension!$A$6,CD,\"\"))","v":""},null,{"$f":"IF(OR(B17=Dimension!$A$3,B17=Dimension!$A$4,B17=Dimension!$A$6,B17=Dimension!$A$8),CCYA,\"\")","v":""},{"$f":"IFERROR(VLOOKUP(F17,Dimension!$G$3:$H$252,2,FALSE),\"\")","v":""},{"$f":"IF(OR(B17=Dimension!$A$3,B17=Dimension!$A$4,B17=Dimension!$A$5),\"เดินทาง/ท่องเที่ยว\",\"\")","v":""},{"$f":"IF(OR(B17=Dimension!$A$6,B17=Dimension!$A$7,B17=Dimension!$A$8,B17=Dimension!$A$9),\"\",IF(OR(B17=Dimension!$A$3,B17=Dimension!$A$4,B17=Dimension!$A$5),\"สถานประกอบการ\",\"\"))","v":""},{"$f":"IF(OR(B17=Dimension!$A$3,B17=Dimension!$A$4,B17=Dimension!$A$5,B17=Dimension!$A$6,,B17=Dimension!$A$7,B17=Dimension!$A$8,B17=Dimension!$A$9),Payment_ID2,\"\")","v":""},null,{"$f":"IFERROR(VLOOKUP(K17,Dimension!$J$3:$K$179,2,FALSE),\"\")","v":""},null,null,{"$f":"IF(OR(B17=Dimension!$A$6,B17=Dimension!$A$7,B17=Dimension!$A$8,B17=Dimension!$A$9),\"\",IF(OR(B17=Dimension!$A$3,B17=Dimension!$A$4,B17=Dimension!$A$5),\"สถานประกอบการ\",\"\"))","v":""},{"$f":"IF(OR(B17=Dimension!$A$6,B17=Dimension!$A$7,B17=Dimension!$A$8,B17=Dimension!$A$9,B17=\"\"),\"\",Payment_ID2)","v":""},"",null,null,{"$f":"IF(D17=Dimension!$C$9,IF(LEFT(UPPER(E17),2)=\"MC\",TRUE,FALSE),TRUE)","v":true}]
[null,null,null,{"$f":"IF(B18=Dimension!$A$8,Dimension!$C$9,IF(B18=Dimension!$A$6,CD,\"\"))","v":""},null,{"$f":"IF(OR(B18=Dimension!$A$3,B18=Dimension!$A$4,B18=Dimension!$A$6,B18=Dimension!$A$8),CCYA,\"\")","v":""},{"$f":"IFERROR(VLOOKUP(F18,Dimension!$G$3:$H$252,2,FALSE),\"\")","v":""},{"$f":"IF(OR(B18=Dimension!$A$3,B18=Dimension!$A$4,B18=Dimension!$A$5),\"เดินทาง/ท่องเที่ยว\",\"\")","v":""},{"$f":"IF(OR(B18=Dimension!$A$6,B18=Dimension!$A$7,B18=Dimension!$A$8,B18=Dimension!$A$9),\"\",IF(OR(B18=Dimension!$A$3,B18=Dimension!$A$4,B18=Dimension!$A$5),\"สถานประกอบการ\",\"\"))","v":""},{"$f":"IF(OR(B18=Dimension!$A$3,B18=Dimension!$A$4,B18=Dimension!$A$5,B18=Dimension!$A$6,,B18=Dimension!$A$7,B18=Dimension!$A$8,B18=Dimension!$A$9),Payment_ID2,\"\")","v":""},null,{"$f":"IFERROR(VLOOKUP(K18,Dimension!$J$3:$K$179,2,FALSE),\"\")","v":""},null,null,{"$f":"IF(OR(B18=Dimension!$A$6,B18=Dimension!$A$7,B18=Dimension!$A$8,B18=Dimension!$A$9),\"\",IF(OR(B18=Dimension!$A$3,B18=Dimension!$A$4,B18=Dimension!$A$5),\"สถานประกอบการ\",\"\"))","v":""},{"$f":"IF(OR(B18=Dimension!$A$6,B18=Dimension!$A$7,B18=Dimension!$A$8,B18=Dimension!$A$9,B18=\"\"),\"\",Payment_ID2)","v":""},"",null,null,{"$f":"IF(D18=Dimension!$C$9,IF(LEFT(UPPER(E18),2)=\"MC\",TRUE,FALSE),TRUE)","v":true}]
[null,null,null,{"$f":"IF(B19=Dimension!$A$8,Dimension!$C$9,IF(B19=Dimension!$A$6,CD,\"\"))","v":""},null,{"$f":"IF(OR(B19=Dimension!$A$3,B19=Dimension!$A$4,B19=Dimension!$A$6,B19=Dimension!$A$8),CCYA,\"\")","v":""},{"$f":"IFERROR(VLOOKUP(F19,Dimension!$G$3:$H$252,2,FALSE),\"\")","v":""},{"$f":"IF(OR(B19=Dimension!$A$3,B19=Dimension!$A$4,B19=Dimension!$A$5),\"เดินทาง/ท่องเที่ยว\",\"\")","v":""},{"$f":"IF(OR(B19=Dimension!$A$6,B19=Dimension!$A$7,B19=Dimension!$A$8,B19=Dimension!$A$9),\"\",IF(OR(B19=Dimension!$A$3,B19=Dimension!$A$4,B19=Dimension!$A$5),\"สถานประกอบการ\",\"\"))","v":""},{"$f":"IF(OR(B19=Dimension!$A$3,B19=Dimension!$A$4,B19=Dimension!$A$5,B19=Dimension!$A$6,,B19=Dimension!$A$7,B19=Dimension!$A$8,B19=Dimension!$A$9),Payment_ID2,\"\")","v":""},null,{"$f":"IFERROR(VLOOKUP(K19,Dimension!$J$3:$K$179,2,FALSE),\"\")","v":""},null,null,{"$f":"IF(OR(B19=Dimension!$A$6,B19=Dimension!$A$7,B19=Dimension!$A$8,B19=Dimension!$A$9),\"\",IF(OR(B19=Dimension!$A$3,B19=Dimension!$A$4,B19=Dimension!$A$5),\"สถานประกอบการ\",\"\"))","v":""},{"$f":"IF(OR(B19=Dimension!$A$6,B19=Dimension!$A$7,B19=Dimension!$A$8,B19=Dimension!$A$9,B19=\"\"),\"\",Payment_ID2)","v":""},"",null,null,{"$f":"IF(D19=Dimension!$C$9,IF(LEFT(UPPER(E19),2)=\"MC\",TRUE,FALSE),TRUE)","v":true}]
[null,null,null,{"$f":"IF(B20=Dimension!$A$8,Dimension!$C$9,IF(B20=Dimension!$A$6,CD,\"\"))","v":""},null,{"$f":"IF(OR(B20=Dimension!$A$3,B20=Dimension!$A$4,B20=Dimension!$A$6,B20=Dimension!$A$8),CCYA,\"\")","v":""},{"$f":"IFERROR(VLOOKUP(F20,Dimension!$G$3:$H$252,2,FALSE),\"\")","v":""},{"$f":"IF(OR(B20=Dimension!$A$3,B20=Dimension!$A$4,B20=Dimension!$A$5),\"เดินทาง/ท่องเที่ยว\",\"\")","v":""},{"$f":"IF(OR(B20=Dimension!$A$6,B20=Dimension!$A$7,B20=Dimension!$A$8,B20=Dimension!$A$9),\"\",IF(OR(B20=Dimension!$A$3,B20=Dimension!$A$4,B20=Dimension!$A$5),\"สถานประกอบการ\",\"\"))","v":""},{"$f":"IF(OR(B20=Dimension!$A$3,B20=Dimension!$A$4,B20=Dimension!$A$5,B20=Dimension!$A$6,,B20=Dimension!$A$7,B20=Dimension!$A$8,B20=Dimension!$A$9),Payment_ID2,\"\")","v":""},null,{"$f":"IFERROR(VLOOKUP(K20,Dimension!$J$3:$K$179,2,FALSE),\"\")","v":""},null,null,{"$f":"IF(OR(B20=Dimension!$A$6,B20=Dimension!$A$7,B20=Dimension!$A$8,B20=Dimension!$A$9),\"\",IF(OR(B20=Dimension!$A$3,B20=Dimension!$A$4,B20=Dimension!$A$5),\"สถานประกอบการ\",\"\"))","v":""},{"$f":"IF(OR(B20=Dimension!$A$6,B20=Dimension!$A$7,B20=Dimension!$A$8,B20=Dimension!$A$9,B20=\"\"),\"\",Payment_ID2)","v":""},"",null,null,{"$f":"IF(D20=Dimension!$C$9,IF(LEFT(UPPER(E20),2)=\"MC\",TRUE,FALSE),TRUE)","v":true}]
[null,null,null,{"$f":"IF(B21=Dimension!$A$8,Dimension!$C$9,IF(B21=Dimension!$A$6,CD,\"\"))","v":""},null,{"$f":"IF(OR(B21=Dimension!$A$3,B21=Dimension!$A$4,B21=Dimension!$A$6,B21=Dimension!$A$8),CCYA,\"\")","v":""},{"$f":"IFERROR(VLOOKUP(F21,Dimension!$G$3:$H$252,2,FALSE),\"\")","v":""},{"$f":"IF(OR(B21=Dimension!$A$3,B21=Dimension!$A$4,B21=Dimension!$A$5),\"เดินทาง/ท่องเที่ยว\",\"\")","v":""},{"$f":"IF(OR(B21=Dimension!$A$6,B21=Dimension!$A$7,B21=Dimension!$A$8,B21=Dimension!$A$9),\"\",IF(OR(B21=Dimension!$A$3,B21=Dimension!$A$4,B21=Dimension!$A$5),\"สถานประกอบการ\",\"\"))","v":""},{"$f":"IF(OR(B21=Dimension!$A$3,B21=Dimension!$A$4,B21=Dimension!$A$5,B21=Dimension!$A$6,,B21=Dimension!$A$7,B21=Dimension!$A$8,B21=Dimension!$A$9),Payment_ID2,\"\")","v":""},null,{"$f":"IFERROR(VLOOKUP(K21,Dimension!$J$3:$K$179,2,FALSE),\"\")","v":""},null,null,{"$f":"IF(OR(B21=Dimension!$A$6,B21=Dimension!$A$7,B21=Dimension!$A$8,B21=Dimension!$A$9),\"\",IF(OR(B21=Dimension!$A$3,B21=Dimension!$A$4,B21=Dimension!$A$5),\"สถานประกอบการ\",\"\"))","v":""},{"$f":"IF(OR(B21=Dimension!$A$6,B21=Dimension!$A$7,B21=Dimension!$A$8,B21=Dimension!$A$9,B21=\"\"),\"\",Payment_ID2)","v":""},"",null,null,{"$f":"IF(D21=Dimension!$C$9,IF(LEFT(UPPER(E21),2)=\"MC\",TRUE,FALSE),TRUE)","v":true}]
[null,null,null,{"$f":"IF(B22=Dimension!$A$8,Dimension!$C$9,IF(B22=Dimension!$A$6,CD,\"\"))","v":""},null,{"$f":"IF(OR(B22=Dimension!$A$3,B22=Dimension!$A$4,B22=Dimension!$A$6,B22=Dimension!$A$8),CCYA,\"\")","v":""},{"$f":"IFERROR(VLOOKUP(F22,Dimension!$G$3:$H$252,2,FALSE),\"\")","v":""},{"$f":"IF(OR(B22=Dimension!$A$3,B22=Dimension!$A$4,B22=Dimension!$A$5),\"เดินทาง/ท่องเที่ยว\",\"\")","v":""},{"$f":"IF(OR(B22=Dimension!$A$6,B22=Dimension!$A$7,B22=Dimension!$A$8,B22=Dimension!$A$9),\"\",IF(OR(B22=Dimension!$A$3,B22=Dimension!$A$4,B22=Dimension!$A$5),\"สถานประกอบการ\",\"\"))","v":""},{"$f":"IF(OR(B22=Dimension!$A$3,B22=Dimension!$A$4,B22=Dimension!$A$5,B22=Dimension!$A$6,,B22=Dimension!$A$7,B22=Dimension!$A$8,B22=Dimension!$A$9),Payment_ID2,\"\")","v":""},null,{"$f":"IFERROR(VLOOKUP(K22,Dimension!$J$3:$K$179,2,FALSE),\"\")","v":""},null,null,{"$f":"IF(OR(B22=Dimension!$A$6,B22=Dimension!$A$7,B22=Dimension!$A$8,B22=Dimension!$A$9),\"\",IF(OR(B22=Dimension!$A$3,B22=Dimension!$A$4,B22=Dimension!$A$5),\"สถานประกอบการ\",\"\"))","v":""},{"$f":"IF(OR(B22=Dimension!$A$6,B22=Dimension!$A$7,B22=Dimension!$A$8,B22=Dimension!$A$9,B22=\"\"),\"\",Payment_ID2)","v":""},"",null,null,{"$f":"IF(D22=Dimension!$C$9,IF(LEFT(UPPER(E22),2)=\"MC\",TRUE,FALSE),TRUE)","v":true}]
[null,null,null,{"$f":"IF(B23=Dimension!$A$8,Dimension!$C$9,IF(B23=Dimension!$A$6,CD,\"\"))","v":""},null,{"$f":"IF(OR(B23=Dimension!$A$3,B23=Dimension!$A$4,B23=Dimension!$A$6,B23=Dimension!$A$8),CCYA,\"\")","v":""},{"$f":"IFERROR(VLOOKUP(F23,Dimension!$G$3:$H$252,2,FALSE),\"\")","v":""},{"$f":"IF(OR(B23=Dimension!$A$3,B23=Dimension!$A$4,B23=Dimension!$A$5),\"เดินทาง/ท่องเที่ยว\",\"\")","v":""},{"$f":"IF(OR(B23=Dimension!$A$6,B23=Dimension!$A$7,B23=Dimension!$A$8,B23=Dimension!$A$9),\"\",IF(OR(B23=Dimension!$A$3,B23=Dimension!$A$4,B23=Dimension!$A$5),\"สถานประกอบการ\",\"\"))","v":""},{"$f":"IF(OR(B23=Dimension!$A$3,B23=Dimension!$A$4,B23=Dimension!$A$5,B23=Dimension!$A$6,,B23=Dimension!$A$7,B23=Dimension!$A$8,B23=Dimension!$A$9),Payment_ID2,\"\")","v":""},null,{"$f":"IFERROR(VLOOKUP(K23,Dimension!$J$3:$K$179,2,FALSE),\"\")","v":""},null,null,{"$f":"IF(OR(B23=Dimension!$A$6,B23=Dimension!$A$7,B23=Dimension!$A$8,B23=Dimension!$A$9),\"\",IF(OR(B23=Dimension!$A$3,B23=Dimension!$A$4,B23=Dimension!$A$5),\"สถานประกอบการ\",\"\"))","v":""},{"$f":"IF(OR(B23=Dimension!$A$6,B23=Dimension!$A$7,B23=Dimension!$A$8,B23=Dimension!$A$9,B23=\"\"),\"\",Payment_ID2)","v":""},"",null,null,{"$f":"IF(D23=Dimension!$C$9,IF(LEFT(UPPER(E23),2)=\"MC\",TRUE,FALSE),TRUE)","v":true}]
[null,null,null,{"$f":"IF(B24=Dimension!$A$8,Dimension!$C$9,IF(B24=Dimension!$A$6,CD,\"\"))","v":""},null,{"$f":"IF(OR(B24=Dimension!$A$3,B24=Dimension!$A$4,B24=Dimension!$A$6,B24=Dimension!$A$8),CCYA,\"\")","v":""},{"$f":"IFERROR(VLOOKUP(F24,Dimension!$G$3:$H$252,2,FALSE),\"\")","v":""},{"$f":"IF(OR(B24=Dimension!$A$3,B24=Dimension!$A$4,B24=Dimension!$A$5),\"เดินทาง/ท่องเที่ยว\",\"\")","v":""},{"$f":"IF(OR(B24=Dimension!$A$6,B24=Dimension!$A$7,B24=Dimension!$A$8,B24=Dimension!$A$9),\"\",IF(OR(B24=Dimension!$A$3,B24=Dimension!$A$4,B24=Dimension!$A$5),\"สถานประกอบการ\",\"\"))","v":""},{"$f":"IF(OR(B24=Dimension!$A$3,B24=Dimension!$A$4,B24=Dimension!$A$5,B24=Dimension!$A$6,,B24=Dimension!$A$7,B24=Dimension!$A$8,B24=Dimension!$A$9),Payment_ID2,\"\")","v":""},null,{"$f":"IFERROR(VLOOKUP(K24,Dimension!$J$3:$K$179,2,FALSE),\"\")","v":""},null,null,{"$f":"IF(OR(B24=Dimension!$A$6,B24=Dimension!$A$7,B24=Dimension!$A$8,B24=Dimension!$A$9),\"\",IF(OR(B24=Dimension!$A$3,B24=Dimension!$A$4,B24=Dimension!$A$5),\"สถานประกอบการ\",\"\"))","v":""},{"$f":"IF(OR(B24=Dimension!$A$6,B24=Dimension!$A$7,B24=Dimension!$A$8,B24=Dimension!$A$9,B24=\"\"),\"\",Payment_ID2)","v":""},"",null,null,{"$f":"IF(D24=Dimension!$C$9,IF(LEFT(UPPER(E24),2)=\"MC\",TRUE,FALSE),TRUE)","v":true}]
[null,null,null,{"$f":"IF(B25=Dimension!$A$8,Dimension!$C$9,IF(B25=Dimension!$A$6,CD,\"\"))","v":""},null,{"$f":"IF(OR(B25=Dimension!$A$3,B25=Dimension!$A$4,B25=Dimension!$A$6,B25=Dimension!$A$8),CCYA,\"\")","v":""},{"$f":"IFERROR(VLOOKUP(F25,Dimension!$G$3:$H$252,2,FALSE),\"\")","v":""},{"$f":"IF(OR(B25=Dimension!$A$3,B25=Dimension!$A$4,B25=Dimension!$A$5),\"เดินทาง/ท่องเที่ยว\",\"\")","v":""},{"$f":"IF(OR(B25=Dimension!$A$6,B25=Dimension!$A$7,B25=Dimension!$A$8,B25=Dimension!$A$9),\"\",IF(OR(B25=Dimension!$A$3,B25=Dimension!$A$4,B25=Dimension!$A$5),\"สถานประกอบการ\",\"\"))","v":""},{"$f":"IF(OR(B25=Dimension!$A$3,B25=Dimension!$A$4,B25=Dimension!$A$5,B25=Dimension!$A$6,,B25=Dimension!$A$7,B25=Dimension!$A$8,B25=Dimension!$A$9),Payment_ID2,\"\")","v":""},null,{"$f":"IFERROR(VLOOKUP(K25,Dimension!$J$3:$K$179,2,FALSE),\"\")","v":""},null,null,{"$f":"IF(OR(B25=Dimension!$A$6,B25=Dimension!$A$7,B25=Dimension!$A$8,B25=Dimension!$A$9),\"\",IF(OR(B25=Dimension!$A$3,B25=Dimension!$A$4,B25=Dimension!$A$5),\"สถานประกอบการ\",\"\"))","v":""},{"$f":"IF(OR(B25=Dimension!$A$6,B25=Dimension!$A$7,B25=Dimension!$A$8,B25=Dimension!$A$9,B25=\"\"),\"\",Payment_ID2)","v":""},"",null,null,{"$f":"IF(D25=Dimension!$C$9,IF(LEFT(UPPER(E25),2)=\"MC\",TRUE,FALSE),TRUE)","v":true}]
[null,null,null,{"$f":"IF(B26=Dimension!$A$8,Dimension!$C$9,IF(B26=Dimension!$A$6,CD,\"\"))","v":""},null,{"$f":"IF(OR(B26=Dimension!$A$3,B26=Dimension!$A$4,B26=Dimension!$A$6,B26=Dimension!$A$8),CCYA,\"\")","v":""},{"$f":"IFERROR(VLOOKUP(F26,Dimension!$G$3:$H$252,2,FALSE),\"\")","v":""},{"$f":"IF(OR(B26=Dimension!$A$3,B26=Dimension!$A$4,B26=Dimension!$A$5),\"เดินทาง/ท่องเที่ยว\",\"\")","v":""},{"$f":"IF(OR(B26=Dimension!$A$6,B26=Dimension!$A$7,B26=Dimension!$A$8,B26=Dimension!$A$9),\"\",IF(OR(B26=Dimension!$A$3,B26=Dimension!$A$4,B26=Dimension!$A$5),\"สถานประกอบการ\",\"\"))","v":""},{"$f":"IF(OR(B26=Dimension!$A$3,B26=Dimension!$A$4,B26=Dimension!$A$5,B26=Dimension!$A$6,,B26=Dimension!$A$7,B26=Dimension!$A$8,B26=Dimension!$A$9),Payment_ID2,\"\")","v":""},null,{"$f":"IFERROR(VLOOKUP(K26,Dimension!$J$3:$K$179,2,FALSE),\"\")","v":""},null,null,{"$f":"IF(OR(B26=Dimension!$A$6,B26=Dimension!$A$7,B26=Dimension!$A$8,B26=Dimension!$A$9),\"\",IF(OR(B26=Dimension!$A$3,B26=Dimension!$A$4,B26=Dimension!$A$5),\"สถานประกอบการ\",\"\"))","v":""},{"$f":"IF(OR(B26=Dimension!$A$6,B26=Dimension!$A$7,B26=Dimension!$A$8,B26=Dimension!$A$9,B26=\"\"),\"\",Payment_ID2)","v":""},"",null,null,{"$f":"IF(D26=Dimension!$C$9,IF(LEFT(UPPER(E26),2)=\"MC\",TRUE,FALSE),TRUE)","v":true}]
[null,null,null,{"$f":"IF(B27=Dimension!$A$8,Dimension!$C$9,IF(B27=Dimension!$A$6,CD,\"\"))","v":""},null,{"$f":"IF(OR(B27=Dimension!$A$3,B27=Dimension!$A$4,B27=Dimension!$A$6,B27=Dimension!$A$8),CCYA,\"\")","v":""},{"$f":"IFERROR(VLOOKUP(F27,Dimension!$G$3:$H$252,2,FALSE),\"\")","v":""},{"$f":"IF(OR(B27=Dimension!$A$3,B27=Dimension!$A$4,B27=Dimension!$A$5),\"เดินทาง/ท่องเที่ยว\",\"\")","v":""},{"$f":"IF(OR(B27=Dimension!$A$6,B27=Dimension!$A$7,B27=Dimension!$A$8,B27=Dimension!$A$9),\"\",IF(OR(B27=Dimension!$A$3,B27=Dimension!$A$4,B27=Dimension!$A$5),\"สถานประกอบการ\",\"\"))","v":""},{"$f":"IF(OR(B27=Dimension!$A$3,B27=Dimension!$A$4,B27=Dimension!$A$5,B27=Dimension!$A$6,,B27=Dimension!$A$7,B27=Dimension!$A$8,B27=Dimension!$A$9),Payment_ID2,\"\")","v":""},null,{"$f":"IFERROR(VLOOKUP(K27,Dimension!$J$3:$K$179,2,FALSE),\"\")","v":""},null,null,{"$f":"IF(OR(B27=Dimension!$A$6,B27=Dimension!$A$7,B27=Dimension!$A$8,B27=Dimension!$A$9),\"\",IF(OR(B27=Dimension!$A$3,B27=Dimension!$A$4,B27=Dimension!$A$5),\"สถานประกอบการ\",\"\"))","v":""},{"$f":"IF(OR(B27=Dimension!$A$6,B27=Dimension!$A$7,B27=Dimension!$A$8,B27=Dimension!$A$9,B27=\"\"),\"\",Payment_ID2)","v":""},"",null,null,{"$f":"IF(D27=Dimension!$C$9,IF(LEFT(UPPER(E27),2)=\"MC\",TRUE,FALSE),TRUE)","v":true}]
[null,null,null,{"$f":"IF(B28=Dimension!$A$8,Dimension!$C$9,IF(B28=Dimension!$A$6,CD,\"\"))","v":""},null,{"$f":"IF(OR(B28=Dimension!$A$3,B28=Dimension!$A$4,B28=Dimension!$A$6,B28=Dimension!$A$8),CCYA,\"\")","v":""},{"$f":"IFERROR(VLOOKUP(F28,Dimension!$G$3:$H$252,2,FALSE),\"\")","v":""},{"$f":"IF(OR(B28=Dimension!$A$3,B28=Dimension!$A$4,B28=Dimension!$A$5),\"เดินทาง/ท่องเที่ยว\",\"\")","v":""},{"$f":"IF(OR(B28=Dimension!$A$6,B28=Dimension!$A$7,B28=Dimension!$A$8,B28=Dimension!$A$9),\"\",IF(OR(B28=Dimension!$A$3,B28=Dimension!$A$4,B28=Dimension!$A$5),\"สถานประกอบการ\",\"\"))","v":""},{"$f":"IF(OR(B28=Dimension!$A$3,B28=Dimension!$A$4,B28=Dimension!$A$5,B28=Dimension!$A$6,,B28=Dimension!$A$7,B28=Dimension!$A$8,B28=Dimension!$A$9),Payment_ID2,\"\")","v":""},null,{"$f":"IFERROR(VLOOKUP(K28,Dimension!$J$3:$K$179,2,FALSE),\"\")","v":""},null,null,{"$f":"IF(OR(B28=Dimension!$A$6,B28=Dimension!$A$7,B28=Dimension!$A$8,B28=Dimension!$A$9),\"\",IF(OR(B28=Dimension!$A$3,B28=Dimension!$A$4,B28=Dimension!$A$5),\"สถานประกอบการ\",\"\"))","v":""},{"$f":"IF(OR(B28=Dimension!$A$6,B28=Dimension!$A$7,B28=Dimension!$A$8,B28=Dimension!$A$9,B28=\"\"),\"\",Payment_ID2)","v":""},"",null,null,{"$f":"IF(D28=Dimension!$C$9,IF(LEFT(UPPER(E28),2)=\"MC\",TRUE,FALSE),TRUE)","v":true}]
[null,null,null,{"$f":"IF(B29=Dimension!$A$8,Dimension!$C$9,IF(B29=Dimension!$A$6,CD,\"\"))","v":""},null,{"$f":"IF(OR(B29=Dimension!$A$3,B29=Dimension!$A$4,B29=Dimension!$A$6,B29=Dimension!$A$8),CCYA,\"\")","v":""},{"$f":"IFERROR(VLOOKUP(F29,Dimension!$G$3:$H$252,2,FALSE),\"\")","v":""},{"$f":"IF(OR(B29=Dimension!$A$3,B29=Dimension!$A$4,B29=Dimension!$A$5),\"เดินทาง/ท่องเที่ยว\",\"\")","v":""},{"$f":"IF(OR(B29=Dimension!$A$6,B29=Dimension!$A$7,B29=Dimension!$A$8,B29=Dimension!$A$9),\"\",IF(OR(B29=Dimension!$A$3,B29=Dimension!$A$4,B29=Dimension!$A$5),\"สถานประกอบการ\",\"\"))","v":""},{"$f":"IF(OR(B29=Dimension!$A$3,B29=Dimension!$A$4,B29=Dimension!$A$5,B29=Dimension!$A$6,,B29=Dimension!$A$7,B29=Dimension!$A$8,B29=Dimension!$A$9),Payment_ID2,\"\")","v":""},null,{"$f":"IFERROR(VLOOKUP(K29,Dimension!$J$3:$K$179,2,FALSE),\"\")","v":""},null,null,{"$f":"IF(OR(B29=Dimension!$A$6,B29=Dimension!$A$7,B29=Dimension!$A$8,B29=Dimension!$A$9),\"\",IF(OR(B29=Dimension!$A$3,B29=Dimension!$A$4,B29=Dimension!$A$5),\"สถานประกอบการ\",\"\"))","v":""},{"$f":"IF(OR(B29=Dimension!$A$6,B29=Dimension!$A$7,B29=Dimension!$A$8,B29=Dimension!$A$9,B29=\"\"),\"\",Payment_ID2)","v":""},"",null,null,{"$f":"IF(D29=Dimension!$C$9,IF(LEFT(UPPER(E29),2)=\"MC\",TRUE,FALSE),TRUE)","v":true}]
[null,null,null,{"$f":"IF(B30=Dimension!$A$8,Dimension!$C$9,IF(B30=Dimension!$A$6,CD,\"\"))","v":""},null,{"$f":"IF(OR(B30=Dimension!$A$3,B30=Dimension!$A$4,B30=Dimension!$A$6,B30=Dimension!$A$8),CCYA,\"\")","v":""},{"$f":"IFERROR(VLOOKUP(F30,Dimension!$G$3:$H$252,2,FALSE),\"\")","v":""},{"$f":"IF(OR(B30=Dimension!$A$3,B30=Dimension!$A$4,B30=Dimension!$A$5),\"เดินทาง/ท่องเที่ยว\",\"\")","v":""},{"$f":"IF(OR(B30=Dimension!$A$6,B30=Dimension!$A$7,B30=Dimension!$A$8,B30=Dimension!$A$9),\"\",IF(OR(B30=Dimension!$A$3,B30=Dimension!$A$4,B30=Dimension!$A$5),\"สถานประกอบการ\",\"\"))","v":""},{"$f":"IF(OR(B30=Dimension!$A$3,B30=Dimension!$A$4,B30=Dimension!$A$5,B30=Dimension!$A$6,,B30=Dimension!$A$7,B30=Dimension!$A$8,B30=Dimension!$A$9),Payment_ID2,\"\")","v":""},null,{"$f":"IFERROR(VLOOKUP(K30,Dimension!$J$3:$K$179,2,FALSE),\"\")","v":""},null,null,{"$f":"IF(OR(B30=Dimension!$A$6,B30=Dimension!$A$7,B30=Dimension!$A$8,B30=Dimension!$A$9),\"\",IF(OR(B30=Dimension!$A$3,B30=Dimension!$A$4,B30=Dimension!$A$5),\"สถานประกอบการ\",\"\"))","v":""},{"$f":"IF(OR(B30=Dimension!$A$6,B30=Dimension!$A$7,B30=Dimension!$A$8,B30=Dimension!$A$9,B30=\"\"),\"\",Payment_ID2)","v":""},"",null,null,{"$f":"IF(D30=Dimension!$C$9,IF(LEFT(UPPER(E30),2)=\"MC\",TRUE,FALSE),TRUE)","v":true}]
[null,null,null,{"$f":"IF(B31=Dimension!$A$8,Dimension!$C$9,IF(B31=Dimension!$A$6,CD,\"\"))","v":""},null,{"$f":"IF(OR(B31=Dimension!$A$3,B31=Dimension!$A$4,B31=Dimension!$A$6,B31=Dimension!$A$8),CCYA,\"\")","v":""},{"$f":"IFERROR(VLOOKUP(F31,Dimension!$G$3:$H$252,2,FALSE),\"\")","v":""},{"$f":"IF(OR(B31=Dimension!$A$3,B31=Dimension!$A$4,B31=Dimension!$A$5),\"เดินทาง/ท่องเที่ยว\",\"\")","v":""},{"$f":"IF(OR(B31=Dimension!$A$6,B31=Dimension!$A$7,B31=Dimension!$A$8,B31=Dimension!$A$9),\"\",IF(OR(B31=Dimension!$A$3,B31=Dimension!$A$4,B31=Dimension!$A$5),\"สถานประกอบการ\",\"\"))","v":""},{"$f":"IF(OR(B31=Dimension!$A$3,B31=Dimension!$A$4,B31=Dimension!$A$5,B31=Dimension!$A$6,,B31=Dimension!$A$7,B31=Dimension!$A$8,B31=Dimension!$A$9),Payment_ID2,\"\")","v":""},null,{"$f":"IFERROR(VLOOKUP(K31,Dimension!$J$3:$K$179,2,FALSE),\"\")","v":""},null,null,{"$f":"IF(OR(B31=Dimension!$A$6,B31=Dimension!$A$7,B31=Dimension!$A$8,B31=Dimension!$A$9),\"\",IF(OR(B31=Dimension!$A$3,B31=Dimension!$A$4,B31=Dimension!$A$5),\"สถานประกอบการ\",\"\"))","v":""},{"$f":"IF(OR(B31=Dimension!$A$6,B31=Dimension!$A$7,B31=Dimension!$A$8,B31=Dimension!$A$9,B31=\"\"),\"\",Payment_ID2)","v":""},"",null,null,{"$f":"IF(D31=Dimension!$C$9,IF(LEFT(UPPER(E31),2)=\"MC\",TRUE,FALSE),TRUE)","v":true}]
[null,null,null,{"$f":"IF(B32=Dimension!$A$8,Dimension!$C$9,IF(B32=Dimension!$A$6,CD,\"\"))","v":""},null,{"$f":"IF(OR(B32=Dimension!$A$3,B32=Dimension!$A$4,B32=Dimension!$A$6,B32=Dimension!$A$8),CCYA,\"\")","v":""},{"$f":"IFERROR(VLOOKUP(F32,Dimension!$G$3:$H$252,2,FALSE),\"\")","v":""},{"$f":"IF(OR(B32=Dimension!$A$3,B32=Dimension!$A$4,B32=Dimension!$A$5),\"เดินทาง/ท่องเที่ยว\",\"\")","v":""},{"$f":"IF(OR(B32=Dimension!$A$6,B32=Dimension!$A$7,B32=Dimension!$A$8,B32=Dimension!$A$9),\"\",IF(OR(B32=Dimension!$A$3,B32=Dimension!$A$4,B32=Dimension!$A$5),\"สถานประกอบการ\",\"\"))","v":""},{"$f":"IF(OR(B32=Dimension!$A$3,B32=Dimension!$A$4,B32=Dimension!$A$5,B32=Dimension!$A$6,,B32=Dimension!$A$7,B32=Dimension!$A$8,B32=Dimension!$A$9),Payment_ID2,\"\")","v":""},null,{"$f":"IFERROR(VLOOKUP(K32,Dimension!$J$3:$K$179,2,FALSE),\"\")","v":""},null,null,{"$f":"IF(OR(B32=Dimension!$A$6,B32=Dimension!$A$7,B32=Dimension!$A$8,B32=Dimension!$A$9),\"\",IF(OR(B32=Dimension!$A$3,B32=Dimension!$A$4,B32=Dimension!$A$5),\"สถานประกอบการ\",\"\"))","v":""},{"$f":"IF(OR(B32=Dimension!$A$6,B32=Dimension!$A$7,B32=Dimension!$A$8,B32=Dimension!$A$9,B32=\"\"),\"\",Payment_ID2)","v":""},"",null,null,{"$f":"IF(D32=Dimension!$C$9,IF(LEFT(UPPER(E32),2)=\"MC\",TRUE,FALSE),TRUE)","v":true}]
[null,null,null,{"$f":"IF(B33=Dimension!$A$8,Dimension!$C$9,IF(B33=Dimension!$A$6,CD,\"\"))","v":""},null,{"$f":"IF(OR(B33=Dimension!$A$3,B33=Dimension!$A$4,B33=Dimension!$A$6,B33=Dimension!$A$8),CCYA,\"\")","v":""},{"$f":"IFERROR(VLOOKUP(F33,Dimension!$G$3:$H$252,2,FALSE),\"\")","v":""},{"$f":"IF(OR(B33=Dimension!$A$3,B33=Dimension!$A$4,B33=Dimension!$A$5),\"เดินทาง/ท่องเที่ยว\",\"\")","v":""},{"$f":"IF(OR(B33=Dimension!$A$6,B33=Dimension!$A$7,B33=Dimension!$A$8,B33=Dimension!$A$9),\"\",IF(OR(B33=Dimension!$A$3,B33=Dimension!$A$4,B33=Dimension!$A$5),\"สถานประกอบการ\",\"\"))","v":""},{"$f":"IF(OR(B33=Dimension!$A$3,B33=Dimension!$A$4,B33=Dimension!$A$5,B33=Dimension!$A$6,,B33=Dimension!$A$7,B33=Dimension!$A$8,B33=Dimension!$A$9),Payment_ID2,\"\")","v":""},null,{"$f":"IFERROR(VLOOKUP(K33,Dimension!$J$3:$K$179,2,FALSE),\"\")","v":""},null,null,{"$f":"IF(OR(B33=Dimension!$A$6,B33=Dimension!$A$7,B33=Dimension!$A$8,B33=Dimension!$A$9),\"\",IF(OR(B33=Dimension!$A$3,B33=Dimension!$A$4,B33=Dimension!$A$5),\"สถานประกอบการ\",\"\"))","v":""},{"$f":"IF(OR(B33=Dimension!$A$6,B33=Dimension!$A$7,B33=Dimension!$A$8,B33=Dimension!$A$9,B33=\"\"),\"\",Payment_ID2)","v":""},"",null,null,{"$f":"IF(D33=Dimension!$C$9,IF(LEFT(UPPER(E33),2)=\"MC\",TRUE,FALSE),TRUE)","v":true}]
[null,null,null,{"$f":"IF(B34=Dimension!$A$8,Dimension!$C$9,IF(B34=Dimension!$A$6,CD,\"\"))","v":""},null,{"$f":"IF(OR(B34=Dimension!$A$3,B34=Dimension!$A$4,B34=Dimension!$A$6,B34=Dimension!$A$8),CCYA,\"\")","v":""},{"$f":"IFERROR(VLOOKUP(F34,Dimension!$G$3:$H$252,2,FALSE),\"\")","v":""},{"$f":"IF(OR(B34=Dimension!$A$3,B34=Dimension!$A$4,B34=Dimension!$A$5),\"เดินทาง/ท่องเที่ยว\",\"\")","v":""},{"$f":"IF(OR(B34=Dimension!$A$6,B34=Dimension!$A$7,B34=Dimension!$A$8,B34=Dimension!$A$9),\"\",IF(OR(B34=Dimension!$A$3,B34=Dimension!$A$4,B34=Dimension!$A$5),\"สถานประกอบการ\",\"\"))","v":""},{"$f":"IF(OR(B34=Dimension!$A$3,B34=Dimension!$A$4,B34=Dimension!$A$5,B34=Dimension!$A$6,,B34=Dimension!$A$7,B34=Dimension!$A$8,B34=Dimension!$A$9),Payment_ID2,\"\")","v":""},null,{"$f":"IFERROR(VLOOKUP(K34,Dimension!$J$3:$K$179,2,FALSE),\"\")","v":""},null,null,{"$f":"IF(OR(B34=Dimension!$A$6,B34=Dimension!$A$7,B34=Dimension!$A$8,B34=Dimension!$A$9),\"\",IF(OR(B34=Dimension!$A$3,B34=Dimension!$A$4,B34=Dimension!$A$5),\"สถานประกอบการ\",\"\"))","v":""},{"$f":"IF(OR(B34=Dimension!$A$6,B34=Dimension!$A$7,B34=Dimension!$A$8,B34=Dimension!$A$9,B34=\"\"),\"\",Payment_ID2)","v":""},"",null,null,{"$f":"IF(D34=Dimension!$C$9,IF(LEFT(UPPER(E34),2)=\"MC\",TRUE,FALSE),TRUE)","v":true}]
[null,null,null,{"$f":"IF(B35=Dimension!$A$8,Dimension!$C$9,IF(B35=Dimension!$A$6,CD,\"\"))","v":""},null,{"$f":"IF(OR(B35=Dimension!$A$3,B35=Dimension!$A$4,B35=Dimension!$A$6,B35=Dimension!$A$8),CCYA,\"\")","v":""},{"$f":"IFERROR(VLOOKUP(F35,Dimension!$G$3:$H$252,2,FALSE),\"\")","v":""},{"$f":"IF(OR(B35=Dimension!$A$3,B35=Dimension!$A$4,B35=Dimension!$A$5),\"เดินทาง/ท่องเที่ยว\",\"\")","v":""},{"$f":"IF(OR(B35=Dimension!$A$6,B35=Dimension!$A$7,B35=Dimension!$A$8,B35=Dimension!$A$9),\"\",IF(OR(B35=Dimension!$A$3,B35=Dimension!$A$4,B35=Dimension!$A$5),\"สถานประกอบการ\",\"\"))","v":""},{"$f":"IF(OR(B35=Dimension!$A$3,B35=Dimension!$A$4,B35=Dimension!$A$5,B35=Dimension!$A$6,,B35=Dimension!$A$7,B35=Dimension!$A$8,B35=Dimension!$A$9),Payment_ID2,\"\")","v":""},null,{"$f":"IFERROR(VLOOKUP(K35,Dimension!$J$3:$K$179,2,FALSE),\"\")","v":""},null,null,{"$f":"IF(OR(B35=Dimension!$A$6,B35=Dimension!$A$7,B35=Dimension!$A$8,B35=Dimension!$A$9),\"\",IF(OR(B35=Dimension!$A$3,B35=Dimension!$A$4,B35=Dimension!$A$5),\"สถานประกอบการ\",\"\"))","v":""},{"$f":"IF(OR(B35=Dimension!$A$6,B35=Dimension!$A$7,B35=Dimension!$A$8,B35=Dimension!$A$9,B35=\"\"),\"\",Payment_ID2)","v":""},"",null,null,{"$f":"IF(D35=Dimension!$C$9,IF(LEFT(UPPER(E35),2)=\"MC\",TRUE,FALSE),TRUE)","v":true}]
[null,null,null,{"$f":"IF(B36=Dimension!$A$8,Dimension!$C$9,IF(B36=Dimension!$A$6,CD,\"\"))","v":""},null,{"$f":"IF(OR(B36=Dimension!$A$3,B36=Dimension!$A$4,B36=Dimension!$A$6,B36=Dimension!$A$8),CCYA,\"\")","v":""},{"$f":"IFERROR(VLOOKUP(F36,Dimension!$G$3:$H$252,2,FALSE),\"\")","v":""},{"$f":"IF(OR(B36=Dimension!$A$3,B36=Dimension!$A$4,B36=Dimension!$A$5),\"เดินทาง/ท่องเที่ยว\",\"\")","v":""},{"$f":"IF(OR(B36=Dimension!$A$6,B36=Dimension!$A$7,B36=Dimension!$A$8,B36=Dimension!$A$9),\"\",IF(OR(B36=Dimension!$A$3,B36=Dimension!$A$4,B36=Dimension!$A$5),\"สถานประกอบการ\",\"\"))","v":""},{"$f":"IF(OR(B36=Dimension!$A$3,B36=Dimension!$A$4,B36=Dimension!$A$5,B36=Dimension!$A$6,,B36=Dimension!$A$7,B36=Dimension!$A$8,B36=Dimension!$A$9),Payment_ID2,\"\")","v":""},null,{"$f":"IFERROR(VLOOKUP(K36,Dimension!$J$3:$K$179,2,FALSE),\"\")","v":""},null,null,{"$f":"IF(OR(B36=Dimension!$A$6,B36=Dimension!$A$7,B36=Dimension!$A$8,B36=Dimension!$A$9),\"\",IF(OR(B36=Dimension!$A$3,B36=Dimension!$A$4,B36=Dimension!$A$5),\"สถานประกอบการ\",\"\"))","v":""},{"$f":"IF(OR(B36=Dimension!$A$6,B36=Dimension!$A$7,B36=Dimension!$A$8,B36=Dimension!$A$9,B36=\"\"),\"\",Payment_ID2)","v":""},"",null,null,{"$f":"IF(D36=Dimension!$C$9,IF(LEFT(UPPER(E36),2)=\"MC\",TRUE,FALSE),TRUE)","v":true}]
[null,null,null,{"$f":"IF(B37=Dimension!$A$8,Dimension!$C$9,IF(B37=Dimension!$A$6,CD,\"\"))","v":""},null,{"$f":"IF(OR(B37=Dimension!$A$3,B37=Dimension!$A$4,B37=Dimension!$A$6,B37=Dimension!$A$8),CCYA,\"\")","v":""},{"$f":"IFERROR(VLOOKUP(F37,Dimension!$G$3:$H$252,2,FALSE),\"\")","v":""},{"$f":"IF(OR(B37=Dimension!$A$3,B37=Dimension!$A$4,B37=Dimension!$A$5),\"เดินทาง/ท่องเที่ยว\",\"\")","v":""},{"$f":"IF(OR(B37=Dimension!$A$6,B37=Dimension!$A$7,B37=Dimension!$A$8,B37=Dimension!$A$9),\"\",IF(OR(B37=Dimension!$A$3,B37=Dimension!$A$4,B37=Dimension!$A$5),\"สถานประกอบการ\",\"\"))","v":""},{"$f":"IF(OR(B37=Dimension!$A$3,B37=Dimension!$A$4,B37=Dimension!$A$5,B37=Dimension!$A$6,,B37=Dimension!$A$7,B37=Dimension!$A$8,B37=Dimension!$A$9),Payment_ID2,\"\")","v":""},null,{"$f":"IFERROR(VLOOKUP(K37,Dimension!$J$3:$K$179,2,FALSE),\"\")","v":""},null,null,{"$f":"IF(OR(B37=Dimension!$A$6,B37=Dimension!$A$7,B37=Dimension!$A$8,B37=Dimension!$A$9),\"\",IF(OR(B37=Dimension!$A$3,B37=Dimension!$A$4,B37=Dimension!$A$5),\"สถานประกอบการ\",\"\"))","v":""},{"$f":"IF(OR(B37=Dimension!$A$6,B37=Dimension!$A$7,B37=Dimension!$A$8,B37=Dimension!$A$9,B37=\"\"),\"\",Payment_ID2)","v":""},"",null,null,{"$f":"IF(D37=Dimension!$C$9,IF(LEFT(UPPER(E37),2)=\"MC\",TRUE,FALSE),TRUE)","v":true}]
[null,null,null,{"$f":"IF(B38=Dimension!$A$8,Dimension!$C$9,IF(B38=Dimension!$A$6,CD,\"\"))","v":""},null,{"$f":"IF(OR(B38=Dimension!$A$3,B38=Dimension!$A$4,B38=Dimension!$A$6,B38=Dimension!$A$8),CCYA,\"\")","v":""},{"$f":"IFERROR(VLOOKUP(F38,Dimension!$G$3:$H$252,2,FALSE),\"\")","v":""},{"$f":"IF(OR(B38=Dimension!$A$3,B38=Dimension!$A$4,B38=Dimension!$A$5),\"เดินทาง/ท่องเที่ยว\",\"\")","v":""},{"$f":"IF(OR(B38=Dimension!$A$6,B38=Dimension!$A$7,B38=Dimension!$A$8,B38=Dimension!$A$9),\"\",IF(OR(B38=Dimension!$A$3,B38=Dimension!$A$4,B38=Dimension!$A$5),\"สถานประกอบการ\",\"\"))","v":""},{"$f":"IF(OR(B38=Dimension!$A$3,B38=Dimension!$A$4,B38=Dimension!$A$5,B38=Dimension!$A$6,,B38=Dimension!$A$7,B38=Dimension!$A$8,B38=Dimension!$A$9),Payment_ID2,\"\")","v":""},null,{"$f":"IFERROR(VLOOKUP(K38,Dimension!$J$3:$K$179,2,FALSE),\"\")","v":""},null,null,{"$f":"IF(OR(B38=Dimension!$A$6,B38=Dimension!$A$7,B38=Dimension!$A$8,B38=Dimension!$A$9),\"\",IF(OR(B38=Dimension!$A$3,B38=Dimension!$A$4,B38=Dimension!$A$5),\"สถานประกอบการ\",\"\"))","v":""},{"$f":"IF(OR(B38=Dimension!$A$6,B38=Dimension!$A$7,B38=Dimension!$A$8,B38=Dimension!$A$9,B38=\"\"),\"\",Payment_ID2)","v":""},"",null,null,{"$f":"IF(D38=Dimension!$C$9,IF(LEFT(UPPER(E38),2)=\"MC\",TRUE,FALSE),TRUE)","v":true}]
[null,null,null,{"$f":"IF(B39=Dimension!$A$8,Dimension!$C$9,IF(B39=Dimension!$A$6,CD,\"\"))","v":""},null,{"$f":"IF(OR(B39=Dimension!$A$3,B39=Dimension!$A$4,B39=Dimension!$A$6,B39=Dimension!$A$8),CCYA,\"\")","v":""},{"$f":"IFERROR(VLOOKUP(F39,Dimension!$G$3:$H$252,2,FALSE),\"\")","v":""},{"$f":"IF(OR(B39=Dimension!$A$3,B39=Dimension!$A$4,B39=Dimension!$A$5),\"เดินทาง/ท่องเที่ยว\",\"\")","v":""},{"$f":"IF(OR(B39=Dimension!$A$6,B39=Dimension!$A$7,B39=Dimension!$A$8,B39=Dimension!$A$9),\"\",IF(OR(B39=Dimension!$A$3,B39=Dimension!$A$4,B39=Dimension!$A$5),\"สถานประกอบการ\",\"\"))","v":""},{"$f":"IF(OR(B39=Dimension!$A$3,B39=Dimension!$A$4,B39=Dimension!$A$5,B39=Dimension!$A$6,,B39=Dimension!$A$7,B39=Dimension!$A$8,B39=Dimension!$A$9),Payment_ID2,\"\")","v":""},null,{"$f":"IFERROR(VLOOKUP(K39,Dimension!$J$3:$K$179,2,FALSE),\"\")","v":""},null,null,{"$f":"IF(OR(B39=Dimension!$A$6,B39=Dimension!$A$7,B39=Dimension!$A$8,B39=Dimension!$A$9),\"\",IF(OR(B39=Dimension!$A$3,B39=Dimension!$A$4,B39=Dimension!$A$5),\"สถานประกอบการ\",\"\"))","v":""},{"$f":"IF(OR(B39=Dimension!$A$6,B39=Dimension!$A$7,B39=Dimension!$A$8,B39=Dimension!$A$9,B39=\"\"),\"\",Payment_ID2)","v":""},"",null,null,{"$f":"IF(D39=Dimension!$C$9,IF(LEFT(UPPER(E39),2)=\"MC\",TRUE,FALSE),TRUE)","v":true}]
[null,null,null,{"$f":"IF(B40=Dimension!$A$8,Dimension!$C$9,IF(B40=Dimension!$A$6,CD,\"\"))","v":""},null,{"$f":"IF(OR(B40=Dimension!$A$3,B40=Dimension!$A$4,B40=Dimension!$A$6,B40=Dimension!$A$8),CCYA,\"\")","v":""},{"$f":"IFERROR(VLOOKUP(F40,Dimension!$G$3:$H$252,2,FALSE),\"\")","v":""},{"$f":"IF(OR(B40=Dimension!$A$3,B40=Dimension!$A$4,B40=Dimension!$A$5),\"เดินทาง/ท่องเที่ยว\",\"\")","v":""},{"$f":"IF(OR(B40=Dimension!$A$6,B40=Dimension!$A$7,B40=Dimension!$A$8,B40=Dimension!$A$9),\"\",IF(OR(B40=Dimension!$A$3,B40=Dimension!$A$4,B40=Dimension!$A$5),\"สถานประกอบการ\",\"\"))","v":""},{"$f":"IF(OR(B40=Dimension!$A$3,B40=Dimension!$A$4,B40=Dimension!$A$5,B40=Dimension!$A$6,,B40=Dimension!$A$7,B40=Dimension!$A$8,B40=Dimension!$A$9),Payment_ID2,\"\")","v":""},null,{"$f":"IFERROR(VLOOKUP(K40,Dimension!$J$3:$K$179,2,FALSE),\"\")","v":""},null,null,{"$f":"IF(OR(B40=Dimension!$A$6,B40=Dimension!$A$7,B40=Dimension!$A$8,B40=Dimension!$A$9),\"\",IF(OR(B40=Dimension!$A$3,B40=Dimension!$A$4,B40=Dimension!$A$5),\"สถานประกอบการ\",\"\"))","v":""},{"$f":"IF(OR(B40=Dimension!$A$6,B40=Dimension!$A$7,B40=Dimension!$A$8,B40=Dimension!$A$9,B40=\"\"),\"\",Payment_ID2)","v":""},"",null,null,{"$f":"IF(D40=Dimension!$C$9,IF(LEFT(UPPER(E40),2)=\"MC\",TRUE,FALSE),TRUE)","v":true}]
[null,null,null,{"$f":"IF(B41=Dimension!$A$8,Dimension!$C$9,IF(B41=Dimension!$A$6,CD,\"\"))","v":""},null,{"$f":"IF(OR(B41=Dimension!$A$3,B41=Dimension!$A$4,B41=Dimension!$A$6,B41=Dimension!$A$8),CCYA,\"\")","v":""},{"$f":"IFERROR(VLOOKUP(F41,Dimension!$G$3:$H$252,2,FALSE),\"\")","v":""},{"$f":"IF(OR(B41=Dimension!$A$3,B41=Dimension!$A$4,B41=Dimension!$A$5),\"เดินทาง/ท่องเที่ยว\",\"\")","v":""},{"$f":"IF(OR(B41=Dimension!$A$6,B41=Dimension!$A$7,B41=Dimension!$A$8,B41=Dimension!$A$9),\"\",IF(OR(B41=Dimension!$A$3,B41=Dimension!$A$4,B41=Dimension!$A$5),\"สถานประกอบการ\",\"\"))","v":""},{"$f":"IF(OR(B41=Dimension!$A$3,B41=Dimension!$A$4,B41=Dimension!$A$5,B41=Dimension!$A$6,,B41=Dimension!$A$7,B41=Dimension!$A$8,B41=Dimension!$A$9),Payment_ID2,\"\")","v":""},null,{"$f":"IFERROR(VLOOKUP(K41,Dimension!$J$3:$K$179,2,FALSE),\"\")","v":""},null,null,{"$f":"IF(OR(B41=Dimension!$A$6,B41=Dimension!$A$7,B41=Dimension!$A$8,B41=Dimension!$A$9),\"\",IF(OR(B41=Dimension!$A$3,B41=Dimension!$A$4,B41=Dimension!$A$5),\"สถานประกอบการ\",\"\"))","v":""},{"$f":"IF(OR(B41=Dimension!$A$6,B41=Dimension!$A$7,B41=Dimension!$A$8,B41=Dimension!$A$9,B41=\"\"),\"\",Payment_ID2)","v":""},"",null,null,{"$f":"IF(D41=Dimension!$C$9,IF(LEFT(UPPER(E41),2)=\"MC\",TRUE,FALSE),TRUE)","v":true}]
[null,null,null,{"$f":"IF(B42=Dimension!$A$8,Dimension!$C$9,IF(B42=Dimension!$A$6,CD,\"\"))","v":""},null,{"$f":"IF(OR(B42=Dimension!$A$3,B42=Dimension!$A$4,B42=Dimension!$A$6,B42=Dimension!$A$8),CCYA,\"\")","v":""},{"$f":"IFERROR(VLOOKUP(F42,Dimension!$G$3:$H$252,2,FALSE),\"\")","v":""},{"$f":"IF(OR(B42=Dimension!$A$3,B42=Dimension!$A$4,B42=Dimension!$A$5),\"เดินทาง/ท่องเที่ยว\",\"\")","v":""},{"$f":"IF(OR(B42=Dimension!$A$6,B42=Dimension!$A$7,B42=Dimension!$A$8,B42=Dimension!$A$9),\"\",IF(OR(B42=Dimension!$A$3,B42=Dimension!$A$4,B42=Dimension!$A$5),\"สถานประกอบการ\",\"\"))","v":""},{"$f":"IF(OR(B42=Dimension!$A$3,B42=Dimension!$A$4,B42=Dimension!$A$5,B42=Dimension!$A$6,,B42=Dimension!$A$7,B42=Dimension!$A$8,B42=Dimension!$A$9),Payment_ID2,\"\")","v":""},null,{"$f":"IFERROR(VLOOKUP(K42,Dimension!$J$3:$K$179,2,FALSE),\"\")","v":""},null,null,{"$f":"IF(OR(B42=Dimension!$A$6,B42=Dimension!$A$7,B42=Dimension!$A$8,B42=Dimension!$A$9),\"\",IF(OR(B42=Dimension!$A$3,B42=Dimension!$A$4,B42=Dimension!$A$5),\"สถานประกอบการ\",\"\"))","v":""},{"$f":"IF(OR(B42=Dimension!$A$6,B42=Dimension!$A$7,B42=Dimension!$A$8,B42=Dimension!$A$9,B42=\"\"),\"\",Payment_ID2)","v":""},"",null,null,{"$f":"IF(D42=Dimension!$C$9,IF(LEFT(UPPER(E42),2)=\"MC\",TRUE,FALSE),TRUE)","v":true}]
[null,null,null,{"$f":"IF(B43=Dimension!$A$8,Dimension!$C$9,IF(B43=Dimension!$A$6,CD,\"\"))","v":""},null,{"$f":"IF(OR(B43=Dimension!$A$3,B43=Dimension!$A$4,B43=Dimension!$A$6,B43=Dimension!$A$8),CCYA,\"\")","v":""},{"$f":"IFERROR(VLOOKUP(F43,Dimension!$G$3:$H$252,2,FALSE),\"\")","v":""},{"$f":"IF(OR(B43=Dimension!$A$3,B43=Dimension!$A$4,B43=Dimension!$A$5),\"เดินทาง/ท่องเที่ยว\",\"\")","v":""},{"$f":"IF(OR(B43=Dimension!$A$6,B43=Dimension!$A$7,B43=Dimension!$A$8,B43=Dimension!$A$9),\"\",IF(OR(B43=Dimension!$A$3,B43=Dimension!$A$4,B43=Dimension!$A$5),\"สถานประกอบการ\",\"\"))","v":""},{"$f":"IF(OR(B43=Dimension!$A$3,B43=Dimension!$A$4,B43=Dimension!$A$5,B43=Dimension!$A$6,,B43=Dimension!$A$7,B43=Dimension!$A$8,B43=Dimension!$A$9),Payment_ID2,\"\")","v":""},null,{"$f":"IFERROR(VLOOKUP(K43,Dimension!$J$3:$K$179,2,FALSE),\"\")","v":""},null,null,{"$f":"IF(OR(B43=Dimension!$A$6,B43=Dimension!$A$7,B43=Dimension!$A$8,B43=Dimension!$A$9),\"\",IF(OR(B43=Dimension!$A$3,B43=Dimension!$A$4,B43=Dimension!$A$5),\"สถานประกอบการ\",\"\"))","v":""},{"$f":"IF(OR(B43=Dimension!$A$6,B43=Dimension!$A$7,B43=Dimension!$A$8,B43=Dimension!$A$9,B43=\"\"),\"\",Payment_ID2)","v":""},"",null,null,{"$f":"IF(D43=Dimension!$C$9,IF(LEFT(UPPER(E43),2)=\"MC\",TRUE,FALSE),TRUE)","v":true}]
[null,null,null,{"$f":"IF(B44=Dimension!$A$8,Dimension!$C$9,IF(B44=Dimension!$A$6,CD,\"\"))","v":""},null,{"$f":"IF(OR(B44=Dimension!$A$3,B44=Dimension!$A$4,B44=Dimension!$A$6,B44=Dimension!$A$8),CCYA,\"\")","v":""},{"$f":"IFERROR(VLOOKUP(F44,Dimension!$G$3:$H$252,2,FALSE),\"\")","v":""},{"$f":"IF(OR(B44=Dimension!$A$3,B44=Dimension!$A$4,B44=Dimension!$A$5),\"เดินทาง/ท่องเที่ยว\",\"\")","v":""},{"$f":"IF(OR(B44=Dimension!$A$6,B44=Dimension!$A$7,B44=Dimension!$A$8,B44=Dimension!$A$9),\"\",IF(OR(B44=Dimension!$A$3,B44=Dimension!$A$4,B44=Dimension!$A$5),\"สถานประกอบการ\",\"\"))","v":""},{"$f":"IF(OR(B44=Dimension!$A$3,B44=Dimension!$A$4,B44=Dimension!$A$5,B44=Dimension!$A$6,,B44=Dimension!$A$7,B44=Dimension!$A$8,B44=Dimension!$A$9),Payment_ID2,\"\")","v":""},null,{"$f":"IFERROR(VLOOKUP(K44,Dimension!$J$3:$K$179,2,FALSE),\"\")","v":""},null,null,{"$f":"IF(OR(B44=Dimension!$A$6,B44=Dimension!$A$7,B44=Dimension!$A$8,B44=Dimension!$A$9),\"\",IF(OR(B44=Dimension!$A$3,B44=Dimension!$A$4,B44=Dimension!$A$5),\"สถานประกอบการ\",\"\"))","v":""},{"$f":"IF(OR(B44=Dimension!$A$6,B44=Dimension!$A$7,B44=Dimension!$A$8,B44=Dimension!$A$9,B44=\"\"),\"\",Payment_ID2)","v":""},"",null,null,{"$f":"IF(D44=Dimension!$C$9,IF(LEFT(UPPER(E44),2)=\"MC\",TRUE,FALSE),TRUE)","v":true}]
[null,null,null,{"$f":"IF(B45=Dimension!$A$8,Dimension!$C$9,IF(B45=Dimension!$A$6,CD,\"\"))","v":""},null,{"$f":"IF(OR(B45=Dimension!$A$3,B45=Dimension!$A$4,B45=Dimension!$A$6,B45=Dimension!$A$8),CCYA,\"\")","v":""},{"$f":"IFERROR(VLOOKUP(F45,Dimension!$G$3:$H$252,2,FALSE),\"\")","v":""},{"$f":"IF(OR(B45=Dimension!$A$3,B45=Dimension!$A$4,B45=Dimension!$A$5),\"เดินทาง/ท่องเที่ยว\",\"\")","v":""},{"$f":"IF(OR(B45=Dimension!$A$6,B45=Dimension!$A$7,B45=Dimension!$A$8,B45=Dimension!$A$9),\"\",IF(OR(B45=Dimension!$A$3,B45=Dimension!$A$4,B45=Dimension!$A$5),\"สถานประกอบการ\",\"\"))","v":""},{"$f":"IF(OR(B45=Dimension!$A$3,B45=Dimension!$A$4,B45=Dimension!$A$5,B45=Dimension!$A$6,,B45=Dimension!$A$7,B45=Dimension!$A$8,B45=Dimension!$A$9),Payment_ID2,\"\")","v":""},null,{"$f":"IFERROR(VLOOKUP(K45,Dimension!$J$3:$K$179,2,FALSE),\"\")","v":""},null,null,{"$f":"IF(OR(B45=Dimension!$A$6,B45=Dimension!$A$7,B45=Dimension!$A$8,B45=Dimension!$A$9),\"\",IF(OR(B45=Dimension!$A$3,B45=Dimension!$A$4,B45=Dimension!$A$5),\"สถานประกอบการ\",\"\"))","v":""},{"$f":"IF(OR(B45=Dimension!$A$6,B45=Dimension!$A$7,B45=Dimension!$A$8,B45=Dimension!$A$9,B45=\"\"),\"\",Payment_ID2)","v":""},"",null,null,{"$f":"IF(D45=Dimension!$C$9,IF(LEFT(UPPER(E45),2)=\"MC\",TRUE,FALSE),TRUE)","v":true}]
[null,null,null,{"$f":"IF(B46=Dimension!$A$8,Dimension!$C$9,IF(B46=Dimension!$A$6,CD,\"\"))","v":""},null,{"$f":"IF(OR(B46=Dimension!$A$3,B46=Dimension!$A$4,B46=Dimension!$A$6,B46=Dimension!$A$8),CCYA,\"\")","v":""},{"$f":"IFERROR(VLOOKUP(F46,Dimension!$G$3:$H$252,2,FALSE),\"\")","v":""},{"$f":"IF(OR(B46=Dimension!$A$3,B46=Dimension!$A$4,B46=Dimension!$A$5),\"เดินทาง/ท่องเที่ยว\",\"\")","v":""},{"$f":"IF(OR(B46=Dimension!$A$6,B46=Dimension!$A$7,B46=Dimension!$A$8,B46=Dimension!$A$9),\"\",IF(OR(B46=Dimension!$A$3,B46=Dimension!$A$4,B46=Dimension!$A$5),\"สถานประกอบการ\",\"\"))","v":""},{"$f":"IF(OR(B46=Dimension!$A$3,B46=Dimension!$A$4,B46=Dimension!$A$5,B46=Dimension!$A$6,,B46=Dimension!$A$7,B46=Dimension!$A$8,B46=Dimension!$A$9),Payment_ID2,\"\")","v":""},null,{"$f":"IFERROR(VLOOKUP(K46,Dimension!$J$3:$K$179,2,FALSE),\"\")","v":""},null,null,{"$f":"IF(OR(B46=Dimension!$A$6,B46=Dimension!$A$7,B46=Dimension!$A$8,B46=Dimension!$A$9),\"\",IF(OR(B46=Dimension!$A$3,B46=Dimension!$A$4,B46=Dimension!$A$5),\"สถานประกอบการ\",\"\"))","v":""},{"$f":"IF(OR(B46=Dimension!$A$6,B46=Dimension!$A$7,B46=Dimension!$A$8,B46=Dimension!$A$9,B46=\"\"),\"\",Payment_ID2)","v":""},"",null,null,{"$f":"IF(D46=Dimension!$C$9,IF(LEFT(UPPER(E46),2)=\"MC\",TRUE,FALSE),TRUE)","v":true}]
[null,null,null,{"$f":"IF(B47=Dimension!$A$8,Dimension!$C$9,IF(B47=Dimension!$A$6,CD,\"\"))","v":""},null,{"$f":"IF(OR(B47=Dimension!$A$3,B47=Dimension!$A$4,B47=Dimension!$A$6,B47=Dimension!$A$8),CCYA,\"\")","v":""},{"$f":"IFERROR(VLOOKUP(F47,Dimension!$G$3:$H$252,2,FALSE),\"\")","v":""},{"$f":"IF(OR(B47=Dimension!$A$3,B47=Dimension!$A$4,B47=Dimension!$A$5),\"เดินทาง/ท่องเที่ยว\",\"\")","v":""},{"$f":"IF(OR(B47=Dimension!$A$6,B47=Dimension!$A$7,B47=Dimension!$A$8,B47=Dimension!$A$9),\"\",IF(OR(B47=Dimension!$A$3,B47=Dimension!$A$4,B47=Dimension!$A$5),\"สถานประกอบการ\",\"\"))","v":""},{"$f":"IF(OR(B47=Dimension!$A$3,B47=Dimension!$A$4,B47=Dimension!$A$5,B47=Dimension!$A$6,,B47=Dimension!$A$7,B47=Dimension!$A$8,B47=Dimension!$A$9),Payment_ID2,\"\")","v":""},null,{"$f":"IFERROR(VLOOKUP(K47,Dimension!$J$3:$K$179,2,FALSE),\"\")","v":""},null,null,{"$f":"IF(OR(B47=Dimension!$A$6,B47=Dimension!$A$7,B47=Dimension!$A$8,B47=Dimension!$A$9),\"\",IF(OR(B47=Dimension!$A$3,B47=Dimension!$A$4,B47=Dimension!$A$5),\"สถานประกอบการ\",\"\"))","v":""},{"$f":"IF(OR(B47=Dimension!$A$6,B47=Dimension!$A$7,B47=Dimension!$A$8,B47=Dimension!$A$9,B47=\"\"),\"\",Payment_ID2)","v":""},"",null,null,{"$f":"IF(D47=Dimension!$C$9,IF(LEFT(UPPER(E47),2)=\"MC\",TRUE,FALSE),TRUE)","v":true}]
[null,null,null,{"$f":"IF(B48=Dimension!$A$8,Dimension!$C$9,IF(B48=Dimension!$A$6,CD,\"\"))","v":""},null,{"$f":"IF(OR(B48=Dimension!$A$3,B48=Dimension!$A$4,B48=Dimension!$A$6,B48=Dimension!$A$8),CCYA,\"\")","v":""},{"$f":"IFERROR(VLOOKUP(F48,Dimension!$G$3:$H$252,2,FALSE),\"\")","v":""},{"$f":"IF(OR(B48=Dimension!$A$3,B48=Dimension!$A$4,B48=Dimension!$A$5),\"เดินทาง/ท่องเที่ยว\",\"\")","v":""},{"$f":"IF(OR(B48=Dimension!$A$6,B48=Dimension!$A$7,B48=Dimension!$A$8,B48=Dimension!$A$9),\"\",IF(OR(B48=Dimension!$A$3,B48=Dimension!$A$4,B48=Dimension!$A$5),\"สถานประกอบการ\",\"\"))","v":""},{"$f":"IF(OR(B48=Dimension!$A$3,B48=Dimension!$A$4,B48=Dimension!$A$5,B48=Dimension!$A$6,,B48=Dimension!$A$7,B48=Dimension!$A$8,B48=Dimension!$A$9),Payment_ID2,\"\")","v":""},null,{"$f":"IFERROR(VLOOKUP(K48,Dimension!$J$3:$K$179,2,FALSE),\"\")","v":""},null,null,{"$f":"IF(OR(B48=Dimension!$A$6,B48=Dimension!$A$7,B48=Dimension!$A$8,B48=Dimension!$A$9),\"\",IF(OR(B48=Dimension!$A$3,B48=Dimension!$A$4,B48=Dimension!$A$5),\"สถานประกอบการ\",\"\"))","v":""},{"$f":"IF(OR(B48=Dimension!$A$6,B48=Dimension!$A$7,B48=Dimension!$A$8,B48=Dimension!$A$9,B48=\"\"),\"\",Payment_ID2)","v":""},"",null,null,{"$f":"IF(D48=Dimension!$C$9,IF(LEFT(UPPER(E48),2)=\"MC\",TRUE,FALSE),TRUE)","v":true}]
[null,null,null,{"$f":"IF(B49=Dimension!$A$8,Dimension!$C$9,IF(B49=Dimension!$A$6,CD,\"\"))","v":""},null,{"$f":"IF(OR(B49=Dimension!$A$3,B49=Dimension!$A$4,B49=Dimension!$A$6,B49=Dimension!$A$8),CCYA,\"\")","v":""},{"$f":"IFERROR(VLOOKUP(F49,Dimension!$G$3:$H$252,2,FALSE),\"\")","v":""},{"$f":"IF(OR(B49=Dimension!$A$3,B49=Dimension!$A$4,B49=Dimension!$A$5),\"เดินทาง/ท่องเที่ยว\",\"\")","v":""},{"$f":"IF(OR(B49=Dimension!$A$6,B49=Dimension!$A$7,B49=Dimension!$A$8,B49=Dimension!$A$9),\"\",IF(OR(B49=Dimension!$A$3,B49=Dimension!$A$4,B49=Dimension!$A$5),\"สถานประกอบการ\",\"\"))","v":""},{"$f":"IF(OR(B49=Dimension!$A$3,B49=Dimension!$A$4,B49=Dimension!$A$5,B49=Dimension!$A$6,,B49=Dimension!$A$7,B49=Dimension!$A$8,B49=Dimension!$A$9),Payment_ID2,\"\")","v":""},null,{"$f":"IFERROR(VLOOKUP(K49,Dimension!$J$3:$K$179,2,FALSE),\"\")","v":""},null,null,{"$f":"IF(OR(B49=Dimension!$A$6,B49=Dimension!$A$7,B49=Dimension!$A$8,B49=Dimension!$A$9),\"\",IF(OR(B49=Dimension!$A$3,B49=Dimension!$A$4,B49=Dimension!$A$5),\"สถานประกอบการ\",\"\"))","v":""},{"$f":"IF(OR(B49=Dimension!$A$6,B49=Dimension!$A$7,B49=Dimension!$A$8,B49=Dimension!$A$9,B49=\"\"),\"\",Payment_ID2)","v":""},"",null,null,{"$f":"IF(D49=Dimension!$C$9,IF(LEFT(UPPER(E49),2)=\"MC\",TRUE,FALSE),TRUE)","v":true}]
[null,null,null,{"$f":"IF(B50=Dimension!$A$8,Dimension!$C$9,IF(B50=Dimension!$A$6,CD,\"\"))","v":""},null,{"$f":"IF(OR(B50=Dimension!$A$3,B50=Dimension!$A$4,B50=Dimension!$A$6,B50=Dimension!$A$8),CCYA,\"\")","v":""},{"$f":"IFERROR(VLOOKUP(F50,Dimension!$G$3:$H$252,2,FALSE),\"\")","v":""},{"$f":"IF(OR(B50=Dimension!$A$3,B50=Dimension!$A$4,B50=Dimension!$A$5),\"เดินทาง/ท่องเที่ยว\",\"\")","v":""},{"$f":"IF(OR(B50=Dimension!$A$6,B50=Dimension!$A$7,B50=Dimension!$A$8,B50=Dimension!$A$9),\"\",IF(OR(B50=Dimension!$A$3,B50=Dimension!$A$4,B50=Dimension!$A$5),\"สถานประกอบการ\",\"\"))","v":""},{"$f":"IF(OR(B50=Dimension!$A$3,B50=Dimension!$A$4,B50=Dimension!$A$5,B50=Dimension!$A$6,,B50=Dimension!$A$7,B50=Dimension!$A$8,B50=Dimension!$A$9),Payment_ID2,\"\")","v":""},null,{"$f":"IFERROR(VLOOKUP(K50,Dimension!$J$3:$K$179,2,FALSE),\"\")","v":""},null,null,{"$f":"IF(OR(B50=Dimension!$A$6,B50=Dimension!$A$7,B50=Dimension!$A$8,B50=Dimension!$A$9),\"\",IF(OR(B50=Dimension!$A$3,B50=Dimension!$A$4,B50=Dimension!$A$5),\"สถานประกอบการ\",\"\"))","v":""},{"$f":"IF(OR(B50=Dimension!$A$6,B50=Dimension!$A$7,B50=Dimension!$A$8,B50=Dimension!$A$9,B50=\"\"),\"\",Payment_ID2)","v":""},"",null,null,{"$f":"IF(D50=Dimension!$C$9,IF(LEFT(UPPER(E50),2)=\"MC\",TRUE,FALSE),TRUE)","v":true}]
[null,null,null,{"$f":"IF(B51=Dimension!$A$8,Dimension!$C$9,IF(B51=Dimension!$A$6,CD,\"\"))","v":""},null,{"$f":"IF(OR(B51=Dimension!$A$3,B51=Dimension!$A$4,B51=Dimension!$A$6,B51=Dimension!$A$8),CCYA,\"\")","v":""},{"$f":"IFERROR(VLOOKUP(F51,Dimension!$G$3:$H$252,2,FALSE),\"\")","v":""},{"$f":"IF(OR(B51=Dimension!$A$3,B51=Dimension!$A$4,B51=Dimension!$A$5),\"เดินทาง/ท่องเที่ยว\",\"\")","v":""},{"$f":"IF(OR(B51=Dimension!$A$6,B51=Dimension!$A$7,B51=Dimension!$A$8,B51=Dimension!$A$9),\"\",IF(OR(B51=Dimension!$A$3,B51=Dimension!$A$4,B51=Dimension!$A$5),\"สถานประกอบการ\",\"\"))","v":""},{"$f":"IF(OR(B51=Dimension!$A$3,B51=Dimension!$A$4,B51=Dimension!$A$5,B51=Dimension!$A$6,,B51=Dimension!$A$7,B51=Dimension!$A$8,B51=Dimension!$A$9),Payment_ID2,\"\")","v":""},null,{"$f":"IFERROR(VLOOKUP(K51,Dimension!$J$3:$K$179,2,FALSE),\"\")","v":""},null,null,{"$f":"IF(OR(B51=Dimension!$A$6,B51=Dimension!$A$7,B51=Dimension!$A$8,B51=Dimension!$A$9),\"\",IF(OR(B51=Dimension!$A$3,B51=Dimension!$A$4,B51=Dimension!$A$5),\"สถานประกอบการ\",\"\"))","v":""},{"$f":"IF(OR(B51=Dimension!$A$6,B51=Dimension!$A$7,B51=Dimension!$A$8,B51=Dimension!$A$9,B51=\"\"),\"\",Payment_ID2)","v":""},"",null,null,{"$f":"IF(D51=Dimension!$C$9,IF(LEFT(UPPER(E51),2)=\"MC\",TRUE,FALSE),TRUE)","v":true}]
[null,null,null,{"$f":"IF(B52=Dimension!$A$8,Dimension!$C$9,IF(B52=Dimension!$A$6,CD,\"\"))","v":""},null,{"$f":"IF(OR(B52=Dimension!$A$3,B52=Dimension!$A$4,B52=Dimension!$A$6,B52=Dimension!$A$8),CCYA,\"\")","v":""},{"$f":"IFERROR(VLOOKUP(F52,Dimension!$G$3:$H$252,2,FALSE),\"\")","v":""},{"$f":"IF(OR(B52=Dimension!$A$3,B52=Dimension!$A$4,B52=Dimension!$A$5),\"เดินทาง/ท่องเที่ยว\",\"\")","v":""},{"$f":"IF(OR(B52=Dimension!$A$6,B52=Dimension!$A$7,B52=Dimension!$A$8,B52=Dimension!$A$9),\"\",IF(OR(B52=Dimension!$A$3,B52=Dimension!$A$4,B52=Dimension!$A$5),\"สถานประกอบการ\",\"\"))","v":""},{"$f":"IF(OR(B52=Dimension!$A$3,B52=Dimension!$A$4,B52=Dimension!$A$5,B52=Dimension!$A$6,,B52=Dimension!$A$7,B52=Dimension!$A$8,B52=Dimension!$A$9),Payment_ID2,\"\")","v":""},null,{"$f":"IFERROR(VLOOKUP(K52,Dimension!$J$3:$K$179,2,FALSE),\"\")","v":""},null,null,{"$f":"IF(OR(B52=Dimension!$A$6,B52=Dimension!$A$7,B52=Dimension!$A$8,B52=Dimension!$A$9),\"\",IF(OR(B52=Dimension!$A$3,B52=Dimension!$A$4,B52=Dimension!$A$5),\"สถานประกอบการ\",\"\"))","v":""},{"$f":"IF(OR(B52=Dimension!$A$6,B52=Dimension!$A$7,B52=Dimension!$A$8,B52=Dimension!$A$9,B52=\"\"),\"\",Payment_ID2)","v":""},"",null,null,{"$f":"IF(D52=Dimension!$C$9,IF(LEFT(UPPER(E52),2)=\"MC\",TRUE,FALSE),TRUE)","v":true}]
[null,null,null,{"$f":"IF(B53=Dimension!$A$8,Dimension!$C$9,IF(B53=Dimension!$A$6,CD,\"\"))","v":""},null,{"$f":"IF(OR(B53=Dimension!$A$3,B53=Dimension!$A$4,B53=Dimension!$A$6,B53=Dimension!$A$8),CCYA,\"\")","v":""},{"$f":"IFERROR(VLOOKUP(F53,Dimension!$G$3:$H$252,2,FALSE),\"\")","v":""},{"$f":"IF(OR(B53=Dimension!$A$3,B53=Dimension!$A$4,B53=Dimension!$A$5),\"เดินทาง/ท่องเที่ยว\",\"\")","v":""},{"$f":"IF(OR(B53=Dimension!$A$6,B53=Dimension!$A$7,B53=Dimension!$A$8,B53=Dimension!$A$9),\"\",IF(OR(B53=Dimension!$A$3,B53=Dimension!$A$4,B53=Dimension!$A$5),\"สถานประกอบการ\",\"\"))","v":""},{"$f":"IF(OR(B53=Dimension!$A$3,B53=Dimension!$A$4,B53=Dimension!$A$5,B53=Dimension!$A$6,,B53=Dimension!$A$7,B53=Dimension!$A$8,B53=Dimension!$A$9),Payment_ID2,\"\")","v":""},null,{"$f":"IFERROR(VLOOKUP(K53,Dimension!$J$3:$K$179,2,FALSE),\"\")","v":""},null,null,{"$f":"IF(OR(B53=Dimension!$A$6,B53=Dimension!$A$7,B53=Dimension!$A$8,B53=Dimension!$A$9),\"\",IF(OR(B53=Dimension!$A$3,B53=Dimension!$A$4,B53=Dimension!$A$5),\"สถานประกอบการ\",\"\"))","v":""},{"$f":"IF(OR(B53=Dimension!$A$6,B53=Dimension!$A$7,B53=Dimension!$A$8,B53=Dimension!$A$9,B53=\"\"),\"\",Payment_ID2)","v":""},"",null,null,{"$f":"IF(D53=Dimension!$C$9,IF(LEFT(UPPER(E53),2)=\"MC\",TRUE,FALSE),TRUE)","v":true}]
[null,null,null,{"$f":"IF(B54=Dimension!$A$8,Dimension!$C$9,IF(B54=Dimension!$A$6,CD,\"\"))","v":""},null,{"$f":"IF(OR(B54=Dimension!$A$3,B54=Dimension!$A$4,B54=Dimension!$A$6,B54=Dimension!$A$8),CCYA,\"\")","v":""},{"$f":"IFERROR(VLOOKUP(F54,Dimension!$G$3:$H$252,2,FALSE),\"\")","v":""},{"$f":"IF(OR(B54=Dimension!$A$3,B54=Dimension!$A$4,B54=Dimension!$A$5),\"เดินทาง/ท่องเที่ยว\",\"\")","v":""},{"$f":"IF(OR(B54=Dimension!$A$6,B54=Dimension!$A$7,B54=Dimension!$A$8,B54=Dimension!$A$9),\"\",IF(OR(B54=Dimension!$A$3,B54=Dimension!$A$4,B54=Dimension!$A$5),\"สถานประกอบการ\",\"\"))","v":""},{"$f":"IF(OR(B54=Dimension!$A$3,B54=Dimension!$A$4,B54=Dimension!$A$5,B54=Dimension!$A$6,,B54=Dimension!$A$7,B54=Dimension!$A$8,B54=Dimension!$A$9),Payment_ID2,\"\")","v":""},null,{"$f":"IFERROR(VLOOKUP(K54,Dimension!$J$3:$K$179,2,FALSE),\"\")","v":""},null,null,{"$f":"IF(OR(B54=Dimension!$A$6,B54=Dimension!$A$7,B54=Dimension!$A$8,B54=Dimension!$A$9),\"\",IF(OR(B54=Dimension!$A$3,B54=Dimension!$A$4,B54=Dimension!$A$5),\"สถานประกอบการ\",\"\"))","v":""},{"$f":"IF(OR(B54=Dimension!$A$6,B54=Dimension!$A$7,B54=Dimension!$A$8,B54=Dimension!$A$9,B54=\"\"),\"\",Payment_ID2)","v":""},"",null,null,{"$f":"IF(D54=Dimension!$C$9,IF(LEFT(UPPER(E54),2)=\"MC\",TRUE,FALSE),TRUE)","v":true}]
[null,null,null,{"$f":"IF(B55=Dimension!$A$8,Dimension!$C$9,IF(B55=Dimension!$A$6,CD,\"\"))","v":""},null,{"$f":"IF(OR(B55=Dimension!$A$3,B55=Dimension!$A$4,B55=Dimension!$A$6,B55=Dimension!$A$8),CCYA,\"\")","v":""},{"$f":"IFERROR(VLOOKUP(F55,Dimension!$G$3:$H$252,2,FALSE),\"\")","v":""},{"$f":"IF(OR(B55=Dimension!$A$3,B55=Dimension!$A$4,B55=Dimension!$A$5),\"เดินทาง/ท่องเที่ยว\",\"\")","v":""},{"$f":"IF(OR(B55=Dimension!$A$6,B55=Dimension!$A$7,B55=Dimension!$A$8,B55=Dimension!$A$9),\"\",IF(OR(B55=Dimension!$A$3,B55=Dimension!$A$4,B55=Dimension!$A$5),\"สถานประกอบการ\",\"\"))","v":""},{"$f":"IF(OR(B55=Dimension!$A$3,B55=Dimension!$A$4,B55=Dimension!$A$5,B55=Dimension!$A$6,,B55=Dimension!$A$7,B55=Dimension!$A$8,B55=Dimension!$A$9),Payment_ID2,\"\")","v":""},null,{"$f":"IFERROR(VLOOKUP(K55,Dimension!$J$3:$K$179,2,FALSE),\"\")","v":""},null,null,{"$f":"IF(OR(B55=Dimension!$A$6,B55=Dimension!$A$7,B55=Dimension!$A$8,B55=Dimension!$A$9),\"\",IF(OR(B55=Dimension!$A$3,B55=Dimension!$A$4,B55=Dimension!$A$5),\"สถานประกอบการ\",\"\"))","v":""},{"$f":"IF(OR(B55=Dimension!$A$6,B55=Dimension!$A$7,B55=Dimension!$A$8,B55=Dimension!$A$9,B55=\"\"),\"\",Payment_ID2)","v":""},"",null,null,{"$f":"IF(D55=Dimension!$C$9,IF(LEFT(UPPER(E55),2)=\"MC\",TRUE,FALSE),TRUE)","v":true}]
[null,null,null,{"$f":"IF(B56=Dimension!$A$8,Dimension!$C$9,IF(B56=Dimension!$A$6,CD,\"\"))","v":""},null,{"$f":"IF(OR(B56=Dimension!$A$3,B56=Dimension!$A$4,B56=Dimension!$A$6,B56=Dimension!$A$8),CCYA,\"\")","v":""},{"$f":"IFERROR(VLOOKUP(F56,Dimension!$G$3:$H$252,2,FALSE),\"\")","v":""},{"$f":"IF(OR(B56=Dimension!$A$3,B56=Dimension!$A$4,B56=Dimension!$A$5),\"เดินทาง/ท่องเที่ยว\",\"\")","v":""},{"$f":"IF(OR(B56=Dimension!$A$6,B56=Dimension!$A$7,B56=Dimension!$A$8,B56=Dimension!$A$9),\"\",IF(OR(B56=Dimension!$A$3,B56=Dimension!$A$4,B56=Dimension!$A$5),\"สถานประกอบการ\",\"\"))","v":""},{"$f":"IF(OR(B56=Dimension!$A$3,B56=Dimension!$A$4,B56=Dimension!$A$5,B56=Dimension!$A$6,,B56=Dimension!$A$7,B56=Dimension!$A$8,B56=Dimension!$A$9),Payment_ID2,\"\")","v":""},null,{"$f":"IFERROR(VLOOKUP(K56,Dimension!$J$3:$K$179,2,FALSE),\"\")","v":""},null,null,{"$f":"IF(OR(B56=Dimension!$A$6,B56=Dimension!$A$7,B56=Dimension!$A$8,B56=Dimension!$A$9),\"\",IF(OR(B56=Dimension!$A$3,B56=Dimension!$A$4,B56=Dimension!$A$5),\"สถานประกอบการ\",\"\"))","v":""},{"$f":"IF(OR(B56=Dimension!$A$6,B56=Dimension!$A$7,B56=Dimension!$A$8,B56=Dimension!$A$9,B56=\"\"),\"\",Payment_ID2)","v":""},"",null,null,{"$f":"IF(D56=Dimension!$C$9,IF(LEFT(UPPER(E56),2)=\"MC\",TRUE,FALSE),TRUE)","v":true}]
[null,null,null,{"$f":"IF(B57=Dimension!$A$8,Dimension!$C$9,IF(B57=Dimension!$A$6,CD,\"\"))","v":""},null,{"$f":"IF(OR(B57=Dimension!$A$3,B57=Dimension!$A$4,B57=Dimension!$A$6,B57=Dimension!$A$8),CCYA,\"\")","v":""},{"$f":"IFERROR(VLOOKUP(F57,Dimension!$G$3:$H$252,2,FALSE),\"\")","v":""},{"$f":"IF(OR(B57=Dimension!$A$3,B57=Dimension!$A$4,B57=Dimension!$A$5),\"เดินทาง/ท่องเที่ยว\",\"\")","v":""},{"$f":"IF(OR(B57=Dimension!$A$6,B57=Dimension!$A$7,B57=Dimension!$A$8,B57=Dimension!$A$9),\"\",IF(OR(B57=Dimension!$A$3,B57=Dimension!$A$4,B57=Dimension!$A$5),\"สถานประกอบการ\",\"\"))","v":""},{"$f":"IF(OR(B57=Dimension!$A$3,B57=Dimension!$A$4,B57=Dimension!$A$5,B57=Dimension!$A$6,,B57=Dimension!$A$7,B57=Dimension!$A$8,B57=Dimension!$A$9),Payment_ID2,\"\")","v":""},null,{"$f":"IFERROR(VLOOKUP(K57,Dimension!$J$3:$K$179,2,FALSE),\"\")","v":""},null,null,{"$f":"IF(OR(B57=Dimension!$A$6,B57=Dimension!$A$7,B57=Dimension!$A$8,B57=Dimension!$A$9),\"\",IF(OR(B57=Dimension!$A$3,B57=Dimension!$A$4,B57=Dimension!$A$5),\"สถานประกอบการ\",\"\"))","v":""},{"$f":"IF(OR(B57=Dimension!$A$6,B57=Dimension!$A$7,B57=Dimension!$A$8,B57=Dimension!$A$9,B57=\"\"),\"\",Payment_ID2)","v":""},"",null,null,{"$f":"IF(D57=Dimension!$C$9,IF(LEFT(UPPER(E57),2)=\"MC\",TRUE,FALSE),TRUE)","v":true}]
[null,null,null,{"$f":"IF(B58=Dimension!$A$8,Dimension!$C$9,IF(B58=Dimension!$A$6,CD,\"\"))","v":""},null,{"$f":"IF(OR(B58=Dimension!$A$3,B58=Dimension!$A$4,B58=Dimension!$A$6,B58=Dimension!$A$8),CCYA,\"\")","v":""},{"$f":"IFERROR(VLOOKUP(F58,Dimension!$G$3:$H$252,2,FALSE),\"\")","v":""},{"$f":"IF(OR(B58=Dimension!$A$3,B58=Dimension!$A$4,B58=Dimension!$A$5),\"เดินทาง/ท่องเที่ยว\",\"\")","v":""},{"$f":"IF(OR(B58=Dimension!$A$6,B58=Dimension!$A$7,B58=Dimension!$A$8,B58=Dimension!$A$9),\"\",IF(OR(B58=Dimension!$A$3,B58=Dimension!$A$4,B58=Dimension!$A$5),\"สถานประกอบการ\",\"\"))","v":""},{"$f":"IF(OR(B58=Dimension!$A$3,B58=Dimension!$A$4,B58=Dimension!$A$5,B58=Dimension!$A$6,,B58=Dimension!$A$7,B58=Dimension!$A$8,B58=Dimension!$A$9),Payment_ID2,\"\")","v":""},null,{"$f":"IFERROR(VLOOKUP(K58,Dimension!$J$3:$K$179,2,FALSE),\"\")","v":""},null,null,{"$f":"IF(OR(B58=Dimension!$A$6,B58=Dimension!$A$7,B58=Dimension!$A$8,B58=Dimension!$A$9),\"\",IF(OR(B58=Dimension!$A$3,B58=Dimension!$A$4,B58=Dimension!$A$5),\"สถานประกอบการ\",\"\"))","v":""},{"$f":"IF(OR(B58=Dimension!$A$6,B58=Dimension!$A$7,B58=Dimension!$A$8,B58=Dimension!$A$9,B58=\"\"),\"\",Payment_ID2)","v":""},"",null,null,{"$f":"IF(D58=Dimension!$C$9,IF(LEFT(UPPER(E58),2)=\"MC\",TRUE,FALSE),TRUE)","v":true}]
[null,null,null,{"$f":"IF(B59=Dimension!$A$8,Dimension!$C$9,IF(B59=Dimension!$A$6,CD,\"\"))","v":""},null,{"$f":"IF(OR(B59=Dimension!$A$3,B59=Dimension!$A$4,B59=Dimension!$A$6,B59=Dimension!$A$8),CCYA,\"\")","v":""},{"$f":"IFERROR(VLOOKUP(F59,Dimension!$G$3:$H$252,2,FALSE),\"\")","v":""},{"$f":"IF(OR(B59=Dimension!$A$3,B59=Dimension!$A$4,B59=Dimension!$A$5),\"เดินทาง/ท่องเที่ยว\",\"\")","v":""},{"$f":"IF(OR(B59=Dimension!$A$6,B59=Dimension!$A$7,B59=Dimension!$A$8,B59=Dimension!$A$9),\"\",IF(OR(B59=Dimension!$A$3,B59=Dimension!$A$4,B59=Dimension!$A$5),\"สถานประกอบการ\",\"\"))","v":""},{"$f":"IF(OR(B59=Dimension!$A$3,B59=Dimension!$A$4,B59=Dimension!$A$5,B59=Dimension!$A$6,,B59=Dimension!$A$7,B59=Dimension!$A$8,B59=Dimension!$A$9),Payment_ID2,\"\")","v":""},null,{"$f":"IFERROR(VLOOKUP(K59,Dimension!$J$3:$K$179,2,FALSE),\"\")","v":""},null,null,{"$f":"IF(OR(B59=Dimension!$A$6,B59=Dimension!$A$7,B59=Dimension!$A$8,B59=Dimension!$A$9),\"\",IF(OR(B59=Dimension!$A$3,B59=Dimension!$A$4,B59=Dimension!$A$5),\"สถานประกอบการ\",\"\"))","v":""},{"$f":"IF(OR(B59=Dimension!$A$6,B59=Dimension!$A$7,B59=Dimension!$A$8,B59=Dimension!$A$9,B59=\"\"),\"\",Payment_ID2)","v":""},"",null,null,{"$f":"IF(D59=Dimension!$C$9,IF(LEFT(UPPER(E59),2)=\"MC\",TRUE,FALSE),TRUE)","v":true}]
[null,null,null,{"$f":"IF(B60=Dimension!$A$8,Dimension!$C$9,IF(B60=Dimension!$A$6,CD,\"\"))","v":""},null,{"$f":"IF(OR(B60=Dimension!$A$3,B60=Dimension!$A$4,B60=Dimension!$A$6,B60=Dimension!$A$8),CCYA,\"\")","v":""},{"$f":"IFERROR(VLOOKUP(F60,Dimension!$G$3:$H$252,2,FALSE),\"\")","v":""},{"$f":"IF(OR(B60=Dimension!$A$3,B60=Dimension!$A$4,B60=Dimension!$A$5),\"เดินทาง/ท่องเที่ยว\",\"\")","v":""},{"$f":"IF(OR(B60=Dimension!$A$6,B60=Dimension!$A$7,B60=Dimension!$A$8,B60=Dimension!$A$9),\"\",IF(OR(B60=Dimension!$A$3,B60=Dimension!$A$4,B60=Dimension!$A$5),\"สถานประกอบการ\",\"\"))","v":""},{"$f":"IF(OR(B60=Dimension!$A$3,B60=Dimension!$A$4,B60=Dimension!$A$5,B60=Dimension!$A$6,,B60=Dimension!$A$7,B60=Dimension!$A$8,B60=Dimension!$A$9),Payment_ID2,\"\")","v":""},null,{"$f":"IFERROR(VLOOKUP(K60,Dimension!$J$3:$K$179,2,FALSE),\"\")","v":""},null,null,{"$f":"IF(OR(B60=Dimension!$A$6,B60=Dimension!$A$7,B60=Dimension!$A$8,B60=Dimension!$A$9),\"\",IF(OR(B60=Dimension!$A$3,B60=Dimension!$A$4,B60=Dimension!$A$5),\"สถานประกอบการ\",\"\"))","v":""},{"$f":"IF(OR(B60=Dimension!$A$6,B60=Dimension!$A$7,B60=Dimension!$A$8,B60=Dimension!$A$9,B60=\"\"),\"\",Payment_ID2)","v":""},"",null,null,{"$f":"IF(D60=Dimension!$C$9,IF(LEFT(UPPER(E60),2)=\"MC\",TRUE,FALSE),TRUE)","v":true}]
[null,null,null,{"$f":"IF(B61=Dimension!$A$8,Dimension!$C$9,IF(B61=Dimension!$A$6,CD,\"\"))","v":""},null,{"$f":"IF(OR(B61=Dimension!$A$3,B61=Dimension!$A$4,B61=Dimension!$A$6,B61=Dimension!$A$8),CCYA,\"\")","v":""},{"$f":"IFERROR(VLOOKUP(F61,Dimension!$G$3:$H$252,2,FALSE),\"\")","v":""},{"$f":"IF(OR(B61=Dimension!$A$3,B61=Dimension!$A$4,B61=Dimension!$A$5),\"เดินทาง/ท่องเที่ยว\",\"\")","v":""},{"$f":"IF(OR(B61=Dimension!$A$6,B61=Dimension!$A$7,B61=Dimension!$A$8,B61=Dimension!$A$9),\"\",IF(OR(B61=Dimension!$A$3,B61=Dimension!$A$4,B61=Dimension!$A$5),\"สถานประกอบการ\",\"\"))","v":""},{"$f":"IF(OR(B61=Dimension!$A$3,B61=Dimension!$A$4,B61=Dimension!$A$5,B61=Dimension!$A$6,,B61=Dimension!$A$7,B61=Dimension!$A$8,B61=Dimension!$A$9),Payment_ID2,\"\")","v":""},null,{"$f":"IFERROR(VLOOKUP(K61,Dimension!$J$3:$K$179,2,FALSE),\"\")","v":""},null,null,{"$f":"IF(OR(B61=Dimension!$A$6,B61=Dimension!$A$7,B61=Dimension!$A$8,B61=Dimension!$A$9),\"\",IF(OR(B61=Dimension!$A$3,B61=Dimension!$A$4,B61=Dimension!$A$5),\"สถานประกอบการ\",\"\"))","v":""},{"$f":"IF(OR(B61=Dimension!$A$6,B61=Dimension!$A$7,B61=Dimension!$A$8,B61=Dimension!$A$9,B61=\"\"),\"\",Payment_ID2)","v":""},"",null,null,{"$f":"IF(D61=Dimension!$C$9,IF(LEFT(UPPER(E61),2)=\"MC\",TRUE,FALSE),TRUE)","v":true}]
[null,null,null,{"$f":"IF(B62=Dimension!$A$8,Dimension!$C$9,IF(B62=Dimension!$A$6,CD,\"\"))","v":""},null,{"$f":"IF(OR(B62=Dimension!$A$3,B62=Dimension!$A$4,B62=Dimension!$A$6,B62=Dimension!$A$8),CCYA,\"\")","v":""},{"$f":"IFERROR(VLOOKUP(F62,Dimension!$G$3:$H$252,2,FALSE),\"\")","v":""},{"$f":"IF(OR(B62=Dimension!$A$3,B62=Dimension!$A$4,B62=Dimension!$A$5),\"เดินทาง/ท่องเที่ยว\",\"\")","v":""},{"$f":"IF(OR(B62=Dimension!$A$6,B62=Dimension!$A$7,B62=Dimension!$A$8,B62=Dimension!$A$9),\"\",IF(OR(B62=Dimension!$A$3,B62=Dimension!$A$4,B62=Dimension!$A$5),\"สถานประกอบการ\",\"\"))","v":""},{"$f":"IF(OR(B62=Dimension!$A$3,B62=Dimension!$A$4,B62=Dimension!$A$5,B62=Dimension!$A$6,,B62=Dimension!$A$7,B62=Dimension!$A$8,B62=Dimension!$A$9),Payment_ID2,\"\")","v":""},null,{"$f":"IFERROR(VLOOKUP(K62,Dimension!$J$3:$K$179,2,FALSE),\"\")","v":""},null,null,{"$f":"IF(OR(B62=Dimension!$A$6,B62=Dimension!$A$7,B62=Dimension!$A$8,B62=Dimension!$A$9),\"\",IF(OR(B62=Dimension!$A$3,B62=Dimension!$A$4,B62=Dimension!$A$5),\"สถานประกอบการ\",\"\"))","v":""},{"$f":"IF(OR(B62=Dimension!$A$6,B62=Dimension!$A$7,B62=Dimension!$A$8,B62=Dimension!$A$9,B62=\"\"),\"\",Payment_ID2)","v":""},"",null,null,{"$f":"IF(D62=Dimension!$C$9,IF(LEFT(UPPER(E62),2)=\"MC\",TRUE,FALSE),TRUE)","v":true}]
[null,null,null,{"$f":"IF(B63=Dimension!$A$8,Dimension!$C$9,IF(B63=Dimension!$A$6,CD,\"\"))","v":""},null,{"$f":"IF(OR(B63=Dimension!$A$3,B63=Dimension!$A$4,B63=Dimension!$A$6,B63=Dimension!$A$8),CCYA,\"\")","v":""},{"$f":"IFERROR(VLOOKUP(F63,Dimension!$G$3:$H$252,2,FALSE),\"\")","v":""},{"$f":"IF(OR(B63=Dimension!$A$3,B63=Dimension!$A$4,B63=Dimension!$A$5),\"เดินทาง/ท่องเที่ยว\",\"\")","v":""},{"$f":"IF(OR(B63=Dimension!$A$6,B63=Dimension!$A$7,B63=Dimension!$A$8,B63=Dimension!$A$9),\"\",IF(OR(B63=Dimension!$A$3,B63=Dimension!$A$4,B63=Dimension!$A$5),\"สถานประกอบการ\",\"\"))","v":""},{"$f":"IF(OR(B63=Dimension!$A$3,B63=Dimension!$A$4,B63=Dimension!$A$5,B63=Dimension!$A$6,,B63=Dimension!$A$7,B63=Dimension!$A$8,B63=Dimension!$A$9),Payment_ID2,\"\")","v":""},null,{"$f":"IFERROR(VLOOKUP(K63,Dimension!$J$3:$K$179,2,FALSE),\"\")","v":""},null,null,{"$f":"IF(OR(B63=Dimension!$A$6,B63=Dimension!$A$7,B63=Dimension!$A$8,B63=Dimension!$A$9),\"\",IF(OR(B63=Dimension!$A$3,B63=Dimension!$A$4,B63=Dimension!$A$5),\"สถานประกอบการ\",\"\"))","v":""},{"$f":"IF(OR(B63=Dimension!$A$6,B63=Dimension!$A$7,B63=Dimension!$A$8,B63=Dimension!$A$9,B63=\"\"),\"\",Payment_ID2)","v":""},"",null,null,{"$f":"IF(D63=Dimension!$C$9,IF(LEFT(UPPER(E63),2)=\"MC\",TRUE,FALSE),TRUE)","v":true}]
[null,null,null,{"$f":"IF(B64=Dimension!$A$8,Dimension!$C$9,IF(B64=Dimension!$A$6,CD,\"\"))","v":""},null,{"$f":"IF(OR(B64=Dimension!$A$3,B64=Dimension!$A$4,B64=Dimension!$A$6,B64=Dimension!$A$8),CCYA,\"\")","v":""},{"$f":"IFERROR(VLOOKUP(F64,Dimension!$G$3:$H$252,2,FALSE),\"\")","v":""},{"$f":"IF(OR(B64=Dimension!$A$3,B64=Dimension!$A$4,B64=Dimension!$A$5),\"เดินทาง/ท่องเที่ยว\",\"\")","v":""},{"$f":"IF(OR(B64=Dimension!$A$6,B64=Dimension!$A$7,B64=Dimension!$A$8,B64=Dimension!$A$9),\"\",IF(OR(B64=Dimension!$A$3,B64=Dimension!$A$4,B64=Dimension!$A$5),\"สถานประกอบการ\",\"\"))","v":""},{"$f":"IF(OR(B64=Dimension!$A$3,B64=Dimension!$A$4,B64=Dimension!$A$5,B64=Dimension!$A$6,,B64=Dimension!$A$7,B64=Dimension!$A$8,B64=Dimension!$A$9),Payment_ID2,\"\")","v":""},null,{"$f":"IFERROR(VLOOKUP(K64,Dimension!$J$3:$K$179,2,FALSE),\"\")","v":""},null,null,{"$f":"IF(OR(B64=Dimension!$A$6,B64=Dimension!$A$7,B64=Dimension!$A$8,B64=Dimension!$A$9),\"\",IF(OR(B64=Dimension!$A$3,B64=Dimension!$A$4,B64=Dimension!$A$5),\"สถานประกอบการ\",\"\"))","v":""},{"$f":"IF(OR(B64=Dimension!$A$6,B64=Dimension!$A$7,B64=Dimension!$A$8,B64=Dimension!$A$9,B64=\"\"),\"\",Payment_ID2)","v":""},"",null,null,{"$f":"IF(D64=Dimension!$C$9,IF(LEFT(UPPER(E64),2)=\"MC\",TRUE,FALSE),TRUE)","v":true}]
[null,null,null,{"$f":"IF(B65=Dimension!$A$8,Dimension!$C$9,IF(B65=Dimension!$A$6,CD,\"\"))","v":""},null,{"$f":"IF(OR(B65=Dimension!$A$3,B65=Dimension!$A$4,B65=Dimension!$A$6,B65=Dimension!$A$8),CCYA,\"\")","v":""},{"$f":"IFERROR(VLOOKUP(F65,Dimension!$G$3:$H$252,2,FALSE),\"\")","v":""},{"$f":"IF(OR(B65=Dimension!$A$3,B65=Dimension!$A$4,B65=Dimension!$A$5),\"เดินทาง/ท่องเที่ยว\",\"\")","v":""},{"$f":"IF(OR(B65=Dimension!$A$6,B65=Dimension!$A$7,B65=Dimension!$A$8,B65=Dimension!$A$9),\"\",IF(OR(B65=Dimension!$A$3,B65=Dimension!$A$4,B65=Dimension!$A$5),\"สถานประกอบการ\",\"\"))","v":""},{"$f":"IF(OR(B65=Dimension!$A$3,B65=Dimension!$A$4,B65=Dimension!$A$5,B65=Dimension!$A$6,,B65=Dimension!$A$7,B65=Dimension!$A$8,B65=Dimension!$A$9),Payment_ID2,\"\")","v":""},null,{"$f":"IFERROR(VLOOKUP(K65,Dimension!$J$3:$K$179,2,FALSE),\"\")","v":""},null,null,{"$f":"IF(OR(B65=Dimension!$A$6,B65=Dimension!$A$7,B65=Dimension!$A$8,B65=Dimension!$A$9),\"\",IF(OR(B65=Dimension!$A$3,B65=Dimension!$A$4,B65=Dimension!$A$5),\"สถานประกอบการ\",\"\"))","v":""},{"$f":"IF(OR(B65=Dimension!$A$6,B65=Dimension!$A$7,B65=Dimension!$A$8,B65=Dimension!$A$9,B65=\"\"),\"\",Payment_ID2)","v":""},"",null,null,{"$f":"IF(D65=Dimension!$C$9,IF(LEFT(UPPER(E65),2)=\"MC\",TRUE,FALSE),TRUE)","v":true}]
[null,null,null,{"$f":"IF(B66=Dimension!$A$8,Dimension!$C$9,IF(B66=Dimension!$A$6,CD,\"\"))","v":""},null,{"$f":"IF(OR(B66=Dimension!$A$3,B66=Dimension!$A$4,B66=Dimension!$A$6,B66=Dimension!$A$8),CCYA,\"\")","v":""},{"$f":"IFERROR(VLOOKUP(F66,Dimension!$G$3:$H$252,2,FALSE),\"\")","v":""},{"$f":"IF(OR(B66=Dimension!$A$3,B66=Dimension!$A$4,B66=Dimension!$A$5),\"เดินทาง/ท่องเที่ยว\",\"\")","v":""},{"$f":"IF(OR(B66=Dimension!$A$6,B66=Dimension!$A$7,B66=Dimension!$A$8,B66=Dimension!$A$9),\"\",IF(OR(B66=Dimension!$A$3,B66=Dimension!$A$4,B66=Dimension!$A$5),\"สถานประกอบการ\",\"\"))","v":""},{"$f":"IF(OR(B66=Dimension!$A$3,B66=Dimension!$A$4,B66=Dimension!$A$5,B66=Dimension!$A$6,,B66=Dimension!$A$7,B66=Dimension!$A$8,B66=Dimension!$A$9),Payment_ID2,\"\")","v":""},null,{"$f":"IFERROR(VLOOKUP(K66,Dimension!$J$3:$K$179,2,FALSE),\"\")","v":""},null,null,{"$f":"IF(OR(B66=Dimension!$A$6,B66=Dimension!$A$7,B66=Dimension!$A$8,B66=Dimension!$A$9),\"\",IF(OR(B66=Dimension!$A$3,B66=Dimension!$A$4,B66=Dimension!$A$5),\"สถานประกอบการ\",\"\"))","v":""},{"$f":"IF(OR(B66=Dimension!$A$6,B66=Dimension!$A$7,B66=Dimension!$A$8,B66=Dimension!$A$9,B66=\"\"),\"\",Payment_ID2)","v":""},"",null,null,{"$f":"IF(D66=Dimension!$C$9,IF(LEFT(UPPER(E66),2)=\"MC\",TRUE,FALSE),TRUE)","v":true}]
[null,null,null,{"$f":"IF(B67=Dimension!$A$8,Dimension!$C$9,IF(B67=Dimension!$A$6,CD,\"\"))","v":""},null,{"$f":"IF(OR(B67=Dimension!$A$3,B67=Dimension!$A$4,B67=Dimension!$A$6,B67=Dimension!$A$8),CCYA,\"\")","v":""},{"$f":"IFERROR(VLOOKUP(F67,Dimension!$G$3:$H$252,2,FALSE),\"\")","v":""},{"$f":"IF(OR(B67=Dimension!$A$3,B67=Dimension!$A$4,B67=Dimension!$A$5),\"เดินทาง/ท่องเที่ยว\",\"\")","v":""},{"$f":"IF(OR(B67=Dimension!$A$6,B67=Dimension!$A$7,B67=Dimension!$A$8,B67=Dimension!$A$9),\"\",IF(OR(B67=Dimension!$A$3,B67=Dimension!$A$4,B67=Dimension!$A$5),\"สถานประกอบการ\",\"\"))","v":""},{"$f":"IF(OR(B67=Dimension!$A$3,B67=Dimension!$A$4,B67=Dimension!$A$5,B67=Dimension!$A$6,,B67=Dimension!$A$7,B67=Dimension!$A$8,B67=Dimension!$A$9),Payment_ID2,\"\")","v":""},null,{"$f":"IFERROR(VLOOKUP(K67,Dimension!$J$3:$K$179,2,FALSE),\"\")","v":""},null,null,{"$f":"IF(OR(B67=Dimension!$A$6,B67=Dimension!$A$7,B67=Dimension!$A$8,B67=Dimension!$A$9),\"\",IF(OR(B67=Dimension!$A$3,B67=Dimension!$A$4,B67=Dimension!$A$5),\"สถานประกอบการ\",\"\"))","v":""},{"$f":"IF(OR(B67=Dimension!$A$6,B67=Dimension!$A$7,B67=Dimension!$A$8,B67=Dimension!$A$9,B67=\"\"),\"\",Payment_ID2)","v":""},"",null,null,{"$f":"IF(D67=Dimension!$C$9,IF(LEFT(UPPER(E67),2)=\"MC\",TRUE,FALSE),TRUE)","v":true}]
[null,null,null,{"$f":"IF(B68=Dimension!$A$8,Dimension!$C$9,IF(B68=Dimension!$A$6,CD,\"\"))","v":""},null,{"$f":"IF(OR(B68=Dimension!$A$3,B68=Dimension!$A$4,B68=Dimension!$A$6,B68=Dimension!$A$8),CCYA,\"\")","v":""},{"$f":"IFERROR(VLOOKUP(F68,Dimension!$G$3:$H$252,2,FALSE),\"\")","v":""},{"$f":"IF(OR(B68=Dimension!$A$3,B68=Dimension!$A$4,B68=Dimension!$A$5),\"เดินทาง/ท่องเที่ยว\",\"\")","v":""},{"$f":"IF(OR(B68=Dimension!$A$6,B68=Dimension!$A$7,B68=Dimension!$A$8,B68=Dimension!$A$9),\"\",IF(OR(B68=Dimension!$A$3,B68=Dimension!$A$4,B68=Dimension!$A$5),\"สถานประกอบการ\",\"\"))","v":""},{"$f":"IF(OR(B68=Dimension!$A$3,B68=Dimension!$A$4,B68=Dimension!$A$5,B68=Dimension!$A$6,,B68=Dimension!$A$7,B68=Dimension!$A$8,B68=Dimension!$A$9),Payment_ID2,\"\")","v":""},null,{"$f":"IFERROR(VLOOKUP(K68,Dimension!$J$3:$K$179,2,FALSE),\"\")","v":""},null,null,{"$f":"IF(OR(B68=Dimension!$A$6,B68=Dimension!$A$7,B68=Dimension!$A$8,B68=Dimension!$A$9),\"\",IF(OR(B68=Dimension!$A$3,B68=Dimension!$A$4,B68=Dimension!$A$5),\"สถานประกอบการ\",\"\"))","v":""},{"$f":"IF(OR(B68=Dimension!$A$6,B68=Dimension!$A$7,B68=Dimension!$A$8,B68=Dimension!$A$9,B68=\"\"),\"\",Payment_ID2)","v":""},"",null,null,{"$f":"IF(D68=Dimension!$C$9,IF(LEFT(UPPER(E68),2)=\"MC\",TRUE,FALSE),TRUE)","v":true}]
[null,null,null,{"$f":"IF(B69=Dimension!$A$8,Dimension!$C$9,IF(B69=Dimension!$A$6,CD,\"\"))","v":""},null,{"$f":"IF(OR(B69=Dimension!$A$3,B69=Dimension!$A$4,B69=Dimension!$A$6,B69=Dimension!$A$8),CCYA,\"\")","v":""},{"$f":"IFERROR(VLOOKUP(F69,Dimension!$G$3:$H$252,2,FALSE),\"\")","v":""},{"$f":"IF(OR(B69=Dimension!$A$3,B69=Dimension!$A$4,B69=Dimension!$A$5),\"เดินทาง/ท่องเที่ยว\",\"\")","v":""},{"$f":"IF(OR(B69=Dimension!$A$6,B69=Dimension!$A$7,B69=Dimension!$A$8,B69=Dimension!$A$9),\"\",IF(OR(B69=Dimension!$A$3,B69=Dimension!$A$4,B69=Dimension!$A$5),\"สถานประกอบการ\",\"\"))","v":""},{"$f":"IF(OR(B69=Dimension!$A$3,B69=Dimension!$A$4,B69=Dimension!$A$5,B69=Dimension!$A$6,,B69=Dimension!$A$7,B69=Dimension!$A$8,B69=Dimension!$A$9),Payment_ID2,\"\")","v":""},null,{"$f":"IFERROR(VLOOKUP(K69,Dimension!$J$3:$K$179,2,FALSE),\"\")","v":""},null,null,{"$f":"IF(OR(B69=Dimension!$A$6,B69=Dimension!$A$7,B69=Dimension!$A$8,B69=Dimension!$A$9),\"\",IF(OR(B69=Dimension!$A$3,B69=Dimension!$A$4,B69=Dimension!$A$5),\"สถานประกอบการ\",\"\"))","v":""},{"$f":"IF(OR(B69=Dimension!$A$6,B69=Dimension!$A$7,B69=Dimension!$A$8,B69=Dimension!$A$9,B69=\"\"),\"\",Payment_ID2)","v":""},"",null,null,{"$f":"IF(D69=Dimension!$C$9,IF(LEFT(UPPER(E69),2)=\"MC\",TRUE,FALSE),TRUE)","v":true}]
[null,null,null,{"$f":"IF(B70=Dimension!$A$8,Dimension!$C$9,IF(B70=Dimension!$A$6,CD,\"\"))","v":""},null,{"$f":"IF(OR(B70=Dimension!$A$3,B70=Dimension!$A$4,B70=Dimension!$A$6,B70=Dimension!$A$8),CCYA,\"\")","v":""},{"$f":"IFERROR(VLOOKUP(F70,Dimension!$G$3:$H$252,2,FALSE),\"\")","v":""},{"$f":"IF(OR(B70=Dimension!$A$3,B70=Dimension!$A$4,B70=Dimension!$A$5),\"เดินทาง/ท่องเที่ยว\",\"\")","v":""},{"$f":"IF(OR(B70=Dimension!$A$6,B70=Dimension!$A$7,B70=Dimension!$A$8,B70=Dimension!$A$9),\"\",IF(OR(B70=Dimension!$A$3,B70=Dimension!$A$4,B70=Dimension!$A$5),\"สถานประกอบการ\",\"\"))","v":""},{"$f":"IF(OR(B70=Dimension!$A$3,B70=Dimension!$A$4,B70=Dimension!$A$5,B70=Dimension!$A$6,,B70=Dimension!$A$7,B70=Dimension!$A$8,B70=Dimension!$A$9),Payment_ID2,\"\")","v":""},null,{"$f":"IFERROR(VLOOKUP(K70,Dimension!$J$3:$K$179,2,FALSE),\"\")","v":""},null,null,{"$f":"IF(OR(B70=Dimension!$A$6,B70=Dimension!$A$7,B70=Dimension!$A$8,B70=Dimension!$A$9),\"\",IF(OR(B70=Dimension!$A$3,B70=Dimension!$A$4,B70=Dimension!$A$5),\"สถานประกอบการ\",\"\"))","v":""},{"$f":"IF(OR(B70=Dimension!$A$6,B70=Dimension!$A$7,B70=Dimension!$A$8,B70=Dimension!$A$9,B70=\"\"),\"\",Payment_ID2)","v":""},"",null,null,{"$f":"IF(D70=Dimension!$C$9,IF(LEFT(UPPER(E70),2)=\"MC\",TRUE,FALSE),TRUE)","v":true}]
[null,null,null,{"$f":"IF(B71=Dimension!$A$8,Dimension!$C$9,IF(B71=Dimension!$A$6,CD,\"\"))","v":""},null,{"$f":"IF(OR(B71=Dimension!$A$3,B71=Dimension!$A$4,B71=Dimension!$A$6,B71=Dimension!$A$8),CCYA,\"\")","v":""},{"$f":"IFERROR(VLOOKUP(F71,Dimension!$G$3:$H$252,2,FALSE),\"\")","v":""},{"$f":"IF(OR(B71=Dimension!$A$3,B71=Dimension!$A$4,B71=Dimension!$A$5),\"เดินทาง/ท่องเที่ยว\",\"\")","v":""},{"$f":"IF(OR(B71=Dimension!$A$6,B71=Dimension!$A$7,B71=Dimension!$A$8,B71=Dimension!$A$9),\"\",IF(OR(B71=Dimension!$A$3,B71=Dimension!$A$4,B71=Dimension!$A$5),\"สถานประกอบการ\",\"\"))","v":""},{"$f":"IF(OR(B71=Dimension!$A$3,B71=Dimension!$A$4,B71=Dimension!$A$5,B71=Dimension!$A$6,,B71=Dimension!$A$7,B71=Dimension!$A$8,B71=Dimension!$A$9),Payment_ID2,\"\")","v":""},null,{"$f":"IFERROR(VLOOKUP(K71,Dimension!$J$3:$K$179,2,FALSE),\"\")","v":""},null,null,{"$f":"IF(OR(B71=Dimension!$A$6,B71=Dimension!$A$7,B71=Dimension!$A$8,B71=Dimension!$A$9),\"\",IF(OR(B71=Dimension!$A$3,B71=Dimension!$A$4,B71=Dimension!$A$5),\"สถานประกอบการ\",\"\"))","v":""},{"$f":"IF(OR(B71=Dimension!$A$6,B71=Dimension!$A$7,B71=Dimension!$A$8,B71=Dimension!$A$9,B71=\"\"),\"\",Payment_ID2)","v":""},"",null,null,{"$f":"IF(D71=Dimension!$C$9,IF(LEFT(UPPER(E71),2)=\"MC\",TRUE,FALSE),TRUE)","v":true}]
[null,null,null,{"$f":"IF(B72=Dimension!$A$8,Dimension!$C$9,IF(B72=Dimension!$A$6,CD,\"\"))","v":""},null,{"$f":"IF(OR(B72=Dimension!$A$3,B72=Dimension!$A$4,B72=Dimension!$A$6,B72=Dimension!$A$8),CCYA,\"\")","v":""},{"$f":"IFERROR(VLOOKUP(F72,Dimension!$G$3:$H$252,2,FALSE),\"\")","v":""},{"$f":"IF(OR(B72=Dimension!$A$3,B72=Dimension!$A$4,B72=Dimension!$A$5),\"เดินทาง/ท่องเที่ยว\",\"\")","v":""},{"$f":"IF(OR(B72=Dimension!$A$6,B72=Dimension!$A$7,B72=Dimension!$A$8,B72=Dimension!$A$9),\"\",IF(OR(B72=Dimension!$A$3,B72=Dimension!$A$4,B72=Dimension!$A$5),\"สถานประกอบการ\",\"\"))","v":""},{"$f":"IF(OR(B72=Dimension!$A$3,B72=Dimension!$A$4,B72=Dimension!$A$5,B72=Dimension!$A$6,,B72=Dimension!$A$7,B72=Dimension!$A$8,B72=Dimension!$A$9),Payment_ID2,\"\")","v":""},null,{"$f":"IFERROR(VLOOKUP(K72,Dimension!$J$3:$K$179,2,FALSE),\"\")","v":""},null,null,{"$f":"IF(OR(B72=Dimension!$A$6,B72=Dimension!$A$7,B72=Dimension!$A$8,B72=Dimension!$A$9),\"\",IF(OR(B72=Dimension!$A$3,B72=Dimension!$A$4,B72=Dimension!$A$5),\"สถานประกอบการ\",\"\"))","v":""},{"$f":"IF(OR(B72=Dimension!$A$6,B72=Dimension!$A$7,B72=Dimension!$A$8,B72=Dimension!$A$9,B72=\"\"),\"\",Payment_ID2)","v":""},"",null,null,{"$f":"IF(D72=Dimension!$C$9,IF(LEFT(UPPER(E72),2)=\"MC\",TRUE,FALSE),TRUE)","v":true}]
[null,null,null,{"$f":"IF(B73=Dimension!$A$8,Dimension!$C$9,IF(B73=Dimension!$A$6,CD,\"\"))","v":""},null,{"$f":"IF(OR(B73=Dimension!$A$3,B73=Dimension!$A$4,B73=Dimension!$A$6,B73=Dimension!$A$8),CCYA,\"\")","v":""},{"$f":"IFERROR(VLOOKUP(F73,Dimension!$G$3:$H$252,2,FALSE),\"\")","v":""},{"$f":"IF(OR(B73=Dimension!$A$3,B73=Dimension!$A$4,B73=Dimension!$A$5),\"เดินทาง/ท่องเที่ยว\",\"\")","v":""},{"$f":"IF(OR(B73=Dimension!$A$6,B73=Dimension!$A$7,B73=Dimension!$A$8,B73=Dimension!$A$9),\"\",IF(OR(B73=Dimension!$A$3,B73=Dimension!$A$4,B73=Dimension!$A$5),\"สถานประกอบการ\",\"\"))","v":""},{"$f":"IF(OR(B73=Dimension!$A$3,B73=Dimension!$A$4,B73=Dimension!$A$5,B73=Dimension!$A$6,,B73=Dimension!$A$7,B73=Dimension!$A$8,B73=Dimension!$A$9),Payment_ID2,\"\")","v":""},null,{"$f":"IFERROR(VLOOKUP(K73,Dimension!$J$3:$K$179,2,FALSE),\"\")","v":""},null,null,{"$f":"IF(OR(B73=Dimension!$A$6,B73=Dimension!$A$7,B73=Dimension!$A$8,B73=Dimension!$A$9),\"\",IF(OR(B73=Dimension!$A$3,B73=Dimension!$A$4,B73=Dimension!$A$5),\"สถานประกอบการ\",\"\"))","v":""},{"$f":"IF(OR(B73=Dimension!$A$6,B73=Dimension!$A$7,B73=Dimension!$A$8,B73=Dimension!$A$9,B73=\"\"),\"\",Payment_ID2)","v":""},"",null,null,{"$f":"IF(D73=Dimension!$C$9,IF(LEFT(UPPER(E73),2)=\"MC\",TRUE,FALSE),TRUE)","v":true}]
[null,null,null,{"$f":"IF(B74=Dimension!$A$8,Dimension!$C$9,IF(B74=Dimension!$A$6,CD,\"\"))","v":""},null,{"$f":"IF(OR(B74=Dimension!$A$3,B74=Dimension!$A$4,B74=Dimension!$A$6,B74=Dimension!$A$8),CCYA,\"\")","v":""},{"$f":"IFERROR(VLOOKUP(F74,Dimension!$G$3:$H$252,2,FALSE),\"\")","v":""},{"$f":"IF(OR(B74=Dimension!$A$3,B74=Dimension!$A$4,B74=Dimension!$A$5),\"เดินทาง/ท่องเที่ยว\",\"\")","v":""},{"$f":"IF(OR(B74=Dimension!$A$6,B74=Dimension!$A$7,B74=Dimension!$A$8,B74=Dimension!$A$9),\"\",IF(OR(B74=Dimension!$A$3,B74=Dimension!$A$4,B74=Dimension!$A$5),\"สถานประกอบการ\",\"\"))","v":""},{"$f":"IF(OR(B74=Dimension!$A$3,B74=Dimension!$A$4,B74=Dimension!$A$5,B74=Dimension!$A$6,,B74=Dimension!$A$7,B74=Dimension!$A$8,B74=Dimension!$A$9),Payment_ID2,\"\")","v":""},null,{"$f":"IFERROR(VLOOKUP(K74,Dimension!$J$3:$K$179,2,FALSE),\"\")","v":""},null,null,{"$f":"IF(OR(B74=Dimension!$A$6,B74=Dimension!$A$7,B74=Dimension!$A$8,B74=Dimension!$A$9),\"\",IF(OR(B74=Dimension!$A$3,B74=Dimension!$A$4,B74=Dimension!$A$5),\"สถานประกอบการ\",\"\"))","v":""},{"$f":"IF(OR(B74=Dimension!$A$6,B74=Dimension!$A$7,B74=Dimension!$A$8,B74=Dimension!$A$9,B74=\"\"),\"\",Payment_ID2)","v":""},{"$f":"IF(OR(M74=\"\",N74=\"\"),\"\",ROUND(M74*N74,2))","v":""},null,null,{"$f":"IF(D74=Dimension!$C$9,IF(LEFT(UPPER(E74),2)=\"MC\",TRUE,FALSE),TRUE)","v":true}]
[null,null,null,{"$f":"IF(B75=Dimension!$A$8,Dimension!$C$9,IF(B75=Dimension!$A$6,CD,\"\"))","v":""},null,{"$f":"IF(OR(B75=Dimension!$A$3,B75=Dimension!$A$4,B75=Dimension!$A$6,B75=Dimension!$A$8),CCYA,\"\")","v":""},{"$f":"IFERROR(VLOOKUP(F75,Dimension!$G$3:$H$252,2,FALSE),\"\")","v":""},{"$f":"IF(OR(B75=Dimension!$A$3,B75=Dimension!$A$4,B75=Dimension!$A$5),\"เดินทาง/ท่องเที่ยว\",\"\")","v":""},{"$f":"IF(OR(B75=Dimension!$A$6,B75=Dimension!$A$7,B75=Dimension!$A$8,B75=Dimension!$A$9),\"\",IF(OR(B75=Dimension!$A$3,B75=Dimension!$A$4,B75=Dimension!$A$5),\"สถานประกอบการ\",\"\"))","v":""},{"$f":"IF(OR(B75=Dimension!$A$3,B75=Dimension!$A$4,B75=Dimension!$A$5,B75=Dimension!$A$6,,B75=Dimension!$A$7,B75=Dimension!$A$8,B75=Dimension!$A$9),Payment_ID2,\"\")","v":""},null,{"$f":"IFERROR(VLOOKUP(K75,Dimension!$J$3:$K$179,2,FALSE),\"\")","v":""},null,null,{"$f":"IF(OR(B75=Dimension!$A$6,B75=Dimension!$A$7,B75=Dimension!$A$8,B75=Dimension!$A$9),\"\",IF(OR(B75=Dimension!$A$3,B75=Dimension!$A$4,B75=Dimension!$A$5),\"สถานประกอบการ\",\"\"))","v":""},{"$f":"IF(OR(B75=Dimension!$A$6,B75=Dimension!$A$7,B75=Dimension!$A$8,B75=Dimension!$A$9,B75=\"\"),\"\",Payment_ID2)","v":""},"",null,null,{"$f":"IF(D75=Dimension!$C$9,IF(LEFT(UPPER(E75),2)=\"MC\",TRUE,FALSE),TRUE)","v":true}]
[null,null,null,{"$f":"IF(B76=Dimension!$A$8,Dimension!$C$9,IF(B76=Dimension!$A$6,CD,\"\"))","v":""},null,{"$f":"IF(OR(B76=Dimension!$A$3,B76=Dimension!$A$4,B76=Dimension!$A$6,B76=Dimension!$A$8),CCYA,\"\")","v":""},{"$f":"IFERROR(VLOOKUP(F76,Dimension!$G$3:$H$252,2,FALSE),\"\")","v":""},{"$f":"IF(OR(B76=Dimension!$A$3,B76=Dimension!$A$4,B76=Dimension!$A$5),\"เดินทาง/ท่องเที่ยว\",\"\")","v":""},{"$f":"IF(OR(B76=Dimension!$A$6,B76=Dimension!$A$7,B76=Dimension!$A$8,B76=Dimension!$A$9),\"\",IF(OR(B76=Dimension!$A$3,B76=Dimension!$A$4,B76=Dimension!$A$5),\"สถานประกอบการ\",\"\"))","v":""},{"$f":"IF(OR(B76=Dimension!$A$3,B76=Dimension!$A$4,B76=Dimension!$A$5,B76=Dimension!$A$6,,B76=Dimension!$A$7,B76=Dimension!$A$8,B76=Dimension!$A$9),Payment_ID2,\"\")","v":""},null,{"$f":"IFERROR(VLOOKUP(K76,Dimension!$J$3:$K$179,2,FALSE),\"\")","v":""},null,null,{"$f":"IF(OR(B76=Dimension!$A$6,B76=Dimension!$A$7,B76=Dimension!$A$8,B76=Dimension!$A$9),\"\",IF(OR(B76=Dimension!$A$3,B76=Dimension!$A$4,B76=Dimension!$A$5),\"สถานประกอบการ\",\"\"))","v":""},{"$f":"IF(OR(B76=Dimension!$A$6,B76=Dimension!$A$7,B76=Dimension!$A$8,B76=Dimension!$A$9,B76=\"\"),\"\",Payment_ID2)","v":""},"",null,null,{"$f":"IF(D76=Dimension!$C$9,IF(LEFT(UPPER(E76),2)=\"MC\",TRUE,FALSE),TRUE)","v":true}]
[null,null,null,{"$f":"IF(B77=Dimension!$A$8,Dimension!$C$9,IF(B77=Dimension!$A$6,CD,\"\"))","v":""},null,{"$f":"IF(OR(B77=Dimension!$A$3,B77=Dimension!$A$4,B77=Dimension!$A$6,B77=Dimension!$A$8),CCYA,\"\")","v":""},{"$f":"IFERROR(VLOOKUP(F77,Dimension!$G$3:$H$252,2,FALSE),\"\")","v":""},{"$f":"IF(OR(B77=Dimension!$A$3,B77=Dimension!$A$4,B77=Dimension!$A$5),\"เดินทาง/ท่องเที่ยว\",\"\")","v":""},{"$f":"IF(OR(B77=Dimension!$A$6,B77=Dimension!$A$7,B77=Dimension!$A$8,B77=Dimension!$A$9),\"\",IF(OR(B77=Dimension!$A$3,B77=Dimension!$A$4,B77=Dimension!$A$5),\"สถานประกอบการ\",\"\"))","v":""},{"$f":"IF(OR(B77=Dimension!$A$3,B77=Dimension!$A$4,B77=Dimension!$A$5,B77=Dimension!$A$6,,B77=Dimension!$A$7,B77=Dimension!$A$8,B77=Dimension!$A$9),Payment_ID2,\"\")","v":""},null,{"$f":"IFERROR(VLOOKUP(K77,Dimension!$J$3:$K$179,2,FALSE),\"\")","v":""},null,null,{"$f":"IF(OR(B77=Dimension!$A$6,B77=Dimension!$A$7,B77=Dimension!$A$8,B77=Dimension!$A$9),\"\",IF(OR(B77=Dimension!$A$3,B77=Dimension!$A$4,B77=Dimension!$A$5),\"สถานประกอบการ\",\"\"))","v":""},{"$f":"IF(OR(B77=Dimension!$A$6,B77=Dimension!$A$7,B77=Dimension!$A$8,B77=Dimension!$A$9,B77=\"\"),\"\",Payment_ID2)","v":""},"",null,null,{"$f":"IF(D77=Dimension!$C$9,IF(LEFT(UPPER(E77),2)=\"MC\",TRUE,FALSE),TRUE)","v":true}]
[null,null,null,{"$f":"IF(B78=Dimension!$A$8,Dimension!$C$9,IF(B78=Dimension!$A$6,CD,\"\"))","v":""},null,{"$f":"IF(OR(B78=Dimension!$A$3,B78=Dimension!$A$4,B78=Dimension!$A$6,B78=Dimension!$A$8),CCYA,\"\")","v":""},{"$f":"IFERROR(VLOOKUP(F78,Dimension!$G$3:$H$252,2,FALSE),\"\")","v":""},{"$f":"IF(OR(B78=Dimension!$A$3,B78=Dimension!$A$4,B78=Dimension!$A$5),\"เดินทาง/ท่องเที่ยว\",\"\")","v":""},{"$f":"IF(OR(B78=Dimension!$A$6,B78=Dimension!$A$7,B78=Dimension!$A$8,B78=Dimension!$A$9),\"\",IF(OR(B78=Dimension!$A$3,B78=Dimension!$A$4,B78=Dimension!$A$5),\"สถานประกอบการ\",\"\"))","v":""},{"$f":"IF(OR(B78=Dimension!$A$3,B78=Dimension!$A$4,B78=Dimension!$A$5,B78=Dimension!$A$6,,B78=Dimension!$A$7,B78=Dimension!$A$8,B78=Dimension!$A$9),Payment_ID2,\"\")","v":""},null,{"$f":"IFERROR(VLOOKUP(K78,Dimension!$J$3:$K$179,2,FALSE),\"\")","v":""},null,null,{"$f":"IF(OR(B78=Dimension!$A$6,B78=Dimension!$A$7,B78=Dimension!$A$8,B78=Dimension!$A$9),\"\",IF(OR(B78=Dimension!$A$3,B78=Dimension!$A$4,B78=Dimension!$A$5),\"สถานประกอบการ\",\"\"))","v":""},{"$f":"IF(OR(B78=Dimension!$A$6,B78=Dimension!$A$7,B78=Dimension!$A$8,B78=Dimension!$A$9,B78=\"\"),\"\",Payment_ID2)","v":""},"",null,null,{"$f":"IF(D78=Dimension!$C$9,IF(LEFT(UPPER(E78),2)=\"MC\",TRUE,FALSE),TRUE)","v":true}]
[null,null,null,{"$f":"IF(B79=Dimension!$A$8,Dimension!$C$9,IF(B79=Dimension!$A$6,CD,\"\"))","v":""},null,{"$f":"IF(OR(B79=Dimension!$A$3,B79=Dimension!$A$4,B79=Dimension!$A$6,B79=Dimension!$A$8),CCYA,\"\")","v":""},{"$f":"IFERROR(VLOOKUP(F79,Dimension!$G$3:$H$252,2,FALSE),\"\")","v":""},{"$f":"IF(OR(B79=Dimension!$A$3,B79=Dimension!$A$4,B79=Dimension!$A$5),\"เดินทาง/ท่องเที่ยว\",\"\")","v":""},{"$f":"IF(OR(B79=Dimension!$A$6,B79=Dimension!$A$7,B79=Dimension!$A$8,B79=Dimension!$A$9),\"\",IF(OR(B79=Dimension!$A$3,B79=Dimension!$A$4,B79=Dimension!$A$5),\"สถานประกอบการ\",\"\"))","v":""},{"$f":"IF(OR(B79=Dimension!$A$3,B79=Dimension!$A$4,B79=Dimension!$A$5,B79=Dimension!$A$6,,B79=Dimension!$A$7,B79=Dimension!$A$8,B79=Dimension!$A$9),Payment_ID2,\"\")","v":""},null,{"$f":"IFERROR(VLOOKUP(K79,Dimension!$J$3:$K$179,2,FALSE),\"\")","v":""},null,null,{"$f":"IF(OR(B79=Dimension!$A$6,B79=Dimension!$A$7,B79=Dimension!$A$8,B79=Dimension!$A$9),\"\",IF(OR(B79=Dimension!$A$3,B79=Dimension!$A$4,B79=Dimension!$A$5),\"สถานประกอบการ\",\"\"))","v":""},{"$f":"IF(OR(B79=Dimension!$A$6,B79=Dimension!$A$7,B79=Dimension!$A$8,B79=Dimension!$A$9,B79=\"\"),\"\",Payment_ID2)","v":""},"",null,null,{"$f":"IF(D79=Dimension!$C$9,IF(LEFT(UPPER(E79),2)=\"MC\",TRUE,FALSE),TRUE)","v":true}]
[null,null,null,{"$f":"IF(B80=Dimension!$A$8,Dimension!$C$9,IF(B80=Dimension!$A$6,CD,\"\"))","v":""},null,{"$f":"IF(OR(B80=Dimension!$A$3,B80=Dimension!$A$4,B80=Dimension!$A$6,B80=Dimension!$A$8),CCYA,\"\")","v":""},{"$f":"IFERROR(VLOOKUP(F80,Dimension!$G$3:$H$252,2,FALSE),\"\")","v":""},{"$f":"IF(OR(B80=Dimension!$A$3,B80=Dimension!$A$4,B80=Dimension!$A$5),\"เดินทาง/ท่องเที่ยว\",\"\")","v":""},{"$f":"IF(OR(B80=Dimension!$A$6,B80=Dimension!$A$7,B80=Dimension!$A$8,B80=Dimension!$A$9),\"\",IF(OR(B80=Dimension!$A$3,B80=Dimension!$A$4,B80=Dimension!$A$5),\"สถานประกอบการ\",\"\"))","v":""},{"$f":"IF(OR(B80=Dimension!$A$3,B80=Dimension!$A$4,B80=Dimension!$A$5,B80=Dimension!$A$6,,B80=Dimension!$A$7,B80=Dimension!$A$8,B80=Dimension!$A$9),Payment_ID2,\"\")","v":""},null,{"$f":"IFERROR(VLOOKUP(K80,Dimension!$J$3:$K$179,2,FALSE),\"\")","v":""},null,null,{"$f":"IF(OR(B80=Dimension!$A$6,B80=Dimension!$A$7,B80=Dimension!$A$8,B80=Dimension!$A$9),\"\",IF(OR(B80=Dimension!$A$3,B80=Dimension!$A$4,B80=Dimension!$A$5),\"สถานประกอบการ\",\"\"))","v":""},{"$f":"IF(OR(B80=Dimension!$A$6,B80=Dimension!$A$7,B80=Dimension!$A$8,B80=Dimension!$A$9,B80=\"\"),\"\",Payment_ID2)","v":""},"",null,null,{"$f":"IF(D80=Dimension!$C$9,IF(LEFT(UPPER(E80),2)=\"MC\",TRUE,FALSE),TRUE)","v":true}]
[null,null,null,{"$f":"IF(B81=Dimension!$A$8,Dimension!$C$9,IF(B81=Dimension!$A$6,CD,\"\"))","v":""},null,{"$f":"IF(OR(B81=Dimension!$A$3,B81=Dimension!$A$4,B81=Dimension!$A$6,B81=Dimension!$A$8),CCYA,\"\")","v":""},{"$f":"IFERROR(VLOOKUP(F81,Dimension!$G$3:$H$252,2,FALSE),\"\")","v":""},{"$f":"IF(OR(B81=Dimension!$A$3,B81=Dimension!$A$4,B81=Dimension!$A$5),\"เดินทาง/ท่องเที่ยว\",\"\")","v":""},{"$f":"IF(OR(B81=Dimension!$A$6,B81=Dimension!$A$7,B81=Dimension!$A$8,B81=Dimension!$A$9),\"\",IF(OR(B81=Dimension!$A$3,B81=Dimension!$A$4,B81=Dimension!$A$5),\"สถานประกอบการ\",\"\"))","v":""},{"$f":"IF(OR(B81=Dimension!$A$3,B81=Dimension!$A$4,B81=Dimension!$A$5,B81=Dimension!$A$6,,B81=Dimension!$A$7,B81=Dimension!$A$8,B81=Dimension!$A$9),Payment_ID2,\"\")","v":""},null,{"$f":"IFERROR(VLOOKUP(K81,Dimension!$J$3:$K$179,2,FALSE),\"\")","v":""},null,null,{"$f":"IF(OR(B81=Dimension!$A$6,B81=Dimension!$A$7,B81=Dimension!$A$8,B81=Dimension!$A$9),\"\",IF(OR(B81=Dimension!$A$3,B81=Dimension!$A$4,B81=Dimension!$A$5),\"สถานประกอบการ\",\"\"))","v":""},{"$f":"IF(OR(B81=Dimension!$A$6,B81=Dimension!$A$7,B81=Dimension!$A$8,B81=Dimension!$A$9,B81=\"\"),\"\",Payment_ID2)","v":""},"",null,null,{"$f":"IF(D81=Dimension!$C$9,IF(LEFT(UPPER(E81),2)=\"MC\",TRUE,FALSE),TRUE)","v":true}]
[null,null,null,{"$f":"IF(B82=Dimension!$A$8,Dimension!$C$9,IF(B82=Dimension!$A$6,CD,\"\"))","v":""},null,{"$f":"IF(OR(B82=Dimension!$A$3,B82=Dimension!$A$4,B82=Dimension!$A$6,B82=Dimension!$A$8),CCYA,\"\")","v":""},{"$f":"IFERROR(VLOOKUP(F82,Dimension!$G$3:$H$252,2,FALSE),\"\")","v":""},{"$f":"IF(OR(B82=Dimension!$A$3,B82=Dimension!$A$4,B82=Dimension!$A$5),\"เดินทาง/ท่องเที่ยว\",\"\")","v":""},{"$f":"IF(OR(B82=Dimension!$A$6,B82=Dimension!$A$7,B82=Dimension!$A$8,B82=Dimension!$A$9),\"\",IF(OR(B82=Dimension!$A$3,B82=Dimension!$A$4,B82=Dimension!$A$5),\"สถานประกอบการ\",\"\"))","v":""},{"$f":"IF(OR(B82=Dimension!$A$3,B82=Dimension!$A$4,B82=Dimension!$A$5,B82=Dimension!$A$6,,B82=Dimension!$A$7,B82=Dimension!$A$8,B82=Dimension!$A$9),Payment_ID2,\"\")","v":""},null,{"$f":"IFERROR(VLOOKUP(K82,Dimension!$J$3:$K$179,2,FALSE),\"\")","v":""},null,null,{"$f":"IF(OR(B82=Dimension!$A$6,B82=Dimension!$A$7,B82=Dimension!$A$8,B82=Dimension!$A$9),\"\",IF(OR(B82=Dimension!$A$3,B82=Dimension!$A$4,B82=Dimension!$A$5),\"สถานประกอบการ\",\"\"))","v":""},{"$f":"IF(OR(B82=Dimension!$A$6,B82=Dimension!$A$7,B82=Dimension!$A$8,B82=Dimension!$A$9,B82=\"\"),\"\",Payment_ID2)","v":""},"",null,null,{"$f":"IF(D82=Dimension!$C$9,IF(LEFT(UPPER(E82),2)=\"MC\",TRUE,FALSE),TRUE)","v":true}]
[null,null,null,{"$f":"IF(B83=Dimension!$A$8,Dimension!$C$9,IF(B83=Dimension!$A$6,CD,\"\"))","v":""},null,{"$f":"IF(OR(B83=Dimension!$A$3,B83=Dimension!$A$4,B83=Dimension!$A$6,B83=Dimension!$A$8),CCYA,\"\")","v":""},{"$f":"IFERROR(VLOOKUP(F83,Dimension!$G$3:$H$252,2,FALSE),\"\")","v":""},{"$f":"IF(OR(B83=Dimension!$A$3,B83=Dimension!$A$4,B83=Dimension!$A$5),\"เดินทาง/ท่องเที่ยว\",\"\")","v":""},{"$f":"IF(OR(B83=Dimension!$A$6,B83=Dimension!$A$7,B83=Dimension!$A$8,B83=Dimension!$A$9),\"\",IF(OR(B83=Dimension!$A$3,B83=Dimension!$A$4,B83=Dimension!$A$5),\"สถานประกอบการ\",\"\"))","v":""},{"$f":"IF(OR(B83=Dimension!$A$3,B83=Dimension!$A$4,B83=Dimension!$A$5,B83=Dimension!$A$6,,B83=Dimension!$A$7,B83=Dimension!$A$8,B83=Dimension!$A$9),Payment_ID2,\"\")","v":""},null,{"$f":"IFERROR(VLOOKUP(K83,Dimension!$J$3:$K$179,2,FALSE),\"\")","v":""},null,null,{"$f":"IF(OR(B83=Dimension!$A$6,B83=Dimension!$A$7,B83=Dimension!$A$8,B83=Dimension!$A$9),\"\",IF(OR(B83=Dimension!$A$3,B83=Dimension!$A$4,B83=Dimension!$A$5),\"สถานประกอบการ\",\"\"))","v":""},{"$f":"IF(OR(B83=Dimension!$A$6,B83=Dimension!$A$7,B83=Dimension!$A$8,B83=Dimension!$A$9,B83=\"\"),\"\",Payment_ID2)","v":""},"",null,null,{"$f":"IF(D83=Dimension!$C$9,IF(LEFT(UPPER(E83),2)=\"MC\",TRUE,FALSE),TRUE)","v":true}]
[null,null,null,{"$f":"IF(B84=Dimension!$A$8,Dimension!$C$9,IF(B84=Dimension!$A$6,CD,\"\"))","v":""},null,{"$f":"IF(OR(B84=Dimension!$A$3,B84=Dimension!$A$4,B84=Dimension!$A$6,B84=Dimension!$A$8),CCYA,\"\")","v":""},{"$f":"IFERROR(VLOOKUP(F84,Dimension!$G$3:$H$252,2,FALSE),\"\")","v":""},{"$f":"IF(OR(B84=Dimension!$A$3,B84=Dimension!$A$4,B84=Dimension!$A$5),\"เดินทาง/ท่องเที่ยว\",\"\")","v":""},{"$f":"IF(OR(B84=Dimension!$A$6,B84=Dimension!$A$7,B84=Dimension!$A$8,B84=Dimension!$A$9),\"\",IF(OR(B84=Dimension!$A$3,B84=Dimension!$A$4,B84=Dimension!$A$5),\"สถานประกอบการ\",\"\"))","v":""},{"$f":"IF(OR(B84=Dimension!$A$3,B84=Dimension!$A$4,B84=Dimension!$A$5,B84=Dimension!$A$6,,B84=Dimension!$A$7,B84=Dimension!$A$8,B84=Dimension!$A$9),Payment_ID2,\"\")","v":""},null,{"$f":"IFERROR(VLOOKUP(K84,Dimension!$J$3:$K$179,2,FALSE),\"\")","v":""},null,null,{"$f":"IF(OR(B84=Dimension!$A$6,B84=Dimension!$A$7,B84=Dimension!$A$8,B84=Dimension!$A$9),\"\",IF(OR(B84=Dimension!$A$3,B84=Dimension!$A$4,B84=Dimension!$A$5),\"สถานประกอบการ\",\"\"))","v":""},{"$f":"IF(OR(B84=Dimension!$A$6,B84=Dimension!$A$7,B84=Dimension!$A$8,B84=Dimension!$A$9,B84=\"\"),\"\",Payment_ID2)","v":""},"",null,null,{"$f":"IF(D84=Dimension!$C$9,IF(LEFT(UPPER(E84),2)=\"MC\",TRUE,FALSE),TRUE)","v":true}]
[null,null,null,{"$f":"IF(B85=Dimension!$A$8,Dimension!$C$9,IF(B85=Dimension!$A$6,CD,\"\"))","v":""},null,{"$f":"IF(OR(B85=Dimension!$A$3,B85=Dimension!$A$4,B85=Dimension!$A$6,B85=Dimension!$A$8),CCYA,\"\")","v":""},{"$f":"IFERROR(VLOOKUP(F85,Dimension!$G$3:$H$252,2,FALSE),\"\")","v":""},{"$f":"IF(OR(B85=Dimension!$A$3,B85=Dimension!$A$4,B85=Dimension!$A$5),\"เดินทาง/ท่องเที่ยว\",\"\")","v":""},{"$f":"IF(OR(B85=Dimension!$A$6,B85=Dimension!$A$7,B85=Dimension!$A$8,B85=Dimension!$A$9),\"\",IF(OR(B85=Dimension!$A$3,B85=Dimension!$A$4,B85=Dimension!$A$5),\"สถานประกอบการ\",\"\"))","v":""},{"$f":"IF(OR(B85=Dimension!$A$3,B85=Dimension!$A$4,B85=Dimension!$A$5,B85=Dimension!$A$6,,B85=Dimension!$A$7,B85=Dimension!$A$8,B85=Dimension!$A$9),Payment_ID2,\"\")","v":""},null,{"$f":"IFERROR(VLOOKUP(K85,Dimension!$J$3:$K$179,2,FALSE),\"\")","v":""},null,null,{"$f":"IF(OR(B85=Dimension!$A$6,B85=Dimension!$A$7,B85=Dimension!$A$8,B85=Dimension!$A$9),\"\",IF(OR(B85=Dimension!$A$3,B85=Dimension!$A$4,B85=Dimension!$A$5),\"สถานประกอบการ\",\"\"))","v":""},{"$f":"IF(OR(B85=Dimension!$A$6,B85=Dimension!$A$7,B85=Dimension!$A$8,B85=Dimension!$A$9,B85=\"\"),\"\",Payment_ID2)","v":""},"",null,null,{"$f":"IF(D85=Dimension!$C$9,IF(LEFT(UPPER(E85),2)=\"MC\",TRUE,FALSE),TRUE)","v":true}]
[null,null,null,{"$f":"IF(B86=Dimension!$A$8,Dimension!$C$9,IF(B86=Dimension!$A$6,CD,\"\"))","v":""},null,{"$f":"IF(OR(B86=Dimension!$A$3,B86=Dimension!$A$4,B86=Dimension!$A$6,B86=Dimension!$A$8),CCYA,\"\")","v":""},{"$f":"IFERROR(VLOOKUP(F86,Dimension!$G$3:$H$252,2,FALSE),\"\")","v":""},{"$f":"IF(OR(B86=Dimension!$A$3,B86=Dimension!$A$4,B86=Dimension!$A$5),\"เดินทาง/ท่องเที่ยว\",\"\")","v":""},{"$f":"IF(OR(B86=Dimension!$A$6,B86=Dimension!$A$7,B86=Dimension!$A$8,B86=Dimension!$A$9),\"\",IF(OR(B86=Dimension!$A$3,B86=Dimension!$A$4,B86=Dimension!$A$5),\"สถานประกอบการ\",\"\"))","v":""},{"$f":"IF(OR(B86=Dimension!$A$3,B86=Dimension!$A$4,B86=Dimension!$A$5,B86=Dimension!$A$6,,B86=Dimension!$A$7,B86=Dimension!$A$8,B86=Dimension!$A$9),Payment_ID2,\"\")","v":""},null,{"$f":"IFERROR(VLOOKUP(K86,Dimension!$J$3:$K$179,2,FALSE),\"\")","v":""},null,null,{"$f":"IF(OR(B86=Dimension!$A$6,B86=Dimension!$A$7,B86=Dimension!$A$8,B86=Dimension!$A$9),\"\",IF(OR(B86=Dimension!$A$3,B86=Dimension!$A$4,B86=Dimension!$A$5),\"สถานประกอบการ\",\"\"))","v":""},{"$f":"IF(OR(B86=Dimension!$A$6,B86=Dimension!$A$7,B86=Dimension!$A$8,B86=Dimension!$A$9,B86=\"\"),\"\",Payment_ID2)","v":""},"",null,null,{"$f":"IF(D86=Dimension!$C$9,IF(LEFT(UPPER(E86),2)=\"MC\",TRUE,FALSE),TRUE)","v":true}]
[null,null,null,{"$f":"IF(B87=Dimension!$A$8,Dimension!$C$9,IF(B87=Dimension!$A$6,CD,\"\"))","v":""},null,{"$f":"IF(OR(B87=Dimension!$A$3,B87=Dimension!$A$4,B87=Dimension!$A$6,B87=Dimension!$A$8),CCYA,\"\")","v":""},{"$f":"IFERROR(VLOOKUP(F87,Dimension!$G$3:$H$252,2,FALSE),\"\")","v":""},{"$f":"IF(OR(B87=Dimension!$A$3,B87=Dimension!$A$4,B87=Dimension!$A$5),\"เดินทาง/ท่องเที่ยว\",\"\")","v":""},{"$f":"IF(OR(B87=Dimension!$A$6,B87=Dimension!$A$7,B87=Dimension!$A$8,B87=Dimension!$A$9),\"\",IF(OR(B87=Dimension!$A$3,B87=Dimension!$A$4,B87=Dimension!$A$5),\"สถานประกอบการ\",\"\"))","v":""},{"$f":"IF(OR(B87=Dimension!$A$3,B87=Dimension!$A$4,B87=Dimension!$A$5,B87=Dimension!$A$6,,B87=Dimension!$A$7,B87=Dimension!$A$8,B87=Dimension!$A$9),Payment_ID2,\"\")","v":""},null,{"$f":"IFERROR(VLOOKUP(K87,Dimension!$J$3:$K$179,2,FALSE),\"\")","v":""},null,null,{"$f":"IF(OR(B87=Dimension!$A$6,B87=Dimension!$A$7,B87=Dimension!$A$8,B87=Dimension!$A$9),\"\",IF(OR(B87=Dimension!$A$3,B87=Dimension!$A$4,B87=Dimension!$A$5),\"สถานประกอบการ\",\"\"))","v":""},{"$f":"IF(OR(B87=Dimension!$A$6,B87=Dimension!$A$7,B87=Dimension!$A$8,B87=Dimension!$A$9,B87=\"\"),\"\",Payment_ID2)","v":""},"",null,null,{"$f":"IF(D87=Dimension!$C$9,IF(LEFT(UPPER(E87),2)=\"MC\",TRUE,FALSE),TRUE)","v":true}]
[null,null,null,{"$f":"IF(B88=Dimension!$A$8,Dimension!$C$9,IF(B88=Dimension!$A$6,CD,\"\"))","v":""},null,{"$f":"IF(OR(B88=Dimension!$A$3,B88=Dimension!$A$4,B88=Dimension!$A$6,B88=Dimension!$A$8),CCYA,\"\")","v":""},{"$f":"IFERROR(VLOOKUP(F88,Dimension!$G$3:$H$252,2,FALSE),\"\")","v":""},{"$f":"IF(OR(B88=Dimension!$A$3,B88=Dimension!$A$4,B88=Dimension!$A$5),\"เดินทาง/ท่องเที่ยว\",\"\")","v":""},{"$f":"IF(OR(B88=Dimension!$A$6,B88=Dimension!$A$7,B88=Dimension!$A$8,B88=Dimension!$A$9),\"\",IF(OR(B88=Dimension!$A$3,B88=Dimension!$A$4,B88=Dimension!$A$5),\"สถานประกอบการ\",\"\"))","v":""},{"$f":"IF(OR(B88=Dimension!$A$3,B88=Dimension!$A$4,B88=Dimension!$A$5,B88=Dimension!$A$6,,B88=Dimension!$A$7,B88=Dimension!$A$8,B88=Dimension!$A$9),Payment_ID2,\"\")","v":""},null,{"$f":"IFERROR(VLOOKUP(K88,Dimension!$J$3:$K$179,2,FALSE),\"\")","v":""},null,null,{"$f":"IF(OR(B88=Dimension!$A$6,B88=Dimension!$A$7,B88=Dimension!$A$8,B88=Dimension!$A$9),\"\",IF(OR(B88=Dimension!$A$3,B88=Dimension!$A$4,B88=Dimension!$A$5),\"สถานประกอบการ\",\"\"))","v":""},{"$f":"IF(OR(B88=Dimension!$A$6,B88=Dimension!$A$7,B88=Dimension!$A$8,B88=Dimension!$A$9,B88=\"\"),\"\",Payment_ID2)","v":""},"",null,null,{"$f":"IF(D88=Dimension!$C$9,IF(LEFT(UPPER(E88),2)=\"MC\",TRUE,FALSE),TRUE)","v":true}]
[null,null,null,{"$f":"IF(B89=Dimension!$A$8,Dimension!$C$9,IF(B89=Dimension!$A$6,CD,\"\"))","v":""},null,{"$f":"IF(OR(B89=Dimension!$A$3,B89=Dimension!$A$4,B89=Dimension!$A$6,B89=Dimension!$A$8),CCYA,\"\")","v":""},{"$f":"IFERROR(VLOOKUP(F89,Dimension!$G$3:$H$252,2,FALSE),\"\")","v":""},{"$f":"IF(OR(B89=Dimension!$A$3,B89=Dimension!$A$4,B89=Dimension!$A$5),\"เดินทาง/ท่องเที่ยว\",\"\")","v":""},{"$f":"IF(OR(B89=Dimension!$A$6,B89=Dimension!$A$7,B89=Dimension!$A$8,B89=Dimension!$A$9),\"\",IF(OR(B89=Dimension!$A$3,B89=Dimension!$A$4,B89=Dimension!$A$5),\"สถานประกอบการ\",\"\"))","v":""},{"$f":"IF(OR(B89=Dimension!$A$3,B89=Dimension!$A$4,B89=Dimension!$A$5,B89=Dimension!$A$6,,B89=Dimension!$A$7,B89=Dimension!$A$8,B89=Dimension!$A$9),Payment_ID2,\"\")","v":""},null,{"$f":"IFERROR(VLOOKUP(K89,Dimension!$J$3:$K$179,2,FALSE),\"\")","v":""},null,null,{"$f":"IF(OR(B89=Dimension!$A$6,B89=Dimension!$A$7,B89=Dimension!$A$8,B89=Dimension!$A$9),\"\",IF(OR(B89=Dimension!$A$3,B89=Dimension!$A$4,B89=Dimension!$A$5),\"สถานประกอบการ\",\"\"))","v":""},{"$f":"IF(OR(B89=Dimension!$A$6,B89=Dimension!$A$7,B89=Dimension!$A$8,B89=Dimension!$A$9,B89=\"\"),\"\",Payment_ID2)","v":""},"",null,null,{"$f":"IF(D89=Dimension!$C$9,IF(LEFT(UPPER(E89),2)=\"MC\",TRUE,FALSE),TRUE)","v":true}]
[null,null,null,{"$f":"IF(B90=Dimension!$A$8,Dimension!$C$9,IF(B90=Dimension!$A$6,CD,\"\"))","v":""},null,{"$f":"IF(OR(B90=Dimension!$A$3,B90=Dimension!$A$4,B90=Dimension!$A$6,B90=Dimension!$A$8),CCYA,\"\")","v":""},{"$f":"IFERROR(VLOOKUP(F90,Dimension!$G$3:$H$252,2,FALSE),\"\")","v":""},{"$f":"IF(OR(B90=Dimension!$A$3,B90=Dimension!$A$4,B90=Dimension!$A$5),\"เดินทาง/ท่องเที่ยว\",\"\")","v":""},{"$f":"IF(OR(B90=Dimension!$A$6,B90=Dimension!$A$7,B90=Dimension!$A$8,B90=Dimension!$A$9),\"\",IF(OR(B90=Dimension!$A$3,B90=Dimension!$A$4,B90=Dimension!$A$5),\"สถานประกอบการ\",\"\"))","v":""},{"$f":"IF(OR(B90=Dimension!$A$3,B90=Dimension!$A$4,B90=Dimension!$A$5,B90=Dimension!$A$6,,B90=Dimension!$A$7,B90=Dimension!$A$8,B90=Dimension!$A$9),Payment_ID2,\"\")","v":""},null,{"$f":"IFERROR(VLOOKUP(K90,Dimension!$J$3:$K$179,2,FALSE),\"\")","v":""},null,null,{"$f":"IF(OR(B90=Dimension!$A$6,B90=Dimension!$A$7,B90=Dimension!$A$8,B90=Dimension!$A$9),\"\",IF(OR(B90=Dimension!$A$3,B90=Dimension!$A$4,B90=Dimension!$A$5),\"สถานประกอบการ\",\"\"))","v":""},{"$f":"IF(OR(B90=Dimension!$A$6,B90=Dimension!$A$7,B90=Dimension!$A$8,B90=Dimension!$A$9,B90=\"\"),\"\",Payment_ID2)","v":""},"",null,null,{"$f":"IF(D90=Dimension!$C$9,IF(LEFT(UPPER(E90),2)=\"MC\",TRUE,FALSE),TRUE)","v":true}]
[null,null,null,{"$f":"IF(B91=Dimension!$A$8,Dimension!$C$9,IF(B91=Dimension!$A$6,CD,\"\"))","v":""},null,{"$f":"IF(OR(B91=Dimension!$A$3,B91=Dimension!$A$4,B91=Dimension!$A$6,B91=Dimension!$A$8),CCYA,\"\")","v":""},{"$f":"IFERROR(VLOOKUP(F91,Dimension!$G$3:$H$252,2,FALSE),\"\")","v":""},{"$f":"IF(OR(B91=Dimension!$A$3,B91=Dimension!$A$4,B91=Dimension!$A$5),\"เดินทาง/ท่องเที่ยว\",\"\")","v":""},{"$f":"IF(OR(B91=Dimension!$A$6,B91=Dimension!$A$7,B91=Dimension!$A$8,B91=Dimension!$A$9),\"\",IF(OR(B91=Dimension!$A$3,B91=Dimension!$A$4,B91=Dimension!$A$5),\"สถานประกอบการ\",\"\"))","v":""},{"$f":"IF(OR(B91=Dimension!$A$3,B91=Dimension!$A$4,B91=Dimension!$A$5,B91=Dimension!$A$6,,B91=Dimension!$A$7,B91=Dimension!$A$8,B91=Dimension!$A$9),Payment_ID2,\"\")","v":""},null,{"$f":"IFERROR(VLOOKUP(K91,Dimension!$J$3:$K$179,2,FALSE),\"\")","v":""},null,null,{"$f":"IF(OR(B91=Dimension!$A$6,B91=Dimension!$A$7,B91=Dimension!$A$8,B91=Dimension!$A$9),\"\",IF(OR(B91=Dimension!$A$3,B91=Dimension!$A$4,B91=Dimension!$A$5),\"สถานประกอบการ\",\"\"))","v":""},{"$f":"IF(OR(B91=Dimension!$A$6,B91=Dimension!$A$7,B91=Dimension!$A$8,B91=Dimension!$A$9,B91=\"\"),\"\",Payment_ID2)","v":""},"",null,null,{"$f":"IF(D91=Dimension!$C$9,IF(LEFT(UPPER(E91),2)=\"MC\",TRUE,FALSE),TRUE)","v":true}]
[null,null,null,{"$f":"IF(B92=Dimension!$A$8,Dimension!$C$9,IF(B92=Dimension!$A$6,CD,\"\"))","v":""},null,{"$f":"IF(OR(B92=Dimension!$A$3,B92=Dimension!$A$4,B92=Dimension!$A$6,B92=Dimension!$A$8),CCYA,\"\")","v":""},{"$f":"IFERROR(VLOOKUP(F92,Dimension!$G$3:$H$252,2,FALSE),\"\")","v":""},{"$f":"IF(OR(B92=Dimension!$A$3,B92=Dimension!$A$4,B92=Dimension!$A$5),\"เดินทาง/ท่องเที่ยว\",\"\")","v":""},{"$f":"IF(OR(B92=Dimension!$A$6,B92=Dimension!$A$7,B92=Dimension!$A$8,B92=Dimension!$A$9),\"\",IF(OR(B92=Dimension!$A$3,B92=Dimension!$A$4,B92=Dimension!$A$5),\"สถานประกอบการ\",\"\"))","v":""},{"$f":"IF(OR(B92=Dimension!$A$3,B92=Dimension!$A$4,B92=Dimension!$A$5,B92=Dimension!$A$6,,B92=Dimension!$A$7,B92=Dimension!$A$8,B92=Dimension!$A$9),Payment_ID2,\"\")","v":""},null,{"$f":"IFERROR(VLOOKUP(K92,Dimension!$J$3:$K$179,2,FALSE),\"\")","v":""},null,null,{"$f":"IF(OR(B92=Dimension!$A$6,B92=Dimension!$A$7,B92=Dimension!$A$8,B92=Dimension!$A$9),\"\",IF(OR(B92=Dimension!$A$3,B92=Dimension!$A$4,B92=Dimension!$A$5),\"สถานประกอบการ\",\"\"))","v":""},{"$f":"IF(OR(B92=Dimension!$A$6,B92=Dimension!$A$7,B92=Dimension!$A$8,B92=Dimension!$A$9,B92=\"\"),\"\",Payment_ID2)","v":""},"",null,null,{"$f":"IF(D92=Dimension!$C$9,IF(LEFT(UPPER(E92),2)=\"MC\",TRUE,FALSE),TRUE)","v":true}]
[null,null,null,{"$f":"IF(B93=Dimension!$A$8,Dimension!$C$9,IF(B93=Dimension!$A$6,CD,\"\"))","v":""},null,{"$f":"IF(OR(B93=Dimension!$A$3,B93=Dimension!$A$4,B93=Dimension!$A$6,B93=Dimension!$A$8),CCYA,\"\")","v":""},{"$f":"IFERROR(VLOOKUP(F93,Dimension!$G$3:$H$252,2,FALSE),\"\")","v":""},{"$f":"IF(OR(B93=Dimension!$A$3,B93=Dimension!$A$4,B93=Dimension!$A$5),\"เดินทาง/ท่องเที่ยว\",\"\")","v":""},{"$f":"IF(OR(B93=Dimension!$A$6,B93=Dimension!$A$7,B93=Dimension!$A$8,B93=Dimension!$A$9),\"\",IF(OR(B93=Dimension!$A$3,B93=Dimension!$A$4,B93=Dimension!$A$5),\"สถานประกอบการ\",\"\"))","v":""},{"$f":"IF(OR(B93=Dimension!$A$3,B93=Dimension!$A$4,B93=Dimension!$A$5,B93=Dimension!$A$6,,B93=Dimension!$A$7,B93=Dimension!$A$8,B93=Dimension!$A$9),Payment_ID2,\"\")","v":""},null,{"$f":"IFERROR(VLOOKUP(K93,Dimension!$J$3:$K$179,2,FALSE),\"\")","v":""},null,null,{"$f":"IF(OR(B93=Dimension!$A$6,B93=Dimension!$A$7,B93=Dimension!$A$8,B93=Dimension!$A$9),\"\",IF(OR(B93=Dimension!$A$3,B93=Dimension!$A$4,B93=Dimension!$A$5),\"สถานประกอบการ\",\"\"))","v":""},{"$f":"IF(OR(B93=Dimension!$A$6,B93=Dimension!$A$7,B93=Dimension!$A$8,B93=Dimension!$A$9,B93=\"\"),\"\",Payment_ID2)","v":""},"",null,null,{"$f":"IF(D93=Dimension!$C$9,IF(LEFT(UPPER(E93),2)=\"MC\",TRUE,FALSE),TRUE)","v":true}]
[null,null,null,{"$f":"IF(B94=Dimension!$A$8,Dimension!$C$9,IF(B94=Dimension!$A$6,CD,\"\"))","v":""},null,{"$f":"IF(OR(B94=Dimension!$A$3,B94=Dimension!$A$4,B94=Dimension!$A$6,B94=Dimension!$A$8),CCYA,\"\")","v":""},{"$f":"IFERROR(VLOOKUP(F94,Dimension!$G$3:$H$252,2,FALSE),\"\")","v":""},{"$f":"IF(OR(B94=Dimension!$A$3,B94=Dimension!$A$4,B94=Dimension!$A$5),\"เดินทาง/ท่องเที่ยว\",\"\")","v":""},{"$f":"IF(OR(B94=Dimension!$A$6,B94=Dimension!$A$7,B94=Dimension!$A$8,B94=Dimension!$A$9),\"\",IF(OR(B94=Dimension!$A$3,B94=Dimension!$A$4,B94=Dimension!$A$5),\"สถานประกอบการ\",\"\"))","v":""},{"$f":"IF(OR(B94=Dimension!$A$3,B94=Dimension!$A$4,B94=Dimension!$A$5,B94=Dimension!$A$6,,B94=Dimension!$A$7,B94=Dimension!$A$8,B94=Dimension!$A$9),Payment_ID2,\"\")","v":""},null,{"$f":"IFERROR(VLOOKUP(K94,Dimension!$J$3:$K$179,2,FALSE),\"\")","v":""},null,null,{"$f":"IF(OR(B94=Dimension!$A$6,B94=Dimension!$A$7,B94=Dimension!$A$8,B94=Dimension!$A$9),\"\",IF(OR(B94=Dimension!$A$3,B94=Dimension!$A$4,B94=Dimension!$A$5),\"สถานประกอบการ\",\"\"))","v":""},{"$f":"IF(OR(B94=Dimension!$A$6,B94=Dimension!$A$7,B94=Dimension!$A$8,B94=Dimension!$A$9,B94=\"\"),\"\",Payment_ID2)","v":""},"",null,null,{"$f":"IF(D94=Dimension!$C$9,IF(LEFT(UPPER(E94),2)=\"MC\",TRUE,FALSE),TRUE)","v":true}]
[null,null,null,{"$f":"IF(B95=Dimension!$A$8,Dimension!$C$9,IF(B95=Dimension!$A$6,CD,\"\"))","v":""},null,{"$f":"IF(OR(B95=Dimension!$A$3,B95=Dimension!$A$4,B95=Dimension!$A$6,B95=Dimension!$A$8),CCYA,\"\")","v":""},{"$f":"IFERROR(VLOOKUP(F95,Dimension!$G$3:$H$252,2,FALSE),\"\")","v":""},{"$f":"IF(OR(B95=Dimension!$A$3,B95=Dimension!$A$4,B95=Dimension!$A$5),\"เดินทาง/ท่องเที่ยว\",\"\")","v":""},{"$f":"IF(OR(B95=Dimension!$A$6,B95=Dimension!$A$7,B95=Dimension!$A$8,B95=Dimension!$A$9),\"\",IF(OR(B95=Dimension!$A$3,B95=Dimension!$A$4,B95=Dimension!$A$5),\"สถานประกอบการ\",\"\"))","v":""},{"$f":"IF(OR(B95=Dimension!$A$3,B95=Dimension!$A$4,B95=Dimension!$A$5,B95=Dimension!$A$6,,B95=Dimension!$A$7,B95=Dimension!$A$8,B95=Dimension!$A$9),Payment_ID2,\"\")","v":""},null,{"$f":"IFERROR(VLOOKUP(K95,Dimension!$J$3:$K$179,2,FALSE),\"\")","v":""},null,null,{"$f":"IF(OR(B95=Dimension!$A$6,B95=Dimension!$A$7,B95=Dimension!$A$8,B95=Dimension!$A$9),\"\",IF(OR(B95=Dimension!$A$3,B95=Dimension!$A$4,B95=Dimension!$A$5),\"สถานประกอบการ\",\"\"))","v":""},{"$f":"IF(OR(B95=Dimension!$A$6,B95=Dimension!$A$7,B95=Dimension!$A$8,B95=Dimension!$A$9,B95=\"\"),\"\",Payment_ID2)","v":""},"",null,null,{"$f":"IF(D95=Dimension!$C$9,IF(LEFT(UPPER(E95),2)=\"MC\",TRUE,FALSE),TRUE)","v":true}]
[null,null,null,{"$f":"IF(B96=Dimension!$A$8,Dimension!$C$9,IF(B96=Dimension!$A$6,CD,\"\"))","v":""},null,{"$f":"IF(OR(B96=Dimension!$A$3,B96=Dimension!$A$4,B96=Dimension!$A$6,B96=Dimension!$A$8),CCYA,\"\")","v":""},{"$f":"IFERROR(VLOOKUP(F96,Dimension!$G$3:$H$252,2,FALSE),\"\")","v":""},{"$f":"IF(OR(B96=Dimension!$A$3,B96=Dimension!$A$4,B96=Dimension!$A$5),\"เดินทาง/ท่องเที่ยว\",\"\")","v":""},{"$f":"IF(OR(B96=Dimension!$A$6,B96=Dimension!$A$7,B96=Dimension!$A$8,B96=Dimension!$A$9),\"\",IF(OR(B96=Dimension!$A$3,B96=Dimension!$A$4,B96=Dimension!$A$5),\"สถานประกอบการ\",\"\"))","v":""},{"$f":"IF(OR(B96=Dimension!$A$3,B96=Dimension!$A$4,B96=Dimension!$A$5,B96=Dimension!$A$6,,B96=Dimension!$A$7,B96=Dimension!$A$8,B96=Dimension!$A$9),Payment_ID2,\"\")","v":""},null,{"$f":"IFERROR(VLOOKUP(K96,Dimension!$J$3:$K$179,2,FALSE),\"\")","v":""},null,null,{"$f":"IF(OR(B96=Dimension!$A$6,B96=Dimension!$A$7,B96=Dimension!$A$8,B96=Dimension!$A$9),\"\",IF(OR(B96=Dimension!$A$3,B96=Dimension!$A$4,B96=Dimension!$A$5),\"สถานประกอบการ\",\"\"))","v":""},{"$f":"IF(OR(B96=Dimension!$A$6,B96=Dimension!$A$7,B96=Dimension!$A$8,B96=Dimension!$A$9,B96=\"\"),\"\",Payment_ID2)","v":""},"",null,null,{"$f":"IF(D96=Dimension!$C$9,IF(LEFT(UPPER(E96),2)=\"MC\",TRUE,FALSE),TRUE)","v":true}]
[null,null,null,{"$f":"IF(B97=Dimension!$A$8,Dimension!$C$9,IF(B97=Dimension!$A$6,CD,\"\"))","v":""},null,{"$f":"IF(OR(B97=Dimension!$A$3,B97=Dimension!$A$4,B97=Dimension!$A$6,B97=Dimension!$A$8),CCYA,\"\")","v":""},{"$f":"IFERROR(VLOOKUP(F97,Dimension!$G$3:$H$252,2,FALSE),\"\")","v":""},{"$f":"IF(OR(B97=Dimension!$A$3,B97=Dimension!$A$4,B97=Dimension!$A$5),\"เดินทาง/ท่องเที่ยว\",\"\")","v":""},{"$f":"IF(OR(B97=Dimension!$A$6,B97=Dimension!$A$7,B97=Dimension!$A$8,B97=Dimension!$A$9),\"\",IF(OR(B97=Dimension!$A$3,B97=Dimension!$A$4,B97=Dimension!$A$5),\"สถานประกอบการ\",\"\"))","v":""},{"$f":"IF(OR(B97=Dimension!$A$3,B97=Dimension!$A$4,B97=Dimension!$A$5,B97=Dimension!$A$6,,B97=Dimension!$A$7,B97=Dimension!$A$8,B97=Dimension!$A$9),Payment_ID2,\"\")","v":""},null,{"$f":"IFERROR(VLOOKUP(K97,Dimension!$J$3:$K$179,2,FALSE),\"\")","v":""},null,null,{"$f":"IF(OR(B97=Dimension!$A$6,B97=Dimension!$A$7,B97=Dimension!$A$8,B97=Dimension!$A$9),\"\",IF(OR(B97=Dimension!$A$3,B97=Dimension!$A$4,B97=Dimension!$A$5),\"สถานประกอบการ\",\"\"))","v":""},{"$f":"IF(OR(B97=Dimension!$A$6,B97=Dimension!$A$7,B97=Dimension!$A$8,B97=Dimension!$A$9,B97=\"\"),\"\",Payment_ID2)","v":""},"",null,null,{"$f":"IF(D97=Dimension!$C$9,IF(LEFT(UPPER(E97),2)=\"MC\",TRUE,FALSE),TRUE)","v":true}]
[null,null,null,{"$f":"IF(B98=Dimension!$A$8,Dimension!$C$9,IF(B98=Dimension!$A$6,CD,\"\"))","v":""},null,{"$f":"IF(OR(B98=Dimension!$A$3,B98=Dimension!$A$4,B98=Dimension!$A$6,B98=Dimension!$A$8),CCYA,\"\")","v":""},{"$f":"IFERROR(VLOOKUP(F98,Dimension!$G$3:$H$252,2,FALSE),\"\")","v":""},{"$f":"IF(OR(B98=Dimension!$A$3,B98=Dimension!$A$4,B98=Dimension!$A$5),\"เดินทาง/ท่องเที่ยว\",\"\")","v":""},{"$f":"IF(OR(B98=Dimension!$A$6,B98=Dimension!$A$7,B98=Dimension!$A$8,B98=Dimension!$A$9),\"\",IF(OR(B98=Dimension!$A$3,B98=Dimension!$A$4,B98=Dimension!$A$5),\"สถานประกอบการ\",\"\"))","v":""},{"$f":"IF(OR(B98=Dimension!$A$3,B98=Dimension!$A$4,B98=Dimension!$A$5,B98=Dimension!$A$6,,B98=Dimension!$A$7,B98=Dimension!$A$8,B98=Dimension!$A$9),Payment_ID2,\"\")","v":""},null,{"$f":"IFERROR(VLOOKUP(K98,Dimension!$J$3:$K$179,2,FALSE),\"\")","v":""},null,null,{"$f":"IF(OR(B98=Dimension!$A$6,B98=Dimension!$A$7,B98=Dimension!$A$8,B98=Dimension!$A$9),\"\",IF(OR(B98=Dimension!$A$3,B98=Dimension!$A$4,B98=Dimension!$A$5),\"สถานประกอบการ\",\"\"))","v":""},{"$f":"IF(OR(B98=Dimension!$A$6,B98=Dimension!$A$7,B98=Dimension!$A$8,B98=Dimension!$A$9,B98=\"\"),\"\",Payment_ID2)","v":""},"",null,null,{"$f":"IF(D98=Dimension!$C$9,IF(LEFT(UPPER(E98),2)=\"MC\",TRUE,FALSE),TRUE)","v":true}]
[null,null,null,{"$f":"IF(B99=Dimension!$A$8,Dimension!$C$9,IF(B99=Dimension!$A$6,CD,\"\"))","v":""},null,{"$f":"IF(OR(B99=Dimension!$A$3,B99=Dimension!$A$4,B99=Dimension!$A$6,B99=Dimension!$A$8),CCYA,\"\")","v":""},{"$f":"IFERROR(VLOOKUP(F99,Dimension!$G$3:$H$252,2,FALSE),\"\")","v":""},{"$f":"IF(OR(B99=Dimension!$A$3,B99=Dimension!$A$4,B99=Dimension!$A$5),\"เดินทาง/ท่องเที่ยว\",\"\")","v":""},{"$f":"IF(OR(B99=Dimension!$A$6,B99=Dimension!$A$7,B99=Dimension!$A$8,B99=Dimension!$A$9),\"\",IF(OR(B99=Dimension!$A$3,B99=Dimension!$A$4,B99=Dimension!$A$5),\"สถานประกอบการ\",\"\"))","v":""},{"$f":"IF(OR(B99=Dimension!$A$3,B99=Dimension!$A$4,B99=Dimension!$A$5,B99=Dimension!$A$6,,B99=Dimension!$A$7,B99=Dimension!$A$8,B99=Dimension!$A$9),Payment_ID2,\"\")","v":""},null,{"$f":"IFERROR(VLOOKUP(K99,Dimension!$J$3:$K$179,2,FALSE),\"\")","v":""},null,null,{"$f":"IF(OR(B99=Dimension!$A$6,B99=Dimension!$A$7,B99=Dimension!$A$8,B99=Dimension!$A$9),\"\",IF(OR(B99=Dimension!$A$3,B99=Dimension!$A$4,B99=Dimension!$A$5),\"สถานประกอบการ\",\"\"))","v":""},{"$f":"IF(OR(B99=Dimension!$A$6,B99=Dimension!$A$7,B99=Dimension!$A$8,B99=Dimension!$A$9,B99=\"\"),\"\",Payment_ID2)","v":""},"",null,null,{"$f":"IF(D99=Dimension!$C$9,IF(LEFT(UPPER(E99),2)=\"MC\",TRUE,FALSE),TRUE)","v":true}]
[null,null,null,{"$f":"IF(B100=Dimension!$A$8,Dimension!$C$9,IF(B100=Dimension!$A$6,CD,\"\"))","v":""},null,{"$f":"IF(OR(B100=Dimension!$A$3,B100=Dimension!$A$4,B100=Dimension!$A$6,B100=Dimension!$A$8),CCYA,\"\")","v":""},{"$f":"IFERROR(VLOOKUP(F100,Dimension!$G$3:$H$252,2,FALSE),\"\")","v":""},{"$f":"IF(OR(B100=Dimension!$A$3,B100=Dimension!$A$4,B100=Dimension!$A$5),\"เดินทาง/ท่องเที่ยว\",\"\")","v":""},{"$f":"IF(OR(B100=Dimension!$A$6,B100=Dimension!$A$7,B100=Dimension!$A$8,B100=Dimension!$A$9),\"\",IF(OR(B100=Dimension!$A$3,B100=Dimension!$A$4,B100=Dimension!$A$5),\"สถานประกอบการ\",\"\"))","v":""},{"$f":"IF(OR(B100=Dimension!$A$3,B100=Dimension!$A$4,B100=Dimension!$A$5,B100=Dimension!$A$6,,B100=Dimension!$A$7,B100=Dimension!$A$8,B100=Dimension!$A$9),Payment_ID2,\"\")","v":""},null,{"$f":"IFERROR(VLOOKUP(K100,Dimension!$J$3:$K$179,2,FALSE),\"\")","v":""},null,null,{"$f":"IF(OR(B100=Dimension!$A$6,B100=Dimension!$A$7,B100=Dimension!$A$8,B100=Dimension!$A$9),\"\",IF(OR(B100=Dimension!$A$3,B100=Dimension!$A$4,B100=Dimension!$A$5),\"สถานประกอบการ\",\"\"))","v":""},{"$f":"IF(OR(B100=Dimension!$A$6,B100=Dimension!$A$7,B100=Dimension!$A$8,B100=Dimension!$A$9,B100=\"\"),\"\",Payment_ID2)","v":""},"",null,null,{"$f":"IF(D100=Dimension!$C$9,IF(LEFT(UPPER(E100),2)=\"MC\",TRUE,FALSE),TRUE)","v":true}]
[null,null,null,{"$f":"IF(B101=Dimension!$A$8,Dimension!$C$9,IF(B101=Dimension!$A$6,CD,\"\"))","v":""},null,{"$f":"IF(OR(B101=Dimension!$A$3,B101=Dimension!$A$4,B101=Dimension!$A$6,B101=Dimension!$A$8),CCYA,\"\")","v":""},{"$f":"IFERROR(VLOOKUP(F101,Dimension!$G$3:$H$252,2,FALSE),\"\")","v":""},{"$f":"IF(OR(B101=Dimension!$A$3,B101=Dimension!$A$4,B101=Dimension!$A$5),\"เดินทาง/ท่องเที่ยว\",\"\")","v":""},{"$f":"IF(OR(B101=Dimension!$A$6,B101=Dimension!$A$7,B101=Dimension!$A$8,B101=Dimension!$A$9),\"\",IF(OR(B101=Dimension!$A$3,B101=Dimension!$A$4,B101=Dimension!$A$5),\"สถานประกอบการ\",\"\"))","v":""},{"$f":"IF(OR(B101=Dimension!$A$3,B101=Dimension!$A$4,B101=Dimension!$A$5,B101=Dimension!$A$6,,B101=Dimension!$A$7,B101=Dimension!$A$8,B101=Dimension!$A$9),Payment_ID2,\"\")","v":""},null,{"$f":"IFERROR(VLOOKUP(K101,Dimension!$J$3:$K$179,2,FALSE),\"\")","v":""},null,null,{"$f":"IF(OR(B101=Dimension!$A$6,B101=Dimension!$A$7,B101=Dimension!$A$8,B101=Dimension!$A$9),\"\",IF(OR(B101=Dimension!$A$3,B101=Dimension!$A$4,B101=Dimension!$A$5),\"สถานประกอบการ\",\"\"))","v":""},{"$f":"IF(OR(B101=Dimension!$A$6,B101=Dimension!$A$7,B101=Dimension!$A$8,B101=Dimension!$A$9,B101=\"\"),\"\",Payment_ID2)","v":""},"",null,null,{"$f":"IF(D101=Dimension!$C$9,IF(LEFT(UPPER(E101),2)=\"MC\",TRUE,FALSE),TRUE)","v":true}]
[null,null,null,{"$f":"IF(B102=Dimension!$A$8,Dimension!$C$9,IF(B102=Dimension!$A$6,CD,\"\"))","v":""},null,{"$f":"IF(OR(B102=Dimension!$A$3,B102=Dimension!$A$4,B102=Dimension!$A$6,B102=Dimension!$A$8),CCYA,\"\")","v":""},{"$f":"IFERROR(VLOOKUP(F102,Dimension!$G$3:$H$252,2,FALSE),\"\")","v":""},{"$f":"IF(OR(B102=Dimension!$A$3,B102=Dimension!$A$4,B102=Dimension!$A$5),\"เดินทาง/ท่องเที่ยว\",\"\")","v":""},{"$f":"IF(OR(B102=Dimension!$A$6,B102=Dimension!$A$7,B102=Dimension!$A$8,B102=Dimension!$A$9),\"\",IF(OR(B102=Dimension!$A$3,B102=Dimension!$A$4,B102=Dimension!$A$5),\"สถานประกอบการ\",\"\"))","v":""},{"$f":"IF(OR(B102=Dimension!$A$3,B102=Dimension!$A$4,B102=Dimension!$A$5,B102=Dimension!$A$6,,B102=Dimension!$A$7,B102=Dimension!$A$8,B102=Dimension!$A$9),Payment_ID2,\"\")","v":""},null,{"$f":"IFERROR(VLOOKUP(K102,Dimension!$J$3:$K$179,2,FALSE),\"\")","v":""},null,null,{"$f":"IF(OR(B102=Dimension!$A$6,B102=Dimension!$A$7,B102=Dimension!$A$8,B102=Dimension!$A$9),\"\",IF(OR(B102=Dimension!$A$3,B102=Dimension!$A$4,B102=Dimension!$A$5),\"สถานประกอบการ\",\"\"))","v":""},{"$f":"IF(OR(B102=Dimension!$A$6,B102=Dimension!$A$7,B102=Dimension!$A$8,B102=Dimension!$A$9,B102=\"\"),\"\",Payment_ID2)","v":""},"",null,null,{"$f":"IF(D102=Dimension!$C$9,IF(LEFT(UPPER(E102),2)=\"MC\",TRUE,FALSE),TRUE)","v":true}]
[null,null,null,{"$f":"IF(B103=Dimension!$A$8,Dimension!$C$9,IF(B103=Dimension!$A$6,CD,\"\"))","v":""},null,{"$f":"IF(OR(B103=Dimension!$A$3,B103=Dimension!$A$4,B103=Dimension!$A$6,B103=Dimension!$A$8),CCYA,\"\")","v":""},{"$f":"IFERROR(VLOOKUP(F103,Dimension!$G$3:$H$252,2,FALSE),\"\")","v":""},{"$f":"IF(OR(B103=Dimension!$A$3,B103=Dimension!$A$4,B103=Dimension!$A$5),\"เดินทาง/ท่องเที่ยว\",\"\")","v":""},{"$f":"IF(OR(B103=Dimension!$A$6,B103=Dimension!$A$7,B103=Dimension!$A$8,B103=Dimension!$A$9),\"\",IF(OR(B103=Dimension!$A$3,B103=Dimension!$A$4,B103=Dimension!$A$5),\"สถานประกอบการ\",\"\"))","v":""},{"$f":"IF(OR(B103=Dimension!$A$3,B103=Dimension!$A$4,B103=Dimension!$A$5,B103=Dimension!$A$6,,B103=Dimension!$A$7,B103=Dimension!$A$8,B103=Dimension!$A$9),Payment_ID2,\"\")","v":""},null,{"$f":"IFERROR(VLOOKUP(K103,Dimension!$J$3:$K$179,2,FALSE),\"\")","v":""},null,null,{"$f":"IF(OR(B103=Dimension!$A$6,B103=Dimension!$A$7,B103=Dimension!$A$8,B103=Dimension!$A$9),\"\",IF(OR(B103=Dimension!$A$3,B103=Dimension!$A$4,B103=Dimension!$A$5),\"สถานประกอบการ\",\"\"))","v":""},{"$f":"IF(OR(B103=Dimension!$A$6,B103=Dimension!$A$7,B103=Dimension!$A$8,B103=Dimension!$A$9,B103=\"\"),\"\",Payment_ID2)","v":""},"",null,null,{"$f":"IF(D103=Dimension!$C$9,IF(LEFT(UPPER(E103),2)=\"MC\",TRUE,FALSE),TRUE)","v":true}]
[null,null,null,{"$f":"IF(B104=Dimension!$A$8,Dimension!$C$9,IF(B104=Dimension!$A$6,CD,\"\"))","v":""},null,{"$f":"IF(OR(B104=Dimension!$A$3,B104=Dimension!$A$4,B104=Dimension!$A$6,B104=Dimension!$A$8),CCYA,\"\")","v":""},{"$f":"IFERROR(VLOOKUP(F104,Dimension!$G$3:$H$252,2,FALSE),\"\")","v":""},{"$f":"IF(OR(B104=Dimension!$A$3,B104=Dimension!$A$4,B104=Dimension!$A$5),\"เดินทาง/ท่องเที่ยว\",\"\")","v":""},{"$f":"IF(OR(B104=Dimension!$A$6,B104=Dimension!$A$7,B104=Dimension!$A$8,B104=Dimension!$A$9),\"\",IF(OR(B104=Dimension!$A$3,B104=Dimension!$A$4,B104=Dimension!$A$5),\"สถานประกอบการ\",\"\"))","v":""},{"$f":"IF(OR(B104=Dimension!$A$3,B104=Dimension!$A$4,B104=Dimension!$A$5,B104=Dimension!$A$6,,B104=Dimension!$A$7,B104=Dimension!$A$8,B104=Dimension!$A$9),Payment_ID2,\"\")","v":""},null,{"$f":"IFERROR(VLOOKUP(K104,Dimension!$J$3:$K$179,2,FALSE),\"\")","v":""},null,null,{"$f":"IF(OR(B104=Dimension!$A$6,B104=Dimension!$A$7,B104=Dimension!$A$8,B104=Dimension!$A$9),\"\",IF(OR(B104=Dimension!$A$3,B104=Dimension!$A$4,B104=Dimension!$A$5),\"สถานประกอบการ\",\"\"))","v":""},{"$f":"IF(OR(B104=Dimension!$A$6,B104=Dimension!$A$7,B104=Dimension!$A$8,B104=Dimension!$A$9,B104=\"\"),\"\",Payment_ID2)","v":""},"",null,null,{"$f":"IF(D104=Dimension!$C$9,IF(LEFT(UPPER(E104),2)=\"MC\",TRUE,FALSE),TRUE)","v":true}]
[null,null,null,{"$f":"IF(B105=Dimension!$A$8,Dimension!$C$9,IF(B105=Dimension!$A$6,CD,\"\"))","v":""},null,{"$f":"IF(OR(B105=Dimension!$A$3,B105=Dimension!$A$4,B105=Dimension!$A$6,B105=Dimension!$A$8),CCYA,\"\")","v":""},{"$f":"IFERROR(VLOOKUP(F105,Dimension!$G$3:$H$252,2,FALSE),\"\")","v":""},{"$f":"IF(OR(B105=Dimension!$A$3,B105=Dimension!$A$4,B105=Dimension!$A$5),\"เดินทาง/ท่องเที่ยว\",\"\")","v":""},{"$f":"IF(OR(B105=Dimension!$A$6,B105=Dimension!$A$7,B105=Dimension!$A$8,B105=Dimension!$A$9),\"\",IF(OR(B105=Dimension!$A$3,B105=Dimension!$A$4,B105=Dimension!$A$5),\"สถานประกอบการ\",\"\"))","v":""},{"$f":"IF(OR(B105=Dimension!$A$3,B105=Dimension!$A$4,B105=Dimension!$A$5,B105=Dimension!$A$6,,B105=Dimension!$A$7,B105=Dimension!$A$8,B105=Dimension!$A$9),Payment_ID2,\"\")","v":""},null,{"$f":"IFERROR(VLOOKUP(K105,Dimension!$J$3:$K$179,2,FALSE),\"\")","v":""},null,null,{"$f":"IF(OR(B105=Dimension!$A$6,B105=Dimension!$A$7,B105=Dimension!$A$8,B105=Dimension!$A$9),\"\",IF(OR(B105=Dimension!$A$3,B105=Dimension!$A$4,B105=Dimension!$A$5),\"สถานประกอบการ\",\"\"))","v":""},{"$f":"IF(OR(B105=Dimension!$A$6,B105=Dimension!$A$7,B105=Dimension!$A$8,B105=Dimension!$A$9,B105=\"\"),\"\",Payment_ID2)","v":""},"",null,null,{"$f":"IF(D105=Dimension!$C$9,IF(LEFT(UPPER(E105),2)=\"MC\",TRUE,FALSE),TRUE)","v":true}]
[null,null,null,{"$f":"IF(B106=Dimension!$A$8,Dimension!$C$9,IF(B106=Dimension!$A$6,CD,\"\"))","v":""},null,{"$f":"IF(OR(B106=Dimension!$A$3,B106=Dimension!$A$4,B106=Dimension!$A$6,B106=Dimension!$A$8),CCYA,\"\")","v":""},{"$f":"IFERROR(VLOOKUP(F106,Dimension!$G$3:$H$252,2,FALSE),\"\")","v":""},{"$f":"IF(OR(B106=Dimension!$A$3,B106=Dimension!$A$4,B106=Dimension!$A$5),\"เดินทาง/ท่องเที่ยว\",\"\")","v":""},{"$f":"IF(OR(B106=Dimension!$A$6,B106=Dimension!$A$7,B106=Dimension!$A$8,B106=Dimension!$A$9),\"\",IF(OR(B106=Dimension!$A$3,B106=Dimension!$A$4,B106=Dimension!$A$5),\"สถานประกอบการ\",\"\"))","v":""},{"$f":"IF(OR(B106=Dimension!$A$3,B106=Dimension!$A$4,B106=Dimension!$A$5,B106=Dimension!$A$6,,B106=Dimension!$A$7,B106=Dimension!$A$8,B106=Dimension!$A$9),Payment_ID2,\"\")","v":""},null,{"$f":"IFERROR(VLOOKUP(K106,Dimension!$J$3:$K$179,2,FALSE),\"\")","v":""},null,null,{"$f":"IF(OR(B106=Dimension!$A$6,B106=Dimension!$A$7,B106=Dimension!$A$8,B106=Dimension!$A$9),\"\",IF(OR(B106=Dimension!$A$3,B106=Dimension!$A$4,B106=Dimension!$A$5),\"สถานประกอบการ\",\"\"))","v":""},{"$f":"IF(OR(B106=Dimension!$A$6,B106=Dimension!$A$7,B106=Dimension!$A$8,B106=Dimension!$A$9,B106=\"\"),\"\",Payment_ID2)","v":""},"",null,null,{"$f":"IF(D106=Dimension!$C$9,IF(LEFT(UPPER(E106),2)=\"MC\",TRUE,FALSE),TRUE)","v":true}]
[null,null,null,{"$f":"IF(B107=Dimension!$A$8,Dimension!$C$9,IF(B107=Dimension!$A$6,CD,\"\"))","v":""},null,{"$f":"IF(OR(B107=Dimension!$A$3,B107=Dimension!$A$4,B107=Dimension!$A$6,B107=Dimension!$A$8),CCYA,\"\")","v":""},{"$f":"IFERROR(VLOOKUP(F107,Dimension!$G$3:$H$252,2,FALSE),\"\")","v":""},{"$f":"IF(OR(B107=Dimension!$A$3,B107=Dimension!$A$4,B107=Dimension!$A$5),\"เดินทาง/ท่องเที่ยว\",\"\")","v":""},{"$f":"IF(OR(B107=Dimension!$A$6,B107=Dimension!$A$7,B107=Dimension!$A$8,B107=Dimension!$A$9),\"\",IF(OR(B107=Dimension!$A$3,B107=Dimension!$A$4,B107=Dimension!$A$5),\"สถานประกอบการ\",\"\"))","v":""},{"$f":"IF(OR(B107=Dimension!$A$3,B107=Dimension!$A$4,B107=Dimension!$A$5,B107=Dimension!$A$6,,B107=Dimension!$A$7,B107=Dimension!$A$8,B107=Dimension!$A$9),Payment_ID2,\"\")","v":""},null,{"$f":"IFERROR(VLOOKUP(K107,Dimension!$J$3:$K$179,2,FALSE),\"\")","v":""},null,null,{"$f":"IF(OR(B107=Dimension!$A$6,B107=Dimension!$A$7,B107=Dimension!$A$8,B107=Dimension!$A$9),\"\",IF(OR(B107=Dimension!$A$3,B107=Dimension!$A$4,B107=Dimension!$A$5),\"สถานประกอบการ\",\"\"))","v":""},{"$f":"IF(OR(B107=Dimension!$A$6,B107=Dimension!$A$7,B107=Dimension!$A$8,B107=Dimension!$A$9,B107=\"\"),\"\",Payment_ID2)","v":""},"",null,null,{"$f":"IF(D107=Dimension!$C$9,IF(LEFT(UPPER(E107),2)=\"MC\",TRUE,FALSE),TRUE)","v":true}]
[null,null,null,{"$f":"IF(B108=Dimension!$A$8,Dimension!$C$9,IF(B108=Dimension!$A$6,CD,\"\"))","v":""},null,{"$f":"IF(OR(B108=Dimension!$A$3,B108=Dimension!$A$4,B108=Dimension!$A$6,B108=Dimension!$A$8),CCYA,\"\")","v":""},{"$f":"IFERROR(VLOOKUP(F108,Dimension!$G$3:$H$252,2,FALSE),\"\")","v":""},{"$f":"IF(OR(B108=Dimension!$A$3,B108=Dimension!$A$4,B108=Dimension!$A$5),\"เดินทาง/ท่องเที่ยว\",\"\")","v":""},{"$f":"IF(OR(B108=Dimension!$A$6,B108=Dimension!$A$7,B108=Dimension!$A$8,B108=Dimension!$A$9),\"\",IF(OR(B108=Dimension!$A$3,B108=Dimension!$A$4,B108=Dimension!$A$5),\"สถานประกอบการ\",\"\"))","v":""},{"$f":"IF(OR(B108=Dimension!$A$3,B108=Dimension!$A$4,B108=Dimension!$A$5,B108=Dimension!$A$6,,B108=Dimension!$A$7,B108=Dimension!$A$8,B108=Dimension!$A$9),Payment_ID2,\"\")","v":""},null,{"$f":"IFERROR(VLOOKUP(K108,Dimension!$J$3:$K$179,2,FALSE),\"\")","v":""},null,null,{"$f":"IF(OR(B108=Dimension!$A$6,B108=Dimension!$A$7,B108=Dimension!$A$8,B108=Dimension!$A$9),\"\",IF(OR(B108=Dimension!$A$3,B108=Dimension!$A$4,B108=Dimension!$A$5),\"สถานประกอบการ\",\"\"))","v":""},{"$f":"IF(OR(B108=Dimension!$A$6,B108=Dimension!$A$7,B108=Dimension!$A$8,B108=Dimension!$A$9,B108=\"\"),\"\",Payment_ID2)","v":""},"",null,null,{"$f":"IF(D108=Dimension!$C$9,IF(LEFT(UPPER(E108),2)=\"MC\",TRUE,FALSE),TRUE)","v":true}]
[null,null,null,{"$f":"IF(B109=Dimension!$A$8,Dimension!$C$9,IF(B109=Dimension!$A$6,CD,\"\"))","v":""},null,{"$f":"IF(OR(B109=Dimension!$A$3,B109=Dimension!$A$4,B109=Dimension!$A$6,B109=Dimension!$A$8),CCYA,\"\")","v":""},{"$f":"IFERROR(VLOOKUP(F109,Dimension!$G$3:$H$252,2,FALSE),\"\")","v":""},{"$f":"IF(OR(B109=Dimension!$A$3,B109=Dimension!$A$4,B109=Dimension!$A$5),\"เดินทาง/ท่องเที่ยว\",\"\")","v":""},{"$f":"IF(OR(B109=Dimension!$A$6,B109=Dimension!$A$7,B109=Dimension!$A$8,B109=Dimension!$A$9),\"\",IF(OR(B109=Dimension!$A$3,B109=Dimension!$A$4,B109=Dimension!$A$5),\"สถานประกอบการ\",\"\"))","v":""},{"$f":"IF(OR(B109=Dimension!$A$3,B109=Dimension!$A$4,B109=Dimension!$A$5,B109=Dimension!$A$6,,B109=Dimension!$A$7,B109=Dimension!$A$8,B109=Dimension!$A$9),Payment_ID2,\"\")","v":""},null,{"$f":"IFERROR(VLOOKUP(K109,Dimension!$J$3:$K$179,2,FALSE),\"\")","v":""},null,null,{"$f":"IF(OR(B109=Dimension!$A$6,B109=Dimension!$A$7,B109=Dimension!$A$8,B109=Dimension!$A$9),\"\",IF(OR(B109=Dimension!$A$3,B109=Dimension!$A$4,B109=Dimension!$A$5),\"สถานประกอบการ\",\"\"))","v":""},{"$f":"IF(OR(B109=Dimension!$A$6,B109=Dimension!$A$7,B109=Dimension!$A$8,B109=Dimension!$A$9,B109=\"\"),\"\",Payment_ID2)","v":""},"",null,null,{"$f":"IF(D109=Dimension!$C$9,IF(LEFT(UPPER(E109),2)=\"MC\",TRUE,FALSE),TRUE)","v":true}]
[null,null,null,{"$f":"IF(B110=Dimension!$A$8,Dimension!$C$9,IF(B110=Dimension!$A$6,CD,\"\"))","v":""},null,{"$f":"IF(OR(B110=Dimension!$A$3,B110=Dimension!$A$4,B110=Dimension!$A$6,B110=Dimension!$A$8),CCYA,\"\")","v":""},{"$f":"IFERROR(VLOOKUP(F110,Dimension!$G$3:$H$252,2,FALSE),\"\")","v":""},{"$f":"IF(OR(B110=Dimension!$A$3,B110=Dimension!$A$4,B110=Dimension!$A$5),\"เดินทาง/ท่องเที่ยว\",\"\")","v":""},{"$f":"IF(OR(B110=Dimension!$A$6,B110=Dimension!$A$7,B110=Dimension!$A$8,B110=Dimension!$A$9),\"\",IF(OR(B110=Dimension!$A$3,B110=Dimension!$A$4,B110=Dimension!$A$5),\"สถานประกอบการ\",\"\"))","v":""},{"$f":"IF(OR(B110=Dimension!$A$3,B110=Dimension!$A$4,B110=Dimension!$A$5,B110=Dimension!$A$6,,B110=Dimension!$A$7,B110=Dimension!$A$8,B110=Dimension!$A$9),Payment_ID2,\"\")","v":""},null,{"$f":"IFERROR(VLOOKUP(K110,Dimension!$J$3:$K$179,2,FALSE),\"\")","v":""},null,null,{"$f":"IF(OR(B110=Dimension!$A$6,B110=Dimension!$A$7,B110=Dimension!$A$8,B110=Dimension!$A$9),\"\",IF(OR(B110=Dimension!$A$3,B110=Dimension!$A$4,B110=Dimension!$A$5),\"สถานประกอบการ\",\"\"))","v":""},{"$f":"IF(OR(B110=Dimension!$A$6,B110=Dimension!$A$7,B110=Dimension!$A$8,B110=Dimension!$A$9,B110=\"\"),\"\",Payment_ID2)","v":""},"",null,null,{"$f":"IF(D110=Dimension!$C$9,IF(LEFT(UPPER(E110),2)=\"MC\",TRUE,FALSE),TRUE)","v":true}]
[null,null,null,{"$f":"IF(B111=Dimension!$A$8,Dimension!$C$9,IF(B111=Dimension!$A$6,CD,\"\"))","v":""},null,{"$f":"IF(OR(B111=Dimension!$A$3,B111=Dimension!$A$4,B111=Dimension!$A$6,B111=Dimension!$A$8),CCYA,\"\")","v":""},{"$f":"IFERROR(VLOOKUP(F111,Dimension!$G$3:$H$252,2,FALSE),\"\")","v":""},{"$f":"IF(OR(B111=Dimension!$A$3,B111=Dimension!$A$4,B111=Dimension!$A$5),\"เดินทาง/ท่องเที่ยว\",\"\")","v":""},{"$f":"IF(OR(B111=Dimension!$A$6,B111=Dimension!$A$7,B111=Dimension!$A$8,B111=Dimension!$A$9),\"\",IF(OR(B111=Dimension!$A$3,B111=Dimension!$A$4,B111=Dimension!$A$5),\"สถานประกอบการ\",\"\"))","v":""},{"$f":"IF(OR(B111=Dimension!$A$3,B111=Dimension!$A$4,B111=Dimension!$A$5,B111=Dimension!$A$6,,B111=Dimension!$A$7,B111=Dimension!$A$8,B111=Dimension!$A$9),Payment_ID2,\"\")","v":""},null,{"$f":"IFERROR(VLOOKUP(K111,Dimension!$J$3:$K$179,2,FALSE),\"\")","v":""},null,null,{"$f":"IF(OR(B111=Dimension!$A$6,B111=Dimension!$A$7,B111=Dimension!$A$8,B111=Dimension!$A$9),\"\",IF(OR(B111=Dimension!$A$3,B111=Dimension!$A$4,B111=Dimension!$A$5),\"สถานประกอบการ\",\"\"))","v":""},{"$f":"IF(OR(B111=Dimension!$A$6,B111=Dimension!$A$7,B111=Dimension!$A$8,B111=Dimension!$A$9,B111=\"\"),\"\",Payment_ID2)","v":""},"",null,null,{"$f":"IF(D111=Dimension!$C$9,IF(LEFT(UPPER(E111),2)=\"MC\",TRUE,FALSE),TRUE)","v":true}]
[null,null,null,{"$f":"IF(B112=Dimension!$A$8,Dimension!$C$9,IF(B112=Dimension!$A$6,CD,\"\"))","v":""},null,{"$f":"IF(OR(B112=Dimension!$A$3,B112=Dimension!$A$4,B112=Dimension!$A$6,B112=Dimension!$A$8),CCYA,\"\")","v":""},{"$f":"IFERROR(VLOOKUP(F112,Dimension!$G$3:$H$252,2,FALSE),\"\")","v":""},{"$f":"IF(OR(B112=Dimension!$A$3,B112=Dimension!$A$4,B112=Dimension!$A$5),\"เดินทาง/ท่องเที่ยว\",\"\")","v":""},{"$f":"IF(OR(B112=Dimension!$A$6,B112=Dimension!$A$7,B112=Dimension!$A$8,B112=Dimension!$A$9),\"\",IF(OR(B112=Dimension!$A$3,B112=Dimension!$A$4,B112=Dimension!$A$5),\"สถานประกอบการ\",\"\"))","v":""},{"$f":"IF(OR(B112=Dimension!$A$3,B112=Dimension!$A$4,B112=Dimension!$A$5,B112=Dimension!$A$6,,B112=Dimension!$A$7,B112=Dimension!$A$8,B112=Dimension!$A$9),Payment_ID2,\"\")","v":""},null,{"$f":"IFERROR(VLOOKUP(K112,Dimension!$J$3:$K$179,2,FALSE),\"\")","v":""},null,null,{"$f":"IF(OR(B112=Dimension!$A$6,B112=Dimension!$A$7,B112=Dimension!$A$8,B112=Dimension!$A$9),\"\",IF(OR(B112=Dimension!$A$3,B112=Dimension!$A$4,B112=Dimension!$A$5),\"สถานประกอบการ\",\"\"))","v":""},{"$f":"IF(OR(B112=Dimension!$A$6,B112=Dimension!$A$7,B112=Dimension!$A$8,B112=Dimension!$A$9,B112=\"\"),\"\",Payment_ID2)","v":""},"",null,null,{"$f":"IF(D112=Dimension!$C$9,IF(LEFT(UPPER(E112),2)=\"MC\",TRUE,FALSE),TRUE)","v":true}]
[null,null,null,{"$f":"IF(B113=Dimension!$A$8,Dimension!$C$9,IF(B113=Dimension!$A$6,CD,\"\"))","v":""},null,{"$f":"IF(OR(B113=Dimension!$A$3,B113=Dimension!$A$4,B113=Dimension!$A$6,B113=Dimension!$A$8),CCYA,\"\")","v":""},{"$f":"IFERROR(VLOOKUP(F113,Dimension!$G$3:$H$252,2,FALSE),\"\")","v":""},{"$f":"IF(OR(B113=Dimension!$A$3,B113=Dimension!$A$4,B113=Dimension!$A$5),\"เดินทาง/ท่องเที่ยว\",\"\")","v":""},{"$f":"IF(OR(B113=Dimension!$A$6,B113=Dimension!$A$7,B113=Dimension!$A$8,B113=Dimension!$A$9),\"\",IF(OR(B113=Dimension!$A$3,B113=Dimension!$A$4,B113=Dimension!$A$5),\"สถานประกอบการ\",\"\"))","v":""},{"$f":"IF(OR(B113=Dimension!$A$3,B113=Dimension!$A$4,B113=Dimension!$A$5,B113=Dimension!$A$6,,B113=Dimension!$A$7,B113=Dimension!$A$8,B113=Dimension!$A$9),Payment_ID2,\"\")","v":""},null,{"$f":"IFERROR(VLOOKUP(K113,Dimension!$J$3:$K$179,2,FALSE),\"\")","v":""},null,null,{"$f":"IF(OR(B113=Dimension!$A$6,B113=Dimension!$A$7,B113=Dimension!$A$8,B113=Dimension!$A$9),\"\",IF(OR(B113=Dimension!$A$3,B113=Dimension!$A$4,B113=Dimension!$A$5),\"สถานประกอบการ\",\"\"))","v":""},{"$f":"IF(OR(B113=Dimension!$A$6,B113=Dimension!$A$7,B113=Dimension!$A$8,B113=Dimension!$A$9,B113=\"\"),\"\",Payment_ID2)","v":""},"",null,null,{"$f":"IF(D113=Dimension!$C$9,IF(LEFT(UPPER(E113),2)=\"MC\",TRUE,FALSE),TRUE)","v":true}]
[null,null,null,{"$f":"IF(B114=Dimension!$A$8,Dimension!$C$9,IF(B114=Dimension!$A$6,CD,\"\"))","v":""},null,{"$f":"IF(OR(B114=Dimension!$A$3,B114=Dimension!$A$4,B114=Dimension!$A$6,B114=Dimension!$A$8),CCYA,\"\")","v":""},{"$f":"IFERROR(VLOOKUP(F114,Dimension!$G$3:$H$252,2,FALSE),\"\")","v":""},{"$f":"IF(OR(B114=Dimension!$A$3,B114=Dimension!$A$4,B114=Dimension!$A$5),\"เดินทาง/ท่องเที่ยว\",\"\")","v":""},{"$f":"IF(OR(B114=Dimension!$A$6,B114=Dimension!$A$7,B114=Dimension!$A$8,B114=Dimension!$A$9),\"\",IF(OR(B114=Dimension!$A$3,B114=Dimension!$A$4,B114=Dimension!$A$5),\"สถานประกอบการ\",\"\"))","v":""},{"$f":"IF(OR(B114=Dimension!$A$3,B114=Dimension!$A$4,B114=Dimension!$A$5,B114=Dimension!$A$6,,B114=Dimension!$A$7,B114=Dimension!$A$8,B114=Dimension!$A$9),Payment_ID2,\"\")","v":""},null,{"$f":"IFERROR(VLOOKUP(K114,Dimension!$J$3:$K$179,2,FALSE),\"\")","v":""},null,null,{"$f":"IF(OR(B114=Dimension!$A$6,B114=Dimension!$A$7,B114=Dimension!$A$8,B114=Dimension!$A$9),\"\",IF(OR(B114=Dimension!$A$3,B114=Dimension!$A$4,B114=Dimension!$A$5),\"สถานประกอบการ\",\"\"))","v":""},{"$f":"IF(OR(B114=Dimension!$A$6,B114=Dimension!$A$7,B114=Dimension!$A$8,B114=Dimension!$A$9,B114=\"\"),\"\",Payment_ID2)","v":""},"",null,null,{"$f":"IF(D114=Dimension!$C$9,IF(LEFT(UPPER(E114),2)=\"MC\",TRUE,FALSE),TRUE)","v":true}]
[null,null,null,{"$f":"IF(B115=Dimension!$A$8,Dimension!$C$9,IF(B115=Dimension!$A$6,CD,\"\"))","v":""},null,{"$f":"IF(OR(B115=Dimension!$A$3,B115=Dimension!$A$4,B115=Dimension!$A$6,B115=Dimension!$A$8),CCYA,\"\")","v":""},{"$f":"IFERROR(VLOOKUP(F115,Dimension!$G$3:$H$252,2,FALSE),\"\")","v":""},{"$f":"IF(OR(B115=Dimension!$A$3,B115=Dimension!$A$4,B115=Dimension!$A$5),\"เดินทาง/ท่องเที่ยว\",\"\")","v":""},{"$f":"IF(OR(B115=Dimension!$A$6,B115=Dimension!$A$7,B115=Dimension!$A$8,B115=Dimension!$A$9),\"\",IF(OR(B115=Dimension!$A$3,B115=Dimension!$A$4,B115=Dimension!$A$5),\"สถานประกอบการ\",\"\"))","v":""},{"$f":"IF(OR(B115=Dimension!$A$3,B115=Dimension!$A$4,B115=Dimension!$A$5,B115=Dimension!$A$6,,B115=Dimension!$A$7,B115=Dimension!$A$8,B115=Dimension!$A$9),Payment_ID2,\"\")","v":""},null,{"$f":"IFERROR(VLOOKUP(K115,Dimension!$J$3:$K$179,2,FALSE),\"\")","v":""},null,null,{"$f":"IF(OR(B115=Dimension!$A$6,B115=Dimension!$A$7,B115=Dimension!$A$8,B115=Dimension!$A$9),\"\",IF(OR(B115=Dimension!$A$3,B115=Dimension!$A$4,B115=Dimension!$A$5),\"สถานประกอบการ\",\"\"))","v":""},{"$f":"IF(OR(B115=Dimension!$A$6,B115=Dimension!$A$7,B115=Dimension!$A$8,B115=Dimension!$A$9,B115=\"\"),\"\",Payment_ID2)","v":""},"",null,null,{"$f":"IF(D115=Dimension!$C$9,IF(LEFT(UPPER(E115),2)=\"MC\",TRUE,FALSE),TRUE)","v":true}]
[null,null,null,{"$f":"IF(B116=Dimension!$A$8,Dimension!$C$9,IF(B116=Dimension!$A$6,CD,\"\"))","v":""},null,{"$f":"IF(OR(B116=Dimension!$A$3,B116=Dimension!$A$4,B116=Dimension!$A$6,B116=Dimension!$A$8),CCYA,\"\")","v":""},{"$f":"IFERROR(VLOOKUP(F116,Dimension!$G$3:$H$252,2,FALSE),\"\")","v":""},{"$f":"IF(OR(B116=Dimension!$A$3,B116=Dimension!$A$4,B116=Dimension!$A$5),\"เดินทาง/ท่องเที่ยว\",\"\")","v":""},{"$f":"IF(OR(B116=Dimension!$A$6,B116=Dimension!$A$7,B116=Dimension!$A$8,B116=Dimension!$A$9),\"\",IF(OR(B116=Dimension!$A$3,B116=Dimension!$A$4,B116=Dimension!$A$5),\"สถานประกอบการ\",\"\"))","v":""},{"$f":"IF(OR(B116=Dimension!$A$3,B116=Dimension!$A$4,B116=Dimension!$A$5,B116=Dimension!$A$6,,B116=Dimension!$A$7,B116=Dimension!$A$8,B116=Dimension!$A$9),Payment_ID2,\"\")","v":""},null,{"$f":"IFERROR(VLOOKUP(K116,Dimension!$J$3:$K$179,2,FALSE),\"\")","v":""},null,null,{"$f":"IF(OR(B116=Dimension!$A$6,B116=Dimension!$A$7,B116=Dimension!$A$8,B116=Dimension!$A$9),\"\",IF(OR(B116=Dimension!$A$3,B116=Dimension!$A$4,B116=Dimension!$A$5),\"สถานประกอบการ\",\"\"))","v":""},{"$f":"IF(OR(B116=Dimension!$A$6,B116=Dimension!$A$7,B116=Dimension!$A$8,B116=Dimension!$A$9,B116=\"\"),\"\",Payment_ID2)","v":""},"",null,null,{"$f":"IF(D116=Dimension!$C$9,IF(LEFT(UPPER(E116),2)=\"MC\",TRUE,FALSE),TRUE)","v":true}]
[null,null,null,{"$f":"IF(B117=Dimension!$A$8,Dimension!$C$9,IF(B117=Dimension!$A$6,CD,\"\"))","v":""},null,{"$f":"IF(OR(B117=Dimension!$A$3,B117=Dimension!$A$4,B117=Dimension!$A$6,B117=Dimension!$A$8),CCYA,\"\")","v":""},{"$f":"IFERROR(VLOOKUP(F117,Dimension!$G$3:$H$252,2,FALSE),\"\")","v":""},{"$f":"IF(OR(B117=Dimension!$A$3,B117=Dimension!$A$4,B117=Dimension!$A$5),\"เดินทาง/ท่องเที่ยว\",\"\")","v":""},{"$f":"IF(OR(B117=Dimension!$A$6,B117=Dimension!$A$7,B117=Dimension!$A$8,B117=Dimension!$A$9),\"\",IF(OR(B117=Dimension!$A$3,B117=Dimension!$A$4,B117=Dimension!$A$5),\"สถานประกอบการ\",\"\"))","v":""},{"$f":"IF(OR(B117=Dimension!$A$3,B117=Dimension!$A$4,B117=Dimension!$A$5,B117=Dimension!$A$6,,B117=Dimension!$A$7,B117=Dimension!$A$8,B117=Dimension!$A$9),Payment_ID2,\"\")","v":""},null,{"$f":"IFERROR(VLOOKUP(K117,Dimension!$J$3:$K$179,2,FALSE),\"\")","v":""},null,null,{"$f":"IF(OR(B117=Dimension!$A$6,B117=Dimension!$A$7,B117=Dimension!$A$8,B117=Dimension!$A$9),\"\",IF(OR(B117=Dimension!$A$3,B117=Dimension!$A$4,B117=Dimension!$A$5),\"สถานประกอบการ\",\"\"))","v":""},{"$f":"IF(OR(B117=Dimension!$A$6,B117=Dimension!$A$7,B117=Dimension!$A$8,B117=Dimension!$A$9,B117=\"\"),\"\",Payment_ID2)","v":""},"",null,null,{"$f":"IF(D117=Dimension!$C$9,IF(LEFT(UPPER(E117),2)=\"MC\",TRUE,FALSE),TRUE)","v":true}]
[null,null,null,{"$f":"IF(B118=Dimension!$A$8,Dimension!$C$9,IF(B118=Dimension!$A$6,CD,\"\"))","v":""},null,{"$f":"IF(OR(B118=Dimension!$A$3,B118=Dimension!$A$4,B118=Dimension!$A$6,B118=Dimension!$A$8),CCYA,\"\")","v":""},{"$f":"IFERROR(VLOOKUP(F118,Dimension!$G$3:$H$252,2,FALSE),\"\")","v":""},{"$f":"IF(OR(B118=Dimension!$A$3,B118=Dimension!$A$4,B118=Dimension!$A$5),\"เดินทาง/ท่องเที่ยว\",\"\")","v":""},{"$f":"IF(OR(B118=Dimension!$A$6,B118=Dimension!$A$7,B118=Dimension!$A$8,B118=Dimension!$A$9),\"\",IF(OR(B118=Dimension!$A$3,B118=Dimension!$A$4,B118=Dimension!$A$5),\"สถานประกอบการ\",\"\"))","v":""},{"$f":"IF(OR(B118=Dimension!$A$3,B118=Dimension!$A$4,B118=Dimension!$A$5,B118=Dimension!$A$6,,B118=Dimension!$A$7,B118=Dimension!$A$8,B118=Dimension!$A$9),Payment_ID2,\"\")","v":""},null,{"$f":"IFERROR(VLOOKUP(K118,Dimension!$J$3:$K$179,2,FALSE),\"\")","v":""},null,null,{"$f":"IF(OR(B118=Dimension!$A$6,B118=Dimension!$A$7,B118=Dimension!$A$8,B118=Dimension!$A$9),\"\",IF(OR(B118=Dimension!$A$3,B118=Dimension!$A$4,B118=Dimension!$A$5),\"สถานประกอบการ\",\"\"))","v":""},{"$f":"IF(OR(B118=Dimension!$A$6,B118=Dimension!$A$7,B118=Dimension!$A$8,B118=Dimension!$A$9,B118=\"\"),\"\",Payment_ID2)","v":""},"",null,null,{"$f":"IF(D118=Dimension!$C$9,IF(LEFT(UPPER(E118),2)=\"MC\",TRUE,FALSE),TRUE)","v":true}]
[null,null,null,{"$f":"IF(B119=Dimension!$A$8,Dimension!$C$9,IF(B119=Dimension!$A$6,CD,\"\"))","v":""},null,{"$f":"IF(OR(B119=Dimension!$A$3,B119=Dimension!$A$4,B119=Dimension!$A$6,B119=Dimension!$A$8),CCYA,\"\")","v":""},{"$f":"IFERROR(VLOOKUP(F119,Dimension!$G$3:$H$252,2,FALSE),\"\")","v":""},{"$f":"IF(OR(B119=Dimension!$A$3,B119=Dimension!$A$4,B119=Dimension!$A$5),\"เดินทาง/ท่องเที่ยว\",\"\")","v":""},{"$f":"IF(OR(B119=Dimension!$A$6,B119=Dimension!$A$7,B119=Dimension!$A$8,B119=Dimension!$A$9),\"\",IF(OR(B119=Dimension!$A$3,B119=Dimension!$A$4,B119=Dimension!$A$5),\"สถานประกอบการ\",\"\"))","v":""},{"$f":"IF(OR(B119=Dimension!$A$3,B119=Dimension!$A$4,B119=Dimension!$A$5,B119=Dimension!$A$6,,B119=Dimension!$A$7,B119=Dimension!$A$8,B119=Dimension!$A$9),Payment_ID2,\"\")","v":""},null,{"$f":"IFERROR(VLOOKUP(K119,Dimension!$J$3:$K$179,2,FALSE),\"\")","v":""},null,null,{"$f":"IF(OR(B119=Dimension!$A$6,B119=Dimension!$A$7,B119=Dimension!$A$8,B119=Dimension!$A$9),\"\",IF(OR(B119=Dimension!$A$3,B119=Dimension!$A$4,B119=Dimension!$A$5),\"สถานประกอบการ\",\"\"))","v":""},{"$f":"IF(OR(B119=Dimension!$A$6,B119=Dimension!$A$7,B119=Dimension!$A$8,B119=Dimension!$A$9,B119=\"\"),\"\",Payment_ID2)","v":""},"",null,null,{"$f":"IF(D119=Dimension!$C$9,IF(LEFT(UPPER(E119),2)=\"MC\",TRUE,FALSE),TRUE)","v":true}]
[null,null,null,{"$f":"IF(B120=Dimension!$A$8,Dimension!$C$9,IF(B120=Dimension!$A$6,CD,\"\"))","v":""},null,{"$f":"IF(OR(B120=Dimension!$A$3,B120=Dimension!$A$4,B120=Dimension!$A$6,B120=Dimension!$A$8),CCYA,\"\")","v":""},{"$f":"IFERROR(VLOOKUP(F120,Dimension!$G$3:$H$252,2,FALSE),\"\")","v":""},{"$f":"IF(OR(B120=Dimension!$A$3,B120=Dimension!$A$4,B120=Dimension!$A$5),\"เดินทาง/ท่องเที่ยว\",\"\")","v":""},{"$f":"IF(OR(B120=Dimension!$A$6,B120=Dimension!$A$7,B120=Dimension!$A$8,B120=Dimension!$A$9),\"\",IF(OR(B120=Dimension!$A$3,B120=Dimension!$A$4,B120=Dimension!$A$5),\"สถานประกอบการ\",\"\"))","v":""},{"$f":"IF(OR(B120=Dimension!$A$3,B120=Dimension!$A$4,B120=Dimension!$A$5,B120=Dimension!$A$6,,B120=Dimension!$A$7,B120=Dimension!$A$8,B120=Dimension!$A$9),Payment_ID2,\"\")","v":""},null,{"$f":"IFERROR(VLOOKUP(K120,Dimension!$J$3:$K$179,2,FALSE),\"\")","v":""},null,null,{"$f":"IF(OR(B120=Dimension!$A$6,B120=Dimension!$A$7,B120=Dimension!$A$8,B120=Dimension!$A$9),\"\",IF(OR(B120=Dimension!$A$3,B120=Dimension!$A$4,B120=Dimension!$A$5),\"สถานประกอบการ\",\"\"))","v":""},{"$f":"IF(OR(B120=Dimension!$A$6,B120=Dimension!$A$7,B120=Dimension!$A$8,B120=Dimension!$A$9,B120=\"\"),\"\",Payment_ID2)","v":""},"",null,null,{"$f":"IF(D120=Dimension!$C$9,IF(LEFT(UPPER(E120),2)=\"MC\",TRUE,FALSE),TRUE)","v":true}]
[null,null,null,{"$f":"IF(B121=Dimension!$A$8,Dimension!$C$9,IF(B121=Dimension!$A$6,CD,\"\"))","v":""},null,{"$f":"IF(OR(B121=Dimension!$A$3,B121=Dimension!$A$4,B121=Dimension!$A$6,B121=Dimension!$A$8),CCYA,\"\")","v":""},{"$f":"IFERROR(VLOOKUP(F121,Dimension!$G$3:$H$252,2,FALSE),\"\")","v":""},{"$f":"IF(OR(B121=Dimension!$A$3,B121=Dimension!$A$4,B121=Dimension!$A$5),\"เดินทาง/ท่องเที่ยว\",\"\")","v":""},{"$f":"IF(OR(B121=Dimension!$A$6,B121=Dimension!$A$7,B121=Dimension!$A$8,B121=Dimension!$A$9),\"\",IF(OR(B121=Dimension!$A$3,B121=Dimension!$A$4,B121=Dimension!$A$5),\"สถานประกอบการ\",\"\"))","v":""},{"$f":"IF(OR(B121=Dimension!$A$3,B121=Dimension!$A$4,B121=Dimension!$A$5,B121=Dimension!$A$6,,B121=Dimension!$A$7,B121=Dimension!$A$8,B121=Dimension!$A$9),Payment_ID2,\"\")","v":""},null,{"$f":"IFERROR(VLOOKUP(K121,Dimension!$J$3:$K$179,2,FALSE),\"\")","v":""},null,null,{"$f":"IF(OR(B121=Dimension!$A$6,B121=Dimension!$A$7,B121=Dimension!$A$8,B121=Dimension!$A$9),\"\",IF(OR(B121=Dimension!$A$3,B121=Dimension!$A$4,B121=Dimension!$A$5),\"สถานประกอบการ\",\"\"))","v":""},{"$f":"IF(OR(B121=Dimension!$A$6,B121=Dimension!$A$7,B121=Dimension!$A$8,B121=Dimension!$A$9,B121=\"\"),\"\",Payment_ID2)","v":""},"",null,null,{"$f":"IF(D121=Dimension!$C$9,IF(LEFT(UPPER(E121),2)=\"MC\",TRUE,FALSE),TRUE)","v":true}]
[null,null,null,{"$f":"IF(B122=Dimension!$A$8,Dimension!$C$9,IF(B122=Dimension!$A$6,CD,\"\"))","v":""},null,{"$f":"IF(OR(B122=Dimension!$A$3,B122=Dimension!$A$4,B122=Dimension!$A$6,B122=Dimension!$A$8),CCYA,\"\")","v":""},{"$f":"IFERROR(VLOOKUP(F122,Dimension!$G$3:$H$252,2,FALSE),\"\")","v":""},{"$f":"IF(OR(B122=Dimension!$A$3,B122=Dimension!$A$4,B122=Dimension!$A$5),\"เดินทาง/ท่องเที่ยว\",\"\")","v":""},{"$f":"IF(OR(B122=Dimension!$A$6,B122=Dimension!$A$7,B122=Dimension!$A$8,B122=Dimension!$A$9),\"\",IF(OR(B122=Dimension!$A$3,B122=Dimension!$A$4,B122=Dimension!$A$5),\"สถานประกอบการ\",\"\"))","v":""},{"$f":"IF(OR(B122=Dimension!$A$3,B122=Dimension!$A$4,B122=Dimension!$A$5,B122=Dimension!$A$6,,B122=Dimension!$A$7,B122=Dimension!$A$8,B122=Dimension!$A$9),Payment_ID2,\"\")","v":""},null,{"$f":"IFERROR(VLOOKUP(K122,Dimension!$J$3:$K$179,2,FALSE),\"\")","v":""},null,null,{"$f":"IF(OR(B122=Dimension!$A$6,B122=Dimension!$A$7,B122=Dimension!$A$8,B122=Dimension!$A$9),\"\",IF(OR(B122=Dimension!$A$3,B122=Dimension!$A$4,B122=Dimension!$A$5),\"สถานประกอบการ\",\"\"))","v":""},{"$f":"IF(OR(B122=Dimension!$A$6,B122=Dimension!$A$7,B122=Dimension!$A$8,B122=Dimension!$A$9,B122=\"\"),\"\",Payment_ID2)","v":""},"",null,null,{"$f":"IF(D122=Dimension!$C$9,IF(LEFT(UPPER(E122),2)=\"MC\",TRUE,FALSE),TRUE)","v":true}]
[null,null,null,{"$f":"IF(B123=Dimension!$A$8,Dimension!$C$9,IF(B123=Dimension!$A$6,CD,\"\"))","v":""},null,{"$f":"IF(OR(B123=Dimension!$A$3,B123=Dimension!$A$4,B123=Dimension!$A$6,B123=Dimension!$A$8),CCYA,\"\")","v":""},{"$f":"IFERROR(VLOOKUP(F123,Dimension!$G$3:$H$252,2,FALSE),\"\")","v":""},{"$f":"IF(OR(B123=Dimension!$A$3,B123=Dimension!$A$4,B123=Dimension!$A$5),\"เดินทาง/ท่องเที่ยว\",\"\")","v":""},{"$f":"IF(OR(B123=Dimension!$A$6,B123=Dimension!$A$7,B123=Dimension!$A$8,B123=Dimension!$A$9),\"\",IF(OR(B123=Dimension!$A$3,B123=Dimension!$A$4,B123=Dimension!$A$5),\"สถานประกอบการ\",\"\"))","v":""},{"$f":"IF(OR(B123=Dimension!$A$3,B123=Dimension!$A$4,B123=Dimension!$A$5,B123=Dimension!$A$6,,B123=Dimension!$A$7,B123=Dimension!$A$8,B123=Dimension!$A$9),Payment_ID2,\"\")","v":""},null,{"$f":"IFERROR(VLOOKUP(K123,Dimension!$J$3:$K$179,2,FALSE),\"\")","v":""},null,null,{"$f":"IF(OR(B123=Dimension!$A$6,B123=Dimension!$A$7,B123=Dimension!$A$8,B123=Dimension!$A$9),\"\",IF(OR(B123=Dimension!$A$3,B123=Dimension!$A$4,B123=Dimension!$A$5),\"สถานประกอบการ\",\"\"))","v":""},{"$f":"IF(OR(B123=Dimension!$A$6,B123=Dimension!$A$7,B123=Dimension!$A$8,B123=Dimension!$A$9,B123=\"\"),\"\",Payment_ID2)","v":""},"",null,null,{"$f":"IF(D123=Dimension!$C$9,IF(LEFT(UPPER(E123),2)=\"MC\",TRUE,FALSE),TRUE)","v":true}]
[null,null,null,{"$f":"IF(B124=Dimension!$A$8,Dimension!$C$9,IF(B124=Dimension!$A$6,CD,\"\"))","v":""},null,{"$f":"IF(OR(B124=Dimension!$A$3,B124=Dimension!$A$4,B124=Dimension!$A$6,B124=Dimension!$A$8),CCYA,\"\")","v":""},{"$f":"IFERROR(VLOOKUP(F124,Dimension!$G$3:$H$252,2,FALSE),\"\")","v":""},{"$f":"IF(OR(B124=Dimension!$A$3,B124=Dimension!$A$4,B124=Dimension!$A$5),\"เดินทาง/ท่องเที่ยว\",\"\")","v":""},{"$f":"IF(OR(B124=Dimension!$A$6,B124=Dimension!$A$7,B124=Dimension!$A$8,B124=Dimension!$A$9),\"\",IF(OR(B124=Dimension!$A$3,B124=Dimension!$A$4,B124=Dimension!$A$5),\"สถานประกอบการ\",\"\"))","v":""},{"$f":"IF(OR(B124=Dimension!$A$3,B124=Dimension!$A$4,B124=Dimension!$A$5,B124=Dimension!$A$6,,B124=Dimension!$A$7,B124=Dimension!$A$8,B124=Dimension!$A$9),Payment_ID2,\"\")","v":""},null,{"$f":"IFERROR(VLOOKUP(K124,Dimension!$J$3:$K$179,2,FALSE),\"\")","v":""},null,null,{"$f":"IF(OR(B124=Dimension!$A$6,B124=Dimension!$A$7,B124=Dimension!$A$8,B124=Dimension!$A$9),\"\",IF(OR(B124=Dimension!$A$3,B124=Dimension!$A$4,B124=Dimension!$A$5),\"สถานประกอบการ\",\"\"))","v":""},{"$f":"IF(OR(B124=Dimension!$A$6,B124=Dimension!$A$7,B124=Dimension!$A$8,B124=Dimension!$A$9,B124=\"\"),\"\",Payment_ID2)","v":""},"",null,null,{"$f":"IF(D124=Dimension!$C$9,IF(LEFT(UPPER(E124),2)=\"MC\",TRUE,FALSE),TRUE)","v":true}]
[null,null,null,{"$f":"IF(B125=Dimension!$A$8,Dimension!$C$9,IF(B125=Dimension!$A$6,CD,\"\"))","v":""},null,{"$f":"IF(OR(B125=Dimension!$A$3,B125=Dimension!$A$4,B125=Dimension!$A$6,B125=Dimension!$A$8),CCYA,\"\")","v":""},{"$f":"IFERROR(VLOOKUP(F125,Dimension!$G$3:$H$252,2,FALSE),\"\")","v":""},{"$f":"IF(OR(B125=Dimension!$A$3,B125=Dimension!$A$4,B125=Dimension!$A$5),\"เดินทาง/ท่องเที่ยว\",\"\")","v":""},{"$f":"IF(OR(B125=Dimension!$A$6,B125=Dimension!$A$7,B125=Dimension!$A$8,B125=Dimension!$A$9),\"\",IF(OR(B125=Dimension!$A$3,B125=Dimension!$A$4,B125=Dimension!$A$5),\"สถานประกอบการ\",\"\"))","v":""},{"$f":"IF(OR(B125=Dimension!$A$3,B125=Dimension!$A$4,B125=Dimension!$A$5,B125=Dimension!$A$6,,B125=Dimension!$A$7,B125=Dimension!$A$8,B125=Dimension!$A$9),Payment_ID2,\"\")","v":""},null,{"$f":"IFERROR(VLOOKUP(K125,Dimension!$J$3:$K$179,2,FALSE),\"\")","v":""},null,null,{"$f":"IF(OR(B125=Dimension!$A$6,B125=Dimension!$A$7,B125=Dimension!$A$8,B125=Dimension!$A$9),\"\",IF(OR(B125=Dimension!$A$3,B125=Dimension!$A$4,B125=Dimension!$A$5),\"สถานประกอบการ\",\"\"))","v":""},{"$f":"IF(OR(B125=Dimension!$A$6,B125=Dimension!$A$7,B125=Dimension!$A$8,B125=Dimension!$A$9,B125=\"\"),\"\",Payment_ID2)","v":""},"",null,null,{"$f":"IF(D125=Dimension!$C$9,IF(LEFT(UPPER(E125),2)=\"MC\",TRUE,FALSE),TRUE)","v":true}]
[null,null,null,{"$f":"IF(B126=Dimension!$A$8,Dimension!$C$9,IF(B126=Dimension!$A$6,CD,\"\"))","v":""},null,{"$f":"IF(OR(B126=Dimension!$A$3,B126=Dimension!$A$4,B126=Dimension!$A$6,B126=Dimension!$A$8),CCYA,\"\")","v":""},{"$f":"IFERROR(VLOOKUP(F126,Dimension!$G$3:$H$252,2,FALSE),\"\")","v":""},{"$f":"IF(OR(B126=Dimension!$A$3,B126=Dimension!$A$4,B126=Dimension!$A$5),\"เดินทาง/ท่องเที่ยว\",\"\")","v":""},{"$f":"IF(OR(B126=Dimension!$A$6,B126=Dimension!$A$7,B126=Dimension!$A$8,B126=Dimension!$A$9),\"\",IF(OR(B126=Dimension!$A$3,B126=Dimension!$A$4,B126=Dimension!$A$5),\"สถานประกอบการ\",\"\"))","v":""},{"$f":"IF(OR(B126=Dimension!$A$3,B126=Dimension!$A$4,B126=Dimension!$A$5,B126=Dimension!$A$6,,B126=Dimension!$A$7,B126=Dimension!$A$8,B126=Dimension!$A$9),Payment_ID2,\"\")","v":""},null,{"$f":"IFERROR(VLOOKUP(K126,Dimension!$J$3:$K$179,2,FALSE),\"\")","v":""},null,null,{"$f":"IF(OR(B126=Dimension!$A$6,B126=Dimension!$A$7,B126=Dimension!$A$8,B126=Dimension!$A$9),\"\",IF(OR(B126=Dimension!$A$3,B126=Dimension!$A$4,B126=Dimension!$A$5),\"สถานประกอบการ\",\"\"))","v":""},{"$f":"IF(OR(B126=Dimension!$A$6,B126=Dimension!$A$7,B126=Dimension!$A$8,B126=Dimension!$A$9,B126=\"\"),\"\",Payment_ID2)","v":""},"",null,null,{"$f":"IF(D126=Dimension!$C$9,IF(LEFT(UPPER(E126),2)=\"MC\",TRUE,FALSE),TRUE)","v":true}]
[null,null,null,{"$f":"IF(B127=Dimension!$A$8,Dimension!$C$9,IF(B127=Dimension!$A$6,CD,\"\"))","v":""},null,{"$f":"IF(OR(B127=Dimension!$A$3,B127=Dimension!$A$4,B127=Dimension!$A$6,B127=Dimension!$A$8),CCYA,\"\")","v":""},{"$f":"IFERROR(VLOOKUP(F127,Dimension!$G$3:$H$252,2,FALSE),\"\")","v":""},{"$f":"IF(OR(B127=Dimension!$A$3,B127=Dimension!$A$4,B127=Dimension!$A$5),\"เดินทาง/ท่องเที่ยว\",\"\")","v":""},{"$f":"IF(OR(B127=Dimension!$A$6,B127=Dimension!$A$7,B127=Dimension!$A$8,B127=Dimension!$A$9),\"\",IF(OR(B127=Dimension!$A$3,B127=Dimension!$A$4,B127=Dimension!$A$5),\"สถานประกอบการ\",\"\"))","v":""},{"$f":"IF(OR(B127=Dimension!$A$3,B127=Dimension!$A$4,B127=Dimension!$A$5,B127=Dimension!$A$6,,B127=Dimension!$A$7,B127=Dimension!$A$8,B127=Dimension!$A$9),Payment_ID2,\"\")","v":""},null,{"$f":"IFERROR(VLOOKUP(K127,Dimension!$J$3:$K$179,2,FALSE),\"\")","v":""},null,null,{"$f":"IF(OR(B127=Dimension!$A$6,B127=Dimension!$A$7,B127=Dimension!$A$8,B127=Dimension!$A$9),\"\",IF(OR(B127=Dimension!$A$3,B127=Dimension!$A$4,B127=Dimension!$A$5),\"สถานประกอบการ\",\"\"))","v":""},{"$f":"IF(OR(B127=Dimension!$A$6,B127=Dimension!$A$7,B127=Dimension!$A$8,B127=Dimension!$A$9,B127=\"\"),\"\",Payment_ID2)","v":""},"",null,null,{"$f":"IF(D127=Dimension!$C$9,IF(LEFT(UPPER(E127),2)=\"MC\",TRUE,FALSE),TRUE)","v":true}]
[null,null,null,{"$f":"IF(B128=Dimension!$A$8,Dimension!$C$9,IF(B128=Dimension!$A$6,CD,\"\"))","v":""},null,{"$f":"IF(OR(B128=Dimension!$A$3,B128=Dimension!$A$4,B128=Dimension!$A$6,B128=Dimension!$A$8),CCYA,\"\")","v":""},{"$f":"IFERROR(VLOOKUP(F128,Dimension!$G$3:$H$252,2,FALSE),\"\")","v":""},{"$f":"IF(OR(B128=Dimension!$A$3,B128=Dimension!$A$4,B128=Dimension!$A$5),\"เดินทาง/ท่องเที่ยว\",\"\")","v":""},{"$f":"IF(OR(B128=Dimension!$A$6,B128=Dimension!$A$7,B128=Dimension!$A$8,B128=Dimension!$A$9),\"\",IF(OR(B128=Dimension!$A$3,B128=Dimension!$A$4,B128=Dimension!$A$5),\"สถานประกอบการ\",\"\"))","v":""},{"$f":"IF(OR(B128=Dimension!$A$3,B128=Dimension!$A$4,B128=Dimension!$A$5,B128=Dimension!$A$6,,B128=Dimension!$A$7,B128=Dimension!$A$8,B128=Dimension!$A$9),Payment_ID2,\"\")","v":""},null,{"$f":"IFERROR(VLOOKUP(K128,Dimension!$J$3:$K$179,2,FALSE),\"\")","v":""},null,null,{"$f":"IF(OR(B128=Dimension!$A$6,B128=Dimension!$A$7,B128=Dimension!$A$8,B128=Dimension!$A$9),\"\",IF(OR(B128=Dimension!$A$3,B128=Dimension!$A$4,B128=Dimension!$A$5),\"สถานประกอบการ\",\"\"))","v":""},{"$f":"IF(OR(B128=Dimension!$A$6,B128=Dimension!$A$7,B128=Dimension!$A$8,B128=Dimension!$A$9,B128=\"\"),\"\",Payment_ID2)","v":""},"",null,null,{"$f":"IF(D128=Dimension!$C$9,IF(LEFT(UPPER(E128),2)=\"MC\",TRUE,FALSE),TRUE)","v":true}]
[null,null,null,{"$f":"IF(B129=Dimension!$A$8,Dimension!$C$9,IF(B129=Dimension!$A$6,CD,\"\"))","v":""},null,{"$f":"IF(OR(B129=Dimension!$A$3,B129=Dimension!$A$4,B129=Dimension!$A$6,B129=Dimension!$A$8),CCYA,\"\")","v":""},{"$f":"IFERROR(VLOOKUP(F129,Dimension!$G$3:$H$252,2,FALSE),\"\")","v":""},{"$f":"IF(OR(B129=Dimension!$A$3,B129=Dimension!$A$4,B129=Dimension!$A$5),\"เดินทาง/ท่องเที่ยว\",\"\")","v":""},{"$f":"IF(OR(B129=Dimension!$A$6,B129=Dimension!$A$7,B129=Dimension!$A$8,B129=Dimension!$A$9),\"\",IF(OR(B129=Dimension!$A$3,B129=Dimension!$A$4,B129=Dimension!$A$5),\"สถานประกอบการ\",\"\"))","v":""},{"$f":"IF(OR(B129=Dimension!$A$3,B129=Dimension!$A$4,B129=Dimension!$A$5,B129=Dimension!$A$6,,B129=Dimension!$A$7,B129=Dimension!$A$8,B129=Dimension!$A$9),Payment_ID2,\"\")","v":""},null,{"$f":"IFERROR(VLOOKUP(K129,Dimension!$J$3:$K$179,2,FALSE),\"\")","v":""},null,null,{"$f":"IF(OR(B129=Dimension!$A$6,B129=Dimension!$A$7,B129=Dimension!$A$8,B129=Dimension!$A$9),\"\",IF(OR(B129=Dimension!$A$3,B129=Dimension!$A$4,B129=Dimension!$A$5),\"สถานประกอบการ\",\"\"))","v":""},{"$f":"IF(OR(B129=Dimension!$A$6,B129=Dimension!$A$7,B129=Dimension!$A$8,B129=Dimension!$A$9,B129=\"\"),\"\",Payment_ID2)","v":""},"",null,null,{"$f":"IF(D129=Dimension!$C$9,IF(LEFT(UPPER(E129),2)=\"MC\",TRUE,FALSE),TRUE)","v":true}]
[null,null,null,{"$f":"IF(B130=Dimension!$A$8,Dimension!$C$9,IF(B130=Dimension!$A$6,CD,\"\"))","v":""},null,{"$f":"IF(OR(B130=Dimension!$A$3,B130=Dimension!$A$4,B130=Dimension!$A$6,B130=Dimension!$A$8),CCYA,\"\")","v":""},{"$f":"IFERROR(VLOOKUP(F130,Dimension!$G$3:$H$252,2,FALSE),\"\")","v":""},{"$f":"IF(OR(B130=Dimension!$A$3,B130=Dimension!$A$4,B130=Dimension!$A$5),\"เดินทาง/ท่องเที่ยว\",\"\")","v":""},{"$f":"IF(OR(B130=Dimension!$A$6,B130=Dimension!$A$7,B130=Dimension!$A$8,B130=Dimension!$A$9),\"\",IF(OR(B130=Dimension!$A$3,B130=Dimension!$A$4,B130=Dimension!$A$5),\"สถานประกอบการ\",\"\"))","v":""},{"$f":"IF(OR(B130=Dimension!$A$3,B130=Dimension!$A$4,B130=Dimension!$A$5,B130=Dimension!$A$6,,B130=Dimension!$A$7,B130=Dimension!$A$8,B130=Dimension!$A$9),Payment_ID2,\"\")","v":""},null,{"$f":"IFERROR(VLOOKUP(K130,Dimension!$J$3:$K$179,2,FALSE),\"\")","v":""},null,null,{"$f":"IF(OR(B130=Dimension!$A$6,B130=Dimension!$A$7,B130=Dimension!$A$8,B130=Dimension!$A$9),\"\",IF(OR(B130=Dimension!$A$3,B130=Dimension!$A$4,B130=Dimension!$A$5),\"สถานประกอบการ\",\"\"))","v":""},{"$f":"IF(OR(B130=Dimension!$A$6,B130=Dimension!$A$7,B130=Dimension!$A$8,B130=Dimension!$A$9,B130=\"\"),\"\",Payment_ID2)","v":""},"",null,null,{"$f":"IF(D130=Dimension!$C$9,IF(LEFT(UPPER(E130),2)=\"MC\",TRUE,FALSE),TRUE)","v":true}]
[null,null,null,{"$f":"IF(B131=Dimension!$A$8,Dimension!$C$9,IF(B131=Dimension!$A$6,CD,\"\"))","v":""},null,{"$f":"IF(OR(B131=Dimension!$A$3,B131=Dimension!$A$4,B131=Dimension!$A$6,B131=Dimension!$A$8),CCYA,\"\")","v":""},{"$f":"IFERROR(VLOOKUP(F131,Dimension!$G$3:$H$252,2,FALSE),\"\")","v":""},{"$f":"IF(OR(B131=Dimension!$A$3,B131=Dimension!$A$4,B131=Dimension!$A$5),\"เดินทาง/ท่องเที่ยว\",\"\")","v":""},{"$f":"IF(OR(B131=Dimension!$A$6,B131=Dimension!$A$7,B131=Dimension!$A$8,B131=Dimension!$A$9),\"\",IF(OR(B131=Dimension!$A$3,B131=Dimension!$A$4,B131=Dimension!$A$5),\"สถานประกอบการ\",\"\"))","v":""},{"$f":"IF(OR(B131=Dimension!$A$3,B131=Dimension!$A$4,B131=Dimension!$A$5,B131=Dimension!$A$6,,B131=Dimension!$A$7,B131=Dimension!$A$8,B131=Dimension!$A$9),Payment_ID2,\"\")","v":""},null,{"$f":"IFERROR(VLOOKUP(K131,Dimension!$J$3:$K$179,2,FALSE),\"\")","v":""},null,null,{"$f":"IF(OR(B131=Dimension!$A$6,B131=Dimension!$A$7,B131=Dimension!$A$8,B131=Dimension!$A$9),\"\",IF(OR(B131=Dimension!$A$3,B131=Dimension!$A$4,B131=Dimension!$A$5),\"สถานประกอบการ\",\"\"))","v":""},{"$f":"IF(OR(B131=Dimension!$A$6,B131=Dimension!$A$7,B131=Dimension!$A$8,B131=Dimension!$A$9,B131=\"\"),\"\",Payment_ID2)","v":""},"",null,null,{"$f":"IF(D131=Dimension!$C$9,IF(LEFT(UPPER(E131),2)=\"MC\",TRUE,FALSE),TRUE)","v":true}]
[null,null,null,{"$f":"IF(B132=Dimension!$A$8,Dimension!$C$9,IF(B132=Dimension!$A$6,CD,\"\"))","v":""},null,{"$f":"IF(OR(B132=Dimension!$A$3,B132=Dimension!$A$4,B132=Dimension!$A$6,B132=Dimension!$A$8),CCYA,\"\")","v":""},{"$f":"IFERROR(VLOOKUP(F132,Dimension!$G$3:$H$252,2,FALSE),\"\")","v":""},{"$f":"IF(OR(B132=Dimension!$A$3,B132=Dimension!$A$4,B132=Dimension!$A$5),\"เดินทาง/ท่องเที่ยว\",\"\")","v":""},{"$f":"IF(OR(B132=Dimension!$A$6,B132=Dimension!$A$7,B132=Dimension!$A$8,B132=Dimension!$A$9),\"\",IF(OR(B132=Dimension!$A$3,B132=Dimension!$A$4,B132=Dimension!$A$5),\"สถานประกอบการ\",\"\"))","v":""},{"$f":"IF(OR(B132=Dimension!$A$3,B132=Dimension!$A$4,B132=Dimension!$A$5,B132=Dimension!$A$6,,B132=Dimension!$A$7,B132=Dimension!$A$8,B132=Dimension!$A$9),Payment_ID2,\"\")","v":""},null,{"$f":"IFERROR(VLOOKUP(K132,Dimension!$J$3:$K$179,2,FALSE),\"\")","v":""},null,null,{"$f":"IF(OR(B132=Dimension!$A$6,B132=Dimension!$A$7,B132=Dimension!$A$8,B132=Dimension!$A$9),\"\",IF(OR(B132=Dimension!$A$3,B132=Dimension!$A$4,B132=Dimension!$A$5),\"สถานประกอบการ\",\"\"))","v":""},{"$f":"IF(OR(B132=Dimension!$A$6,B132=Dimension!$A$7,B132=Dimension!$A$8,B132=Dimension!$A$9,B132=\"\"),\"\",Payment_ID2)","v":""},"",null,null,{"$f":"IF(D132=Dimension!$C$9,IF(LEFT(UPPER(E132),2)=\"MC\",TRUE,FALSE),TRUE)","v":true}]
[null,null,null,{"$f":"IF(B133=Dimension!$A$8,Dimension!$C$9,IF(B133=Dimension!$A$6,CD,\"\"))","v":""},null,{"$f":"IF(OR(B133=Dimension!$A$3,B133=Dimension!$A$4,B133=Dimension!$A$6,B133=Dimension!$A$8),CCYA,\"\")","v":""},{"$f":"IFERROR(VLOOKUP(F133,Dimension!$G$3:$H$252,2,FALSE),\"\")","v":""},{"$f":"IF(OR(B133=Dimension!$A$3,B133=Dimension!$A$4,B133=Dimension!$A$5),\"เดินทาง/ท่องเที่ยว\",\"\")","v":""},{"$f":"IF(OR(B133=Dimension!$A$6,B133=Dimension!$A$7,B133=Dimension!$A$8,B133=Dimension!$A$9),\"\",IF(OR(B133=Dimension!$A$3,B133=Dimension!$A$4,B133=Dimension!$A$5),\"สถานประกอบการ\",\"\"))","v":""},{"$f":"IF(OR(B133=Dimension!$A$3,B133=Dimension!$A$4,B133=Dimension!$A$5,B133=Dimension!$A$6,,B133=Dimension!$A$7,B133=Dimension!$A$8,B133=Dimension!$A$9),Payment_ID2,\"\")","v":""},null,{"$f":"IFERROR(VLOOKUP(K133,Dimension!$J$3:$K$179,2,FALSE),\"\")","v":""},null,null,{"$f":"IF(OR(B133=Dimension!$A$6,B133=Dimension!$A$7,B133=Dimension!$A$8,B133=Dimension!$A$9),\"\",IF(OR(B133=Dimension!$A$3,B133=Dimension!$A$4,B133=Dimension!$A$5),\"สถานประกอบการ\",\"\"))","v":""},{"$f":"IF(OR(B133=Dimension!$A$6,B133=Dimension!$A$7,B133=Dimension!$A$8,B133=Dimension!$A$9,B133=\"\"),\"\",Payment_ID2)","v":""},"",null,null,{"$f":"IF(D133=Dimension!$C$9,IF(LEFT(UPPER(E133),2)=\"MC\",TRUE,FALSE),TRUE)","v":true}]
[null,null,null,{"$f":"IF(B134=Dimension!$A$8,Dimension!$C$9,IF(B134=Dimension!$A$6,CD,\"\"))","v":""},null,{"$f":"IF(OR(B134=Dimension!$A$3,B134=Dimension!$A$4,B134=Dimension!$A$6,B134=Dimension!$A$8),CCYA,\"\")","v":""},{"$f":"IFERROR(VLOOKUP(F134,Dimension!$G$3:$H$252,2,FALSE),\"\")","v":""},{"$f":"IF(OR(B134=Dimension!$A$3,B134=Dimension!$A$4,B134=Dimension!$A$5),\"เดินทาง/ท่องเที่ยว\",\"\")","v":""},{"$f":"IF(OR(B134=Dimension!$A$6,B134=Dimension!$A$7,B134=Dimension!$A$8,B134=Dimension!$A$9),\"\",IF(OR(B134=Dimension!$A$3,B134=Dimension!$A$4,B134=Dimension!$A$5),\"สถานประกอบการ\",\"\"))","v":""},{"$f":"IF(OR(B134=Dimension!$A$3,B134=Dimension!$A$4,B134=Dimension!$A$5,B134=Dimension!$A$6,,B134=Dimension!$A$7,B134=Dimension!$A$8,B134=Dimension!$A$9),Payment_ID2,\"\")","v":""},null,{"$f":"IFERROR(VLOOKUP(K134,Dimension!$J$3:$K$179,2,FALSE),\"\")","v":""},null,null,{"$f":"IF(OR(B134=Dimension!$A$6,B134=Dimension!$A$7,B134=Dimension!$A$8,B134=Dimension!$A$9),\"\",IF(OR(B134=Dimension!$A$3,B134=Dimension!$A$4,B134=Dimension!$A$5),\"สถานประกอบการ\",\"\"))","v":""},{"$f":"IF(OR(B134=Dimension!$A$6,B134=Dimension!$A$7,B134=Dimension!$A$8,B134=Dimension!$A$9,B134=\"\"),\"\",Payment_ID2)","v":""},"",null,null,{"$f":"IF(D134=Dimension!$C$9,IF(LEFT(UPPER(E134),2)=\"MC\",TRUE,FALSE),TRUE)","v":true}]
[null,null,null,{"$f":"IF(B135=Dimension!$A$8,Dimension!$C$9,IF(B135=Dimension!$A$6,CD,\"\"))","v":""},null,{"$f":"IF(OR(B135=Dimension!$A$3,B135=Dimension!$A$4,B135=Dimension!$A$6,B135=Dimension!$A$8),CCYA,\"\")","v":""},{"$f":"IFERROR(VLOOKUP(F135,Dimension!$G$3:$H$252,2,FALSE),\"\")","v":""},{"$f":"IF(OR(B135=Dimension!$A$3,B135=Dimension!$A$4,B135=Dimension!$A$5),\"เดินทาง/ท่องเที่ยว\",\"\")","v":""},{"$f":"IF(OR(B135=Dimension!$A$6,B135=Dimension!$A$7,B135=Dimension!$A$8,B135=Dimension!$A$9),\"\",IF(OR(B135=Dimension!$A$3,B135=Dimension!$A$4,B135=Dimension!$A$5),\"สถานประกอบการ\",\"\"))","v":""},{"$f":"IF(OR(B135=Dimension!$A$3,B135=Dimension!$A$4,B135=Dimension!$A$5,B135=Dimension!$A$6,,B135=Dimension!$A$7,B135=Dimension!$A$8,B135=Dimension!$A$9),Payment_ID2,\"\")","v":""},null,{"$f":"IFERROR(VLOOKUP(K135,Dimension!$J$3:$K$179,2,FALSE),\"\")","v":""},null,null,{"$f":"IF(OR(B135=Dimension!$A$6,B135=Dimension!$A$7,B135=Dimension!$A$8,B135=Dimension!$A$9),\"\",IF(OR(B135=Dimension!$A$3,B135=Dimension!$A$4,B135=Dimension!$A$5),\"สถานประกอบการ\",\"\"))","v":""},{"$f":"IF(OR(B135=Dimension!$A$6,B135=Dimension!$A$7,B135=Dimension!$A$8,B135=Dimension!$A$9,B135=\"\"),\"\",Payment_ID2)","v":""},"",null,null,{"$f":"IF(D135=Dimension!$C$9,IF(LEFT(UPPER(E135),2)=\"MC\",TRUE,FALSE),TRUE)","v":true}]
[null,null,null,{"$f":"IF(B136=Dimension!$A$8,Dimension!$C$9,IF(B136=Dimension!$A$6,CD,\"\"))","v":""},null,{"$f":"IF(OR(B136=Dimension!$A$3,B136=Dimension!$A$4,B136=Dimension!$A$6,B136=Dimension!$A$8),CCYA,\"\")","v":""},{"$f":"IFERROR(VLOOKUP(F136,Dimension!$G$3:$H$252,2,FALSE),\"\")","v":""},{"$f":"IF(OR(B136=Dimension!$A$3,B136=Dimension!$A$4,B136=Dimension!$A$5),\"เดินทาง/ท่องเที่ยว\",\"\")","v":""},{"$f":"IF(OR(B136=Dimension!$A$6,B136=Dimension!$A$7,B136=Dimension!$A$8,B136=Dimension!$A$9),\"\",IF(OR(B136=Dimension!$A$3,B136=Dimension!$A$4,B136=Dimension!$A$5),\"สถานประกอบการ\",\"\"))","v":""},{"$f":"IF(OR(B136=Dimension!$A$3,B136=Dimension!$A$4,B136=Dimension!$A$5,B136=Dimension!$A$6,,B136=Dimension!$A$7,B136=Dimension!$A$8,B136=Dimension!$A$9),Payment_ID2,\"\")","v":""},null,{"$f":"IFERROR(VLOOKUP(K136,Dimension!$J$3:$K$179,2,FALSE),\"\")","v":""},null,null,{"$f":"IF(OR(B136=Dimension!$A$6,B136=Dimension!$A$7,B136=Dimension!$A$8,B136=Dimension!$A$9),\"\",IF(OR(B136=Dimension!$A$3,B136=Dimension!$A$4,B136=Dimension!$A$5),\"สถานประกอบการ\",\"\"))","v":""},{"$f":"IF(OR(B136=Dimension!$A$6,B136=Dimension!$A$7,B136=Dimension!$A$8,B136=Dimension!$A$9,B136=\"\"),\"\",Payment_ID2)","v":""},"",null,null,{"$f":"IF(D136=Dimension!$C$9,IF(LEFT(UPPER(E136),2)=\"MC\",TRUE,FALSE),TRUE)","v":true}]
[null,null,null,{"$f":"IF(B137=Dimension!$A$8,Dimension!$C$9,IF(B137=Dimension!$A$6,CD,\"\"))","v":""},null,{"$f":"IF(OR(B137=Dimension!$A$3,B137=Dimension!$A$4,B137=Dimension!$A$6,B137=Dimension!$A$8),CCYA,\"\")","v":""},{"$f":"IFERROR(VLOOKUP(F137,Dimension!$G$3:$H$252,2,FALSE),\"\")","v":""},{"$f":"IF(OR(B137=Dimension!$A$3,B137=Dimension!$A$4,B137=Dimension!$A$5),\"เดินทาง/ท่องเที่ยว\",\"\")","v":""},{"$f":"IF(OR(B137=Dimension!$A$6,B137=Dimension!$A$7,B137=Dimension!$A$8,B137=Dimension!$A$9),\"\",IF(OR(B137=Dimension!$A$3,B137=Dimension!$A$4,B137=Dimension!$A$5),\"สถานประกอบการ\",\"\"))","v":""},{"$f":"IF(OR(B137=Dimension!$A$3,B137=Dimension!$A$4,B137=Dimension!$A$5,B137=Dimension!$A$6,,B137=Dimension!$A$7,B137=Dimension!$A$8,B137=Dimension!$A$9),Payment_ID2,\"\")","v":""},null,{"$f":"IFERROR(VLOOKUP(K137,Dimension!$J$3:$K$179,2,FALSE),\"\")","v":""},null,null,{"$f":"IF(OR(B137=Dimension!$A$6,B137=Dimension!$A$7,B137=Dimension!$A$8,B137=Dimension!$A$9),\"\",IF(OR(B137=Dimension!$A$3,B137=Dimension!$A$4,B137=Dimension!$A$5),\"สถานประกอบการ\",\"\"))","v":""},{"$f":"IF(OR(B137=Dimension!$A$6,B137=Dimension!$A$7,B137=Dimension!$A$8,B137=Dimension!$A$9,B137=\"\"),\"\",Payment_ID2)","v":""},"",null,null,{"$f":"IF(D137=Dimension!$C$9,IF(LEFT(UPPER(E137),2)=\"MC\",TRUE,FALSE),TRUE)","v":true}]
[null,null,null,{"$f":"IF(B138=Dimension!$A$8,Dimension!$C$9,IF(B138=Dimension!$A$6,CD,\"\"))","v":""},null,{"$f":"IF(OR(B138=Dimension!$A$3,B138=Dimension!$A$4,B138=Dimension!$A$6,B138=Dimension!$A$8),CCYA,\"\")","v":""},{"$f":"IFERROR(VLOOKUP(F138,Dimension!$G$3:$H$252,2,FALSE),\"\")","v":""},{"$f":"IF(OR(B138=Dimension!$A$3,B138=Dimension!$A$4,B138=Dimension!$A$5),\"เดินทาง/ท่องเที่ยว\",\"\")","v":""},{"$f":"IF(OR(B138=Dimension!$A$6,B138=Dimension!$A$7,B138=Dimension!$A$8,B138=Dimension!$A$9),\"\",IF(OR(B138=Dimension!$A$3,B138=Dimension!$A$4,B138=Dimension!$A$5),\"สถานประกอบการ\",\"\"))","v":""},{"$f":"IF(OR(B138=Dimension!$A$3,B138=Dimension!$A$4,B138=Dimension!$A$5,B138=Dimension!$A$6,,B138=Dimension!$A$7,B138=Dimension!$A$8,B138=Dimension!$A$9),Payment_ID2,\"\")","v":""},null,{"$f":"IFERROR(VLOOKUP(K138,Dimension!$J$3:$K$179,2,FALSE),\"\")","v":""},null,null,{"$f":"IF(OR(B138=Dimension!$A$6,B138=Dimension!$A$7,B138=Dimension!$A$8,B138=Dimension!$A$9),\"\",IF(OR(B138=Dimension!$A$3,B138=Dimension!$A$4,B138=Dimension!$A$5),\"สถานประกอบการ\",\"\"))","v":""},{"$f":"IF(OR(B138=Dimension!$A$6,B138=Dimension!$A$7,B138=Dimension!$A$8,B138=Dimension!$A$9,B138=\"\"),\"\",Payment_ID2)","v":""},{"$f":"IF(OR(M138=\"\",N138=\"\"),\"\",ROUND(M138*N138,2))","v":""},null,null,{"$f":"IF(D138=Dimension!$C$9,IF(LEFT(UPPER(E138),2)=\"MC\",TRUE,FALSE),TRUE)","v":true}]
[null,null,null,{"$f":"IF(B139=Dimension!$A$8,Dimension!$C$9,IF(B139=Dimension!$A$6,CD,\"\"))","v":""},null,{"$f":"IF(OR(B139=Dimension!$A$3,B139=Dimension!$A$4,B139=Dimension!$A$6,B139=Dimension!$A$8),CCYA,\"\")","v":""},{"$f":"IFERROR(VLOOKUP(F139,Dimension!$G$3:$H$252,2,FALSE),\"\")","v":""},{"$f":"IF(OR(B139=Dimension!$A$3,B139=Dimension!$A$4,B139=Dimension!$A$5),\"เดินทาง/ท่องเที่ยว\",\"\")","v":""},{"$f":"IF(OR(B139=Dimension!$A$6,B139=Dimension!$A$7,B139=Dimension!$A$8,B139=Dimension!$A$9),\"\",IF(OR(B139=Dimension!$A$3,B139=Dimension!$A$4,B139=Dimension!$A$5),\"สถานประกอบการ\",\"\"))","v":""},{"$f":"IF(OR(B139=Dimension!$A$3,B139=Dimension!$A$4,B139=Dimension!$A$5,B139=Dimension!$A$6,,B139=Dimension!$A$7,B139=Dimension!$A$8,B139=Dimension!$A$9),Payment_ID2,\"\")","v":""},null,{"$f":"IFERROR(VLOOKUP(K139,Dimension!$J$3:$K$179,2,FALSE),\"\")","v":""},null,null,{"$f":"IF(OR(B139=Dimension!$A$6,B139=Dimension!$A$7,B139=Dimension!$A$8,B139=Dimension!$A$9),\"\",IF(OR(B139=Dimension!$A$3,B139=Dimension!$A$4,B139=Dimension!$A$5),\"สถานประกอบการ\",\"\"))","v":""},{"$f":"IF(OR(B139=Dimension!$A$6,B139=Dimension!$A$7,B139=Dimension!$A$8,B139=Dimension!$A$9,B139=\"\"),\"\",Payment_ID2)","v":""},"",null,null,{"$f":"IF(D139=Dimension!$C$9,IF(LEFT(UPPER(E139),2)=\"MC\",TRUE,FALSE),TRUE)","v":true}]
[null,null,null,{"$f":"IF(B140=Dimension!$A$8,Dimension!$C$9,IF(B140=Dimension!$A$6,CD,\"\"))","v":""},null,{"$f":"IF(OR(B140=Dimension!$A$3,B140=Dimension!$A$4,B140=Dimension!$A$6,B140=Dimension!$A$8),CCYA,\"\")","v":""},{"$f":"IFERROR(VLOOKUP(F140,Dimension!$G$3:$H$252,2,FALSE),\"\")","v":""},{"$f":"IF(OR(B140=Dimension!$A$3,B140=Dimension!$A$4,B140=Dimension!$A$5),\"เดินทาง/ท่องเที่ยว\",\"\")","v":""},{"$f":"IF(OR(B140=Dimension!$A$6,B140=Dimension!$A$7,B140=Dimension!$A$8,B140=Dimension!$A$9),\"\",IF(OR(B140=Dimension!$A$3,B140=Dimension!$A$4,B140=Dimension!$A$5),\"สถานประกอบการ\",\"\"))","v":""},{"$f":"IF(OR(B140=Dimension!$A$3,B140=Dimension!$A$4,B140=Dimension!$A$5,B140=Dimension!$A$6,,B140=Dimension!$A$7,B140=Dimension!$A$8,B140=Dimension!$A$9),Payment_ID2,\"\")","v":""},null,{"$f":"IFERROR(VLOOKUP(K140,Dimension!$J$3:$K$179,2,FALSE),\"\")","v":""},null,null,{"$f":"IF(OR(B140=Dimension!$A$6,B140=Dimension!$A$7,B140=Dimension!$A$8,B140=Dimension!$A$9),\"\",IF(OR(B140=Dimension!$A$3,B140=Dimension!$A$4,B140=Dimension!$A$5),\"สถานประกอบการ\",\"\"))","v":""},{"$f":"IF(OR(B140=Dimension!$A$6,B140=Dimension!$A$7,B140=Dimension!$A$8,B140=Dimension!$A$9,B140=\"\"),\"\",Payment_ID2)","v":""},"",null,null,{"$f":"IF(D140=Dimension!$C$9,IF(LEFT(UPPER(E140),2)=\"MC\",TRUE,FALSE),TRUE)","v":true}]
[null,null,null,{"$f":"IF(B141=Dimension!$A$8,Dimension!$C$9,IF(B141=Dimension!$A$6,CD,\"\"))","v":""},null,{"$f":"IF(OR(B141=Dimension!$A$3,B141=Dimension!$A$4,B141=Dimension!$A$6,B141=Dimension!$A$8),CCYA,\"\")","v":""},{"$f":"IFERROR(VLOOKUP(F141,Dimension!$G$3:$H$252,2,FALSE),\"\")","v":""},{"$f":"IF(OR(B141=Dimension!$A$3,B141=Dimension!$A$4,B141=Dimension!$A$5),\"เดินทาง/ท่องเที่ยว\",\"\")","v":""},{"$f":"IF(OR(B141=Dimension!$A$6,B141=Dimension!$A$7,B141=Dimension!$A$8,B141=Dimension!$A$9),\"\",IF(OR(B141=Dimension!$A$3,B141=Dimension!$A$4,B141=Dimension!$A$5),\"สถานประกอบการ\",\"\"))","v":""},{"$f":"IF(OR(B141=Dimension!$A$3,B141=Dimension!$A$4,B141=Dimension!$A$5,B141=Dimension!$A$6,,B141=Dimension!$A$7,B141=Dimension!$A$8,B141=Dimension!$A$9),Payment_ID2,\"\")","v":""},null,{"$f":"IFERROR(VLOOKUP(K141,Dimension!$J$3:$K$179,2,FALSE),\"\")","v":""},null,null,{"$f":"IF(OR(B141=Dimension!$A$6,B141=Dimension!$A$7,B141=Dimension!$A$8,B141=Dimension!$A$9),\"\",IF(OR(B141=Dimension!$A$3,B141=Dimension!$A$4,B141=Dimension!$A$5),\"สถานประกอบการ\",\"\"))","v":""},{"$f":"IF(OR(B141=Dimension!$A$6,B141=Dimension!$A$7,B141=Dimension!$A$8,B141=Dimension!$A$9,B141=\"\"),\"\",Payment_ID2)","v":""},"",null,null,{"$f":"IF(D141=Dimension!$C$9,IF(LEFT(UPPER(E141),2)=\"MC\",TRUE,FALSE),TRUE)","v":true}]
[null,null,null,{"$f":"IF(B142=Dimension!$A$8,Dimension!$C$9,IF(B142=Dimension!$A$6,CD,\"\"))","v":""},null,{"$f":"IF(OR(B142=Dimension!$A$3,B142=Dimension!$A$4,B142=Dimension!$A$6,B142=Dimension!$A$8),CCYA,\"\")","v":""},{"$f":"IFERROR(VLOOKUP(F142,Dimension!$G$3:$H$252,2,FALSE),\"\")","v":""},{"$f":"IF(OR(B142=Dimension!$A$3,B142=Dimension!$A$4,B142=Dimension!$A$5),\"เดินทาง/ท่องเที่ยว\",\"\")","v":""},{"$f":"IF(OR(B142=Dimension!$A$6,B142=Dimension!$A$7,B142=Dimension!$A$8,B142=Dimension!$A$9),\"\",IF(OR(B142=Dimension!$A$3,B142=Dimension!$A$4,B142=Dimension!$A$5),\"สถานประกอบการ\",\"\"))","v":""},{"$f":"IF(OR(B142=Dimension!$A$3,B142=Dimension!$A$4,B142=Dimension!$A$5,B142=Dimension!$A$6,,B142=Dimension!$A$7,B142=Dimension!$A$8,B142=Dimension!$A$9),Payment_ID2,\"\")","v":""},null,{"$f":"IFERROR(VLOOKUP(K142,Dimension!$J$3:$K$179,2,FALSE),\"\")","v":""},null,null,{"$f":"IF(OR(B142=Dimension!$A$6,B142=Dimension!$A$7,B142=Dimension!$A$8,B142=Dimension!$A$9),\"\",IF(OR(B142=Dimension!$A$3,B142=Dimension!$A$4,B142=Dimension!$A$5),\"สถานประกอบการ\",\"\"))","v":""},{"$f":"IF(OR(B142=Dimension!$A$6,B142=Dimension!$A$7,B142=Dimension!$A$8,B142=Dimension!$A$9,B142=\"\"),\"\",Payment_ID2)","v":""},"",null,null,{"$f":"IF(D142=Dimension!$C$9,IF(LEFT(UPPER(E142),2)=\"MC\",TRUE,FALSE),TRUE)","v":true}]
[null,null,null,{"$f":"IF(B143=Dimension!$A$8,Dimension!$C$9,IF(B143=Dimension!$A$6,CD,\"\"))","v":""},null,{"$f":"IF(OR(B143=Dimension!$A$3,B143=Dimension!$A$4,B143=Dimension!$A$6,B143=Dimension!$A$8),CCYA,\"\")","v":""},{"$f":"IFERROR(VLOOKUP(F143,Dimension!$G$3:$H$252,2,FALSE),\"\")","v":""},{"$f":"IF(OR(B143=Dimension!$A$3,B143=Dimension!$A$4,B143=Dimension!$A$5),\"เดินทาง/ท่องเที่ยว\",\"\")","v":""},{"$f":"IF(OR(B143=Dimension!$A$6,B143=Dimension!$A$7,B143=Dimension!$A$8,B143=Dimension!$A$9),\"\",IF(OR(B143=Dimension!$A$3,B143=Dimension!$A$4,B143=Dimension!$A$5),\"สถานประกอบการ\",\"\"))","v":""},{"$f":"IF(OR(B143=Dimension!$A$3,B143=Dimension!$A$4,B143=Dimension!$A$5,B143=Dimension!$A$6,,B143=Dimension!$A$7,B143=Dimension!$A$8,B143=Dimension!$A$9),Payment_ID2,\"\")","v":""},null,{"$f":"IFERROR(VLOOKUP(K143,Dimension!$J$3:$K$179,2,FALSE),\"\")","v":""},null,null,{"$f":"IF(OR(B143=Dimension!$A$6,B143=Dimension!$A$7,B143=Dimension!$A$8,B143=Dimension!$A$9),\"\",IF(OR(B143=Dimension!$A$3,B143=Dimension!$A$4,B143=Dimension!$A$5),\"สถานประกอบการ\",\"\"))","v":""},{"$f":"IF(OR(B143=Dimension!$A$6,B143=Dimension!$A$7,B143=Dimension!$A$8,B143=Dimension!$A$9,B143=\"\"),\"\",Payment_ID2)","v":""},"",null,null,{"$f":"IF(D143=Dimension!$C$9,IF(LEFT(UPPER(E143),2)=\"MC\",TRUE,FALSE),TRUE)","v":true}]
[null,null,null,{"$f":"IF(B144=Dimension!$A$8,Dimension!$C$9,IF(B144=Dimension!$A$6,CD,\"\"))","v":""},null,{"$f":"IF(OR(B144=Dimension!$A$3,B144=Dimension!$A$4,B144=Dimension!$A$6,B144=Dimension!$A$8),CCYA,\"\")","v":""},{"$f":"IFERROR(VLOOKUP(F144,Dimension!$G$3:$H$252,2,FALSE),\"\")","v":""},{"$f":"IF(OR(B144=Dimension!$A$3,B144=Dimension!$A$4,B144=Dimension!$A$5),\"เดินทาง/ท่องเที่ยว\",\"\")","v":""},{"$f":"IF(OR(B144=Dimension!$A$6,B144=Dimension!$A$7,B144=Dimension!$A$8,B144=Dimension!$A$9),\"\",IF(OR(B144=Dimension!$A$3,B144=Dimension!$A$4,B144=Dimension!$A$5),\"สถานประกอบการ\",\"\"))","v":""},{"$f":"IF(OR(B144=Dimension!$A$3,B144=Dimension!$A$4,B144=Dimension!$A$5,B144=Dimension!$A$6,,B144=Dimension!$A$7,B144=Dimension!$A$8,B144=Dimension!$A$9),Payment_ID2,\"\")","v":""},null,{"$f":"IFERROR(VLOOKUP(K144,Dimension!$J$3:$K$179,2,FALSE),\"\")","v":""},null,null,{"$f":"IF(OR(B144=Dimension!$A$6,B144=Dimension!$A$7,B144=Dimension!$A$8,B144=Dimension!$A$9),\"\",IF(OR(B144=Dimension!$A$3,B144=Dimension!$A$4,B144=Dimension!$A$5),\"สถานประกอบการ\",\"\"))","v":""},{"$f":"IF(OR(B144=Dimension!$A$6,B144=Dimension!$A$7,B144=Dimension!$A$8,B144=Dimension!$A$9,B144=\"\"),\"\",Payment_ID2)","v":""},"",null,null,{"$f":"IF(D144=Dimension!$C$9,IF(LEFT(UPPER(E144),2)=\"MC\",TRUE,FALSE),TRUE)","v":true}]
[null,null,null,{"$f":"IF(B145=Dimension!$A$8,Dimension!$C$9,IF(B145=Dimension!$A$6,CD,\"\"))","v":""},null,{"$f":"IF(OR(B145=Dimension!$A$3,B145=Dimension!$A$4,B145=Dimension!$A$6,B145=Dimension!$A$8),CCYA,\"\")","v":""},{"$f":"IFERROR(VLOOKUP(F145,Dimension!$G$3:$H$252,2,FALSE),\"\")","v":""},{"$f":"IF(OR(B145=Dimension!$A$3,B145=Dimension!$A$4,B145=Dimension!$A$5),\"เดินทาง/ท่องเที่ยว\",\"\")","v":""},{"$f":"IF(OR(B145=Dimension!$A$6,B145=Dimension!$A$7,B145=Dimension!$A$8,B145=Dimension!$A$9),\"\",IF(OR(B145=Dimension!$A$3,B145=Dimension!$A$4,B145=Dimension!$A$5),\"สถานประกอบการ\",\"\"))","v":""},{"$f":"IF(OR(B145=Dimension!$A$3,B145=Dimension!$A$4,B145=Dimension!$A$5,B145=Dimension!$A$6,,B145=Dimension!$A$7,B145=Dimension!$A$8,B145=Dimension!$A$9),Payment_ID2,\"\")","v":""},null,{"$f":"IFERROR(VLOOKUP(K145,Dimension!$J$3:$K$179,2,FALSE),\"\")","v":""},null,null,{"$f":"IF(OR(B145=Dimension!$A$6,B145=Dimension!$A$7,B145=Dimension!$A$8,B145=Dimension!$A$9),\"\",IF(OR(B145=Dimension!$A$3,B145=Dimension!$A$4,B145=Dimension!$A$5),\"สถานประกอบการ\",\"\"))","v":""},{"$f":"IF(OR(B145=Dimension!$A$6,B145=Dimension!$A$7,B145=Dimension!$A$8,B145=Dimension!$A$9,B145=\"\"),\"\",Payment_ID2)","v":""},"",null,null,{"$f":"IF(D145=Dimension!$C$9,IF(LEFT(UPPER(E145),2)=\"MC\",TRUE,FALSE),TRUE)","v":true}]
[null,null,null,{"$f":"IF(B146=Dimension!$A$8,Dimension!$C$9,IF(B146=Dimension!$A$6,CD,\"\"))","v":""},null,{"$f":"IF(OR(B146=Dimension!$A$3,B146=Dimension!$A$4,B146=Dimension!$A$6,B146=Dimension!$A$8),CCYA,\"\")","v":""},{"$f":"IFERROR(VLOOKUP(F146,Dimension!$G$3:$H$252,2,FALSE),\"\")","v":""},{"$f":"IF(OR(B146=Dimension!$A$3,B146=Dimension!$A$4,B146=Dimension!$A$5),\"เดินทาง/ท่องเที่ยว\",\"\")","v":""},{"$f":"IF(OR(B146=Dimension!$A$6,B146=Dimension!$A$7,B146=Dimension!$A$8,B146=Dimension!$A$9),\"\",IF(OR(B146=Dimension!$A$3,B146=Dimension!$A$4,B146=Dimension!$A$5),\"สถานประกอบการ\",\"\"))","v":""},{"$f":"IF(OR(B146=Dimension!$A$3,B146=Dimension!$A$4,B146=Dimension!$A$5,B146=Dimension!$A$6,,B146=Dimension!$A$7,B146=Dimension!$A$8,B146=Dimension!$A$9),Payment_ID2,\"\")","v":""},null,{"$f":"IFERROR(VLOOKUP(K146,Dimension!$J$3:$K$179,2,FALSE),\"\")","v":""},null,null,{"$f":"IF(OR(B146=Dimension!$A$6,B146=Dimension!$A$7,B146=Dimension!$A$8,B146=Dimension!$A$9),\"\",IF(OR(B146=Dimension!$A$3,B146=Dimension!$A$4,B146=Dimension!$A$5),\"สถานประกอบการ\",\"\"))","v":""},{"$f":"IF(OR(B146=Dimension!$A$6,B146=Dimension!$A$7,B146=Dimension!$A$8,B146=Dimension!$A$9,B146=\"\"),\"\",Payment_ID2)","v":""},"",null,null,{"$f":"IF(D146=Dimension!$C$9,IF(LEFT(UPPER(E146),2)=\"MC\",TRUE,FALSE),TRUE)","v":true}]
[null,null,null,{"$f":"IF(B147=Dimension!$A$8,Dimension!$C$9,IF(B147=Dimension!$A$6,CD,\"\"))","v":""},null,{"$f":"IF(OR(B147=Dimension!$A$3,B147=Dimension!$A$4,B147=Dimension!$A$6,B147=Dimension!$A$8),CCYA,\"\")","v":""},{"$f":"IFERROR(VLOOKUP(F147,Dimension!$G$3:$H$252,2,FALSE),\"\")","v":""},{"$f":"IF(OR(B147=Dimension!$A$3,B147=Dimension!$A$4,B147=Dimension!$A$5),\"เดินทาง/ท่องเที่ยว\",\"\")","v":""},{"$f":"IF(OR(B147=Dimension!$A$6,B147=Dimension!$A$7,B147=Dimension!$A$8,B147=Dimension!$A$9),\"\",IF(OR(B147=Dimension!$A$3,B147=Dimension!$A$4,B147=Dimension!$A$5),\"สถานประกอบการ\",\"\"))","v":""},{"$f":"IF(OR(B147=Dimension!$A$3,B147=Dimension!$A$4,B147=Dimension!$A$5,B147=Dimension!$A$6,,B147=Dimension!$A$7,B147=Dimension!$A$8,B147=Dimension!$A$9),Payment_ID2,\"\")","v":""},null,{"$f":"IFERROR(VLOOKUP(K147,Dimension!$J$3:$K$179,2,FALSE),\"\")","v":""},null,null,{"$f":"IF(OR(B147=Dimension!$A$6,B147=Dimension!$A$7,B147=Dimension!$A$8,B147=Dimension!$A$9),\"\",IF(OR(B147=Dimension!$A$3,B147=Dimension!$A$4,B147=Dimension!$A$5),\"สถานประกอบการ\",\"\"))","v":""},{"$f":"IF(OR(B147=Dimension!$A$6,B147=Dimension!$A$7,B147=Dimension!$A$8,B147=Dimension!$A$9,B147=\"\"),\"\",Payment_ID2)","v":""},"",null,null,{"$f":"IF(D147=Dimension!$C$9,IF(LEFT(UPPER(E147),2)=\"MC\",TRUE,FALSE),TRUE)","v":true}]
[null,null,null,{"$f":"IF(B148=Dimension!$A$8,Dimension!$C$9,IF(B148=Dimension!$A$6,CD,\"\"))","v":""},null,{"$f":"IF(OR(B148=Dimension!$A$3,B148=Dimension!$A$4,B148=Dimension!$A$6,B148=Dimension!$A$8),CCYA,\"\")","v":""},{"$f":"IFERROR(VLOOKUP(F148,Dimension!$G$3:$H$252,2,FALSE),\"\")","v":""},{"$f":"IF(OR(B148=Dimension!$A$3,B148=Dimension!$A$4,B148=Dimension!$A$5),\"เดินทาง/ท่องเที่ยว\",\"\")","v":""},{"$f":"IF(OR(B148=Dimension!$A$6,B148=Dimension!$A$7,B148=Dimension!$A$8,B148=Dimension!$A$9),\"\",IF(OR(B148=Dimension!$A$3,B148=Dimension!$A$4,B148=Dimension!$A$5),\"สถานประกอบการ\",\"\"))","v":""},{"$f":"IF(OR(B148=Dimension!$A$3,B148=Dimension!$A$4,B148=Dimension!$A$5,B148=Dimension!$A$6,,B148=Dimension!$A$7,B148=Dimension!$A$8,B148=Dimension!$A$9),Payment_ID2,\"\")","v":""},null,{"$f":"IFERROR(VLOOKUP(K148,Dimension!$J$3:$K$179,2,FALSE),\"\")","v":""},null,null,{"$f":"IF(OR(B148=Dimension!$A$6,B148=Dimension!$A$7,B148=Dimension!$A$8,B148=Dimension!$A$9),\"\",IF(OR(B148=Dimension!$A$3,B148=Dimension!$A$4,B148=Dimension!$A$5),\"สถานประกอบการ\",\"\"))","v":""},{"$f":"IF(OR(B148=Dimension!$A$6,B148=Dimension!$A$7,B148=Dimension!$A$8,B148=Dimension!$A$9,B148=\"\"),\"\",Payment_ID2)","v":""},"",null,null,{"$f":"IF(D148=Dimension!$C$9,IF(LEFT(UPPER(E148),2)=\"MC\",TRUE,FALSE),TRUE)","v":true}]
[null,null,null,{"$f":"IF(B149=Dimension!$A$8,Dimension!$C$9,IF(B149=Dimension!$A$6,CD,\"\"))","v":""},null,{"$f":"IF(OR(B149=Dimension!$A$3,B149=Dimension!$A$4,B149=Dimension!$A$6,B149=Dimension!$A$8),CCYA,\"\")","v":""},{"$f":"IFERROR(VLOOKUP(F149,Dimension!$G$3:$H$252,2,FALSE),\"\")","v":""},{"$f":"IF(OR(B149=Dimension!$A$3,B149=Dimension!$A$4,B149=Dimension!$A$5),\"เดินทาง/ท่องเที่ยว\",\"\")","v":""},{"$f":"IF(OR(B149=Dimension!$A$6,B149=Dimension!$A$7,B149=Dimension!$A$8,B149=Dimension!$A$9),\"\",IF(OR(B149=Dimension!$A$3,B149=Dimension!$A$4,B149=Dimension!$A$5),\"สถานประกอบการ\",\"\"))","v":""},{"$f":"IF(OR(B149=Dimension!$A$3,B149=Dimension!$A$4,B149=Dimension!$A$5,B149=Dimension!$A$6,,B149=Dimension!$A$7,B149=Dimension!$A$8,B149=Dimension!$A$9),Payment_ID2,\"\")","v":""},null,{"$f":"IFERROR(VLOOKUP(K149,Dimension!$J$3:$K$179,2,FALSE),\"\")","v":""},null,null,{"$f":"IF(OR(B149=Dimension!$A$6,B149=Dimension!$A$7,B149=Dimension!$A$8,B149=Dimension!$A$9),\"\",IF(OR(B149=Dimension!$A$3,B149=Dimension!$A$4,B149=Dimension!$A$5),\"สถานประกอบการ\",\"\"))","v":""},{"$f":"IF(OR(B149=Dimension!$A$6,B149=Dimension!$A$7,B149=Dimension!$A$8,B149=Dimension!$A$9,B149=\"\"),\"\",Payment_ID2)","v":""},"",null,null,{"$f":"IF(D149=Dimension!$C$9,IF(LEFT(UPPER(E149),2)=\"MC\",TRUE,FALSE),TRUE)","v":true}]
[null,null,null,{"$f":"IF(B150=Dimension!$A$8,Dimension!$C$9,IF(B150=Dimension!$A$6,CD,\"\"))","v":""},null,{"$f":"IF(OR(B150=Dimension!$A$3,B150=Dimension!$A$4,B150=Dimension!$A$6,B150=Dimension!$A$8),CCYA,\"\")","v":""},{"$f":"IFERROR(VLOOKUP(F150,Dimension!$G$3:$H$252,2,FALSE),\"\")","v":""},{"$f":"IF(OR(B150=Dimension!$A$3,B150=Dimension!$A$4,B150=Dimension!$A$5),\"เดินทาง/ท่องเที่ยว\",\"\")","v":""},{"$f":"IF(OR(B150=Dimension!$A$6,B150=Dimension!$A$7,B150=Dimension!$A$8,B150=Dimension!$A$9),\"\",IF(OR(B150=Dimension!$A$3,B150=Dimension!$A$4,B150=Dimension!$A$5),\"สถานประกอบการ\",\"\"))","v":""},{"$f":"IF(OR(B150=Dimension!$A$3,B150=Dimension!$A$4,B150=Dimension!$A$5,B150=Dimension!$A$6,,B150=Dimension!$A$7,B150=Dimension!$A$8,B150=Dimension!$A$9),Payment_ID2,\"\")","v":""},null,{"$f":"IFERROR(VLOOKUP(K150,Dimension!$J$3:$K$179,2,FALSE),\"\")","v":""},null,null,{"$f":"IF(OR(B150=Dimension!$A$6,B150=Dimension!$A$7,B150=Dimension!$A$8,B150=Dimension!$A$9),\"\",IF(OR(B150=Dimension!$A$3,B150=Dimension!$A$4,B150=Dimension!$A$5),\"สถานประกอบการ\",\"\"))","v":""},{"$f":"IF(OR(B150=Dimension!$A$6,B150=Dimension!$A$7,B150=Dimension!$A$8,B150=Dimension!$A$9,B150=\"\"),\"\",Payment_ID2)","v":""},"",null,null,{"$f":"IF(D150=Dimension!$C$9,IF(LEFT(UPPER(E150),2)=\"MC\",TRUE,FALSE),TRUE)","v":true}]
[null,null,null,{"$f":"IF(B151=Dimension!$A$8,Dimension!$C$9,IF(B151=Dimension!$A$6,CD,\"\"))","v":""},null,{"$f":"IF(OR(B151=Dimension!$A$3,B151=Dimension!$A$4,B151=Dimension!$A$6,B151=Dimension!$A$8),CCYA,\"\")","v":""},{"$f":"IFERROR(VLOOKUP(F151,Dimension!$G$3:$H$252,2,FALSE),\"\")","v":""},{"$f":"IF(OR(B151=Dimension!$A$3,B151=Dimension!$A$4,B151=Dimension!$A$5),\"เดินทาง/ท่องเที่ยว\",\"\")","v":""},{"$f":"IF(OR(B151=Dimension!$A$6,B151=Dimension!$A$7,B151=Dimension!$A$8,B151=Dimension!$A$9),\"\",IF(OR(B151=Dimension!$A$3,B151=Dimension!$A$4,B151=Dimension!$A$5),\"สถานประกอบการ\",\"\"))","v":""},{"$f":"IF(OR(B151=Dimension!$A$3,B151=Dimension!$A$4,B151=Dimension!$A$5,B151=Dimension!$A$6,,B151=Dimension!$A$7,B151=Dimension!$A$8,B151=Dimension!$A$9),Payment_ID2,\"\")","v":""},null,{"$f":"IFERROR(VLOOKUP(K151,Dimension!$J$3:$K$179,2,FALSE),\"\")","v":""},null,null,{"$f":"IF(OR(B151=Dimension!$A$6,B151=Dimension!$A$7,B151=Dimension!$A$8,B151=Dimension!$A$9),\"\",IF(OR(B151=Dimension!$A$3,B151=Dimension!$A$4,B151=Dimension!$A$5),\"สถานประกอบการ\",\"\"))","v":""},{"$f":"IF(OR(B151=Dimension!$A$6,B151=Dimension!$A$7,B151=Dimension!$A$8,B151=Dimension!$A$9,B151=\"\"),\"\",Payment_ID2)","v":""},"",null,null,{"$f":"IF(D151=Dimension!$C$9,IF(LEFT(UPPER(E151),2)=\"MC\",TRUE,FALSE),TRUE)","v":true}]
[null,null,null,{"$f":"IF(B152=Dimension!$A$8,Dimension!$C$9,IF(B152=Dimension!$A$6,CD,\"\"))","v":""},null,{"$f":"IF(OR(B152=Dimension!$A$3,B152=Dimension!$A$4,B152=Dimension!$A$6,B152=Dimension!$A$8),CCYA,\"\")","v":""},{"$f":"IFERROR(VLOOKUP(F152,Dimension!$G$3:$H$252,2,FALSE),\"\")","v":""},{"$f":"IF(OR(B152=Dimension!$A$3,B152=Dimension!$A$4,B152=Dimension!$A$5),\"เดินทาง/ท่องเที่ยว\",\"\")","v":""},{"$f":"IF(OR(B152=Dimension!$A$6,B152=Dimension!$A$7,B152=Dimension!$A$8,B152=Dimension!$A$9),\"\",IF(OR(B152=Dimension!$A$3,B152=Dimension!$A$4,B152=Dimension!$A$5),\"สถานประกอบการ\",\"\"))","v":""},{"$f":"IF(OR(B152=Dimension!$A$3,B152=Dimension!$A$4,B152=Dimension!$A$5,B152=Dimension!$A$6,,B152=Dimension!$A$7,B152=Dimension!$A$8,B152=Dimension!$A$9),Payment_ID2,\"\")","v":""},null,{"$f":"IFERROR(VLOOKUP(K152,Dimension!$J$3:$K$179,2,FALSE),\"\")","v":""},null,null,{"$f":"IF(OR(B152=Dimension!$A$6,B152=Dimension!$A$7,B152=Dimension!$A$8,B152=Dimension!$A$9),\"\",IF(OR(B152=Dimension!$A$3,B152=Dimension!$A$4,B152=Dimension!$A$5),\"สถานประกอบการ\",\"\"))","v":""},{"$f":"IF(OR(B152=Dimension!$A$6,B152=Dimension!$A$7,B152=Dimension!$A$8,B152=Dimension!$A$9,B152=\"\"),\"\",Payment_ID2)","v":""},"",null,null,{"$f":"IF(D152=Dimension!$C$9,IF(LEFT(UPPER(E152),2)=\"MC\",TRUE,FALSE),TRUE)","v":true}]
[null,null,null,{"$f":"IF(B153=Dimension!$A$8,Dimension!$C$9,IF(B153=Dimension!$A$6,CD,\"\"))","v":""},null,{"$f":"IF(OR(B153=Dimension!$A$3,B153=Dimension!$A$4,B153=Dimension!$A$6,B153=Dimension!$A$8),CCYA,\"\")","v":""},{"$f":"IFERROR(VLOOKUP(F153,Dimension!$G$3:$H$252,2,FALSE),\"\")","v":""},{"$f":"IF(OR(B153=Dimension!$A$3,B153=Dimension!$A$4,B153=Dimension!$A$5),\"เดินทาง/ท่องเที่ยว\",\"\")","v":""},{"$f":"IF(OR(B153=Dimension!$A$6,B153=Dimension!$A$7,B153=Dimension!$A$8,B153=Dimension!$A$9),\"\",IF(OR(B153=Dimension!$A$3,B153=Dimension!$A$4,B153=Dimension!$A$5),\"สถานประกอบการ\",\"\"))","v":""},{"$f":"IF(OR(B153=Dimension!$A$3,B153=Dimension!$A$4,B153=Dimension!$A$5,B153=Dimension!$A$6,,B153=Dimension!$A$7,B153=Dimension!$A$8,B153=Dimension!$A$9),Payment_ID2,\"\")","v":""},null,{"$f":"IFERROR(VLOOKUP(K153,Dimension!$J$3:$K$179,2,FALSE),\"\")","v":""},null,null,{"$f":"IF(OR(B153=Dimension!$A$6,B153=Dimension!$A$7,B153=Dimension!$A$8,B153=Dimension!$A$9),\"\",IF(OR(B153=Dimension!$A$3,B153=Dimension!$A$4,B153=Dimension!$A$5),\"สถานประกอบการ\",\"\"))","v":""},{"$f":"IF(OR(B153=Dimension!$A$6,B153=Dimension!$A$7,B153=Dimension!$A$8,B153=Dimension!$A$9,B153=\"\"),\"\",Payment_ID2)","v":""},"",null,null,{"$f":"IF(D153=Dimension!$C$9,IF(LEFT(UPPER(E153),2)=\"MC\",TRUE,FALSE),TRUE)","v":true}]
[null,null,null,{"$f":"IF(B154=Dimension!$A$8,Dimension!$C$9,IF(B154=Dimension!$A$6,CD,\"\"))","v":""},null,{"$f":"IF(OR(B154=Dimension!$A$3,B154=Dimension!$A$4,B154=Dimension!$A$6,B154=Dimension!$A$8),CCYA,\"\")","v":""},{"$f":"IFERROR(VLOOKUP(F154,Dimension!$G$3:$H$252,2,FALSE),\"\")","v":""},{"$f":"IF(OR(B154=Dimension!$A$3,B154=Dimension!$A$4,B154=Dimension!$A$5),\"เดินทาง/ท่องเที่ยว\",\"\")","v":""},{"$f":"IF(OR(B154=Dimension!$A$6,B154=Dimension!$A$7,B154=Dimension!$A$8,B154=Dimension!$A$9),\"\",IF(OR(B154=Dimension!$A$3,B154=Dimension!$A$4,B154=Dimension!$A$5),\"สถานประกอบการ\",\"\"))","v":""},{"$f":"IF(OR(B154=Dimension!$A$3,B154=Dimension!$A$4,B154=Dimension!$A$5,B154=Dimension!$A$6,,B154=Dimension!$A$7,B154=Dimension!$A$8,B154=Dimension!$A$9),Payment_ID2,\"\")","v":""},null,{"$f":"IFERROR(VLOOKUP(K154,Dimension!$J$3:$K$179,2,FALSE),\"\")","v":""},null,null,{"$f":"IF(OR(B154=Dimension!$A$6,B154=Dimension!$A$7,B154=Dimension!$A$8,B154=Dimension!$A$9),\"\",IF(OR(B154=Dimension!$A$3,B154=Dimension!$A$4,B154=Dimension!$A$5),\"สถานประกอบการ\",\"\"))","v":""},{"$f":"IF(OR(B154=Dimension!$A$6,B154=Dimension!$A$7,B154=Dimension!$A$8,B154=Dimension!$A$9,B154=\"\"),\"\",Payment_ID2)","v":""},"",null,null,{"$f":"IF(D154=Dimension!$C$9,IF(LEFT(UPPER(E154),2)=\"MC\",TRUE,FALSE),TRUE)","v":true}]
[null,null,null,{"$f":"IF(B155=Dimension!$A$8,Dimension!$C$9,IF(B155=Dimension!$A$6,CD,\"\"))","v":""},null,{"$f":"IF(OR(B155=Dimension!$A$3,B155=Dimension!$A$4,B155=Dimension!$A$6,B155=Dimension!$A$8),CCYA,\"\")","v":""},{"$f":"IFERROR(VLOOKUP(F155,Dimension!$G$3:$H$252,2,FALSE),\"\")","v":""},{"$f":"IF(OR(B155=Dimension!$A$3,B155=Dimension!$A$4,B155=Dimension!$A$5),\"เดินทาง/ท่องเที่ยว\",\"\")","v":""},{"$f":"IF(OR(B155=Dimension!$A$6,B155=Dimension!$A$7,B155=Dimension!$A$8,B155=Dimension!$A$9),\"\",IF(OR(B155=Dimension!$A$3,B155=Dimension!$A$4,B155=Dimension!$A$5),\"สถานประกอบการ\",\"\"))","v":""},{"$f":"IF(OR(B155=Dimension!$A$3,B155=Dimension!$A$4,B155=Dimension!$A$5,B155=Dimension!$A$6,,B155=Dimension!$A$7,B155=Dimension!$A$8,B155=Dimension!$A$9),Payment_ID2,\"\")","v":""},null,{"$f":"IFERROR(VLOOKUP(K155,Dimension!$J$3:$K$179,2,FALSE),\"\")","v":""},null,null,{"$f":"IF(OR(B155=Dimension!$A$6,B155=Dimension!$A$7,B155=Dimension!$A$8,B155=Dimension!$A$9),\"\",IF(OR(B155=Dimension!$A$3,B155=Dimension!$A$4,B155=Dimension!$A$5),\"สถานประกอบการ\",\"\"))","v":""},{"$f":"IF(OR(B155=Dimension!$A$6,B155=Dimension!$A$7,B155=Dimension!$A$8,B155=Dimension!$A$9,B155=\"\"),\"\",Payment_ID2)","v":""},"",null,null,{"$f":"IF(D155=Dimension!$C$9,IF(LEFT(UPPER(E155),2)=\"MC\",TRUE,FALSE),TRUE)","v":true}]
[null,null,null,{"$f":"IF(B156=Dimension!$A$8,Dimension!$C$9,IF(B156=Dimension!$A$6,CD,\"\"))","v":""},null,{"$f":"IF(OR(B156=Dimension!$A$3,B156=Dimension!$A$4,B156=Dimension!$A$6,B156=Dimension!$A$8),CCYA,\"\")","v":""},{"$f":"IFERROR(VLOOKUP(F156,Dimension!$G$3:$H$252,2,FALSE),\"\")","v":""},{"$f":"IF(OR(B156=Dimension!$A$3,B156=Dimension!$A$4,B156=Dimension!$A$5),\"เดินทาง/ท่องเที่ยว\",\"\")","v":""},{"$f":"IF(OR(B156=Dimension!$A$6,B156=Dimension!$A$7,B156=Dimension!$A$8,B156=Dimension!$A$9),\"\",IF(OR(B156=Dimension!$A$3,B156=Dimension!$A$4,B156=Dimension!$A$5),\"สถานประกอบการ\",\"\"))","v":""},{"$f":"IF(OR(B156=Dimension!$A$3,B156=Dimension!$A$4,B156=Dimension!$A$5,B156=Dimension!$A$6,,B156=Dimension!$A$7,B156=Dimension!$A$8,B156=Dimension!$A$9),Payment_ID2,\"\")","v":""},null,{"$f":"IFERROR(VLOOKUP(K156,Dimension!$J$3:$K$179,2,FALSE),\"\")","v":""},null,null,{"$f":"IF(OR(B156=Dimension!$A$6,B156=Dimension!$A$7,B156=Dimension!$A$8,B156=Dimension!$A$9),\"\",IF(OR(B156=Dimension!$A$3,B156=Dimension!$A$4,B156=Dimension!$A$5),\"สถานประกอบการ\",\"\"))","v":""},{"$f":"IF(OR(B156=Dimension!$A$6,B156=Dimension!$A$7,B156=Dimension!$A$8,B156=Dimension!$A$9,B156=\"\"),\"\",Payment_ID2)","v":""},"",null,null,{"$f":"IF(D156=Dimension!$C$9,IF(LEFT(UPPER(E156),2)=\"MC\",TRUE,FALSE),TRUE)","v":true}]
[null,null,null,{"$f":"IF(B157=Dimension!$A$8,Dimension!$C$9,IF(B157=Dimension!$A$6,CD,\"\"))","v":""},null,{"$f":"IF(OR(B157=Dimension!$A$3,B157=Dimension!$A$4,B157=Dimension!$A$6,B157=Dimension!$A$8),CCYA,\"\")","v":""},{"$f":"IFERROR(VLOOKUP(F157,Dimension!$G$3:$H$252,2,FALSE),\"\")","v":""},{"$f":"IF(OR(B157=Dimension!$A$3,B157=Dimension!$A$4,B157=Dimension!$A$5),\"เดินทาง/ท่องเที่ยว\",\"\")","v":""},{"$f":"IF(OR(B157=Dimension!$A$6,B157=Dimension!$A$7,B157=Dimension!$A$8,B157=Dimension!$A$9),\"\",IF(OR(B157=Dimension!$A$3,B157=Dimension!$A$4,B157=Dimension!$A$5),\"สถานประกอบการ\",\"\"))","v":""},{"$f":"IF(OR(B157=Dimension!$A$3,B157=Dimension!$A$4,B157=Dimension!$A$5,B157=Dimension!$A$6,,B157=Dimension!$A$7,B157=Dimension!$A$8,B157=Dimension!$A$9),Payment_ID2,\"\")","v":""},null,{"$f":"IFERROR(VLOOKUP(K157,Dimension!$J$3:$K$179,2,FALSE),\"\")","v":""},null,null,{"$f":"IF(OR(B157=Dimension!$A$6,B157=Dimension!$A$7,B157=Dimension!$A$8,B157=Dimension!$A$9),\"\",IF(OR(B157=Dimension!$A$3,B157=Dimension!$A$4,B157=Dimension!$A$5),\"สถานประกอบการ\",\"\"))","v":""},{"$f":"IF(OR(B157=Dimension!$A$6,B157=Dimension!$A$7,B157=Dimension!$A$8,B157=Dimension!$A$9,B157=\"\"),\"\",Payment_ID2)","v":""},"",null,null,{"$f":"IF(D157=Dimension!$C$9,IF(LEFT(UPPER(E157),2)=\"MC\",TRUE,FALSE),TRUE)","v":true}]
[null,null,null,{"$f":"IF(B158=Dimension!$A$8,Dimension!$C$9,IF(B158=Dimension!$A$6,CD,\"\"))","v":""},null,{"$f":"IF(OR(B158=Dimension!$A$3,B158=Dimension!$A$4,B158=Dimension!$A$6,B158=Dimension!$A$8),CCYA,\"\")","v":""},{"$f":"IFERROR(VLOOKUP(F158,Dimension!$G$3:$H$252,2,FALSE),\"\")","v":""},{"$f":"IF(OR(B158=Dimension!$A$3,B158=Dimension!$A$4,B158=Dimension!$A$5),\"เดินทาง/ท่องเที่ยว\",\"\")","v":""},{"$f":"IF(OR(B158=Dimension!$A$6,B158=Dimension!$A$7,B158=Dimension!$A$8,B158=Dimension!$A$9),\"\",IF(OR(B158=Dimension!$A$3,B158=Dimension!$A$4,B158=Dimension!$A$5),\"สถานประกอบการ\",\"\"))","v":""},{"$f":"IF(OR(B158=Dimension!$A$3,B158=Dimension!$A$4,B158=Dimension!$A$5,B158=Dimension!$A$6,,B158=Dimension!$A$7,B158=Dimension!$A$8,B158=Dimension!$A$9),Payment_ID2,\"\")","v":""},null,{"$f":"IFERROR(VLOOKUP(K158,Dimension!$J$3:$K$179,2,FALSE),\"\")","v":""},null,null,{"$f":"IF(OR(B158=Dimension!$A$6,B158=Dimension!$A$7,B158=Dimension!$A$8,B158=Dimension!$A$9),\"\",IF(OR(B158=Dimension!$A$3,B158=Dimension!$A$4,B158=Dimension!$A$5),\"สถานประกอบการ\",\"\"))","v":""},{"$f":"IF(OR(B158=Dimension!$A$6,B158=Dimension!$A$7,B158=Dimension!$A$8,B158=Dimension!$A$9,B158=\"\"),\"\",Payment_ID2)","v":""},"",null,null,{"$f":"IF(D158=Dimension!$C$9,IF(LEFT(UPPER(E158),2)=\"MC\",TRUE,FALSE),TRUE)","v":true}]
[null,null,null,{"$f":"IF(B159=Dimension!$A$8,Dimension!$C$9,IF(B159=Dimension!$A$6,CD,\"\"))","v":""},null,{"$f":"IF(OR(B159=Dimension!$A$3,B159=Dimension!$A$4,B159=Dimension!$A$6,B159=Dimension!$A$8),CCYA,\"\")","v":""},{"$f":"IFERROR(VLOOKUP(F159,Dimension!$G$3:$H$252,2,FALSE),\"\")","v":""},{"$f":"IF(OR(B159=Dimension!$A$3,B159=Dimension!$A$4,B159=Dimension!$A$5),\"เดินทาง/ท่องเที่ยว\",\"\")","v":""},{"$f":"IF(OR(B159=Dimension!$A$6,B159=Dimension!$A$7,B159=Dimension!$A$8,B159=Dimension!$A$9),\"\",IF(OR(B159=Dimension!$A$3,B159=Dimension!$A$4,B159=Dimension!$A$5),\"สถานประกอบการ\",\"\"))","v":""},{"$f":"IF(OR(B159=Dimension!$A$3,B159=Dimension!$A$4,B159=Dimension!$A$5,B159=Dimension!$A$6,,B159=Dimension!$A$7,B159=Dimension!$A$8,B159=Dimension!$A$9),Payment_ID2,\"\")","v":""},null,{"$f":"IFERROR(VLOOKUP(K159,Dimension!$J$3:$K$179,2,FALSE),\"\")","v":""},null,null,{"$f":"IF(OR(B159=Dimension!$A$6,B159=Dimension!$A$7,B159=Dimension!$A$8,B159=Dimension!$A$9),\"\",IF(OR(B159=Dimension!$A$3,B159=Dimension!$A$4,B159=Dimension!$A$5),\"สถานประกอบการ\",\"\"))","v":""},{"$f":"IF(OR(B159=Dimension!$A$6,B159=Dimension!$A$7,B159=Dimension!$A$8,B159=Dimension!$A$9,B159=\"\"),\"\",Payment_ID2)","v":""},"",null,null,{"$f":"IF(D159=Dimension!$C$9,IF(LEFT(UPPER(E159),2)=\"MC\",TRUE,FALSE),TRUE)","v":true}]
[null,null,null,{"$f":"IF(B160=Dimension!$A$8,Dimension!$C$9,IF(B160=Dimension!$A$6,CD,\"\"))","v":""},null,{"$f":"IF(OR(B160=Dimension!$A$3,B160=Dimension!$A$4,B160=Dimension!$A$6,B160=Dimension!$A$8),CCYA,\"\")","v":""},{"$f":"IFERROR(VLOOKUP(F160,Dimension!$G$3:$H$252,2,FALSE),\"\")","v":""},{"$f":"IF(OR(B160=Dimension!$A$3,B160=Dimension!$A$4,B160=Dimension!$A$5),\"เดินทาง/ท่องเที่ยว\",\"\")","v":""},{"$f":"IF(OR(B160=Dimension!$A$6,B160=Dimension!$A$7,B160=Dimension!$A$8,B160=Dimension!$A$9),\"\",IF(OR(B160=Dimension!$A$3,B160=Dimension!$A$4,B160=Dimension!$A$5),\"สถานประกอบการ\",\"\"))","v":""},{"$f":"IF(OR(B160=Dimension!$A$3,B160=Dimension!$A$4,B160=Dimension!$A$5,B160=Dimension!$A$6,,B160=Dimension!$A$7,B160=Dimension!$A$8,B160=Dimension!$A$9),Payment_ID2,\"\")","v":""},null,{"$f":"IFERROR(VLOOKUP(K160,Dimension!$J$3:$K$179,2,FALSE),\"\")","v":""},null,null,{"$f":"IF(OR(B160=Dimension!$A$6,B160=Dimension!$A$7,B160=Dimension!$A$8,B160=Dimension!$A$9),\"\",IF(OR(B160=Dimension!$A$3,B160=Dimension!$A$4,B160=Dimension!$A$5),\"สถานประกอบการ\",\"\"))","v":""},{"$f":"IF(OR(B160=Dimension!$A$6,B160=Dimension!$A$7,B160=Dimension!$A$8,B160=Dimension!$A$9,B160=\"\"),\"\",Payment_ID2)","v":""},"",null,null,{"$f":"IF(D160=Dimension!$C$9,IF(LEFT(UPPER(E160),2)=\"MC\",TRUE,FALSE),TRUE)","v":true}]
[null,null,null,{"$f":"IF(B161=Dimension!$A$8,Dimension!$C$9,IF(B161=Dimension!$A$6,CD,\"\"))","v":""},null,{"$f":"IF(OR(B161=Dimension!$A$3,B161=Dimension!$A$4,B161=Dimension!$A$6,B161=Dimension!$A$8),CCYA,\"\")","v":""},{"$f":"IFERROR(VLOOKUP(F161,Dimension!$G$3:$H$252,2,FALSE),\"\")","v":""},{"$f":"IF(OR(B161=Dimension!$A$3,B161=Dimension!$A$4,B161=Dimension!$A$5),\"เดินทาง/ท่องเที่ยว\",\"\")","v":""},{"$f":"IF(OR(B161=Dimension!$A$6,B161=Dimension!$A$7,B161=Dimension!$A$8,B161=Dimension!$A$9),\"\",IF(OR(B161=Dimension!$A$3,B161=Dimension!$A$4,B161=Dimension!$A$5),\"สถานประกอบการ\",\"\"))","v":""},{"$f":"IF(OR(B161=Dimension!$A$3,B161=Dimension!$A$4,B161=Dimension!$A$5,B161=Dimension!$A$6,,B161=Dimension!$A$7,B161=Dimension!$A$8,B161=Dimension!$A$9),Payment_ID2,\"\")","v":""},null,{"$f":"IFERROR(VLOOKUP(K161,Dimension!$J$3:$K$179,2,FALSE),\"\")","v":""},null,null,{"$f":"IF(OR(B161=Dimension!$A$6,B161=Dimension!$A$7,B161=Dimension!$A$8,B161=Dimension!$A$9),\"\",IF(OR(B161=Dimension!$A$3,B161=Dimension!$A$4,B161=Dimension!$A$5),\"สถานประกอบการ\",\"\"))","v":""},{"$f":"IF(OR(B161=Dimension!$A$6,B161=Dimension!$A$7,B161=Dimension!$A$8,B161=Dimension!$A$9,B161=\"\"),\"\",Payment_ID2)","v":""},"",null,null,{"$f":"IF(D161=Dimension!$C$9,IF(LEFT(UPPER(E161),2)=\"MC\",TRUE,FALSE),TRUE)","v":true}]
[null,null,null,{"$f":"IF(B162=Dimension!$A$8,Dimension!$C$9,IF(B162=Dimension!$A$6,CD,\"\"))","v":""},null,{"$f":"IF(OR(B162=Dimension!$A$3,B162=Dimension!$A$4,B162=Dimension!$A$6,B162=Dimension!$A$8),CCYA,\"\")","v":""},{"$f":"IFERROR(VLOOKUP(F162,Dimension!$G$3:$H$252,2,FALSE),\"\")","v":""},{"$f":"IF(OR(B162=Dimension!$A$3,B162=Dimension!$A$4,B162=Dimension!$A$5),\"เดินทาง/ท่องเที่ยว\",\"\")","v":""},{"$f":"IF(OR(B162=Dimension!$A$6,B162=Dimension!$A$7,B162=Dimension!$A$8,B162=Dimension!$A$9),\"\",IF(OR(B162=Dimension!$A$3,B162=Dimension!$A$4,B162=Dimension!$A$5),\"สถานประกอบการ\",\"\"))","v":""},{"$f":"IF(OR(B162=Dimension!$A$3,B162=Dimension!$A$4,B162=Dimension!$A$5,B162=Dimension!$A$6,,B162=Dimension!$A$7,B162=Dimension!$A$8,B162=Dimension!$A$9),Payment_ID2,\"\")","v":""},null,{"$f":"IFERROR(VLOOKUP(K162,Dimension!$J$3:$K$179,2,FALSE),\"\")","v":""},null,null,{"$f":"IF(OR(B162=Dimension!$A$6,B162=Dimension!$A$7,B162=Dimension!$A$8,B162=Dimension!$A$9),\"\",IF(OR(B162=Dimension!$A$3,B162=Dimension!$A$4,B162=Dimension!$A$5),\"สถานประกอบการ\",\"\"))","v":""},{"$f":"IF(OR(B162=Dimension!$A$6,B162=Dimension!$A$7,B162=Dimension!$A$8,B162=Dimension!$A$9,B162=\"\"),\"\",Payment_ID2)","v":""},"",null,null,{"$f":"IF(D162=Dimension!$C$9,IF(LEFT(UPPER(E162),2)=\"MC\",TRUE,FALSE),TRUE)","v":true}]
[null,null,null,{"$f":"IF(B163=Dimension!$A$8,Dimension!$C$9,IF(B163=Dimension!$A$6,CD,\"\"))","v":""},null,{"$f":"IF(OR(B163=Dimension!$A$3,B163=Dimension!$A$4,B163=Dimension!$A$6,B163=Dimension!$A$8),CCYA,\"\")","v":""},{"$f":"IFERROR(VLOOKUP(F163,Dimension!$G$3:$H$252,2,FALSE),\"\")","v":""},{"$f":"IF(OR(B163=Dimension!$A$3,B163=Dimension!$A$4,B163=Dimension!$A$5),\"เดินทาง/ท่องเที่ยว\",\"\")","v":""},{"$f":"IF(OR(B163=Dimension!$A$6,B163=Dimension!$A$7,B163=Dimension!$A$8,B163=Dimension!$A$9),\"\",IF(OR(B163=Dimension!$A$3,B163=Dimension!$A$4,B163=Dimension!$A$5),\"สถานประกอบการ\",\"\"))","v":""},{"$f":"IF(OR(B163=Dimension!$A$3,B163=Dimension!$A$4,B163=Dimension!$A$5,B163=Dimension!$A$6,,B163=Dimension!$A$7,B163=Dimension!$A$8,B163=Dimension!$A$9),Payment_ID2,\"\")","v":""},null,{"$f":"IFERROR(VLOOKUP(K163,Dimension!$J$3:$K$179,2,FALSE),\"\")","v":""},null,null,{"$f":"IF(OR(B163=Dimension!$A$6,B163=Dimension!$A$7,B163=Dimension!$A$8,B163=Dimension!$A$9),\"\",IF(OR(B163=Dimension!$A$3,B163=Dimension!$A$4,B163=Dimension!$A$5),\"สถานประกอบการ\",\"\"))","v":""},{"$f":"IF(OR(B163=Dimension!$A$6,B163=Dimension!$A$7,B163=Dimension!$A$8,B163=Dimension!$A$9,B163=\"\"),\"\",Payment_ID2)","v":""},"",null,null,{"$f":"IF(D163=Dimension!$C$9,IF(LEFT(UPPER(E163),2)=\"MC\",TRUE,FALSE),TRUE)","v":true}]
[null,null,null,{"$f":"IF(B164=Dimension!$A$8,Dimension!$C$9,IF(B164=Dimension!$A$6,CD,\"\"))","v":""},null,{"$f":"IF(OR(B164=Dimension!$A$3,B164=Dimension!$A$4,B164=Dimension!$A$6,B164=Dimension!$A$8),CCYA,\"\")","v":""},{"$f":"IFERROR(VLOOKUP(F164,Dimension!$G$3:$H$252,2,FALSE),\"\")","v":""},{"$f":"IF(OR(B164=Dimension!$A$3,B164=Dimension!$A$4,B164=Dimension!$A$5),\"เดินทาง/ท่องเที่ยว\",\"\")","v":""},{"$f":"IF(OR(B164=Dimension!$A$6,B164=Dimension!$A$7,B164=Dimension!$A$8,B164=Dimension!$A$9),\"\",IF(OR(B164=Dimension!$A$3,B164=Dimension!$A$4,B164=Dimension!$A$5),\"สถานประกอบการ\",\"\"))","v":""},{"$f":"IF(OR(B164=Dimension!$A$3,B164=Dimension!$A$4,B164=Dimension!$A$5,B164=Dimension!$A$6,,B164=Dimension!$A$7,B164=Dimension!$A$8,B164=Dimension!$A$9),Payment_ID2,\"\")","v":""},null,{"$f":"IFERROR(VLOOKUP(K164,Dimension!$J$3:$K$179,2,FALSE),\"\")","v":""},null,null,{"$f":"IF(OR(B164=Dimension!$A$6,B164=Dimension!$A$7,B164=Dimension!$A$8,B164=Dimension!$A$9),\"\",IF(OR(B164=Dimension!$A$3,B164=Dimension!$A$4,B164=Dimension!$A$5),\"สถานประกอบการ\",\"\"))","v":""},{"$f":"IF(OR(B164=Dimension!$A$6,B164=Dimension!$A$7,B164=Dimension!$A$8,B164=Dimension!$A$9,B164=\"\"),\"\",Payment_ID2)","v":""},"",null,null,{"$f":"IF(D164=Dimension!$C$9,IF(LEFT(UPPER(E164),2)=\"MC\",TRUE,FALSE),TRUE)","v":true}]
[null,null,null,{"$f":"IF(B165=Dimension!$A$8,Dimension!$C$9,IF(B165=Dimension!$A$6,CD,\"\"))","v":""},null,{"$f":"IF(OR(B165=Dimension!$A$3,B165=Dimension!$A$4,B165=Dimension!$A$6,B165=Dimension!$A$8),CCYA,\"\")","v":""},{"$f":"IFERROR(VLOOKUP(F165,Dimension!$G$3:$H$252,2,FALSE),\"\")","v":""},{"$f":"IF(OR(B165=Dimension!$A$3,B165=Dimension!$A$4,B165=Dimension!$A$5),\"เดินทาง/ท่องเที่ยว\",\"\")","v":""},{"$f":"IF(OR(B165=Dimension!$A$6,B165=Dimension!$A$7,B165=Dimension!$A$8,B165=Dimension!$A$9),\"\",IF(OR(B165=Dimension!$A$3,B165=Dimension!$A$4,B165=Dimension!$A$5),\"สถานประกอบการ\",\"\"))","v":""},{"$f":"IF(OR(B165=Dimension!$A$3,B165=Dimension!$A$4,B165=Dimension!$A$5,B165=Dimension!$A$6,,B165=Dimension!$A$7,B165=Dimension!$A$8,B165=Dimension!$A$9),Payment_ID2,\"\")","v":""},null,{"$f":"IFERROR(VLOOKUP(K165,Dimension!$J$3:$K$179,2,FALSE),\"\")","v":""},null,null,{"$f":"IF(OR(B165=Dimension!$A$6,B165=Dimension!$A$7,B165=Dimension!$A$8,B165=Dimension!$A$9),\"\",IF(OR(B165=Dimension!$A$3,B165=Dimension!$A$4,B165=Dimension!$A$5),\"สถานประกอบการ\",\"\"))","v":""},{"$f":"IF(OR(B165=Dimension!$A$6,B165=Dimension!$A$7,B165=Dimension!$A$8,B165=Dimension!$A$9,B165=\"\"),\"\",Payment_ID2)","v":""},"",null,null,{"$f":"IF(D165=Dimension!$C$9,IF(LEFT(UPPER(E165),2)=\"MC\",TRUE,FALSE),TRUE)","v":true}]
[null,null,null,{"$f":"IF(B166=Dimension!$A$8,Dimension!$C$9,IF(B166=Dimension!$A$6,CD,\"\"))","v":""},null,{"$f":"IF(OR(B166=Dimension!$A$3,B166=Dimension!$A$4,B166=Dimension!$A$6,B166=Dimension!$A$8),CCYA,\"\")","v":""},{"$f":"IFERROR(VLOOKUP(F166,Dimension!$G$3:$H$252,2,FALSE),\"\")","v":""},{"$f":"IF(OR(B166=Dimension!$A$3,B166=Dimension!$A$4,B166=Dimension!$A$5),\"เดินทาง/ท่องเที่ยว\",\"\")","v":""},{"$f":"IF(OR(B166=Dimension!$A$6,B166=Dimension!$A$7,B166=Dimension!$A$8,B166=Dimension!$A$9),\"\",IF(OR(B166=Dimension!$A$3,B166=Dimension!$A$4,B166=Dimension!$A$5),\"สถานประกอบการ\",\"\"))","v":""},{"$f":"IF(OR(B166=Dimension!$A$3,B166=Dimension!$A$4,B166=Dimension!$A$5,B166=Dimension!$A$6,,B166=Dimension!$A$7,B166=Dimension!$A$8,B166=Dimension!$A$9),Payment_ID2,\"\")","v":""},null,{"$f":"IFERROR(VLOOKUP(K166,Dimension!$J$3:$K$179,2,FALSE),\"\")","v":""},null,null,{"$f":"IF(OR(B166=Dimension!$A$6,B166=Dimension!$A$7,B166=Dimension!$A$8,B166=Dimension!$A$9),\"\",IF(OR(B166=Dimension!$A$3,B166=Dimension!$A$4,B166=Dimension!$A$5),\"สถานประกอบการ\",\"\"))","v":""},{"$f":"IF(OR(B166=Dimension!$A$6,B166=Dimension!$A$7,B166=Dimension!$A$8,B166=Dimension!$A$9,B166=\"\"),\"\",Payment_ID2)","v":""},"",null,null,{"$f":"IF(D166=Dimension!$C$9,IF(LEFT(UPPER(E166),2)=\"MC\",TRUE,FALSE),TRUE)","v":true}]
[null,null,null,{"$f":"IF(B167=Dimension!$A$8,Dimension!$C$9,IF(B167=Dimension!$A$6,CD,\"\"))","v":""},null,{"$f":"IF(OR(B167=Dimension!$A$3,B167=Dimension!$A$4,B167=Dimension!$A$6,B167=Dimension!$A$8),CCYA,\"\")","v":""},{"$f":"IFERROR(VLOOKUP(F167,Dimension!$G$3:$H$252,2,FALSE),\"\")","v":""},{"$f":"IF(OR(B167=Dimension!$A$3,B167=Dimension!$A$4,B167=Dimension!$A$5),\"เดินทาง/ท่องเที่ยว\",\"\")","v":""},{"$f":"IF(OR(B167=Dimension!$A$6,B167=Dimension!$A$7,B167=Dimension!$A$8,B167=Dimension!$A$9),\"\",IF(OR(B167=Dimension!$A$3,B167=Dimension!$A$4,B167=Dimension!$A$5),\"สถานประกอบการ\",\"\"))","v":""},{"$f":"IF(OR(B167=Dimension!$A$3,B167=Dimension!$A$4,B167=Dimension!$A$5,B167=Dimension!$A$6,,B167=Dimension!$A$7,B167=Dimension!$A$8,B167=Dimension!$A$9),Payment_ID2,\"\")","v":""},null,{"$f":"IFERROR(VLOOKUP(K167,Dimension!$J$3:$K$179,2,FALSE),\"\")","v":""},null,null,{"$f":"IF(OR(B167=Dimension!$A$6,B167=Dimension!$A$7,B167=Dimension!$A$8,B167=Dimension!$A$9),\"\",IF(OR(B167=Dimension!$A$3,B167=Dimension!$A$4,B167=Dimension!$A$5),\"สถานประกอบการ\",\"\"))","v":""},{"$f":"IF(OR(B167=Dimension!$A$6,B167=Dimension!$A$7,B167=Dimension!$A$8,B167=Dimension!$A$9,B167=\"\"),\"\",Payment_ID2)","v":""},"",null,null,{"$f":"IF(D167=Dimension!$C$9,IF(LEFT(UPPER(E167),2)=\"MC\",TRUE,FALSE),TRUE)","v":true}]
[null,null,null,{"$f":"IF(B168=Dimension!$A$8,Dimension!$C$9,IF(B168=Dimension!$A$6,CD,\"\"))","v":""},null,{"$f":"IF(OR(B168=Dimension!$A$3,B168=Dimension!$A$4,B168=Dimension!$A$6,B168=Dimension!$A$8),CCYA,\"\")","v":""},{"$f":"IFERROR(VLOOKUP(F168,Dimension!$G$3:$H$252,2,FALSE),\"\")","v":""},{"$f":"IF(OR(B168=Dimension!$A$3,B168=Dimension!$A$4,B168=Dimension!$A$5),\"เดินทาง/ท่องเที่ยว\",\"\")","v":""},{"$f":"IF(OR(B168=Dimension!$A$6,B168=Dimension!$A$7,B168=Dimension!$A$8,B168=Dimension!$A$9),\"\",IF(OR(B168=Dimension!$A$3,B168=Dimension!$A$4,B168=Dimension!$A$5),\"สถานประกอบการ\",\"\"))","v":""},{"$f":"IF(OR(B168=Dimension!$A$3,B168=Dimension!$A$4,B168=Dimension!$A$5,B168=Dimension!$A$6,,B168=Dimension!$A$7,B168=Dimension!$A$8,B168=Dimension!$A$9),Payment_ID2,\"\")","v":""},null,{"$f":"IFERROR(VLOOKUP(K168,Dimension!$J$3:$K$179,2,FALSE),\"\")","v":""},null,null,{"$f":"IF(OR(B168=Dimension!$A$6,B168=Dimension!$A$7,B168=Dimension!$A$8,B168=Dimension!$A$9),\"\",IF(OR(B168=Dimension!$A$3,B168=Dimension!$A$4,B168=Dimension!$A$5),\"สถานประกอบการ\",\"\"))","v":""},{"$f":"IF(OR(B168=Dimension!$A$6,B168=Dimension!$A$7,B168=Dimension!$A$8,B168=Dimension!$A$9,B168=\"\"),\"\",Payment_ID2)","v":""},"",null,null,{"$f":"IF(D168=Dimension!$C$9,IF(LEFT(UPPER(E168),2)=\"MC\",TRUE,FALSE),TRUE)","v":true}]
[null,null,null,{"$f":"IF(B169=Dimension!$A$8,Dimension!$C$9,IF(B169=Dimension!$A$6,CD,\"\"))","v":""},null,{"$f":"IF(OR(B169=Dimension!$A$3,B169=Dimension!$A$4,B169=Dimension!$A$6,B169=Dimension!$A$8),CCYA,\"\")","v":""},{"$f":"IFERROR(VLOOKUP(F169,Dimension!$G$3:$H$252,2,FALSE),\"\")","v":""},{"$f":"IF(OR(B169=Dimension!$A$3,B169=Dimension!$A$4,B169=Dimension!$A$5),\"เดินทาง/ท่องเที่ยว\",\"\")","v":""},{"$f":"IF(OR(B169=Dimension!$A$6,B169=Dimension!$A$7,B169=Dimension!$A$8,B169=Dimension!$A$9),\"\",IF(OR(B169=Dimension!$A$3,B169=Dimension!$A$4,B169=Dimension!$A$5),\"สถานประกอบการ\",\"\"))","v":""},{"$f":"IF(OR(B169=Dimension!$A$3,B169=Dimension!$A$4,B169=Dimension!$A$5,B169=Dimension!$A$6,,B169=Dimension!$A$7,B169=Dimension!$A$8,B169=Dimension!$A$9),Payment_ID2,\"\")","v":""},null,{"$f":"IFERROR(VLOOKUP(K169,Dimension!$J$3:$K$179,2,FALSE),\"\")","v":""},null,null,{"$f":"IF(OR(B169=Dimension!$A$6,B169=Dimension!$A$7,B169=Dimension!$A$8,B169=Dimension!$A$9),\"\",IF(OR(B169=Dimension!$A$3,B169=Dimension!$A$4,B169=Dimension!$A$5),\"สถานประกอบการ\",\"\"))","v":""},{"$f":"IF(OR(B169=Dimension!$A$6,B169=Dimension!$A$7,B169=Dimension!$A$8,B169=Dimension!$A$9,B169=\"\"),\"\",Payment_ID2)","v":""},"",null,null,{"$f":"IF(D169=Dimension!$C$9,IF(LEFT(UPPER(E169),2)=\"MC\",TRUE,FALSE),TRUE)","v":true}]
[null,null,null,{"$f":"IF(B170=Dimension!$A$8,Dimension!$C$9,IF(B170=Dimension!$A$6,CD,\"\"))","v":""},null,{"$f":"IF(OR(B170=Dimension!$A$3,B170=Dimension!$A$4,B170=Dimension!$A$6,B170=Dimension!$A$8),CCYA,\"\")","v":""},{"$f":"IFERROR(VLOOKUP(F170,Dimension!$G$3:$H$252,2,FALSE),\"\")","v":""},{"$f":"IF(OR(B170=Dimension!$A$3,B170=Dimension!$A$4,B170=Dimension!$A$5),\"เดินทาง/ท่องเที่ยว\",\"\")","v":""},{"$f":"IF(OR(B170=Dimension!$A$6,B170=Dimension!$A$7,B170=Dimension!$A$8,B170=Dimension!$A$9),\"\",IF(OR(B170=Dimension!$A$3,B170=Dimension!$A$4,B170=Dimension!$A$5),\"สถานประกอบการ\",\"\"))","v":""},{"$f":"IF(OR(B170=Dimension!$A$3,B170=Dimension!$A$4,B170=Dimension!$A$5,B170=Dimension!$A$6,,B170=Dimension!$A$7,B170=Dimension!$A$8,B170=Dimension!$A$9),Payment_ID2,\"\")","v":""},null,{"$f":"IFERROR(VLOOKUP(K170,Dimension!$J$3:$K$179,2,FALSE),\"\")","v":""},null,null,{"$f":"IF(OR(B170=Dimension!$A$6,B170=Dimension!$A$7,B170=Dimension!$A$8,B170=Dimension!$A$9),\"\",IF(OR(B170=Dimension!$A$3,B170=Dimension!$A$4,B170=Dimension!$A$5),\"สถานประกอบการ\",\"\"))","v":""},{"$f":"IF(OR(B170=Dimension!$A$6,B170=Dimension!$A$7,B170=Dimension!$A$8,B170=Dimension!$A$9,B170=\"\"),\"\",Payment_ID2)","v":""},"",null,null,{"$f":"IF(D170=Dimension!$C$9,IF(LEFT(UPPER(E170),2)=\"MC\",TRUE,FALSE),TRUE)","v":true}]
[null,null,null,{"$f":"IF(B171=Dimension!$A$8,Dimension!$C$9,IF(B171=Dimension!$A$6,CD,\"\"))","v":""},null,{"$f":"IF(OR(B171=Dimension!$A$3,B171=Dimension!$A$4,B171=Dimension!$A$6,B171=Dimension!$A$8),CCYA,\"\")","v":""},{"$f":"IFERROR(VLOOKUP(F171,Dimension!$G$3:$H$252,2,FALSE),\"\")","v":""},{"$f":"IF(OR(B171=Dimension!$A$3,B171=Dimension!$A$4,B171=Dimension!$A$5),\"เดินทาง/ท่องเที่ยว\",\"\")","v":""},{"$f":"IF(OR(B171=Dimension!$A$6,B171=Dimension!$A$7,B171=Dimension!$A$8,B171=Dimension!$A$9),\"\",IF(OR(B171=Dimension!$A$3,B171=Dimension!$A$4,B171=Dimension!$A$5),\"สถานประกอบการ\",\"\"))","v":""},{"$f":"IF(OR(B171=Dimension!$A$3,B171=Dimension!$A$4,B171=Dimension!$A$5,B171=Dimension!$A$6,,B171=Dimension!$A$7,B171=Dimension!$A$8,B171=Dimension!$A$9),Payment_ID2,\"\")","v":""},null,{"$f":"IFERROR(VLOOKUP(K171,Dimension!$J$3:$K$179,2,FALSE),\"\")","v":""},null,null,{"$f":"IF(OR(B171=Dimension!$A$6,B171=Dimension!$A$7,B171=Dimension!$A$8,B171=Dimension!$A$9),\"\",IF(OR(B171=Dimension!$A$3,B171=Dimension!$A$4,B171=Dimension!$A$5),\"สถานประกอบการ\",\"\"))","v":""},{"$f":"IF(OR(B171=Dimension!$A$6,B171=Dimension!$A$7,B171=Dimension!$A$8,B171=Dimension!$A$9,B171=\"\"),\"\",Payment_ID2)","v":""},"",null,null,{"$f":"IF(D171=Dimension!$C$9,IF(LEFT(UPPER(E171),2)=\"MC\",TRUE,FALSE),TRUE)","v":true}]
[null,null,null,{"$f":"IF(B172=Dimension!$A$8,Dimension!$C$9,IF(B172=Dimension!$A$6,CD,\"\"))","v":""},null,{"$f":"IF(OR(B172=Dimension!$A$3,B172=Dimension!$A$4,B172=Dimension!$A$6,B172=Dimension!$A$8),CCYA,\"\")","v":""},{"$f":"IFERROR(VLOOKUP(F172,Dimension!$G$3:$H$252,2,FALSE),\"\")","v":""},{"$f":"IF(OR(B172=Dimension!$A$3,B172=Dimension!$A$4,B172=Dimension!$A$5),\"เดินทาง/ท่องเที่ยว\",\"\")","v":""},{"$f":"IF(OR(B172=Dimension!$A$6,B172=Dimension!$A$7,B172=Dimension!$A$8,B172=Dimension!$A$9),\"\",IF(OR(B172=Dimension!$A$3,B172=Dimension!$A$4,B172=Dimension!$A$5),\"สถานประกอบการ\",\"\"))","v":""},{"$f":"IF(OR(B172=Dimension!$A$3,B172=Dimension!$A$4,B172=Dimension!$A$5,B172=Dimension!$A$6,,B172=Dimension!$A$7,B172=Dimension!$A$8,B172=Dimension!$A$9),Payment_ID2,\"\")","v":""},null,{"$f":"IFERROR(VLOOKUP(K172,Dimension!$J$3:$K$179,2,FALSE),\"\")","v":""},null,null,{"$f":"IF(OR(B172=Dimension!$A$6,B172=Dimension!$A$7,B172=Dimension!$A$8,B172=Dimension!$A$9),\"\",IF(OR(B172=Dimension!$A$3,B172=Dimension!$A$4,B172=Dimension!$A$5),\"สถานประกอบการ\",\"\"))","v":""},{"$f":"IF(OR(B172=Dimension!$A$6,B172=Dimension!$A$7,B172=Dimension!$A$8,B172=Dimension!$A$9,B172=\"\"),\"\",Payment_ID2)","v":""},"",null,null,{"$f":"IF(D172=Dimension!$C$9,IF(LEFT(UPPER(E172),2)=\"MC\",TRUE,FALSE),TRUE)","v":true}]
[null,null,null,{"$f":"IF(B173=Dimension!$A$8,Dimension!$C$9,IF(B173=Dimension!$A$6,CD,\"\"))","v":""},null,{"$f":"IF(OR(B173=Dimension!$A$3,B173=Dimension!$A$4,B173=Dimension!$A$6,B173=Dimension!$A$8),CCYA,\"\")","v":""},{"$f":"IFERROR(VLOOKUP(F173,Dimension!$G$3:$H$252,2,FALSE),\"\")","v":""},{"$f":"IF(OR(B173=Dimension!$A$3,B173=Dimension!$A$4,B173=Dimension!$A$5),\"เดินทาง/ท่องเที่ยว\",\"\")","v":""},{"$f":"IF(OR(B173=Dimension!$A$6,B173=Dimension!$A$7,B173=Dimension!$A$8,B173=Dimension!$A$9),\"\",IF(OR(B173=Dimension!$A$3,B173=Dimension!$A$4,B173=Dimension!$A$5),\"สถานประกอบการ\",\"\"))","v":""},{"$f":"IF(OR(B173=Dimension!$A$3,B173=Dimension!$A$4,B173=Dimension!$A$5,B173=Dimension!$A$6,,B173=Dimension!$A$7,B173=Dimension!$A$8,B173=Dimension!$A$9),Payment_ID2,\"\")","v":""},null,{"$f":"IFERROR(VLOOKUP(K173,Dimension!$J$3:$K$179,2,FALSE),\"\")","v":""},null,null,{"$f":"IF(OR(B173=Dimension!$A$6,B173=Dimension!$A$7,B173=Dimension!$A$8,B173=Dimension!$A$9),\"\",IF(OR(B173=Dimension!$A$3,B173=Dimension!$A$4,B173=Dimension!$A$5),\"สถานประกอบการ\",\"\"))","v":""},{"$f":"IF(OR(B173=Dimension!$A$6,B173=Dimension!$A$7,B173=Dimension!$A$8,B173=Dimension!$A$9,B173=\"\"),\"\",Payment_ID2)","v":""},"",null,null,{"$f":"IF(D173=Dimension!$C$9,IF(LEFT(UPPER(E173),2)=\"MC\",TRUE,FALSE),TRUE)","v":true}]
[null,null,null,{"$f":"IF(B174=Dimension!$A$8,Dimension!$C$9,IF(B174=Dimension!$A$6,CD,\"\"))","v":""},null,{"$f":"IF(OR(B174=Dimension!$A$3,B174=Dimension!$A$4,B174=Dimension!$A$6,B174=Dimension!$A$8),CCYA,\"\")","v":""},{"$f":"IFERROR(VLOOKUP(F174,Dimension!$G$3:$H$252,2,FALSE),\"\")","v":""},{"$f":"IF(OR(B174=Dimension!$A$3,B174=Dimension!$A$4,B174=Dimension!$A$5),\"เดินทาง/ท่องเที่ยว\",\"\")","v":""},{"$f":"IF(OR(B174=Dimension!$A$6,B174=Dimension!$A$7,B174=Dimension!$A$8,B174=Dimension!$A$9),\"\",IF(OR(B174=Dimension!$A$3,B174=Dimension!$A$4,B174=Dimension!$A$5),\"สถานประกอบการ\",\"\"))","v":""},{"$f":"IF(OR(B174=Dimension!$A$3,B174=Dimension!$A$4,B174=Dimension!$A$5,B174=Dimension!$A$6,,B174=Dimension!$A$7,B174=Dimension!$A$8,B174=Dimension!$A$9),Payment_ID2,\"\")","v":""},null,{"$f":"IFERROR(VLOOKUP(K174,Dimension!$J$3:$K$179,2,FALSE),\"\")","v":""},null,null,{"$f":"IF(OR(B174=Dimension!$A$6,B174=Dimension!$A$7,B174=Dimension!$A$8,B174=Dimension!$A$9),\"\",IF(OR(B174=Dimension!$A$3,B174=Dimension!$A$4,B174=Dimension!$A$5),\"สถานประกอบการ\",\"\"))","v":""},{"$f":"IF(OR(B174=Dimension!$A$6,B174=Dimension!$A$7,B174=Dimension!$A$8,B174=Dimension!$A$9,B174=\"\"),\"\",Payment_ID2)","v":""},"",null,null,{"$f":"IF(D174=Dimension!$C$9,IF(LEFT(UPPER(E174),2)=\"MC\",TRUE,FALSE),TRUE)","v":true}]
[null,null,null,{"$f":"IF(B175=Dimension!$A$8,Dimension!$C$9,IF(B175=Dimension!$A$6,CD,\"\"))","v":""},null,{"$f":"IF(OR(B175=Dimension!$A$3,B175=Dimension!$A$4,B175=Dimension!$A$6,B175=Dimension!$A$8),CCYA,\"\")","v":""},{"$f":"IFERROR(VLOOKUP(F175,Dimension!$G$3:$H$252,2,FALSE),\"\")","v":""},{"$f":"IF(OR(B175=Dimension!$A$3,B175=Dimension!$A$4,B175=Dimension!$A$5),\"เดินทาง/ท่องเที่ยว\",\"\")","v":""},{"$f":"IF(OR(B175=Dimension!$A$6,B175=Dimension!$A$7,B175=Dimension!$A$8,B175=Dimension!$A$9),\"\",IF(OR(B175=Dimension!$A$3,B175=Dimension!$A$4,B175=Dimension!$A$5),\"สถานประกอบการ\",\"\"))","v":""},{"$f":"IF(OR(B175=Dimension!$A$3,B175=Dimension!$A$4,B175=Dimension!$A$5,B175=Dimension!$A$6,,B175=Dimension!$A$7,B175=Dimension!$A$8,B175=Dimension!$A$9),Payment_ID2,\"\")","v":""},null,{"$f":"IFERROR(VLOOKUP(K175,Dimension!$J$3:$K$179,2,FALSE),\"\")","v":""},null,null,{"$f":"IF(OR(B175=Dimension!$A$6,B175=Dimension!$A$7,B175=Dimension!$A$8,B175=Dimension!$A$9),\"\",IF(OR(B175=Dimension!$A$3,B175=Dimension!$A$4,B175=Dimension!$A$5),\"สถานประกอบการ\",\"\"))","v":""},{"$f":"IF(OR(B175=Dimension!$A$6,B175=Dimension!$A$7,B175=Dimension!$A$8,B175=Dimension!$A$9,B175=\"\"),\"\",Payment_ID2)","v":""},"",null,null,{"$f":"IF(D175=Dimension!$C$9,IF(LEFT(UPPER(E175),2)=\"MC\",TRUE,FALSE),TRUE)","v":true}]
[null,null,null,{"$f":"IF(B176=Dimension!$A$8,Dimension!$C$9,IF(B176=Dimension!$A$6,CD,\"\"))","v":""},null,{"$f":"IF(OR(B176=Dimension!$A$3,B176=Dimension!$A$4,B176=Dimension!$A$6,B176=Dimension!$A$8),CCYA,\"\")","v":""},{"$f":"IFERROR(VLOOKUP(F176,Dimension!$G$3:$H$252,2,FALSE),\"\")","v":""},{"$f":"IF(OR(B176=Dimension!$A$3,B176=Dimension!$A$4,B176=Dimension!$A$5),\"เดินทาง/ท่องเที่ยว\",\"\")","v":""},{"$f":"IF(OR(B176=Dimension!$A$6,B176=Dimension!$A$7,B176=Dimension!$A$8,B176=Dimension!$A$9),\"\",IF(OR(B176=Dimension!$A$3,B176=Dimension!$A$4,B176=Dimension!$A$5),\"สถานประกอบการ\",\"\"))","v":""},{"$f":"IF(OR(B176=Dimension!$A$3,B176=Dimension!$A$4,B176=Dimension!$A$5,B176=Dimension!$A$6,,B176=Dimension!$A$7,B176=Dimension!$A$8,B176=Dimension!$A$9),Payment_ID2,\"\")","v":""},null,{"$f":"IFERROR(VLOOKUP(K176,Dimension!$J$3:$K$179,2,FALSE),\"\")","v":""},null,null,{"$f":"IF(OR(B176=Dimension!$A$6,B176=Dimension!$A$7,B176=Dimension!$A$8,B176=Dimension!$A$9),\"\",IF(OR(B176=Dimension!$A$3,B176=Dimension!$A$4,B176=Dimension!$A$5),\"สถานประกอบการ\",\"\"))","v":""},{"$f":"IF(OR(B176=Dimension!$A$6,B176=Dimension!$A$7,B176=Dimension!$A$8,B176=Dimension!$A$9,B176=\"\"),\"\",Payment_ID2)","v":""},"",null,null,{"$f":"IF(D176=Dimension!$C$9,IF(LEFT(UPPER(E176),2)=\"MC\",TRUE,FALSE),TRUE)","v":true}]
[null,null,null,{"$f":"IF(B177=Dimension!$A$8,Dimension!$C$9,IF(B177=Dimension!$A$6,CD,\"\"))","v":""},null,{"$f":"IF(OR(B177=Dimension!$A$3,B177=Dimension!$A$4,B177=Dimension!$A$6,B177=Dimension!$A$8),CCYA,\"\")","v":""},{"$f":"IFERROR(VLOOKUP(F177,Dimension!$G$3:$H$252,2,FALSE),\"\")","v":""},{"$f":"IF(OR(B177=Dimension!$A$3,B177=Dimension!$A$4,B177=Dimension!$A$5),\"เดินทาง/ท่องเที่ยว\",\"\")","v":""},{"$f":"IF(OR(B177=Dimension!$A$6,B177=Dimension!$A$7,B177=Dimension!$A$8,B177=Dimension!$A$9),\"\",IF(OR(B177=Dimension!$A$3,B177=Dimension!$A$4,B177=Dimension!$A$5),\"สถานประกอบการ\",\"\"))","v":""},{"$f":"IF(OR(B177=Dimension!$A$3,B177=Dimension!$A$4,B177=Dimension!$A$5,B177=Dimension!$A$6,,B177=Dimension!$A$7,B177=Dimension!$A$8,B177=Dimension!$A$9),Payment_ID2,\"\")","v":""},null,{"$f":"IFERROR(VLOOKUP(K177,Dimension!$J$3:$K$179,2,FALSE),\"\")","v":""},null,null,{"$f":"IF(OR(B177=Dimension!$A$6,B177=Dimension!$A$7,B177=Dimension!$A$8,B177=Dimension!$A$9),\"\",IF(OR(B177=Dimension!$A$3,B177=Dimension!$A$4,B177=Dimension!$A$5),\"สถานประกอบการ\",\"\"))","v":""},{"$f":"IF(OR(B177=Dimension!$A$6,B177=Dimension!$A$7,B177=Dimension!$A$8,B177=Dimension!$A$9,B177=\"\"),\"\",Payment_ID2)","v":""},"",null,null,{"$f":"IF(D177=Dimension!$C$9,IF(LEFT(UPPER(E177),2)=\"MC\",TRUE,FALSE),TRUE)","v":true}]
[null,null,null,{"$f":"IF(B178=Dimension!$A$8,Dimension!$C$9,IF(B178=Dimension!$A$6,CD,\"\"))","v":""},null,{"$f":"IF(OR(B178=Dimension!$A$3,B178=Dimension!$A$4,B178=Dimension!$A$6,B178=Dimension!$A$8),CCYA,\"\")","v":""},{"$f":"IFERROR(VLOOKUP(F178,Dimension!$G$3:$H$252,2,FALSE),\"\")","v":""},{"$f":"IF(OR(B178=Dimension!$A$3,B178=Dimension!$A$4,B178=Dimension!$A$5),\"เดินทาง/ท่องเที่ยว\",\"\")","v":""},{"$f":"IF(OR(B178=Dimension!$A$6,B178=Dimension!$A$7,B178=Dimension!$A$8,B178=Dimension!$A$9),\"\",IF(OR(B178=Dimension!$A$3,B178=Dimension!$A$4,B178=Dimension!$A$5),\"สถานประกอบการ\",\"\"))","v":""},{"$f":"IF(OR(B178=Dimension!$A$3,B178=Dimension!$A$4,B178=Dimension!$A$5,B178=Dimension!$A$6,,B178=Dimension!$A$7,B178=Dimension!$A$8,B178=Dimension!$A$9),Payment_ID2,\"\")","v":""},null,{"$f":"IFERROR(VLOOKUP(K178,Dimension!$J$3:$K$179,2,FALSE),\"\")","v":""},null,null,{"$f":"IF(OR(B178=Dimension!$A$6,B178=Dimension!$A$7,B178=Dimension!$A$8,B178=Dimension!$A$9),\"\",IF(OR(B178=Dimension!$A$3,B178=Dimension!$A$4,B178=Dimension!$A$5),\"สถานประกอบการ\",\"\"))","v":""},{"$f":"IF(OR(B178=Dimension!$A$6,B178=Dimension!$A$7,B178=Dimension!$A$8,B178=Dimension!$A$9,B178=\"\"),\"\",Payment_ID2)","v":""},"",null,null,{"$f":"IF(D178=Dimension!$C$9,IF(LEFT(UPPER(E178),2)=\"MC\",TRUE,FALSE),TRUE)","v":true}]
[null,null,null,{"$f":"IF(B179=Dimension!$A$8,Dimension!$C$9,IF(B179=Dimension!$A$6,CD,\"\"))","v":""},null,{"$f":"IF(OR(B179=Dimension!$A$3,B179=Dimension!$A$4,B179=Dimension!$A$6,B179=Dimension!$A$8),CCYA,\"\")","v":""},{"$f":"IFERROR(VLOOKUP(F179,Dimension!$G$3:$H$252,2,FALSE),\"\")","v":""},{"$f":"IF(OR(B179=Dimension!$A$3,B179=Dimension!$A$4,B179=Dimension!$A$5),\"เดินทาง/ท่องเที่ยว\",\"\")","v":""},{"$f":"IF(OR(B179=Dimension!$A$6,B179=Dimension!$A$7,B179=Dimension!$A$8,B179=Dimension!$A$9),\"\",IF(OR(B179=Dimension!$A$3,B179=Dimension!$A$4,B179=Dimension!$A$5),\"สถานประกอบการ\",\"\"))","v":""},{"$f":"IF(OR(B179=Dimension!$A$3,B179=Dimension!$A$4,B179=Dimension!$A$5,B179=Dimension!$A$6,,B179=Dimension!$A$7,B179=Dimension!$A$8,B179=Dimension!$A$9),Payment_ID2,\"\")","v":""},null,{"$f":"IFERROR(VLOOKUP(K179,Dimension!$J$3:$K$179,2,FALSE),\"\")","v":""},null,null,{"$f":"IF(OR(B179=Dimension!$A$6,B179=Dimension!$A$7,B179=Dimension!$A$8,B179=Dimension!$A$9),\"\",IF(OR(B179=Dimension!$A$3,B179=Dimension!$A$4,B179=Dimension!$A$5),\"สถานประกอบการ\",\"\"))","v":""},{"$f":"IF(OR(B179=Dimension!$A$6,B179=Dimension!$A$7,B179=Dimension!$A$8,B179=Dimension!$A$9,B179=\"\"),\"\",Payment_ID2)","v":""},"",null,null,{"$f":"IF(D179=Dimension!$C$9,IF(LEFT(UPPER(E179),2)=\"MC\",TRUE,FALSE),TRUE)","v":true}]
[null,null,null,{"$f":"IF(B180=Dimension!$A$8,Dimension!$C$9,IF(B180=Dimension!$A$6,CD,\"\"))","v":""},null,{"$f":"IF(OR(B180=Dimension!$A$3,B180=Dimension!$A$4,B180=Dimension!$A$6,B180=Dimension!$A$8),CCYA,\"\")","v":""},{"$f":"IFERROR(VLOOKUP(F180,Dimension!$G$3:$H$252,2,FALSE),\"\")","v":""},{"$f":"IF(OR(B180=Dimension!$A$3,B180=Dimension!$A$4,B180=Dimension!$A$5),\"เดินทาง/ท่องเที่ยว\",\"\")","v":""},{"$f":"IF(OR(B180=Dimension!$A$6,B180=Dimension!$A$7,B180=Dimension!$A$8,B180=Dimension!$A$9),\"\",IF(OR(B180=Dimension!$A$3,B180=Dimension!$A$4,B180=Dimension!$A$5),\"สถานประกอบการ\",\"\"))","v":""},{"$f":"IF(OR(B180=Dimension!$A$3,B180=Dimension!$A$4,B180=Dimension!$A$5,B180=Dimension!$A$6,,B180=Dimension!$A$7,B180=Dimension!$A$8,B180=Dimension!$A$9),Payment_ID2,\"\")","v":""},null,{"$f":"IFERROR(VLOOKUP(K180,Dimension!$J$3:$K$179,2,FALSE),\"\")","v":""},null,null,{"$f":"IF(OR(B180=Dimension!$A$6,B180=Dimension!$A$7,B180=Dimension!$A$8,B180=Dimension!$A$9),\"\",IF(OR(B180=Dimension!$A$3,B180=Dimension!$A$4,B180=Dimension!$A$5),\"สถานประกอบการ\",\"\"))","v":""},{"$f":"IF(OR(B180=Dimension!$A$6,B180=Dimension!$A$7,B180=Dimension!$A$8,B180=Dimension!$A$9,B180=\"\"),\"\",Payment_ID2)","v":""},"",null,null,{"$f":"IF(D180=Dimension!$C$9,IF(LEFT(UPPER(E180),2)=\"MC\",TRUE,FALSE),TRUE)","v":true}]
[null,null,null,{"$f":"IF(B181=Dimension!$A$8,Dimension!$C$9,IF(B181=Dimension!$A$6,CD,\"\"))","v":""},null,{"$f":"IF(OR(B181=Dimension!$A$3,B181=Dimension!$A$4,B181=Dimension!$A$6,B181=Dimension!$A$8),CCYA,\"\")","v":""},{"$f":"IFERROR(VLOOKUP(F181,Dimension!$G$3:$H$252,2,FALSE),\"\")","v":""},{"$f":"IF(OR(B181=Dimension!$A$3,B181=Dimension!$A$4,B181=Dimension!$A$5),\"เดินทาง/ท่องเที่ยว\",\"\")","v":""},{"$f":"IF(OR(B181=Dimension!$A$6,B181=Dimension!$A$7,B181=Dimension!$A$8,B181=Dimension!$A$9),\"\",IF(OR(B181=Dimension!$A$3,B181=Dimension!$A$4,B181=Dimension!$A$5),\"สถานประกอบการ\",\"\"))","v":""},{"$f":"IF(OR(B181=Dimension!$A$3,B181=Dimension!$A$4,B181=Dimension!$A$5,B181=Dimension!$A$6,,B181=Dimension!$A$7,B181=Dimension!$A$8,B181=Dimension!$A$9),Payment_ID2,\"\")","v":""},null,{"$f":"IFERROR(VLOOKUP(K181,Dimension!$J$3:$K$179,2,FALSE),\"\")","v":""},null,null,{"$f":"IF(OR(B181=Dimension!$A$6,B181=Dimension!$A$7,B181=Dimension!$A$8,B181=Dimension!$A$9),\"\",IF(OR(B181=Dimension!$A$3,B181=Dimension!$A$4,B181=Dimension!$A$5),\"สถานประกอบการ\",\"\"))","v":""},{"$f":"IF(OR(B181=Dimension!$A$6,B181=Dimension!$A$7,B181=Dimension!$A$8,B181=Dimension!$A$9,B181=\"\"),\"\",Payment_ID2)","v":""},"",null,null,{"$f":"IF(D181=Dimension!$C$9,IF(LEFT(UPPER(E181),2)=\"MC\",TRUE,FALSE),TRUE)","v":true}]
[null,null,null,{"$f":"IF(B182=Dimension!$A$8,Dimension!$C$9,IF(B182=Dimension!$A$6,CD,\"\"))","v":""},null,{"$f":"IF(OR(B182=Dimension!$A$3,B182=Dimension!$A$4,B182=Dimension!$A$6,B182=Dimension!$A$8),CCYA,\"\")","v":""},{"$f":"IFERROR(VLOOKUP(F182,Dimension!$G$3:$H$252,2,FALSE),\"\")","v":""},{"$f":"IF(OR(B182=Dimension!$A$3,B182=Dimension!$A$4,B182=Dimension!$A$5),\"เดินทาง/ท่องเที่ยว\",\"\")","v":""},{"$f":"IF(OR(B182=Dimension!$A$6,B182=Dimension!$A$7,B182=Dimension!$A$8,B182=Dimension!$A$9),\"\",IF(OR(B182=Dimension!$A$3,B182=Dimension!$A$4,B182=Dimension!$A$5),\"สถานประกอบการ\",\"\"))","v":""},{"$f":"IF(OR(B182=Dimension!$A$3,B182=Dimension!$A$4,B182=Dimension!$A$5,B182=Dimension!$A$6,,B182=Dimension!$A$7,B182=Dimension!$A$8,B182=Dimension!$A$9),Payment_ID2,\"\")","v":""},null,{"$f":"IFERROR(VLOOKUP(K182,Dimension!$J$3:$K$179,2,FALSE),\"\")","v":""},null,null,{"$f":"IF(OR(B182=Dimension!$A$6,B182=Dimension!$A$7,B182=Dimension!$A$8,B182=Dimension!$A$9),\"\",IF(OR(B182=Dimension!$A$3,B182=Dimension!$A$4,B182=Dimension!$A$5),\"สถานประกอบการ\",\"\"))","v":""},{"$f":"IF(OR(B182=Dimension!$A$6,B182=Dimension!$A$7,B182=Dimension!$A$8,B182=Dimension!$A$9,B182=\"\"),\"\",Payment_ID2)","v":""},"",null,null,{"$f":"IF(D182=Dimension!$C$9,IF(LEFT(UPPER(E182),2)=\"MC\",TRUE,FALSE),TRUE)","v":true}]
[null,null,null,{"$f":"IF(B183=Dimension!$A$8,Dimension!$C$9,IF(B183=Dimension!$A$6,CD,\"\"))","v":""},null,{"$f":"IF(OR(B183=Dimension!$A$3,B183=Dimension!$A$4,B183=Dimension!$A$6,B183=Dimension!$A$8),CCYA,\"\")","v":""},{"$f":"IFERROR(VLOOKUP(F183,Dimension!$G$3:$H$252,2,FALSE),\"\")","v":""},{"$f":"IF(OR(B183=Dimension!$A$3,B183=Dimension!$A$4,B183=Dimension!$A$5),\"เดินทาง/ท่องเที่ยว\",\"\")","v":""},{"$f":"IF(OR(B183=Dimension!$A$6,B183=Dimension!$A$7,B183=Dimension!$A$8,B183=Dimension!$A$9),\"\",IF(OR(B183=Dimension!$A$3,B183=Dimension!$A$4,B183=Dimension!$A$5),\"สถานประกอบการ\",\"\"))","v":""},{"$f":"IF(OR(B183=Dimension!$A$3,B183=Dimension!$A$4,B183=Dimension!$A$5,B183=Dimension!$A$6,,B183=Dimension!$A$7,B183=Dimension!$A$8,B183=Dimension!$A$9),Payment_ID2,\"\")","v":""},null,{"$f":"IFERROR(VLOOKUP(K183,Dimension!$J$3:$K$179,2,FALSE),\"\")","v":""},null,null,{"$f":"IF(OR(B183=Dimension!$A$6,B183=Dimension!$A$7,B183=Dimension!$A$8,B183=Dimension!$A$9),\"\",IF(OR(B183=Dimension!$A$3,B183=Dimension!$A$4,B183=Dimension!$A$5),\"สถานประกอบการ\",\"\"))","v":""},{"$f":"IF(OR(B183=Dimension!$A$6,B183=Dimension!$A$7,B183=Dimension!$A$8,B183=Dimension!$A$9,B183=\"\"),\"\",Payment_ID2)","v":""},"",null,null,{"$f":"IF(D183=Dimension!$C$9,IF(LEFT(UPPER(E183),2)=\"MC\",TRUE,FALSE),TRUE)","v":true}]
[null,null,null,{"$f":"IF(B184=Dimension!$A$8,Dimension!$C$9,IF(B184=Dimension!$A$6,CD,\"\"))","v":""},null,{"$f":"IF(OR(B184=Dimension!$A$3,B184=Dimension!$A$4,B184=Dimension!$A$6,B184=Dimension!$A$8),CCYA,\"\")","v":""},{"$f":"IFERROR(VLOOKUP(F184,Dimension!$G$3:$H$252,2,FALSE),\"\")","v":""},{"$f":"IF(OR(B184=Dimension!$A$3,B184=Dimension!$A$4,B184=Dimension!$A$5),\"เดินทาง/ท่องเที่ยว\",\"\")","v":""},{"$f":"IF(OR(B184=Dimension!$A$6,B184=Dimension!$A$7,B184=Dimension!$A$8,B184=Dimension!$A$9),\"\",IF(OR(B184=Dimension!$A$3,B184=Dimension!$A$4,B184=Dimension!$A$5),\"สถานประกอบการ\",\"\"))","v":""},{"$f":"IF(OR(B184=Dimension!$A$3,B184=Dimension!$A$4,B184=Dimension!$A$5,B184=Dimension!$A$6,,B184=Dimension!$A$7,B184=Dimension!$A$8,B184=Dimension!$A$9),Payment_ID2,\"\")","v":""},null,{"$f":"IFERROR(VLOOKUP(K184,Dimension!$J$3:$K$179,2,FALSE),\"\")","v":""},null,null,{"$f":"IF(OR(B184=Dimension!$A$6,B184=Dimension!$A$7,B184=Dimension!$A$8,B184=Dimension!$A$9),\"\",IF(OR(B184=Dimension!$A$3,B184=Dimension!$A$4,B184=Dimension!$A$5),\"สถานประกอบการ\",\"\"))","v":""},{"$f":"IF(OR(B184=Dimension!$A$6,B184=Dimension!$A$7,B184=Dimension!$A$8,B184=Dimension!$A$9,B184=\"\"),\"\",Payment_ID2)","v":""},"",null,null,{"$f":"IF(D184=Dimension!$C$9,IF(LEFT(UPPER(E184),2)=\"MC\",TRUE,FALSE),TRUE)","v":true}]
[null,null,null,{"$f":"IF(B185=Dimension!$A$8,Dimension!$C$9,IF(B185=Dimension!$A$6,CD,\"\"))","v":""},null,{"$f":"IF(OR(B185=Dimension!$A$3,B185=Dimension!$A$4,B185=Dimension!$A$6,B185=Dimension!$A$8),CCYA,\"\")","v":""},{"$f":"IFERROR(VLOOKUP(F185,Dimension!$G$3:$H$252,2,FALSE),\"\")","v":""},{"$f":"IF(OR(B185=Dimension!$A$3,B185=Dimension!$A$4,B185=Dimension!$A$5),\"เดินทาง/ท่องเที่ยว\",\"\")","v":""},{"$f":"IF(OR(B185=Dimension!$A$6,B185=Dimension!$A$7,B185=Dimension!$A$8,B185=Dimension!$A$9),\"\",IF(OR(B185=Dimension!$A$3,B185=Dimension!$A$4,B185=Dimension!$A$5),\"สถานประกอบการ\",\"\"))","v":""},{"$f":"IF(OR(B185=Dimension!$A$3,B185=Dimension!$A$4,B185=Dimension!$A$5,B185=Dimension!$A$6,,B185=Dimension!$A$7,B185=Dimension!$A$8,B185=Dimension!$A$9),Payment_ID2,\"\")","v":""},null,{"$f":"IFERROR(VLOOKUP(K185,Dimension!$J$3:$K$179,2,FALSE),\"\")","v":""},null,null,{"$f":"IF(OR(B185=Dimension!$A$6,B185=Dimension!$A$7,B185=Dimension!$A$8,B185=Dimension!$A$9),\"\",IF(OR(B185=Dimension!$A$3,B185=Dimension!$A$4,B185=Dimension!$A$5),\"สถานประกอบการ\",\"\"))","v":""},{"$f":"IF(OR(B185=Dimension!$A$6,B185=Dimension!$A$7,B185=Dimension!$A$8,B185=Dimension!$A$9,B185=\"\"),\"\",Payment_ID2)","v":""},"",null,null,{"$f":"IF(D185=Dimension!$C$9,IF(LEFT(UPPER(E185),2)=\"MC\",TRUE,FALSE),TRUE)","v":true}]
[null,null,null,{"$f":"IF(B186=Dimension!$A$8,Dimension!$C$9,IF(B186=Dimension!$A$6,CD,\"\"))","v":""},null,{"$f":"IF(OR(B186=Dimension!$A$3,B186=Dimension!$A$4,B186=Dimension!$A$6,B186=Dimension!$A$8),CCYA,\"\")","v":""},{"$f":"IFERROR(VLOOKUP(F186,Dimension!$G$3:$H$252,2,FALSE),\"\")","v":""},{"$f":"IF(OR(B186=Dimension!$A$3,B186=Dimension!$A$4,B186=Dimension!$A$5),\"เดินทาง/ท่องเที่ยว\",\"\")","v":""},{"$f":"IF(OR(B186=Dimension!$A$6,B186=Dimension!$A$7,B186=Dimension!$A$8,B186=Dimension!$A$9),\"\",IF(OR(B186=Dimension!$A$3,B186=Dimension!$A$4,B186=Dimension!$A$5),\"สถานประกอบการ\",\"\"))","v":""},{"$f":"IF(OR(B186=Dimension!$A$3,B186=Dimension!$A$4,B186=Dimension!$A$5,B186=Dimension!$A$6,,B186=Dimension!$A$7,B186=Dimension!$A$8,B186=Dimension!$A$9),Payment_ID2,\"\")","v":""},null,{"$f":"IFERROR(VLOOKUP(K186,Dimension!$J$3:$K$179,2,FALSE),\"\")","v":""},null,null,{"$f":"IF(OR(B186=Dimension!$A$6,B186=Dimension!$A$7,B186=Dimension!$A$8,B186=Dimension!$A$9),\"\",IF(OR(B186=Dimension!$A$3,B186=Dimension!$A$4,B186=Dimension!$A$5),\"สถานประกอบการ\",\"\"))","v":""},{"$f":"IF(OR(B186=Dimension!$A$6,B186=Dimension!$A$7,B186=Dimension!$A$8,B186=Dimension!$A$9,B186=\"\"),\"\",Payment_ID2)","v":""},"",null,null,{"$f":"IF(D186=Dimension!$C$9,IF(LEFT(UPPER(E186),2)=\"MC\",TRUE,FALSE),TRUE)","v":true}]
[null,null,null,{"$f":"IF(B187=Dimension!$A$8,Dimension!$C$9,IF(B187=Dimension!$A$6,CD,\"\"))","v":""},null,{"$f":"IF(OR(B187=Dimension!$A$3,B187=Dimension!$A$4,B187=Dimension!$A$6,B187=Dimension!$A$8),CCYA,\"\")","v":""},{"$f":"IFERROR(VLOOKUP(F187,Dimension!$G$3:$H$252,2,FALSE),\"\")","v":""},{"$f":"IF(OR(B187=Dimension!$A$3,B187=Dimension!$A$4,B187=Dimension!$A$5),\"เดินทาง/ท่องเที่ยว\",\"\")","v":""},{"$f":"IF(OR(B187=Dimension!$A$6,B187=Dimension!$A$7,B187=Dimension!$A$8,B187=Dimension!$A$9),\"\",IF(OR(B187=Dimension!$A$3,B187=Dimension!$A$4,B187=Dimension!$A$5),\"สถานประกอบการ\",\"\"))","v":""},{"$f":"IF(OR(B187=Dimension!$A$3,B187=Dimension!$A$4,B187=Dimension!$A$5,B187=Dimension!$A$6,,B187=Dimension!$A$7,B187=Dimension!$A$8,B187=Dimension!$A$9),Payment_ID2,\"\")","v":""},null,{"$f":"IFERROR(VLOOKUP(K187,Dimension!$J$3:$K$179,2,FALSE),\"\")","v":""},null,null,{"$f":"IF(OR(B187=Dimension!$A$6,B187=Dimension!$A$7,B187=Dimension!$A$8,B187=Dimension!$A$9),\"\",IF(OR(B187=Dimension!$A$3,B187=Dimension!$A$4,B187=Dimension!$A$5),\"สถานประกอบการ\",\"\"))","v":""},{"$f":"IF(OR(B187=Dimension!$A$6,B187=Dimension!$A$7,B187=Dimension!$A$8,B187=Dimension!$A$9,B187=\"\"),\"\",Payment_ID2)","v":""},"",null,null,{"$f":"IF(D187=Dimension!$C$9,IF(LEFT(UPPER(E187),2)=\"MC\",TRUE,FALSE),TRUE)","v":true}]
[null,null,null,{"$f":"IF(B188=Dimension!$A$8,Dimension!$C$9,IF(B188=Dimension!$A$6,CD,\"\"))","v":""},null,{"$f":"IF(OR(B188=Dimension!$A$3,B188=Dimension!$A$4,B188=Dimension!$A$6,B188=Dimension!$A$8),CCYA,\"\")","v":""},{"$f":"IFERROR(VLOOKUP(F188,Dimension!$G$3:$H$252,2,FALSE),\"\")","v":""},{"$f":"IF(OR(B188=Dimension!$A$3,B188=Dimension!$A$4,B188=Dimension!$A$5),\"เดินทาง/ท่องเที่ยว\",\"\")","v":""},{"$f":"IF(OR(B188=Dimension!$A$6,B188=Dimension!$A$7,B188=Dimension!$A$8,B188=Dimension!$A$9),\"\",IF(OR(B188=Dimension!$A$3,B188=Dimension!$A$4,B188=Dimension!$A$5),\"สถานประกอบการ\",\"\"))","v":""},{"$f":"IF(OR(B188=Dimension!$A$3,B188=Dimension!$A$4,B188=Dimension!$A$5,B188=Dimension!$A$6,,B188=Dimension!$A$7,B188=Dimension!$A$8,B188=Dimension!$A$9),Payment_ID2,\"\")","v":""},null,{"$f":"IFERROR(VLOOKUP(K188,Dimension!$J$3:$K$179,2,FALSE),\"\")","v":""},null,null,{"$f":"IF(OR(B188=Dimension!$A$6,B188=Dimension!$A$7,B188=Dimension!$A$8,B188=Dimension!$A$9),\"\",IF(OR(B188=Dimension!$A$3,B188=Dimension!$A$4,B188=Dimension!$A$5),\"สถานประกอบการ\",\"\"))","v":""},{"$f":"IF(OR(B188=Dimension!$A$6,B188=Dimension!$A$7,B188=Dimension!$A$8,B188=Dimension!$A$9,B188=\"\"),\"\",Payment_ID2)","v":""},"",null,null,{"$f":"IF(D188=Dimension!$C$9,IF(LEFT(UPPER(E188),2)=\"MC\",TRUE,FALSE),TRUE)","v":true}]
[null,null,null,{"$f":"IF(B189=Dimension!$A$8,Dimension!$C$9,IF(B189=Dimension!$A$6,CD,\"\"))","v":""},null,{"$f":"IF(OR(B189=Dimension!$A$3,B189=Dimension!$A$4,B189=Dimension!$A$6,B189=Dimension!$A$8),CCYA,\"\")","v":""},{"$f":"IFERROR(VLOOKUP(F189,Dimension!$G$3:$H$252,2,FALSE),\"\")","v":""},{"$f":"IF(OR(B189=Dimension!$A$3,B189=Dimension!$A$4,B189=Dimension!$A$5),\"เดินทาง/ท่องเที่ยว\",\"\")","v":""},{"$f":"IF(OR(B189=Dimension!$A$6,B189=Dimension!$A$7,B189=Dimension!$A$8,B189=Dimension!$A$9),\"\",IF(OR(B189=Dimension!$A$3,B189=Dimension!$A$4,B189=Dimension!$A$5),\"สถานประกอบการ\",\"\"))","v":""},{"$f":"IF(OR(B189=Dimension!$A$3,B189=Dimension!$A$4,B189=Dimension!$A$5,B189=Dimension!$A$6,,B189=Dimension!$A$7,B189=Dimension!$A$8,B189=Dimension!$A$9),Payment_ID2,\"\")","v":""},null,{"$f":"IFERROR(VLOOKUP(K189,Dimension!$J$3:$K$179,2,FALSE),\"\")","v":""},null,null,{"$f":"IF(OR(B189=Dimension!$A$6,B189=Dimension!$A$7,B189=Dimension!$A$8,B189=Dimension!$A$9),\"\",IF(OR(B189=Dimension!$A$3,B189=Dimension!$A$4,B189=Dimension!$A$5),\"สถานประกอบการ\",\"\"))","v":""},{"$f":"IF(OR(B189=Dimension!$A$6,B189=Dimension!$A$7,B189=Dimension!$A$8,B189=Dimension!$A$9,B189=\"\"),\"\",Payment_ID2)","v":""},"",null,null,{"$f":"IF(D189=Dimension!$C$9,IF(LEFT(UPPER(E189),2)=\"MC\",TRUE,FALSE),TRUE)","v":true}]
[null,null,null,{"$f":"IF(B190=Dimension!$A$8,Dimension!$C$9,IF(B190=Dimension!$A$6,CD,\"\"))","v":""},null,{"$f":"IF(OR(B190=Dimension!$A$3,B190=Dimension!$A$4,B190=Dimension!$A$6,B190=Dimension!$A$8),CCYA,\"\")","v":""},{"$f":"IFERROR(VLOOKUP(F190,Dimension!$G$3:$H$252,2,FALSE),\"\")","v":""},{"$f":"IF(OR(B190=Dimension!$A$3,B190=Dimension!$A$4,B190=Dimension!$A$5),\"เดินทาง/ท่องเที่ยว\",\"\")","v":""},{"$f":"IF(OR(B190=Dimension!$A$6,B190=Dimension!$A$7,B190=Dimension!$A$8,B190=Dimension!$A$9),\"\",IF(OR(B190=Dimension!$A$3,B190=Dimension!$A$4,B190=Dimension!$A$5),\"สถานประกอบการ\",\"\"))","v":""},{"$f":"IF(OR(B190=Dimension!$A$3,B190=Dimension!$A$4,B190=Dimension!$A$5,B190=Dimension!$A$6,,B190=Dimension!$A$7,B190=Dimension!$A$8,B190=Dimension!$A$9),Payment_ID2,\"\")","v":""},null,{"$f":"IFERROR(VLOOKUP(K190,Dimension!$J$3:$K$179,2,FALSE),\"\")","v":""},null,null,{"$f":"IF(OR(B190=Dimension!$A$6,B190=Dimension!$A$7,B190=Dimension!$A$8,B190=Dimension!$A$9),\"\",IF(OR(B190=Dimension!$A$3,B190=Dimension!$A$4,B190=Dimension!$A$5),\"สถานประกอบการ\",\"\"))","v":""},{"$f":"IF(OR(B190=Dimension!$A$6,B190=Dimension!$A$7,B190=Dimension!$A$8,B190=Dimension!$A$9,B190=\"\"),\"\",Payment_ID2)","v":""},"",null,null,{"$f":"IF(D190=Dimension!$C$9,IF(LEFT(UPPER(E190),2)=\"MC\",TRUE,FALSE),TRUE)","v":true}]
[null,null,null,{"$f":"IF(B191=Dimension!$A$8,Dimension!$C$9,IF(B191=Dimension!$A$6,CD,\"\"))","v":""},null,{"$f":"IF(OR(B191=Dimension!$A$3,B191=Dimension!$A$4,B191=Dimension!$A$6,B191=Dimension!$A$8),CCYA,\"\")","v":""},{"$f":"IFERROR(VLOOKUP(F191,Dimension!$G$3:$H$252,2,FALSE),\"\")","v":""},{"$f":"IF(OR(B191=Dimension!$A$3,B191=Dimension!$A$4,B191=Dimension!$A$5),\"เดินทาง/ท่องเที่ยว\",\"\")","v":""},{"$f":"IF(OR(B191=Dimension!$A$6,B191=Dimension!$A$7,B191=Dimension!$A$8,B191=Dimension!$A$9),\"\",IF(OR(B191=Dimension!$A$3,B191=Dimension!$A$4,B191=Dimension!$A$5),\"สถานประกอบการ\",\"\"))","v":""},{"$f":"IF(OR(B191=Dimension!$A$3,B191=Dimension!$A$4,B191=Dimension!$A$5,B191=Dimension!$A$6,,B191=Dimension!$A$7,B191=Dimension!$A$8,B191=Dimension!$A$9),Payment_ID2,\"\")","v":""},null,{"$f":"IFERROR(VLOOKUP(K191,Dimension!$J$3:$K$179,2,FALSE),\"\")","v":""},null,null,{"$f":"IF(OR(B191=Dimension!$A$6,B191=Dimension!$A$7,B191=Dimension!$A$8,B191=Dimension!$A$9),\"\",IF(OR(B191=Dimension!$A$3,B191=Dimension!$A$4,B191=Dimension!$A$5),\"สถานประกอบการ\",\"\"))","v":""},{"$f":"IF(OR(B191=Dimension!$A$6,B191=Dimension!$A$7,B191=Dimension!$A$8,B191=Dimension!$A$9,B191=\"\"),\"\",Payment_ID2)","v":""},"",null,null,{"$f":"IF(D191=Dimension!$C$9,IF(LEFT(UPPER(E191),2)=\"MC\",TRUE,FALSE),TRUE)","v":true}]
[null,null,null,{"$f":"IF(B192=Dimension!$A$8,Dimension!$C$9,IF(B192=Dimension!$A$6,CD,\"\"))","v":""},null,{"$f":"IF(OR(B192=Dimension!$A$3,B192=Dimension!$A$4,B192=Dimension!$A$6,B192=Dimension!$A$8),CCYA,\"\")","v":""},{"$f":"IFERROR(VLOOKUP(F192,Dimension!$G$3:$H$252,2,FALSE),\"\")","v":""},{"$f":"IF(OR(B192=Dimension!$A$3,B192=Dimension!$A$4,B192=Dimension!$A$5),\"เดินทาง/ท่องเที่ยว\",\"\")","v":""},{"$f":"IF(OR(B192=Dimension!$A$6,B192=Dimension!$A$7,B192=Dimension!$A$8,B192=Dimension!$A$9),\"\",IF(OR(B192=Dimension!$A$3,B192=Dimension!$A$4,B192=Dimension!$A$5),\"สถานประกอบการ\",\"\"))","v":""},{"$f":"IF(OR(B192=Dimension!$A$3,B192=Dimension!$A$4,B192=Dimension!$A$5,B192=Dimension!$A$6,,B192=Dimension!$A$7,B192=Dimension!$A$8,B192=Dimension!$A$9),Payment_ID2,\"\")","v":""},null,{"$f":"IFERROR(VLOOKUP(K192,Dimension!$J$3:$K$179,2,FALSE),\"\")","v":""},null,null,{"$f":"IF(OR(B192=Dimension!$A$6,B192=Dimension!$A$7,B192=Dimension!$A$8,B192=Dimension!$A$9),\"\",IF(OR(B192=Dimension!$A$3,B192=Dimension!$A$4,B192=Dimension!$A$5),\"สถานประกอบการ\",\"\"))","v":""},{"$f":"IF(OR(B192=Dimension!$A$6,B192=Dimension!$A$7,B192=Dimension!$A$8,B192=Dimension!$A$9,B192=\"\"),\"\",Payment_ID2)","v":""},"",null,null,{"$f":"IF(D192=Dimension!$C$9,IF(LEFT(UPPER(E192),2)=\"MC\",TRUE,FALSE),TRUE)","v":true}]
[null,null,null,{"$f":"IF(B193=Dimension!$A$8,Dimension!$C$9,IF(B193=Dimension!$A$6,CD,\"\"))","v":""},null,{"$f":"IF(OR(B193=Dimension!$A$3,B193=Dimension!$A$4,B193=Dimension!$A$6,B193=Dimension!$A$8),CCYA,\"\")","v":""},{"$f":"IFERROR(VLOOKUP(F193,Dimension!$G$3:$H$252,2,FALSE),\"\")","v":""},{"$f":"IF(OR(B193=Dimension!$A$3,B193=Dimension!$A$4,B193=Dimension!$A$5),\"เดินทาง/ท่องเที่ยว\",\"\")","v":""},{"$f":"IF(OR(B193=Dimension!$A$6,B193=Dimension!$A$7,B193=Dimension!$A$8,B193=Dimension!$A$9),\"\",IF(OR(B193=Dimension!$A$3,B193=Dimension!$A$4,B193=Dimension!$A$5),\"สถานประกอบการ\",\"\"))","v":""},{"$f":"IF(OR(B193=Dimension!$A$3,B193=Dimension!$A$4,B193=Dimension!$A$5,B193=Dimension!$A$6,,B193=Dimension!$A$7,B193=Dimension!$A$8,B193=Dimension!$A$9),Payment_ID2,\"\")","v":""},null,{"$f":"IFERROR(VLOOKUP(K193,Dimension!$J$3:$K$179,2,FALSE),\"\")","v":""},null,null,{"$f":"IF(OR(B193=Dimension!$A$6,B193=Dimension!$A$7,B193=Dimension!$A$8,B193=Dimension!$A$9),\"\",IF(OR(B193=Dimension!$A$3,B193=Dimension!$A$4,B193=Dimension!$A$5),\"สถานประกอบการ\",\"\"))","v":""},{"$f":"IF(OR(B193=Dimension!$A$6,B193=Dimension!$A$7,B193=Dimension!$A$8,B193=Dimension!$A$9,B193=\"\"),\"\",Payment_ID2)","v":""},"",null,null,{"$f":"IF(D193=Dimension!$C$9,IF(LEFT(UPPER(E193),2)=\"MC\",TRUE,FALSE),TRUE)","v":true}]
[null,null,null,{"$f":"IF(B194=Dimension!$A$8,Dimension!$C$9,IF(B194=Dimension!$A$6,CD,\"\"))","v":""},null,{"$f":"IF(OR(B194=Dimension!$A$3,B194=Dimension!$A$4,B194=Dimension!$A$6,B194=Dimension!$A$8),CCYA,\"\")","v":""},{"$f":"IFERROR(VLOOKUP(F194,Dimension!$G$3:$H$252,2,FALSE),\"\")","v":""},{"$f":"IF(OR(B194=Dimension!$A$3,B194=Dimension!$A$4,B194=Dimension!$A$5),\"เดินทาง/ท่องเที่ยว\",\"\")","v":""},{"$f":"IF(OR(B194=Dimension!$A$6,B194=Dimension!$A$7,B194=Dimension!$A$8,B194=Dimension!$A$9),\"\",IF(OR(B194=Dimension!$A$3,B194=Dimension!$A$4,B194=Dimension!$A$5),\"สถานประกอบการ\",\"\"))","v":""},{"$f":"IF(OR(B194=Dimension!$A$3,B194=Dimension!$A$4,B194=Dimension!$A$5,B194=Dimension!$A$6,,B194=Dimension!$A$7,B194=Dimension!$A$8,B194=Dimension!$A$9),Payment_ID2,\"\")","v":""},null,{"$f":"IFERROR(VLOOKUP(K194,Dimension!$J$3:$K$179,2,FALSE),\"\")","v":""},null,null,{"$f":"IF(OR(B194=Dimension!$A$6,B194=Dimension!$A$7,B194=Dimension!$A$8,B194=Dimension!$A$9),\"\",IF(OR(B194=Dimension!$A$3,B194=Dimension!$A$4,B194=Dimension!$A$5),\"สถานประกอบการ\",\"\"))","v":""},{"$f":"IF(OR(B194=Dimension!$A$6,B194=Dimension!$A$7,B194=Dimension!$A$8,B194=Dimension!$A$9,B194=\"\"),\"\",Payment_ID2)","v":""},"",null,null,{"$f":"IF(D194=Dimension!$C$9,IF(LEFT(UPPER(E194),2)=\"MC\",TRUE,FALSE),TRUE)","v":true}]
[null,null,null,{"$f":"IF(B195=Dimension!$A$8,Dimension!$C$9,IF(B195=Dimension!$A$6,CD,\"\"))","v":""},null,{"$f":"IF(OR(B195=Dimension!$A$3,B195=Dimension!$A$4,B195=Dimension!$A$6,B195=Dimension!$A$8),CCYA,\"\")","v":""},{"$f":"IFERROR(VLOOKUP(F195,Dimension!$G$3:$H$252,2,FALSE),\"\")","v":""},{"$f":"IF(OR(B195=Dimension!$A$3,B195=Dimension!$A$4,B195=Dimension!$A$5),\"เดินทาง/ท่องเที่ยว\",\"\")","v":""},{"$f":"IF(OR(B195=Dimension!$A$6,B195=Dimension!$A$7,B195=Dimension!$A$8,B195=Dimension!$A$9),\"\",IF(OR(B195=Dimension!$A$3,B195=Dimension!$A$4,B195=Dimension!$A$5),\"สถานประกอบการ\",\"\"))","v":""},{"$f":"IF(OR(B195=Dimension!$A$3,B195=Dimension!$A$4,B195=Dimension!$A$5,B195=Dimension!$A$6,,B195=Dimension!$A$7,B195=Dimension!$A$8,B195=Dimension!$A$9),Payment_ID2,\"\")","v":""},null,{"$f":"IFERROR(VLOOKUP(K195,Dimension!$J$3:$K$179,2,FALSE),\"\")","v":""},null,null,{"$f":"IF(OR(B195=Dimension!$A$6,B195=Dimension!$A$7,B195=Dimension!$A$8,B195=Dimension!$A$9),\"\",IF(OR(B195=Dimension!$A$3,B195=Dimension!$A$4,B195=Dimension!$A$5),\"สถานประกอบการ\",\"\"))","v":""},{"$f":"IF(OR(B195=Dimension!$A$6,B195=Dimension!$A$7,B195=Dimension!$A$8,B195=Dimension!$A$9,B195=\"\"),\"\",Payment_ID2)","v":""},"",null,null,{"$f":"IF(D195=Dimension!$C$9,IF(LEFT(UPPER(E195),2)=\"MC\",TRUE,FALSE),TRUE)","v":true}]
[null,null,null,{"$f":"IF(B196=Dimension!$A$8,Dimension!$C$9,IF(B196=Dimension!$A$6,CD,\"\"))","v":""},null,{"$f":"IF(OR(B196=Dimension!$A$3,B196=Dimension!$A$4,B196=Dimension!$A$6,B196=Dimension!$A$8),CCYA,\"\")","v":""},{"$f":"IFERROR(VLOOKUP(F196,Dimension!$G$3:$H$252,2,FALSE),\"\")","v":""},{"$f":"IF(OR(B196=Dimension!$A$3,B196=Dimension!$A$4,B196=Dimension!$A$5),\"เดินทาง/ท่องเที่ยว\",\"\")","v":""},{"$f":"IF(OR(B196=Dimension!$A$6,B196=Dimension!$A$7,B196=Dimension!$A$8,B196=Dimension!$A$9),\"\",IF(OR(B196=Dimension!$A$3,B196=Dimension!$A$4,B196=Dimension!$A$5),\"สถานประกอบการ\",\"\"))","v":""},{"$f":"IF(OR(B196=Dimension!$A$3,B196=Dimension!$A$4,B196=Dimension!$A$5,B196=Dimension!$A$6,,B196=Dimension!$A$7,B196=Dimension!$A$8,B196=Dimension!$A$9),Payment_ID2,\"\")","v":""},null,{"$f":"IFERROR(VLOOKUP(K196,Dimension!$J$3:$K$179,2,FALSE),\"\")","v":""},null,null,{"$f":"IF(OR(B196=Dimension!$A$6,B196=Dimension!$A$7,B196=Dimension!$A$8,B196=Dimension!$A$9),\"\",IF(OR(B196=Dimension!$A$3,B196=Dimension!$A$4,B196=Dimension!$A$5),\"สถานประกอบการ\",\"\"))","v":""},{"$f":"IF(OR(B196=Dimension!$A$6,B196=Dimension!$A$7,B196=Dimension!$A$8,B196=Dimension!$A$9,B196=\"\"),\"\",Payment_ID2)","v":""},"",null,null,{"$f":"IF(D196=Dimension!$C$9,IF(LEFT(UPPER(E196),2)=\"MC\",TRUE,FALSE),TRUE)","v":true}]
[null,null,null,{"$f":"IF(B197=Dimension!$A$8,Dimension!$C$9,IF(B197=Dimension!$A$6,CD,\"\"))","v":""},null,{"$f":"IF(OR(B197=Dimension!$A$3,B197=Dimension!$A$4,B197=Dimension!$A$6,B197=Dimension!$A$8),CCYA,\"\")","v":""},{"$f":"IFERROR(VLOOKUP(F197,Dimension!$G$3:$H$252,2,FALSE),\"\")","v":""},{"$f":"IF(OR(B197=Dimension!$A$3,B197=Dimension!$A$4,B197=Dimension!$A$5),\"เดินทาง/ท่องเที่ยว\",\"\")","v":""},{"$f":"IF(OR(B197=Dimension!$A$6,B197=Dimension!$A$7,B197=Dimension!$A$8,B197=Dimension!$A$9),\"\",IF(OR(B197=Dimension!$A$3,B197=Dimension!$A$4,B197=Dimension!$A$5),\"สถานประกอบการ\",\"\"))","v":""},{"$f":"IF(OR(B197=Dimension!$A$3,B197=Dimension!$A$4,B197=Dimension!$A$5,B197=Dimension!$A$6,,B197=Dimension!$A$7,B197=Dimension!$A$8,B197=Dimension!$A$9),Payment_ID2,\"\")","v":""},null,{"$f":"IFERROR(VLOOKUP(K197,Dimension!$J$3:$K$179,2,FALSE),\"\")","v":""},null,null,{"$f":"IF(OR(B197=Dimension!$A$6,B197=Dimension!$A$7,B197=Dimension!$A$8,B197=Dimension!$A$9),\"\",IF(OR(B197=Dimension!$A$3,B197=Dimension!$A$4,B197=Dimension!$A$5),\"สถานประกอบการ\",\"\"))","v":""},{"$f":"IF(OR(B197=Dimension!$A$6,B197=Dimension!$A$7,B197=Dimension!$A$8,B197=Dimension!$A$9,B197=\"\"),\"\",Payment_ID2)","v":""},"",null,null,{"$f":"IF(D197=Dimension!$C$9,IF(LEFT(UPPER(E197),2)=\"MC\",TRUE,FALSE),TRUE)","v":true}]
[null,null,null,{"$f":"IF(B198=Dimension!$A$8,Dimension!$C$9,IF(B198=Dimension!$A$6,CD,\"\"))","v":""},null,{"$f":"IF(OR(B198=Dimension!$A$3,B198=Dimension!$A$4,B198=Dimension!$A$6,B198=Dimension!$A$8),CCYA,\"\")","v":""},{"$f":"IFERROR(VLOOKUP(F198,Dimension!$G$3:$H$252,2,FALSE),\"\")","v":""},{"$f":"IF(OR(B198=Dimension!$A$3,B198=Dimension!$A$4,B198=Dimension!$A$5),\"เดินทาง/ท่องเที่ยว\",\"\")","v":""},{"$f":"IF(OR(B198=Dimension!$A$6,B198=Dimension!$A$7,B198=Dimension!$A$8,B198=Dimension!$A$9),\"\",IF(OR(B198=Dimension!$A$3,B198=Dimension!$A$4,B198=Dimension!$A$5),\"สถานประกอบการ\",\"\"))","v":""},{"$f":"IF(OR(B198=Dimension!$A$3,B198=Dimension!$A$4,B198=Dimension!$A$5,B198=Dimension!$A$6,,B198=Dimension!$A$7,B198=Dimension!$A$8,B198=Dimension!$A$9),Payment_ID2,\"\")","v":""},null,{"$f":"IFERROR(VLOOKUP(K198,Dimension!$J$3:$K$179,2,FALSE),\"\")","v":""},null,null,{"$f":"IF(OR(B198=Dimension!$A$6,B198=Dimension!$A$7,B198=Dimension!$A$8,B198=Dimension!$A$9),\"\",IF(OR(B198=Dimension!$A$3,B198=Dimension!$A$4,B198=Dimension!$A$5),\"สถานประกอบการ\",\"\"))","v":""},{"$f":"IF(OR(B198=Dimension!$A$6,B198=Dimension!$A$7,B198=Dimension!$A$8,B198=Dimension!$A$9,B198=\"\"),\"\",Payment_ID2)","v":""},"",null,null,{"$f":"IF(D198=Dimension!$C$9,IF(LEFT(UPPER(E198),2)=\"MC\",TRUE,FALSE),TRUE)","v":true}]
[null,null,null,{"$f":"IF(B199=Dimension!$A$8,Dimension!$C$9,IF(B199=Dimension!$A$6,CD,\"\"))","v":""},null,{"$f":"IF(OR(B199=Dimension!$A$3,B199=Dimension!$A$4,B199=Dimension!$A$6,B199=Dimension!$A$8),CCYA,\"\")","v":""},{"$f":"IFERROR(VLOOKUP(F199,Dimension!$G$3:$H$252,2,FALSE),\"\")","v":""},{"$f":"IF(OR(B199=Dimension!$A$3,B199=Dimension!$A$4,B199=Dimension!$A$5),\"เดินทาง/ท่องเที่ยว\",\"\")","v":""},{"$f":"IF(OR(B199=Dimension!$A$6,B199=Dimension!$A$7,B199=Dimension!$A$8,B199=Dimension!$A$9),\"\",IF(OR(B199=Dimension!$A$3,B199=Dimension!$A$4,B199=Dimension!$A$5),\"สถานประกอบการ\",\"\"))","v":""},{"$f":"IF(OR(B199=Dimension!$A$3,B199=Dimension!$A$4,B199=Dimension!$A$5,B199=Dimension!$A$6,,B199=Dimension!$A$7,B199=Dimension!$A$8,B199=Dimension!$A$9),Payment_ID2,\"\")","v":""},null,{"$f":"IFERROR(VLOOKUP(K199,Dimension!$J$3:$K$179,2,FALSE),\"\")","v":""},null,null,{"$f":"IF(OR(B199=Dimension!$A$6,B199=Dimension!$A$7,B199=Dimension!$A$8,B199=Dimension!$A$9),\"\",IF(OR(B199=Dimension!$A$3,B199=Dimension!$A$4,B199=Dimension!$A$5),\"สถานประกอบการ\",\"\"))","v":""},{"$f":"IF(OR(B199=Dimension!$A$6,B199=Dimension!$A$7,B199=Dimension!$A$8,B199=Dimension!$A$9,B199=\"\"),\"\",Payment_ID2)","v":""},"",null,null,{"$f":"IF(D199=Dimension!$C$9,IF(LEFT(UPPER(E199),2)=\"MC\",TRUE,FALSE),TRUE)","v":true}]
[null,null,null,{"$f":"IF(B200=Dimension!$A$8,Dimension!$C$9,IF(B200=Dimension!$A$6,CD,\"\"))","v":""},null,{"$f":"IF(OR(B200=Dimension!$A$3,B200=Dimension!$A$4,B200=Dimension!$A$6,B200=Dimension!$A$8),CCYA,\"\")","v":""},{"$f":"IFERROR(VLOOKUP(F200,Dimension!$G$3:$H$252,2,FALSE),\"\")","v":""},{"$f":"IF(OR(B200=Dimension!$A$3,B200=Dimension!$A$4,B200=Dimension!$A$5),\"เดินทาง/ท่องเที่ยว\",\"\")","v":""},{"$f":"IF(OR(B200=Dimension!$A$6,B200=Dimension!$A$7,B200=Dimension!$A$8,B200=Dimension!$A$9),\"\",IF(OR(B200=Dimension!$A$3,B200=Dimension!$A$4,B200=Dimension!$A$5),\"สถานประกอบการ\",\"\"))","v":""},{"$f":"IF(OR(B200=Dimension!$A$3,B200=Dimension!$A$4,B200=Dimension!$A$5,B200=Dimension!$A$6,,B200=Dimension!$A$7,B200=Dimension!$A$8,B200=Dimension!$A$9),Payment_ID2,\"\")","v":""},null,{"$f":"IFERROR(VLOOKUP(K200,Dimension!$J$3:$K$179,2,FALSE),\"\")","v":""},null,null,{"$f":"IF(OR(B200=Dimension!$A$6,B200=Dimension!$A$7,B200=Dimension!$A$8,B200=Dimension!$A$9),\"\",IF(OR(B200=Dimension!$A$3,B200=Dimension!$A$4,B200=Dimension!$A$5),\"สถานประกอบการ\",\"\"))","v":""},{"$f":"IF(OR(B200=Dimension!$A$6,B200=Dimension!$A$7,B200=Dimension!$A$8,B200=Dimension!$A$9,B200=\"\"),\"\",Payment_ID2)","v":""},"",null,null,{"$f":"IF(D200=Dimension!$C$9,IF(LEFT(UPPER(E200),2)=\"MC\",TRUE,FALSE),TRUE)","v":true}]
[null,null,null,{"$f":"IF(B201=Dimension!$A$8,Dimension!$C$9,IF(B201=Dimension!$A$6,CD,\"\"))","v":""},null,{"$f":"IF(OR(B201=Dimension!$A$3,B201=Dimension!$A$4,B201=Dimension!$A$6,B201=Dimension!$A$8),CCYA,\"\")","v":""},{"$f":"IFERROR(VLOOKUP(F201,Dimension!$G$3:$H$252,2,FALSE),\"\")","v":""},{"$f":"IF(OR(B201=Dimension!$A$3,B201=Dimension!$A$4,B201=Dimension!$A$5),\"เดินทาง/ท่องเที่ยว\",\"\")","v":""},{"$f":"IF(OR(B201=Dimension!$A$6,B201=Dimension!$A$7,B201=Dimension!$A$8,B201=Dimension!$A$9),\"\",IF(OR(B201=Dimension!$A$3,B201=Dimension!$A$4,B201=Dimension!$A$5),\"สถานประกอบการ\",\"\"))","v":""},{"$f":"IF(OR(B201=Dimension!$A$3,B201=Dimension!$A$4,B201=Dimension!$A$5,B201=Dimension!$A$6,,B201=Dimension!$A$7,B201=Dimension!$A$8,B201=Dimension!$A$9),Payment_ID2,\"\")","v":""},null,{"$f":"IFERROR(VLOOKUP(K201,Dimension!$J$3:$K$179,2,FALSE),\"\")","v":""},null,null,{"$f":"IF(OR(B201=Dimension!$A$6,B201=Dimension!$A$7,B201=Dimension!$A$8,B201=Dimension!$A$9),\"\",IF(OR(B201=Dimension!$A$3,B201=Dimension!$A$4,B201=Dimension!$A$5),\"สถานประกอบการ\",\"\"))","v":""},{"$f":"IF(OR(B201=Dimension!$A$6,B201=Dimension!$A$7,B201=Dimension!$A$8,B201=Dimension!$A$9,B201=\"\"),\"\",Payment_ID2)","v":""},"",null,null,{"$f":"IF(D201=Dimension!$C$9,IF(LEFT(UPPER(E201),2)=\"MC\",TRUE,FALSE),TRUE)","v":true}]
[null,null,null,{"$f":"IF(B202=Dimension!$A$8,Dimension!$C$9,IF(B202=Dimension!$A$6,CD,\"\"))","v":""},null,{"$f":"IF(OR(B202=Dimension!$A$3,B202=Dimension!$A$4,B202=Dimension!$A$6,B202=Dimension!$A$8),CCYA,\"\")","v":""},{"$f":"IFERROR(VLOOKUP(F202,Dimension!$G$3:$H$252,2,FALSE),\"\")","v":""},{"$f":"IF(OR(B202=Dimension!$A$3,B202=Dimension!$A$4,B202=Dimension!$A$5),\"เดินทาง/ท่องเที่ยว\",\"\")","v":""},{"$f":"IF(OR(B202=Dimension!$A$6,B202=Dimension!$A$7,B202=Dimension!$A$8,B202=Dimension!$A$9),\"\",IF(OR(B202=Dimension!$A$3,B202=Dimension!$A$4,B202=Dimension!$A$5),\"สถานประกอบการ\",\"\"))","v":""},{"$f":"IF(OR(B202=Dimension!$A$3,B202=Dimension!$A$4,B202=Dimension!$A$5,B202=Dimension!$A$6,,B202=Dimension!$A$7,B202=Dimension!$A$8,B202=Dimension!$A$9),Payment_ID2,\"\")","v":""},null,{"$f":"IFERROR(VLOOKUP(K202,Dimension!$J$3:$K$179,2,FALSE),\"\")","v":""},null,null,{"$f":"IF(OR(B202=Dimension!$A$6,B202=Dimension!$A$7,B202=Dimension!$A$8,B202=Dimension!$A$9),\"\",IF(OR(B202=Dimension!$A$3,B202=Dimension!$A$4,B202=Dimension!$A$5),\"สถานประกอบการ\",\"\"))","v":""},{"$f":"IF(OR(B202=Dimension!$A$6,B202=Dimension!$A$7,B202=Dimension!$A$8,B202=Dimension!$A$9,B202=\"\"),\"\",Payment_ID2)","v":""},{"$f":"IF(OR(M202=\"\",N202=\"\"),\"\",ROUND(M202*N202,2))","v":""},null,null,{"$f":"IF(D202=Dimension!$C$9,IF(LEFT(UPPER(E202),2)=\"MC\",TRUE,FALSE),TRUE)","v":true}]
[null,null,null,{"$f":"IF(B203=Dimension!$A$8,Dimension!$C$9,IF(B203=Dimension!$A$6,CD,\"\"))","v":""},null,{"$f":"IF(OR(B203=Dimension!$A$3,B203=Dimension!$A$4,B203=Dimension!$A$6,B203=Dimension!$A$8),CCYA,\"\")","v":""},{"$f":"IFERROR(VLOOKUP(F203,Dimension!$G$3:$H$252,2,FALSE),\"\")","v":""},{"$f":"IF(OR(B203=Dimension!$A$3,B203=Dimension!$A$4,B203=Dimension!$A$5),\"เดินทาง/ท่องเที่ยว\",\"\")","v":""},{"$f":"IF(OR(B203=Dimension!$A$6,B203=Dimension!$A$7,B203=Dimension!$A$8,B203=Dimension!$A$9),\"\",IF(OR(B203=Dimension!$A$3,B203=Dimension!$A$4,B203=Dimension!$A$5),\"สถานประกอบการ\",\"\"))","v":""},{"$f":"IF(OR(B203=Dimension!$A$3,B203=Dimension!$A$4,B203=Dimension!$A$5,B203=Dimension!$A$6,,B203=Dimension!$A$7,B203=Dimension!$A$8,B203=Dimension!$A$9),Payment_ID2,\"\")","v":""},null,{"$f":"IFERROR(VLOOKUP(K203,Dimension!$J$3:$K$179,2,FALSE),\"\")","v":""},null,null,{"$f":"IF(OR(B203=Dimension!$A$6,B203=Dimension!$A$7,B203=Dimension!$A$8,B203=Dimension!$A$9),\"\",IF(OR(B203=Dimension!$A$3,B203=Dimension!$A$4,B203=Dimension!$A$5),\"สถานประกอบการ\",\"\"))","v":""},{"$f":"IF(OR(B203=Dimension!$A$6,B203=Dimension!$A$7,B203=Dimension!$A$8,B203=Dimension!$A$9,B203=\"\"),\"\",Payment_ID2)","v":""},"",null,null,{"$f":"IF(D203=Dimension!$C$9,IF(LEFT(UPPER(E203),2)=\"MC\",TRUE,FALSE),TRUE)","v":true}]
[null,null,null,{"$f":"IF(B204=Dimension!$A$8,Dimension!$C$9,IF(B204=Dimension!$A$6,CD,\"\"))","v":""},null,{"$f":"IF(OR(B204=Dimension!$A$3,B204=Dimension!$A$4,B204=Dimension!$A$6,B204=Dimension!$A$8),CCYA,\"\")","v":""},{"$f":"IFERROR(VLOOKUP(F204,Dimension!$G$3:$H$252,2,FALSE),\"\")","v":""},{"$f":"IF(OR(B204=Dimension!$A$3,B204=Dimension!$A$4,B204=Dimension!$A$5),\"เดินทาง/ท่องเที่ยว\",\"\")","v":""},{"$f":"IF(OR(B204=Dimension!$A$6,B204=Dimension!$A$7,B204=Dimension!$A$8,B204=Dimension!$A$9),\"\",IF(OR(B204=Dimension!$A$3,B204=Dimension!$A$4,B204=Dimension!$A$5),\"สถานประกอบการ\",\"\"))","v":""},{"$f":"IF(OR(B204=Dimension!$A$3,B204=Dimension!$A$4,B204=Dimension!$A$5,B204=Dimension!$A$6,,B204=Dimension!$A$7,B204=Dimension!$A$8,B204=Dimension!$A$9),Payment_ID2,\"\")","v":""},null,{"$f":"IFERROR(VLOOKUP(K204,Dimension!$J$3:$K$179,2,FALSE),\"\")","v":""},null,null,{"$f":"IF(OR(B204=Dimension!$A$6,B204=Dimension!$A$7,B204=Dimension!$A$8,B204=Dimension!$A$9),\"\",IF(OR(B204=Dimension!$A$3,B204=Dimension!$A$4,B204=Dimension!$A$5),\"สถานประกอบการ\",\"\"))","v":""},{"$f":"IF(OR(B204=Dimension!$A$6,B204=Dimension!$A$7,B204=Dimension!$A$8,B204=Dimension!$A$9,B204=\"\"),\"\",Payment_ID2)","v":""},"",null,null,{"$f":"IF(D204=Dimension!$C$9,IF(LEFT(UPPER(E204),2)=\"MC\",TRUE,FALSE),TRUE)","v":true}]
[null,null,null,{"$f":"IF(B205=Dimension!$A$8,Dimension!$C$9,IF(B205=Dimension!$A$6,CD,\"\"))","v":""},null,{"$f":"IF(OR(B205=Dimension!$A$3,B205=Dimension!$A$4,B205=Dimension!$A$6,B205=Dimension!$A$8),CCYA,\"\")","v":""},{"$f":"IFERROR(VLOOKUP(F205,Dimension!$G$3:$H$252,2,FALSE),\"\")","v":""},{"$f":"IF(OR(B205=Dimension!$A$3,B205=Dimension!$A$4,B205=Dimension!$A$5),\"เดินทาง/ท่องเที่ยว\",\"\")","v":""},{"$f":"IF(OR(B205=Dimension!$A$6,B205=Dimension!$A$7,B205=Dimension!$A$8,B205=Dimension!$A$9),\"\",IF(OR(B205=Dimension!$A$3,B205=Dimension!$A$4,B205=Dimension!$A$5),\"สถานประกอบการ\",\"\"))","v":""},{"$f":"IF(OR(B205=Dimension!$A$3,B205=Dimension!$A$4,B205=Dimension!$A$5,B205=Dimension!$A$6,,B205=Dimension!$A$7,B205=Dimension!$A$8,B205=Dimension!$A$9),Payment_ID2,\"\")","v":""},null,{"$f":"IFERROR(VLOOKUP(K205,Dimension!$J$3:$K$179,2,FALSE),\"\")","v":""},null,null,{"$f":"IF(OR(B205=Dimension!$A$6,B205=Dimension!$A$7,B205=Dimension!$A$8,B205=Dimension!$A$9),\"\",IF(OR(B205=Dimension!$A$3,B205=Dimension!$A$4,B205=Dimension!$A$5),\"สถานประกอบการ\",\"\"))","v":""},{"$f":"IF(OR(B205=Dimension!$A$6,B205=Dimension!$A$7,B205=Dimension!$A$8,B205=Dimension!$A$9,B205=\"\"),\"\",Payment_ID2)","v":""},"",null,null,{"$f":"IF(D205=Dimension!$C$9,IF(LEFT(UPPER(E205),2)=\"MC\",TRUE,FALSE),TRUE)","v":true}]
[null,null,null,{"$f":"IF(B206=Dimension!$A$8,Dimension!$C$9,IF(B206=Dimension!$A$6,CD,\"\"))","v":""},null,{"$f":"IF(OR(B206=Dimension!$A$3,B206=Dimension!$A$4,B206=Dimension!$A$6,B206=Dimension!$A$8),CCYA,\"\")","v":""},{"$f":"IFERROR(VLOOKUP(F206,Dimension!$G$3:$H$252,2,FALSE),\"\")","v":""},{"$f":"IF(OR(B206=Dimension!$A$3,B206=Dimension!$A$4,B206=Dimension!$A$5),\"เดินทาง/ท่องเที่ยว\",\"\")","v":""},{"$f":"IF(OR(B206=Dimension!$A$6,B206=Dimension!$A$7,B206=Dimension!$A$8,B206=Dimension!$A$9),\"\",IF(OR(B206=Dimension!$A$3,B206=Dimension!$A$4,B206=Dimension!$A$5),\"สถานประกอบการ\",\"\"))","v":""},{"$f":"IF(OR(B206=Dimension!$A$3,B206=Dimension!$A$4,B206=Dimension!$A$5,B206=Dimension!$A$6,,B206=Dimension!$A$7,B206=Dimension!$A$8,B206=Dimension!$A$9),Payment_ID2,\"\")","v":""},null,{"$f":"IFERROR(VLOOKUP(K206,Dimension!$J$3:$K$179,2,FALSE),\"\")","v":""},null,null,{"$f":"IF(OR(B206=Dimension!$A$6,B206=Dimension!$A$7,B206=Dimension!$A$8,B206=Dimension!$A$9),\"\",IF(OR(B206=Dimension!$A$3,B206=Dimension!$A$4,B206=Dimension!$A$5),\"สถานประกอบการ\",\"\"))","v":""},{"$f":"IF(OR(B206=Dimension!$A$6,B206=Dimension!$A$7,B206=Dimension!$A$8,B206=Dimension!$A$9,B206=\"\"),\"\",Payment_ID2)","v":""},"",null,null,{"$f":"IF(D206=Dimension!$C$9,IF(LEFT(UPPER(E206),2)=\"MC\",TRUE,FALSE),TRUE)","v":true}]
[null,null,null,{"$f":"IF(B207=Dimension!$A$8,Dimension!$C$9,IF(B207=Dimension!$A$6,CD,\"\"))","v":""},null,{"$f":"IF(OR(B207=Dimension!$A$3,B207=Dimension!$A$4,B207=Dimension!$A$6,B207=Dimension!$A$8),CCYA,\"\")","v":""},{"$f":"IFERROR(VLOOKUP(F207,Dimension!$G$3:$H$252,2,FALSE),\"\")","v":""},{"$f":"IF(OR(B207=Dimension!$A$3,B207=Dimension!$A$4,B207=Dimension!$A$5),\"เดินทาง/ท่องเที่ยว\",\"\")","v":""},{"$f":"IF(OR(B207=Dimension!$A$6,B207=Dimension!$A$7,B207=Dimension!$A$8,B207=Dimension!$A$9),\"\",IF(OR(B207=Dimension!$A$3,B207=Dimension!$A$4,B207=Dimension!$A$5),\"สถานประกอบการ\",\"\"))","v":""},{"$f":"IF(OR(B207=Dimension!$A$3,B207=Dimension!$A$4,B207=Dimension!$A$5,B207=Dimension!$A$6,,B207=Dimension!$A$7,B207=Dimension!$A$8,B207=Dimension!$A$9),Payment_ID2,\"\")","v":""},null,{"$f":"IFERROR(VLOOKUP(K207,Dimension!$J$3:$K$179,2,FALSE),\"\")","v":""},null,null,{"$f":"IF(OR(B207=Dimension!$A$6,B207=Dimension!$A$7,B207=Dimension!$A$8,B207=Dimension!$A$9),\"\",IF(OR(B207=Dimension!$A$3,B207=Dimension!$A$4,B207=Dimension!$A$5),\"สถานประกอบการ\",\"\"))","v":""},{"$f":"IF(OR(B207=Dimension!$A$6,B207=Dimension!$A$7,B207=Dimension!$A$8,B207=Dimension!$A$9,B207=\"\"),\"\",Payment_ID2)","v":""},"",null,null,{"$f":"IF(D207=Dimension!$C$9,IF(LEFT(UPPER(E207),2)=\"MC\",TRUE,FALSE),TRUE)","v":true}]
[null,null,null,{"$f":"IF(B208=Dimension!$A$8,Dimension!$C$9,IF(B208=Dimension!$A$6,CD,\"\"))","v":""},null,{"$f":"IF(OR(B208=Dimension!$A$3,B208=Dimension!$A$4,B208=Dimension!$A$6,B208=Dimension!$A$8),CCYA,\"\")","v":""},{"$f":"IFERROR(VLOOKUP(F208,Dimension!$G$3:$H$252,2,FALSE),\"\")","v":""},{"$f":"IF(OR(B208=Dimension!$A$3,B208=Dimension!$A$4,B208=Dimension!$A$5),\"เดินทาง/ท่องเที่ยว\",\"\")","v":""},{"$f":"IF(OR(B208=Dimension!$A$6,B208=Dimension!$A$7,B208=Dimension!$A$8,B208=Dimension!$A$9),\"\",IF(OR(B208=Dimension!$A$3,B208=Dimension!$A$4,B208=Dimension!$A$5),\"สถานประกอบการ\",\"\"))","v":""},{"$f":"IF(OR(B208=Dimension!$A$3,B208=Dimension!$A$4,B208=Dimension!$A$5,B208=Dimension!$A$6,,B208=Dimension!$A$7,B208=Dimension!$A$8,B208=Dimension!$A$9),Payment_ID2,\"\")","v":""},null,{"$f":"IFERROR(VLOOKUP(K208,Dimension!$J$3:$K$179,2,FALSE),\"\")","v":""},null,null,{"$f":"IF(OR(B208=Dimension!$A$6,B208=Dimension!$A$7,B208=Dimension!$A$8,B208=Dimension!$A$9),\"\",IF(OR(B208=Dimension!$A$3,B208=Dimension!$A$4,B208=Dimension!$A$5),\"สถานประกอบการ\",\"\"))","v":""},{"$f":"IF(OR(B208=Dimension!$A$6,B208=Dimension!$A$7,B208=Dimension!$A$8,B208=Dimension!$A$9,B208=\"\"),\"\",Payment_ID2)","v":""},"",null,null,{"$f":"IF(D208=Dimension!$C$9,IF(LEFT(UPPER(E208),2)=\"MC\",TRUE,FALSE),TRUE)","v":true}]
[null,null,null,{"$f":"IF(B209=Dimension!$A$8,Dimension!$C$9,IF(B209=Dimension!$A$6,CD,\"\"))","v":""},null,{"$f":"IF(OR(B209=Dimension!$A$3,B209=Dimension!$A$4,B209=Dimension!$A$6,B209=Dimension!$A$8),CCYA,\"\")","v":""},{"$f":"IFERROR(VLOOKUP(F209,Dimension!$G$3:$H$252,2,FALSE),\"\")","v":""},{"$f":"IF(OR(B209=Dimension!$A$3,B209=Dimension!$A$4,B209=Dimension!$A$5),\"เดินทาง/ท่องเที่ยว\",\"\")","v":""},{"$f":"IF(OR(B209=Dimension!$A$6,B209=Dimension!$A$7,B209=Dimension!$A$8,B209=Dimension!$A$9),\"\",IF(OR(B209=Dimension!$A$3,B209=Dimension!$A$4,B209=Dimension!$A$5),\"สถานประกอบการ\",\"\"))","v":""},{"$f":"IF(OR(B209=Dimension!$A$3,B209=Dimension!$A$4,B209=Dimension!$A$5,B209=Dimension!$A$6,,B209=Dimension!$A$7,B209=Dimension!$A$8,B209=Dimension!$A$9),Payment_ID2,\"\")","v":""},null,{"$f":"IFERROR(VLOOKUP(K209,Dimension!$J$3:$K$179,2,FALSE),\"\")","v":""},null,null,{"$f":"IF(OR(B209=Dimension!$A$6,B209=Dimension!$A$7,B209=Dimension!$A$8,B209=Dimension!$A$9),\"\",IF(OR(B209=Dimension!$A$3,B209=Dimension!$A$4,B209=Dimension!$A$5),\"สถานประกอบการ\",\"\"))","v":""},{"$f":"IF(OR(B209=Dimension!$A$6,B209=Dimension!$A$7,B209=Dimension!$A$8,B209=Dimension!$A$9,B209=\"\"),\"\",Payment_ID2)","v":""},"",null,null,{"$f":"IF(D209=Dimension!$C$9,IF(LEFT(UPPER(E209),2)=\"MC\",TRUE,FALSE),TRUE)","v":true}]
[null,null,null,{"$f":"IF(B210=Dimension!$A$8,Dimension!$C$9,IF(B210=Dimension!$A$6,CD,\"\"))","v":""},null,{"$f":"IF(OR(B210=Dimension!$A$3,B210=Dimension!$A$4,B210=Dimension!$A$6,B210=Dimension!$A$8),CCYA,\"\")","v":""},{"$f":"IFERROR(VLOOKUP(F210,Dimension!$G$3:$H$252,2,FALSE),\"\")","v":""},{"$f":"IF(OR(B210=Dimension!$A$3,B210=Dimension!$A$4,B210=Dimension!$A$5),\"เดินทาง/ท่องเที่ยว\",\"\")","v":""},{"$f":"IF(OR(B210=Dimension!$A$6,B210=Dimension!$A$7,B210=Dimension!$A$8,B210=Dimension!$A$9),\"\",IF(OR(B210=Dimension!$A$3,B210=Dimension!$A$4,B210=Dimension!$A$5),\"สถานประกอบการ\",\"\"))","v":""},{"$f":"IF(OR(B210=Dimension!$A$3,B210=Dimension!$A$4,B210=Dimension!$A$5,B210=Dimension!$A$6,,B210=Dimension!$A$7,B210=Dimension!$A$8,B210=Dimension!$A$9),Payment_ID2,\"\")","v":""},null,{"$f":"IFERROR(VLOOKUP(K210,Dimension!$J$3:$K$179,2,FALSE),\"\")","v":""},null,null,{"$f":"IF(OR(B210=Dimension!$A$6,B210=Dimension!$A$7,B210=Dimension!$A$8,B210=Dimension!$A$9),\"\",IF(OR(B210=Dimension!$A$3,B210=Dimension!$A$4,B210=Dimension!$A$5),\"สถานประกอบการ\",\"\"))","v":""},{"$f":"IF(OR(B210=Dimension!$A$6,B210=Dimension!$A$7,B210=Dimension!$A$8,B210=Dimension!$A$9,B210=\"\"),\"\",Payment_ID2)","v":""},"",null,null,{"$f":"IF(D210=Dimension!$C$9,IF(LEFT(UPPER(E210),2)=\"MC\",TRUE,FALSE),TRUE)","v":true}]
[null,null,null,{"$f":"IF(B211=Dimension!$A$8,Dimension!$C$9,IF(B211=Dimension!$A$6,CD,\"\"))","v":""},null,{"$f":"IF(OR(B211=Dimension!$A$3,B211=Dimension!$A$4,B211=Dimension!$A$6,B211=Dimension!$A$8),CCYA,\"\")","v":""},{"$f":"IFERROR(VLOOKUP(F211,Dimension!$G$3:$H$252,2,FALSE),\"\")","v":""},{"$f":"IF(OR(B211=Dimension!$A$3,B211=Dimension!$A$4,B211=Dimension!$A$5),\"เดินทาง/ท่องเที่ยว\",\"\")","v":""},{"$f":"IF(OR(B211=Dimension!$A$6,B211=Dimension!$A$7,B211=Dimension!$A$8,B211=Dimension!$A$9),\"\",IF(OR(B211=Dimension!$A$3,B211=Dimension!$A$4,B211=Dimension!$A$5),\"สถานประกอบการ\",\"\"))","v":""},{"$f":"IF(OR(B211=Dimension!$A$3,B211=Dimension!$A$4,B211=Dimension!$A$5,B211=Dimension!$A$6,,B211=Dimension!$A$7,B211=Dimension!$A$8,B211=Dimension!$A$9),Payment_ID2,\"\")","v":""},null,{"$f":"IFERROR(VLOOKUP(K211,Dimension!$J$3:$K$179,2,FALSE),\"\")","v":""},null,null,{"$f":"IF(OR(B211=Dimension!$A$6,B211=Dimension!$A$7,B211=Dimension!$A$8,B211=Dimension!$A$9),\"\",IF(OR(B211=Dimension!$A$3,B211=Dimension!$A$4,B211=Dimension!$A$5),\"สถานประกอบการ\",\"\"))","v":""},{"$f":"IF(OR(B211=Dimension!$A$6,B211=Dimension!$A$7,B211=Dimension!$A$8,B211=Dimension!$A$9,B211=\"\"),\"\",Payment_ID2)","v":""},"",null,null,{"$f":"IF(D211=Dimension!$C$9,IF(LEFT(UPPER(E211),2)=\"MC\",TRUE,FALSE),TRUE)","v":true}]
[null,null,null,{"$f":"IF(B212=Dimension!$A$8,Dimension!$C$9,IF(B212=Dimension!$A$6,CD,\"\"))","v":""},null,{"$f":"IF(OR(B212=Dimension!$A$3,B212=Dimension!$A$4,B212=Dimension!$A$6,B212=Dimension!$A$8),CCYA,\"\")","v":""},{"$f":"IFERROR(VLOOKUP(F212,Dimension!$G$3:$H$252,2,FALSE),\"\")","v":""},{"$f":"IF(OR(B212=Dimension!$A$3,B212=Dimension!$A$4,B212=Dimension!$A$5),\"เดินทาง/ท่องเที่ยว\",\"\")","v":""},{"$f":"IF(OR(B212=Dimension!$A$6,B212=Dimension!$A$7,B212=Dimension!$A$8,B212=Dimension!$A$9),\"\",IF(OR(B212=Dimension!$A$3,B212=Dimension!$A$4,B212=Dimension!$A$5),\"สถานประกอบการ\",\"\"))","v":""},{"$f":"IF(OR(B212=Dimension!$A$3,B212=Dimension!$A$4,B212=Dimension!$A$5,B212=Dimension!$A$6,,B212=Dimension!$A$7,B212=Dimension!$A$8,B212=Dimension!$A$9),Payment_ID2,\"\")","v":""},null,{"$f":"IFERROR(VLOOKUP(K212,Dimension!$J$3:$K$179,2,FALSE),\"\")","v":""},null,null,{"$f":"IF(OR(B212=Dimension!$A$6,B212=Dimension!$A$7,B212=Dimension!$A$8,B212=Dimension!$A$9),\"\",IF(OR(B212=Dimension!$A$3,B212=Dimension!$A$4,B212=Dimension!$A$5),\"สถานประกอบการ\",\"\"))","v":""},{"$f":"IF(OR(B212=Dimension!$A$6,B212=Dimension!$A$7,B212=Dimension!$A$8,B212=Dimension!$A$9,B212=\"\"),\"\",Payment_ID2)","v":""},"",null,null,{"$f":"IF(D212=Dimension!$C$9,IF(LEFT(UPPER(E212),2)=\"MC\",TRUE,FALSE),TRUE)","v":true}]
[null,null,null,{"$f":"IF(B213=Dimension!$A$8,Dimension!$C$9,IF(B213=Dimension!$A$6,CD,\"\"))","v":""},null,{"$f":"IF(OR(B213=Dimension!$A$3,B213=Dimension!$A$4,B213=Dimension!$A$6,B213=Dimension!$A$8),CCYA,\"\")","v":""},{"$f":"IFERROR(VLOOKUP(F213,Dimension!$G$3:$H$252,2,FALSE),\"\")","v":""},{"$f":"IF(OR(B213=Dimension!$A$3,B213=Dimension!$A$4,B213=Dimension!$A$5),\"เดินทาง/ท่องเที่ยว\",\"\")","v":""},{"$f":"IF(OR(B213=Dimension!$A$6,B213=Dimension!$A$7,B213=Dimension!$A$8,B213=Dimension!$A$9),\"\",IF(OR(B213=Dimension!$A$3,B213=Dimension!$A$4,B213=Dimension!$A$5),\"สถานประกอบการ\",\"\"))","v":""},{"$f":"IF(OR(B213=Dimension!$A$3,B213=Dimension!$A$4,B213=Dimension!$A$5,B213=Dimension!$A$6,,B213=Dimension!$A$7,B213=Dimension!$A$8,B213=Dimension!$A$9),Payment_ID2,\"\")","v":""},null,{"$f":"IFERROR(VLOOKUP(K213,Dimension!$J$3:$K$179,2,FALSE),\"\")","v":""},null,null,{"$f":"IF(OR(B213=Dimension!$A$6,B213=Dimension!$A$7,B213=Dimension!$A$8,B213=Dimension!$A$9),\"\",IF(OR(B213=Dimension!$A$3,B213=Dimension!$A$4,B213=Dimension!$A$5),\"สถานประกอบการ\",\"\"))","v":""},{"$f":"IF(OR(B213=Dimension!$A$6,B213=Dimension!$A$7,B213=Dimension!$A$8,B213=Dimension!$A$9,B213=\"\"),\"\",Payment_ID2)","v":""},"",null,null,{"$f":"IF(D213=Dimension!$C$9,IF(LEFT(UPPER(E213),2)=\"MC\",TRUE,FALSE),TRUE)","v":true}]
[null,null,null,{"$f":"IF(B214=Dimension!$A$8,Dimension!$C$9,IF(B214=Dimension!$A$6,CD,\"\"))","v":""},null,{"$f":"IF(OR(B214=Dimension!$A$3,B214=Dimension!$A$4,B214=Dimension!$A$6,B214=Dimension!$A$8),CCYA,\"\")","v":""},{"$f":"IFERROR(VLOOKUP(F214,Dimension!$G$3:$H$252,2,FALSE),\"\")","v":""},{"$f":"IF(OR(B214=Dimension!$A$3,B214=Dimension!$A$4,B214=Dimension!$A$5),\"เดินทาง/ท่องเที่ยว\",\"\")","v":""},{"$f":"IF(OR(B214=Dimension!$A$6,B214=Dimension!$A$7,B214=Dimension!$A$8,B214=Dimension!$A$9),\"\",IF(OR(B214=Dimension!$A$3,B214=Dimension!$A$4,B214=Dimension!$A$5),\"สถานประกอบการ\",\"\"))","v":""},{"$f":"IF(OR(B214=Dimension!$A$3,B214=Dimension!$A$4,B214=Dimension!$A$5,B214=Dimension!$A$6,,B214=Dimension!$A$7,B214=Dimension!$A$8,B214=Dimension!$A$9),Payment_ID2,\"\")","v":""},null,{"$f":"IFERROR(VLOOKUP(K214,Dimension!$J$3:$K$179,2,FALSE),\"\")","v":""},null,null,{"$f":"IF(OR(B214=Dimension!$A$6,B214=Dimension!$A$7,B214=Dimension!$A$8,B214=Dimension!$A$9),\"\",IF(OR(B214=Dimension!$A$3,B214=Dimension!$A$4,B214=Dimension!$A$5),\"สถานประกอบการ\",\"\"))","v":""},{"$f":"IF(OR(B214=Dimension!$A$6,B214=Dimension!$A$7,B214=Dimension!$A$8,B214=Dimension!$A$9,B214=\"\"),\"\",Payment_ID2)","v":""},"",null,null,{"$f":"IF(D214=Dimension!$C$9,IF(LEFT(UPPER(E214),2)=\"MC\",TRUE,FALSE),TRUE)","v":true}]
[null,null,null,{"$f":"IF(B215=Dimension!$A$8,Dimension!$C$9,IF(B215=Dimension!$A$6,CD,\"\"))","v":""},null,{"$f":"IF(OR(B215=Dimension!$A$3,B215=Dimension!$A$4,B215=Dimension!$A$6,B215=Dimension!$A$8),CCYA,\"\")","v":""},{"$f":"IFERROR(VLOOKUP(F215,Dimension!$G$3:$H$252,2,FALSE),\"\")","v":""},{"$f":"IF(OR(B215=Dimension!$A$3,B215=Dimension!$A$4,B215=Dimension!$A$5),\"เดินทาง/ท่องเที่ยว\",\"\")","v":""},{"$f":"IF(OR(B215=Dimension!$A$6,B215=Dimension!$A$7,B215=Dimension!$A$8,B215=Dimension!$A$9),\"\",IF(OR(B215=Dimension!$A$3,B215=Dimension!$A$4,B215=Dimension!$A$5),\"สถานประกอบการ\",\"\"))","v":""},{"$f":"IF(OR(B215=Dimension!$A$3,B215=Dimension!$A$4,B215=Dimension!$A$5,B215=Dimension!$A$6,,B215=Dimension!$A$7,B215=Dimension!$A$8,B215=Dimension!$A$9),Payment_ID2,\"\")","v":""},null,{"$f":"IFERROR(VLOOKUP(K215,Dimension!$J$3:$K$179,2,FALSE),\"\")","v":""},null,null,{"$f":"IF(OR(B215=Dimension!$A$6,B215=Dimension!$A$7,B215=Dimension!$A$8,B215=Dimension!$A$9),\"\",IF(OR(B215=Dimension!$A$3,B215=Dimension!$A$4,B215=Dimension!$A$5),\"สถานประกอบการ\",\"\"))","v":""},{"$f":"IF(OR(B215=Dimension!$A$6,B215=Dimension!$A$7,B215=Dimension!$A$8,B215=Dimension!$A$9,B215=\"\"),\"\",Payment_ID2)","v":""},"",null,null,{"$f":"IF(D215=Dimension!$C$9,IF(LEFT(UPPER(E215),2)=\"MC\",TRUE,FALSE),TRUE)","v":true}]
[null,null,null,{"$f":"IF(B216=Dimension!$A$8,Dimension!$C$9,IF(B216=Dimension!$A$6,CD,\"\"))","v":""},null,{"$f":"IF(OR(B216=Dimension!$A$3,B216=Dimension!$A$4,B216=Dimension!$A$6,B216=Dimension!$A$8),CCYA,\"\")","v":""},{"$f":"IFERROR(VLOOKUP(F216,Dimension!$G$3:$H$252,2,FALSE),\"\")","v":""},{"$f":"IF(OR(B216=Dimension!$A$3,B216=Dimension!$A$4,B216=Dimension!$A$5),\"เดินทาง/ท่องเที่ยว\",\"\")","v":""},{"$f":"IF(OR(B216=Dimension!$A$6,B216=Dimension!$A$7,B216=Dimension!$A$8,B216=Dimension!$A$9),\"\",IF(OR(B216=Dimension!$A$3,B216=Dimension!$A$4,B216=Dimension!$A$5),\"สถานประกอบการ\",\"\"))","v":""},{"$f":"IF(OR(B216=Dimension!$A$3,B216=Dimension!$A$4,B216=Dimension!$A$5,B216=Dimension!$A$6,,B216=Dimension!$A$7,B216=Dimension!$A$8,B216=Dimension!$A$9),Payment_ID2,\"\")","v":""},null,{"$f":"IFERROR(VLOOKUP(K216,Dimension!$J$3:$K$179,2,FALSE),\"\")","v":""},null,null,{"$f":"IF(OR(B216=Dimension!$A$6,B216=Dimension!$A$7,B216=Dimension!$A$8,B216=Dimension!$A$9),\"\",IF(OR(B216=Dimension!$A$3,B216=Dimension!$A$4,B216=Dimension!$A$5),\"สถานประกอบการ\",\"\"))","v":""},{"$f":"IF(OR(B216=Dimension!$A$6,B216=Dimension!$A$7,B216=Dimension!$A$8,B216=Dimension!$A$9,B216=\"\"),\"\",Payment_ID2)","v":""},"",null,null,{"$f":"IF(D216=Dimension!$C$9,IF(LEFT(UPPER(E216),2)=\"MC\",TRUE,FALSE),TRUE)","v":true}]
[null,null,null,{"$f":"IF(B217=Dimension!$A$8,Dimension!$C$9,IF(B217=Dimension!$A$6,CD,\"\"))","v":""},null,{"$f":"IF(OR(B217=Dimension!$A$3,B217=Dimension!$A$4,B217=Dimension!$A$6,B217=Dimension!$A$8),CCYA,\"\")","v":""},{"$f":"IFERROR(VLOOKUP(F217,Dimension!$G$3:$H$252,2,FALSE),\"\")","v":""},{"$f":"IF(OR(B217=Dimension!$A$3,B217=Dimension!$A$4,B217=Dimension!$A$5),\"เดินทาง/ท่องเที่ยว\",\"\")","v":""},{"$f":"IF(OR(B217=Dimension!$A$6,B217=Dimension!$A$7,B217=Dimension!$A$8,B217=Dimension!$A$9),\"\",IF(OR(B217=Dimension!$A$3,B217=Dimension!$A$4,B217=Dimension!$A$5),\"สถานประกอบการ\",\"\"))","v":""},{"$f":"IF(OR(B217=Dimension!$A$3,B217=Dimension!$A$4,B217=Dimension!$A$5,B217=Dimension!$A$6,,B217=Dimension!$A$7,B217=Dimension!$A$8,B217=Dimension!$A$9),Payment_ID2,\"\")","v":""},null,{"$f":"IFERROR(VLOOKUP(K217,Dimension!$J$3:$K$179,2,FALSE),\"\")","v":""},null,null,{"$f":"IF(OR(B217=Dimension!$A$6,B217=Dimension!$A$7,B217=Dimension!$A$8,B217=Dimension!$A$9),\"\",IF(OR(B217=Dimension!$A$3,B217=Dimension!$A$4,B217=Dimension!$A$5),\"สถานประกอบการ\",\"\"))","v":""},{"$f":"IF(OR(B217=Dimension!$A$6,B217=Dimension!$A$7,B217=Dimension!$A$8,B217=Dimension!$A$9,B217=\"\"),\"\",Payment_ID2)","v":""},"",null,null,{"$f":"IF(D217=Dimension!$C$9,IF(LEFT(UPPER(E217),2)=\"MC\",TRUE,FALSE),TRUE)","v":true}]
[null,null,null,{"$f":"IF(B218=Dimension!$A$8,Dimension!$C$9,IF(B218=Dimension!$A$6,CD,\"\"))","v":""},null,{"$f":"IF(OR(B218=Dimension!$A$3,B218=Dimension!$A$4,B218=Dimension!$A$6,B218=Dimension!$A$8),CCYA,\"\")","v":""},{"$f":"IFERROR(VLOOKUP(F218,Dimension!$G$3:$H$252,2,FALSE),\"\")","v":""},{"$f":"IF(OR(B218=Dimension!$A$3,B218=Dimension!$A$4,B218=Dimension!$A$5),\"เดินทาง/ท่องเที่ยว\",\"\")","v":""},{"$f":"IF(OR(B218=Dimension!$A$6,B218=Dimension!$A$7,B218=Dimension!$A$8,B218=Dimension!$A$9),\"\",IF(OR(B218=Dimension!$A$3,B218=Dimension!$A$4,B218=Dimension!$A$5),\"สถานประกอบการ\",\"\"))","v":""},{"$f":"IF(OR(B218=Dimension!$A$3,B218=Dimension!$A$4,B218=Dimension!$A$5,B218=Dimension!$A$6,,B218=Dimension!$A$7,B218=Dimension!$A$8,B218=Dimension!$A$9),Payment_ID2,\"\")","v":""},null,{"$f":"IFERROR(VLOOKUP(K218,Dimension!$J$3:$K$179,2,FALSE),\"\")","v":""},null,null,{"$f":"IF(OR(B218=Dimension!$A$6,B218=Dimension!$A$7,B218=Dimension!$A$8,B218=Dimension!$A$9),\"\",IF(OR(B218=Dimension!$A$3,B218=Dimension!$A$4,B218=Dimension!$A$5),\"สถานประกอบการ\",\"\"))","v":""},{"$f":"IF(OR(B218=Dimension!$A$6,B218=Dimension!$A$7,B218=Dimension!$A$8,B218=Dimension!$A$9,B218=\"\"),\"\",Payment_ID2)","v":""},"",null,null,{"$f":"IF(D218=Dimension!$C$9,IF(LEFT(UPPER(E218),2)=\"MC\",TRUE,FALSE),TRUE)","v":true}]
[null,null,null,{"$f":"IF(B219=Dimension!$A$8,Dimension!$C$9,IF(B219=Dimension!$A$6,CD,\"\"))","v":""},null,{"$f":"IF(OR(B219=Dimension!$A$3,B219=Dimension!$A$4,B219=Dimension!$A$6,B219=Dimension!$A$8),CCYA,\"\")","v":""},{"$f":"IFERROR(VLOOKUP(F219,Dimension!$G$3:$H$252,2,FALSE),\"\")","v":""},{"$f":"IF(OR(B219=Dimension!$A$3,B219=Dimension!$A$4,B219=Dimension!$A$5),\"เดินทาง/ท่องเที่ยว\",\"\")","v":""},{"$f":"IF(OR(B219=Dimension!$A$6,B219=Dimension!$A$7,B219=Dimension!$A$8,B219=Dimension!$A$9),\"\",IF(OR(B219=Dimension!$A$3,B219=Dimension!$A$4,B219=Dimension!$A$5),\"สถานประกอบการ\",\"\"))","v":""},{"$f":"IF(OR(B219=Dimension!$A$3,B219=Dimension!$A$4,B219=Dimension!$A$5,B219=Dimension!$A$6,,B219=Dimension!$A$7,B219=Dimension!$A$8,B219=Dimension!$A$9),Payment_ID2,\"\")","v":""},null,{"$f":"IFERROR(VLOOKUP(K219,Dimension!$J$3:$K$179,2,FALSE),\"\")","v":""},null,null,{"$f":"IF(OR(B219=Dimension!$A$6,B219=Dimension!$A$7,B219=Dimension!$A$8,B219=Dimension!$A$9),\"\",IF(OR(B219=Dimension!$A$3,B219=Dimension!$A$4,B219=Dimension!$A$5),\"สถานประกอบการ\",\"\"))","v":""},{"$f":"IF(OR(B219=Dimension!$A$6,B219=Dimension!$A$7,B219=Dimension!$A$8,B219=Dimension!$A$9,B219=\"\"),\"\",Payment_ID2)","v":""},"",null,null,{"$f":"IF(D219=Dimension!$C$9,IF(LEFT(UPPER(E219),2)=\"MC\",TRUE,FALSE),TRUE)","v":true}]
[null,null,null,{"$f":"IF(B220=Dimension!$A$8,Dimension!$C$9,IF(B220=Dimension!$A$6,CD,\"\"))","v":""},null,{"$f":"IF(OR(B220=Dimension!$A$3,B220=Dimension!$A$4,B220=Dimension!$A$6,B220=Dimension!$A$8),CCYA,\"\")","v":""},{"$f":"IFERROR(VLOOKUP(F220,Dimension!$G$3:$H$252,2,FALSE),\"\")","v":""},{"$f":"IF(OR(B220=Dimension!$A$3,B220=Dimension!$A$4,B220=Dimension!$A$5),\"เดินทาง/ท่องเที่ยว\",\"\")","v":""},{"$f":"IF(OR(B220=Dimension!$A$6,B220=Dimension!$A$7,B220=Dimension!$A$8,B220=Dimension!$A$9),\"\",IF(OR(B220=Dimension!$A$3,B220=Dimension!$A$4,B220=Dimension!$A$5),\"สถานประกอบการ\",\"\"))","v":""},{"$f":"IF(OR(B220=Dimension!$A$3,B220=Dimension!$A$4,B220=Dimension!$A$5,B220=Dimension!$A$6,,B220=Dimension!$A$7,B220=Dimension!$A$8,B220=Dimension!$A$9),Payment_ID2,\"\")","v":""},null,{"$f":"IFERROR(VLOOKUP(K220,Dimension!$J$3:$K$179,2,FALSE),\"\")","v":""},null,null,{"$f":"IF(OR(B220=Dimension!$A$6,B220=Dimension!$A$7,B220=Dimension!$A$8,B220=Dimension!$A$9),\"\",IF(OR(B220=Dimension!$A$3,B220=Dimension!$A$4,B220=Dimension!$A$5),\"สถานประกอบการ\",\"\"))","v":""},{"$f":"IF(OR(B220=Dimension!$A$6,B220=Dimension!$A$7,B220=Dimension!$A$8,B220=Dimension!$A$9,B220=\"\"),\"\",Payment_ID2)","v":""},"",null,null,{"$f":"IF(D220=Dimension!$C$9,IF(LEFT(UPPER(E220),2)=\"MC\",TRUE,FALSE),TRUE)","v":true}]
[null,null,null,{"$f":"IF(B221=Dimension!$A$8,Dimension!$C$9,IF(B221=Dimension!$A$6,CD,\"\"))","v":""},null,{"$f":"IF(OR(B221=Dimension!$A$3,B221=Dimension!$A$4,B221=Dimension!$A$6,B221=Dimension!$A$8),CCYA,\"\")","v":""},{"$f":"IFERROR(VLOOKUP(F221,Dimension!$G$3:$H$252,2,FALSE),\"\")","v":""},{"$f":"IF(OR(B221=Dimension!$A$3,B221=Dimension!$A$4,B221=Dimension!$A$5),\"เดินทาง/ท่องเที่ยว\",\"\")","v":""},{"$f":"IF(OR(B221=Dimension!$A$6,B221=Dimension!$A$7,B221=Dimension!$A$8,B221=Dimension!$A$9),\"\",IF(OR(B221=Dimension!$A$3,B221=Dimension!$A$4,B221=Dimension!$A$5),\"สถานประกอบการ\",\"\"))","v":""},{"$f":"IF(OR(B221=Dimension!$A$3,B221=Dimension!$A$4,B221=Dimension!$A$5,B221=Dimension!$A$6,,B221=Dimension!$A$7,B221=Dimension!$A$8,B221=Dimension!$A$9),Payment_ID2,\"\")","v":""},null,{"$f":"IFERROR(VLOOKUP(K221,Dimension!$J$3:$K$179,2,FALSE),\"\")","v":""},null,null,{"$f":"IF(OR(B221=Dimension!$A$6,B221=Dimension!$A$7,B221=Dimension!$A$8,B221=Dimension!$A$9),\"\",IF(OR(B221=Dimension!$A$3,B221=Dimension!$A$4,B221=Dimension!$A$5),\"สถานประกอบการ\",\"\"))","v":""},{"$f":"IF(OR(B221=Dimension!$A$6,B221=Dimension!$A$7,B221=Dimension!$A$8,B221=Dimension!$A$9,B221=\"\"),\"\",Payment_ID2)","v":""},"",null,null,{"$f":"IF(D221=Dimension!$C$9,IF(LEFT(UPPER(E221),2)=\"MC\",TRUE,FALSE),TRUE)","v":true}]
[null,null,null,{"$f":"IF(B222=Dimension!$A$8,Dimension!$C$9,IF(B222=Dimension!$A$6,CD,\"\"))","v":""},null,{"$f":"IF(OR(B222=Dimension!$A$3,B222=Dimension!$A$4,B222=Dimension!$A$6,B222=Dimension!$A$8),CCYA,\"\")","v":""},{"$f":"IFERROR(VLOOKUP(F222,Dimension!$G$3:$H$252,2,FALSE),\"\")","v":""},{"$f":"IF(OR(B222=Dimension!$A$3,B222=Dimension!$A$4,B222=Dimension!$A$5),\"เดินทาง/ท่องเที่ยว\",\"\")","v":""},{"$f":"IF(OR(B222=Dimension!$A$6,B222=Dimension!$A$7,B222=Dimension!$A$8,B222=Dimension!$A$9),\"\",IF(OR(B222=Dimension!$A$3,B222=Dimension!$A$4,B222=Dimension!$A$5),\"สถานประกอบการ\",\"\"))","v":""},{"$f":"IF(OR(B222=Dimension!$A$3,B222=Dimension!$A$4,B222=Dimension!$A$5,B222=Dimension!$A$6,,B222=Dimension!$A$7,B222=Dimension!$A$8,B222=Dimension!$A$9),Payment_ID2,\"\")","v":""},null,{"$f":"IFERROR(VLOOKUP(K222,Dimension!$J$3:$K$179,2,FALSE),\"\")","v":""},null,null,{"$f":"IF(OR(B222=Dimension!$A$6,B222=Dimension!$A$7,B222=Dimension!$A$8,B222=Dimension!$A$9),\"\",IF(OR(B222=Dimension!$A$3,B222=Dimension!$A$4,B222=Dimension!$A$5),\"สถานประกอบการ\",\"\"))","v":""},{"$f":"IF(OR(B222=Dimension!$A$6,B222=Dimension!$A$7,B222=Dimension!$A$8,B222=Dimension!$A$9,B222=\"\"),\"\",Payment_ID2)","v":""},"",null,null,{"$f":"IF(D222=Dimension!$C$9,IF(LEFT(UPPER(E222),2)=\"MC\",TRUE,FALSE),TRUE)","v":true}]
[null,null,null,{"$f":"IF(B223=Dimension!$A$8,Dimension!$C$9,IF(B223=Dimension!$A$6,CD,\"\"))","v":""},null,{"$f":"IF(OR(B223=Dimension!$A$3,B223=Dimension!$A$4,B223=Dimension!$A$6,B223=Dimension!$A$8),CCYA,\"\")","v":""},{"$f":"IFERROR(VLOOKUP(F223,Dimension!$G$3:$H$252,2,FALSE),\"\")","v":""},{"$f":"IF(OR(B223=Dimension!$A$3,B223=Dimension!$A$4,B223=Dimension!$A$5),\"เดินทาง/ท่องเที่ยว\",\"\")","v":""},{"$f":"IF(OR(B223=Dimension!$A$6,B223=Dimension!$A$7,B223=Dimension!$A$8,B223=Dimension!$A$9),\"\",IF(OR(B223=Dimension!$A$3,B223=Dimension!$A$4,B223=Dimension!$A$5),\"สถานประกอบการ\",\"\"))","v":""},{"$f":"IF(OR(B223=Dimension!$A$3,B223=Dimension!$A$4,B223=Dimension!$A$5,B223=Dimension!$A$6,,B223=Dimension!$A$7,B223=Dimension!$A$8,B223=Dimension!$A$9),Payment_ID2,\"\")","v":""},null,{"$f":"IFERROR(VLOOKUP(K223,Dimension!$J$3:$K$179,2,FALSE),\"\")","v":""},null,null,{"$f":"IF(OR(B223=Dimension!$A$6,B223=Dimension!$A$7,B223=Dimension!$A$8,B223=Dimension!$A$9),\"\",IF(OR(B223=Dimension!$A$3,B223=Dimension!$A$4,B223=Dimension!$A$5),\"สถานประกอบการ\",\"\"))","v":""},{"$f":"IF(OR(B223=Dimension!$A$6,B223=Dimension!$A$7,B223=Dimension!$A$8,B223=Dimension!$A$9,B223=\"\"),\"\",Payment_ID2)","v":""},"",null,null,{"$f":"IF(D223=Dimension!$C$9,IF(LEFT(UPPER(E223),2)=\"MC\",TRUE,FALSE),TRUE)","v":true}]
[null,null,null,{"$f":"IF(B224=Dimension!$A$8,Dimension!$C$9,IF(B224=Dimension!$A$6,CD,\"\"))","v":""},null,{"$f":"IF(OR(B224=Dimension!$A$3,B224=Dimension!$A$4,B224=Dimension!$A$6,B224=Dimension!$A$8),CCYA,\"\")","v":""},{"$f":"IFERROR(VLOOKUP(F224,Dimension!$G$3:$H$252,2,FALSE),\"\")","v":""},{"$f":"IF(OR(B224=Dimension!$A$3,B224=Dimension!$A$4,B224=Dimension!$A$5),\"เดินทาง/ท่องเที่ยว\",\"\")","v":""},{"$f":"IF(OR(B224=Dimension!$A$6,B224=Dimension!$A$7,B224=Dimension!$A$8,B224=Dimension!$A$9),\"\",IF(OR(B224=Dimension!$A$3,B224=Dimension!$A$4,B224=Dimension!$A$5),\"สถานประกอบการ\",\"\"))","v":""},{"$f":"IF(OR(B224=Dimension!$A$3,B224=Dimension!$A$4,B224=Dimension!$A$5,B224=Dimension!$A$6,,B224=Dimension!$A$7,B224=Dimension!$A$8,B224=Dimension!$A$9),Payment_ID2,\"\")","v":""},null,{"$f":"IFERROR(VLOOKUP(K224,Dimension!$J$3:$K$179,2,FALSE),\"\")","v":""},null,null,{"$f":"IF(OR(B224=Dimension!$A$6,B224=Dimension!$A$7,B224=Dimension!$A$8,B224=Dimension!$A$9),\"\",IF(OR(B224=Dimension!$A$3,B224=Dimension!$A$4,B224=Dimension!$A$5),\"สถานประกอบการ\",\"\"))","v":""},{"$f":"IF(OR(B224=Dimension!$A$6,B224=Dimension!$A$7,B224=Dimension!$A$8,B224=Dimension!$A$9,B224=\"\"),\"\",Payment_ID2)","v":""},"",null,null,{"$f":"IF(D224=Dimension!$C$9,IF(LEFT(UPPER(E224),2)=\"MC\",TRUE,FALSE),TRUE)","v":true}]
[null,null,null,{"$f":"IF(B225=Dimension!$A$8,Dimension!$C$9,IF(B225=Dimension!$A$6,CD,\"\"))","v":""},null,{"$f":"IF(OR(B225=Dimension!$A$3,B225=Dimension!$A$4,B225=Dimension!$A$6,B225=Dimension!$A$8),CCYA,\"\")","v":""},{"$f":"IFERROR(VLOOKUP(F225,Dimension!$G$3:$H$252,2,FALSE),\"\")","v":""},{"$f":"IF(OR(B225=Dimension!$A$3,B225=Dimension!$A$4,B225=Dimension!$A$5),\"เดินทาง/ท่องเที่ยว\",\"\")","v":""},{"$f":"IF(OR(B225=Dimension!$A$6,B225=Dimension!$A$7,B225=Dimension!$A$8,B225=Dimension!$A$9),\"\",IF(OR(B225=Dimension!$A$3,B225=Dimension!$A$4,B225=Dimension!$A$5),\"สถานประกอบการ\",\"\"))","v":""},{"$f":"IF(OR(B225=Dimension!$A$3,B225=Dimension!$A$4,B225=Dimension!$A$5,B225=Dimension!$A$6,,B225=Dimension!$A$7,B225=Dimension!$A$8,B225=Dimension!$A$9),Payment_ID2,\"\")","v":""},null,{"$f":"IFERROR(VLOOKUP(K225,Dimension!$J$3:$K$179,2,FALSE),\"\")","v":""},null,null,{"$f":"IF(OR(B225=Dimension!$A$6,B225=Dimension!$A$7,B225=Dimension!$A$8,B225=Dimension!$A$9),\"\",IF(OR(B225=Dimension!$A$3,B225=Dimension!$A$4,B225=Dimension!$A$5),\"สถานประกอบการ\",\"\"))","v":""},{"$f":"IF(OR(B225=Dimension!$A$6,B225=Dimension!$A$7,B225=Dimension!$A$8,B225=Dimension!$A$9,B225=\"\"),\"\",Payment_ID2)","v":""},"",null,null,{"$f":"IF(D225=Dimension!$C$9,IF(LEFT(UPPER(E225),2)=\"MC\",TRUE,FALSE),TRUE)","v":true}]
[null,null,null,{"$f":"IF(B226=Dimension!$A$8,Dimension!$C$9,IF(B226=Dimension!$A$6,CD,\"\"))","v":""},null,{"$f":"IF(OR(B226=Dimension!$A$3,B226=Dimension!$A$4,B226=Dimension!$A$6,B226=Dimension!$A$8),CCYA,\"\")","v":""},{"$f":"IFERROR(VLOOKUP(F226,Dimension!$G$3:$H$252,2,FALSE),\"\")","v":""},{"$f":"IF(OR(B226=Dimension!$A$3,B226=Dimension!$A$4,B226=Dimension!$A$5),\"เดินทาง/ท่องเที่ยว\",\"\")","v":""},{"$f":"IF(OR(B226=Dimension!$A$6,B226=Dimension!$A$7,B226=Dimension!$A$8,B226=Dimension!$A$9),\"\",IF(OR(B226=Dimension!$A$3,B226=Dimension!$A$4,B226=Dimension!$A$5),\"สถานประกอบการ\",\"\"))","v":""},{"$f":"IF(OR(B226=Dimension!$A$3,B226=Dimension!$A$4,B226=Dimension!$A$5,B226=Dimension!$A$6,,B226=Dimension!$A$7,B226=Dimension!$A$8,B226=Dimension!$A$9),Payment_ID2,\"\")","v":""},null,{"$f":"IFERROR(VLOOKUP(K226,Dimension!$J$3:$K$179,2,FALSE),\"\")","v":""},null,null,{"$f":"IF(OR(B226=Dimension!$A$6,B226=Dimension!$A$7,B226=Dimension!$A$8,B226=Dimension!$A$9),\"\",IF(OR(B226=Dimension!$A$3,B226=Dimension!$A$4,B226=Dimension!$A$5),\"สถานประกอบการ\",\"\"))","v":""},{"$f":"IF(OR(B226=Dimension!$A$6,B226=Dimension!$A$7,B226=Dimension!$A$8,B226=Dimension!$A$9,B226=\"\"),\"\",Payment_ID2)","v":""},"",null,null,{"$f":"IF(D226=Dimension!$C$9,IF(LEFT(UPPER(E226),2)=\"MC\",TRUE,FALSE),TRUE)","v":true}]
[null,null,null,{"$f":"IF(B227=Dimension!$A$8,Dimension!$C$9,IF(B227=Dimension!$A$6,CD,\"\"))","v":""},null,{"$f":"IF(OR(B227=Dimension!$A$3,B227=Dimension!$A$4,B227=Dimension!$A$6,B227=Dimension!$A$8),CCYA,\"\")","v":""},{"$f":"IFERROR(VLOOKUP(F227,Dimension!$G$3:$H$252,2,FALSE),\"\")","v":""},{"$f":"IF(OR(B227=Dimension!$A$3,B227=Dimension!$A$4,B227=Dimension!$A$5),\"เดินทาง/ท่องเที่ยว\",\"\")","v":""},{"$f":"IF(OR(B227=Dimension!$A$6,B227=Dimension!$A$7,B227=Dimension!$A$8,B227=Dimension!$A$9),\"\",IF(OR(B227=Dimension!$A$3,B227=Dimension!$A$4,B227=Dimension!$A$5),\"สถานประกอบการ\",\"\"))","v":""},{"$f":"IF(OR(B227=Dimension!$A$3,B227=Dimension!$A$4,B227=Dimension!$A$5,B227=Dimension!$A$6,,B227=Dimension!$A$7,B227=Dimension!$A$8,B227=Dimension!$A$9),Payment_ID2,\"\")","v":""},null,{"$f":"IFERROR(VLOOKUP(K227,Dimension!$J$3:$K$179,2,FALSE),\"\")","v":""},null,null,{"$f":"IF(OR(B227=Dimension!$A$6,B227=Dimension!$A$7,B227=Dimension!$A$8,B227=Dimension!$A$9),\"\",IF(OR(B227=Dimension!$A$3,B227=Dimension!$A$4,B227=Dimension!$A$5),\"สถานประกอบการ\",\"\"))","v":""},{"$f":"IF(OR(B227=Dimension!$A$6,B227=Dimension!$A$7,B227=Dimension!$A$8,B227=Dimension!$A$9,B227=\"\"),\"\",Payment_ID2)","v":""},"",null,null,{"$f":"IF(D227=Dimension!$C$9,IF(LEFT(UPPER(E227),2)=\"MC\",TRUE,FALSE),TRUE)","v":true}]
[null,null,null,{"$f":"IF(B228=Dimension!$A$8,Dimension!$C$9,IF(B228=Dimension!$A$6,CD,\"\"))","v":""},null,{"$f":"IF(OR(B228=Dimension!$A$3,B228=Dimension!$A$4,B228=Dimension!$A$6,B228=Dimension!$A$8),CCYA,\"\")","v":""},{"$f":"IFERROR(VLOOKUP(F228,Dimension!$G$3:$H$252,2,FALSE),\"\")","v":""},{"$f":"IF(OR(B228=Dimension!$A$3,B228=Dimension!$A$4,B228=Dimension!$A$5),\"เดินทาง/ท่องเที่ยว\",\"\")","v":""},{"$f":"IF(OR(B228=Dimension!$A$6,B228=Dimension!$A$7,B228=Dimension!$A$8,B228=Dimension!$A$9),\"\",IF(OR(B228=Dimension!$A$3,B228=Dimension!$A$4,B228=Dimension!$A$5),\"สถานประกอบการ\",\"\"))","v":""},{"$f":"IF(OR(B228=Dimension!$A$3,B228=Dimension!$A$4,B228=Dimension!$A$5,B228=Dimension!$A$6,,B228=Dimension!$A$7,B228=Dimension!$A$8,B228=Dimension!$A$9),Payment_ID2,\"\")","v":""},null,{"$f":"IFERROR(VLOOKUP(K228,Dimension!$J$3:$K$179,2,FALSE),\"\")","v":""},null,null,{"$f":"IF(OR(B228=Dimension!$A$6,B228=Dimension!$A$7,B228=Dimension!$A$8,B228=Dimension!$A$9),\"\",IF(OR(B228=Dimension!$A$3,B228=Dimension!$A$4,B228=Dimension!$A$5),\"สถานประกอบการ\",\"\"))","v":""},{"$f":"IF(OR(B228=Dimension!$A$6,B228=Dimension!$A$7,B228=Dimension!$A$8,B228=Dimension!$A$9,B228=\"\"),\"\",Payment_ID2)","v":""},"",null,null,{"$f":"IF(D228=Dimension!$C$9,IF(LEFT(UPPER(E228),2)=\"MC\",TRUE,FALSE),TRUE)","v":true}]
[null,null,null,{"$f":"IF(B229=Dimension!$A$8,Dimension!$C$9,IF(B229=Dimension!$A$6,CD,\"\"))","v":""},null,{"$f":"IF(OR(B229=Dimension!$A$3,B229=Dimension!$A$4,B229=Dimension!$A$6,B229=Dimension!$A$8),CCYA,\"\")","v":""},{"$f":"IFERROR(VLOOKUP(F229,Dimension!$G$3:$H$252,2,FALSE),\"\")","v":""},{"$f":"IF(OR(B229=Dimension!$A$3,B229=Dimension!$A$4,B229=Dimension!$A$5),\"เดินทาง/ท่องเที่ยว\",\"\")","v":""},{"$f":"IF(OR(B229=Dimension!$A$6,B229=Dimension!$A$7,B229=Dimension!$A$8,B229=Dimension!$A$9),\"\",IF(OR(B229=Dimension!$A$3,B229=Dimension!$A$4,B229=Dimension!$A$5),\"สถานประกอบการ\",\"\"))","v":""},{"$f":"IF(OR(B229=Dimension!$A$3,B229=Dimension!$A$4,B229=Dimension!$A$5,B229=Dimension!$A$6,,B229=Dimension!$A$7,B229=Dimension!$A$8,B229=Dimension!$A$9),Payment_ID2,\"\")","v":""},null,{"$f":"IFERROR(VLOOKUP(K229,Dimension!$J$3:$K$179,2,FALSE),\"\")","v":""},null,null,{"$f":"IF(OR(B229=Dimension!$A$6,B229=Dimension!$A$7,B229=Dimension!$A$8,B229=Dimension!$A$9),\"\",IF(OR(B229=Dimension!$A$3,B229=Dimension!$A$4,B229=Dimension!$A$5),\"สถานประกอบการ\",\"\"))","v":""},{"$f":"IF(OR(B229=Dimension!$A$6,B229=Dimension!$A$7,B229=Dimension!$A$8,B229=Dimension!$A$9,B229=\"\"),\"\",Payment_ID2)","v":""},"",null,null,{"$f":"IF(D229=Dimension!$C$9,IF(LEFT(UPPER(E229),2)=\"MC\",TRUE,FALSE),TRUE)","v":true}]
[null,null,null,{"$f":"IF(B230=Dimension!$A$8,Dimension!$C$9,IF(B230=Dimension!$A$6,CD,\"\"))","v":""},null,{"$f":"IF(OR(B230=Dimension!$A$3,B230=Dimension!$A$4,B230=Dimension!$A$6,B230=Dimension!$A$8),CCYA,\"\")","v":""},{"$f":"IFERROR(VLOOKUP(F230,Dimension!$G$3:$H$252,2,FALSE),\"\")","v":""},{"$f":"IF(OR(B230=Dimension!$A$3,B230=Dimension!$A$4,B230=Dimension!$A$5),\"เดินทาง/ท่องเที่ยว\",\"\")","v":""},{"$f":"IF(OR(B230=Dimension!$A$6,B230=Dimension!$A$7,B230=Dimension!$A$8,B230=Dimension!$A$9),\"\",IF(OR(B230=Dimension!$A$3,B230=Dimension!$A$4,B230=Dimension!$A$5),\"สถานประกอบการ\",\"\"))","v":""},{"$f":"IF(OR(B230=Dimension!$A$3,B230=Dimension!$A$4,B230=Dimension!$A$5,B230=Dimension!$A$6,,B230=Dimension!$A$7,B230=Dimension!$A$8,B230=Dimension!$A$9),Payment_ID2,\"\")","v":""},null,{"$f":"IFERROR(VLOOKUP(K230,Dimension!$J$3:$K$179,2,FALSE),\"\")","v":""},null,null,{"$f":"IF(OR(B230=Dimension!$A$6,B230=Dimension!$A$7,B230=Dimension!$A$8,B230=Dimension!$A$9),\"\",IF(OR(B230=Dimension!$A$3,B230=Dimension!$A$4,B230=Dimension!$A$5),\"สถานประกอบการ\",\"\"))","v":""},{"$f":"IF(OR(B230=Dimension!$A$6,B230=Dimension!$A$7,B230=Dimension!$A$8,B230=Dimension!$A$9,B230=\"\"),\"\",Payment_ID2)","v":""},"",null,null,{"$f":"IF(D230=Dimension!$C$9,IF(LEFT(UPPER(E230),2)=\"MC\",TRUE,FALSE),TRUE)","v":true}]
[null,null,null,{"$f":"IF(B231=Dimension!$A$8,Dimension!$C$9,IF(B231=Dimension!$A$6,CD,\"\"))","v":""},null,{"$f":"IF(OR(B231=Dimension!$A$3,B231=Dimension!$A$4,B231=Dimension!$A$6,B231=Dimension!$A$8),CCYA,\"\")","v":""},{"$f":"IFERROR(VLOOKUP(F231,Dimension!$G$3:$H$252,2,FALSE),\"\")","v":""},{"$f":"IF(OR(B231=Dimension!$A$3,B231=Dimension!$A$4,B231=Dimension!$A$5),\"เดินทาง/ท่องเที่ยว\",\"\")","v":""},{"$f":"IF(OR(B231=Dimension!$A$6,B231=Dimension!$A$7,B231=Dimension!$A$8,B231=Dimension!$A$9),\"\",IF(OR(B231=Dimension!$A$3,B231=Dimension!$A$4,B231=Dimension!$A$5),\"สถานประกอบการ\",\"\"))","v":""},{"$f":"IF(OR(B231=Dimension!$A$3,B231=Dimension!$A$4,B231=Dimension!$A$5,B231=Dimension!$A$6,,B231=Dimension!$A$7,B231=Dimension!$A$8,B231=Dimension!$A$9),Payment_ID2,\"\")","v":""},null,{"$f":"IFERROR(VLOOKUP(K231,Dimension!$J$3:$K$179,2,FALSE),\"\")","v":""},null,null,{"$f":"IF(OR(B231=Dimension!$A$6,B231=Dimension!$A$7,B231=Dimension!$A$8,B231=Dimension!$A$9),\"\",IF(OR(B231=Dimension!$A$3,B231=Dimension!$A$4,B231=Dimension!$A$5),\"สถานประกอบการ\",\"\"))","v":""},{"$f":"IF(OR(B231=Dimension!$A$6,B231=Dimension!$A$7,B231=Dimension!$A$8,B231=Dimension!$A$9,B231=\"\"),\"\",Payment_ID2)","v":""},"",null,null,{"$f":"IF(D231=Dimension!$C$9,IF(LEFT(UPPER(E231),2)=\"MC\",TRUE,FALSE),TRUE)","v":true}]
[null,null,null,{"$f":"IF(B232=Dimension!$A$8,Dimension!$C$9,IF(B232=Dimension!$A$6,CD,\"\"))","v":""},null,{"$f":"IF(OR(B232=Dimension!$A$3,B232=Dimension!$A$4,B232=Dimension!$A$6,B232=Dimension!$A$8),CCYA,\"\")","v":""},{"$f":"IFERROR(VLOOKUP(F232,Dimension!$G$3:$H$252,2,FALSE),\"\")","v":""},{"$f":"IF(OR(B232=Dimension!$A$3,B232=Dimension!$A$4,B232=Dimension!$A$5),\"เดินทาง/ท่องเที่ยว\",\"\")","v":""},{"$f":"IF(OR(B232=Dimension!$A$6,B232=Dimension!$A$7,B232=Dimension!$A$8,B232=Dimension!$A$9),\"\",IF(OR(B232=Dimension!$A$3,B232=Dimension!$A$4,B232=Dimension!$A$5),\"สถานประกอบการ\",\"\"))","v":""},{"$f":"IF(OR(B232=Dimension!$A$3,B232=Dimension!$A$4,B232=Dimension!$A$5,B232=Dimension!$A$6,,B232=Dimension!$A$7,B232=Dimension!$A$8,B232=Dimension!$A$9),Payment_ID2,\"\")","v":""},null,{"$f":"IFERROR(VLOOKUP(K232,Dimension!$J$3:$K$179,2,FALSE),\"\")","v":""},null,null,{"$f":"IF(OR(B232=Dimension!$A$6,B232=Dimension!$A$7,B232=Dimension!$A$8,B232=Dimension!$A$9),\"\",IF(OR(B232=Dimension!$A$3,B232=Dimension!$A$4,B232=Dimension!$A$5),\"สถานประกอบการ\",\"\"))","v":""},{"$f":"IF(OR(B232=Dimension!$A$6,B232=Dimension!$A$7,B232=Dimension!$A$8,B232=Dimension!$A$9,B232=\"\"),\"\",Payment_ID2)","v":""},"",null,null,{"$f":"IF(D232=Dimension!$C$9,IF(LEFT(UPPER(E232),2)=\"MC\",TRUE,FALSE),TRUE)","v":true}]
[null,null,null,{"$f":"IF(B233=Dimension!$A$8,Dimension!$C$9,IF(B233=Dimension!$A$6,CD,\"\"))","v":""},null,{"$f":"IF(OR(B233=Dimension!$A$3,B233=Dimension!$A$4,B233=Dimension!$A$6,B233=Dimension!$A$8),CCYA,\"\")","v":""},{"$f":"IFERROR(VLOOKUP(F233,Dimension!$G$3:$H$252,2,FALSE),\"\")","v":""},{"$f":"IF(OR(B233=Dimension!$A$3,B233=Dimension!$A$4,B233=Dimension!$A$5),\"เดินทาง/ท่องเที่ยว\",\"\")","v":""},{"$f":"IF(OR(B233=Dimension!$A$6,B233=Dimension!$A$7,B233=Dimension!$A$8,B233=Dimension!$A$9),\"\",IF(OR(B233=Dimension!$A$3,B233=Dimension!$A$4,B233=Dimension!$A$5),\"สถานประกอบการ\",\"\"))","v":""},{"$f":"IF(OR(B233=Dimension!$A$3,B233=Dimension!$A$4,B233=Dimension!$A$5,B233=Dimension!$A$6,,B233=Dimension!$A$7,B233=Dimension!$A$8,B233=Dimension!$A$9),Payment_ID2,\"\")","v":""},null,{"$f":"IFERROR(VLOOKUP(K233,Dimension!$J$3:$K$179,2,FALSE),\"\")","v":""},null,null,{"$f":"IF(OR(B233=Dimension!$A$6,B233=Dimension!$A$7,B233=Dimension!$A$8,B233=Dimension!$A$9),\"\",IF(OR(B233=Dimension!$A$3,B233=Dimension!$A$4,B233=Dimension!$A$5),\"สถานประกอบการ\",\"\"))","v":""},{"$f":"IF(OR(B233=Dimension!$A$6,B233=Dimension!$A$7,B233=Dimension!$A$8,B233=Dimension!$A$9,B233=\"\"),\"\",Payment_ID2)","v":""},"",null,null,{"$f":"IF(D233=Dimension!$C$9,IF(LEFT(UPPER(E233),2)=\"MC\",TRUE,FALSE),TRUE)","v":true}]
[null,null,null,{"$f":"IF(B234=Dimension!$A$8,Dimension!$C$9,IF(B234=Dimension!$A$6,CD,\"\"))","v":""},null,{"$f":"IF(OR(B234=Dimension!$A$3,B234=Dimension!$A$4,B234=Dimension!$A$6,B234=Dimension!$A$8),CCYA,\"\")","v":""},{"$f":"IFERROR(VLOOKUP(F234,Dimension!$G$3:$H$252,2,FALSE),\"\")","v":""},{"$f":"IF(OR(B234=Dimension!$A$3,B234=Dimension!$A$4,B234=Dimension!$A$5),\"เดินทาง/ท่องเที่ยว\",\"\")","v":""},{"$f":"IF(OR(B234=Dimension!$A$6,B234=Dimension!$A$7,B234=Dimension!$A$8,B234=Dimension!$A$9),\"\",IF(OR(B234=Dimension!$A$3,B234=Dimension!$A$4,B234=Dimension!$A$5),\"สถานประกอบการ\",\"\"))","v":""},{"$f":"IF(OR(B234=Dimension!$A$3,B234=Dimension!$A$4,B234=Dimension!$A$5,B234=Dimension!$A$6,,B234=Dimension!$A$7,B234=Dimension!$A$8,B234=Dimension!$A$9),Payment_ID2,\"\")","v":""},null,{"$f":"IFERROR(VLOOKUP(K234,Dimension!$J$3:$K$179,2,FALSE),\"\")","v":""},null,null,{"$f":"IF(OR(B234=Dimension!$A$6,B234=Dimension!$A$7,B234=Dimension!$A$8,B234=Dimension!$A$9),\"\",IF(OR(B234=Dimension!$A$3,B234=Dimension!$A$4,B234=Dimension!$A$5),\"สถานประกอบการ\",\"\"))","v":""},{"$f":"IF(OR(B234=Dimension!$A$6,B234=Dimension!$A$7,B234=Dimension!$A$8,B234=Dimension!$A$9,B234=\"\"),\"\",Payment_ID2)","v":""},"",null,null,{"$f":"IF(D234=Dimension!$C$9,IF(LEFT(UPPER(E234),2)=\"MC\",TRUE,FALSE),TRUE)","v":true}]
[null,null,null,{"$f":"IF(B235=Dimension!$A$8,Dimension!$C$9,IF(B235=Dimension!$A$6,CD,\"\"))","v":""},null,{"$f":"IF(OR(B235=Dimension!$A$3,B235=Dimension!$A$4,B235=Dimension!$A$6,B235=Dimension!$A$8),CCYA,\"\")","v":""},{"$f":"IFERROR(VLOOKUP(F235,Dimension!$G$3:$H$252,2,FALSE),\"\")","v":""},{"$f":"IF(OR(B235=Dimension!$A$3,B235=Dimension!$A$4,B235=Dimension!$A$5),\"เดินทาง/ท่องเที่ยว\",\"\")","v":""},{"$f":"IF(OR(B235=Dimension!$A$6,B235=Dimension!$A$7,B235=Dimension!$A$8,B235=Dimension!$A$9),\"\",IF(OR(B235=Dimension!$A$3,B235=Dimension!$A$4,B235=Dimension!$A$5),\"สถานประกอบการ\",\"\"))","v":""},{"$f":"IF(OR(B235=Dimension!$A$3,B235=Dimension!$A$4,B235=Dimension!$A$5,B235=Dimension!$A$6,,B235=Dimension!$A$7,B235=Dimension!$A$8,B235=Dimension!$A$9),Payment_ID2,\"\")","v":""},null,{"$f":"IFERROR(VLOOKUP(K235,Dimension!$J$3:$K$179,2,FALSE),\"\")","v":""},null,null,{"$f":"IF(OR(B235=Dimension!$A$6,B235=Dimension!$A$7,B235=Dimension!$A$8,B235=Dimension!$A$9),\"\",IF(OR(B235=Dimension!$A$3,B235=Dimension!$A$4,B235=Dimension!$A$5),\"สถานประกอบการ\",\"\"))","v":""},{"$f":"IF(OR(B235=Dimension!$A$6,B235=Dimension!$A$7,B235=Dimension!$A$8,B235=Dimension!$A$9,B235=\"\"),\"\",Payment_ID2)","v":""},"",null,null,{"$f":"IF(D235=Dimension!$C$9,IF(LEFT(UPPER(E235),2)=\"MC\",TRUE,FALSE),TRUE)","v":true}]
[null,null,null,{"$f":"IF(B236=Dimension!$A$8,Dimension!$C$9,IF(B236=Dimension!$A$6,CD,\"\"))","v":""},null,{"$f":"IF(OR(B236=Dimension!$A$3,B236=Dimension!$A$4,B236=Dimension!$A$6,B236=Dimension!$A$8),CCYA,\"\")","v":""},{"$f":"IFERROR(VLOOKUP(F236,Dimension!$G$3:$H$252,2,FALSE),\"\")","v":""},{"$f":"IF(OR(B236=Dimension!$A$3,B236=Dimension!$A$4,B236=Dimension!$A$5),\"เดินทาง/ท่องเที่ยว\",\"\")","v":""},{"$f":"IF(OR(B236=Dimension!$A$6,B236=Dimension!$A$7,B236=Dimension!$A$8,B236=Dimension!$A$9),\"\",IF(OR(B236=Dimension!$A$3,B236=Dimension!$A$4,B236=Dimension!$A$5),\"สถานประกอบการ\",\"\"))","v":""},{"$f":"IF(OR(B236=Dimension!$A$3,B236=Dimension!$A$4,B236=Dimension!$A$5,B236=Dimension!$A$6,,B236=Dimension!$A$7,B236=Dimension!$A$8,B236=Dimension!$A$9),Payment_ID2,\"\")","v":""},null,{"$f":"IFERROR(VLOOKUP(K236,Dimension!$J$3:$K$179,2,FALSE),\"\")","v":""},null,null,{"$f":"IF(OR(B236=Dimension!$A$6,B236=Dimension!$A$7,B236=Dimension!$A$8,B236=Dimension!$A$9),\"\",IF(OR(B236=Dimension!$A$3,B236=Dimension!$A$4,B236=Dimension!$A$5),\"สถานประกอบการ\",\"\"))","v":""},{"$f":"IF(OR(B236=Dimension!$A$6,B236=Dimension!$A$7,B236=Dimension!$A$8,B236=Dimension!$A$9,B236=\"\"),\"\",Payment_ID2)","v":""},"",null,null,{"$f":"IF(D236=Dimension!$C$9,IF(LEFT(UPPER(E236),2)=\"MC\",TRUE,FALSE),TRUE)","v":true}]
[null,null,null,{"$f":"IF(B237=Dimension!$A$8,Dimension!$C$9,IF(B237=Dimension!$A$6,CD,\"\"))","v":""},null,{"$f":"IF(OR(B237=Dimension!$A$3,B237=Dimension!$A$4,B237=Dimension!$A$6,B237=Dimension!$A$8),CCYA,\"\")","v":""},{"$f":"IFERROR(VLOOKUP(F237,Dimension!$G$3:$H$252,2,FALSE),\"\")","v":""},{"$f":"IF(OR(B237=Dimension!$A$3,B237=Dimension!$A$4,B237=Dimension!$A$5),\"เดินทาง/ท่องเที่ยว\",\"\")","v":""},{"$f":"IF(OR(B237=Dimension!$A$6,B237=Dimension!$A$7,B237=Dimension!$A$8,B237=Dimension!$A$9),\"\",IF(OR(B237=Dimension!$A$3,B237=Dimension!$A$4,B237=Dimension!$A$5),\"สถานประกอบการ\",\"\"))","v":""},{"$f":"IF(OR(B237=Dimension!$A$3,B237=Dimension!$A$4,B237=Dimension!$A$5,B237=Dimension!$A$6,,B237=Dimension!$A$7,B237=Dimension!$A$8,B237=Dimension!$A$9),Payment_ID2,\"\")","v":""},null,{"$f":"IFERROR(VLOOKUP(K237,Dimension!$J$3:$K$179,2,FALSE),\"\")","v":""},null,null,{"$f":"IF(OR(B237=Dimension!$A$6,B237=Dimension!$A$7,B237=Dimension!$A$8,B237=Dimension!$A$9),\"\",IF(OR(B237=Dimension!$A$3,B237=Dimension!$A$4,B237=Dimension!$A$5),\"สถานประกอบการ\",\"\"))","v":""},{"$f":"IF(OR(B237=Dimension!$A$6,B237=Dimension!$A$7,B237=Dimension!$A$8,B237=Dimension!$A$9,B237=\"\"),\"\",Payment_ID2)","v":""},"",null,null,{"$f":"IF(D237=Dimension!$C$9,IF(LEFT(UPPER(E237),2)=\"MC\",TRUE,FALSE),TRUE)","v":true}]
[null,null,null,{"$f":"IF(B238=Dimension!$A$8,Dimension!$C$9,IF(B238=Dimension!$A$6,CD,\"\"))","v":""},null,{"$f":"IF(OR(B238=Dimension!$A$3,B238=Dimension!$A$4,B238=Dimension!$A$6,B238=Dimension!$A$8),CCYA,\"\")","v":""},{"$f":"IFERROR(VLOOKUP(F238,Dimension!$G$3:$H$252,2,FALSE),\"\")","v":""},{"$f":"IF(OR(B238=Dimension!$A$3,B238=Dimension!$A$4,B238=Dimension!$A$5),\"เดินทาง/ท่องเที่ยว\",\"\")","v":""},{"$f":"IF(OR(B238=Dimension!$A$6,B238=Dimension!$A$7,B238=Dimension!$A$8,B238=Dimension!$A$9),\"\",IF(OR(B238=Dimension!$A$3,B238=Dimension!$A$4,B238=Dimension!$A$5),\"สถานประกอบการ\",\"\"))","v":""},{"$f":"IF(OR(B238=Dimension!$A$3,B238=Dimension!$A$4,B238=Dimension!$A$5,B238=Dimension!$A$6,,B238=Dimension!$A$7,B238=Dimension!$A$8,B238=Dimension!$A$9),Payment_ID2,\"\")","v":""},null,{"$f":"IFERROR(VLOOKUP(K238,Dimension!$J$3:$K$179,2,FALSE),\"\")","v":""},null,null,{"$f":"IF(OR(B238=Dimension!$A$6,B238=Dimension!$A$7,B238=Dimension!$A$8,B238=Dimension!$A$9),\"\",IF(OR(B238=Dimension!$A$3,B238=Dimension!$A$4,B238=Dimension!$A$5),\"สถานประกอบการ\",\"\"))","v":""},{"$f":"IF(OR(B238=Dimension!$A$6,B238=Dimension!$A$7,B238=Dimension!$A$8,B238=Dimension!$A$9,B238=\"\"),\"\",Payment_ID2)","v":""},"",null,null,{"$f":"IF(D238=Dimension!$C$9,IF(LEFT(UPPER(E238),2)=\"MC\",TRUE,FALSE),TRUE)","v":true}]
[null,null,null,{"$f":"IF(B239=Dimension!$A$8,Dimension!$C$9,IF(B239=Dimension!$A$6,CD,\"\"))","v":""},null,{"$f":"IF(OR(B239=Dimension!$A$3,B239=Dimension!$A$4,B239=Dimension!$A$6,B239=Dimension!$A$8),CCYA,\"\")","v":""},{"$f":"IFERROR(VLOOKUP(F239,Dimension!$G$3:$H$252,2,FALSE),\"\")","v":""},{"$f":"IF(OR(B239=Dimension!$A$3,B239=Dimension!$A$4,B239=Dimension!$A$5),\"เดินทาง/ท่องเที่ยว\",\"\")","v":""},{"$f":"IF(OR(B239=Dimension!$A$6,B239=Dimension!$A$7,B239=Dimension!$A$8,B239=Dimension!$A$9),\"\",IF(OR(B239=Dimension!$A$3,B239=Dimension!$A$4,B239=Dimension!$A$5),\"สถานประกอบการ\",\"\"))","v":""},{"$f":"IF(OR(B239=Dimension!$A$3,B239=Dimension!$A$4,B239=Dimension!$A$5,B239=Dimension!$A$6,,B239=Dimension!$A$7,B239=Dimension!$A$8,B239=Dimension!$A$9),Payment_ID2,\"\")","v":""},null,{"$f":"IFERROR(VLOOKUP(K239,Dimension!$J$3:$K$179,2,FALSE),\"\")","v":""},null,null,{"$f":"IF(OR(B239=Dimension!$A$6,B239=Dimension!$A$7,B239=Dimension!$A$8,B239=Dimension!$A$9),\"\",IF(OR(B239=Dimension!$A$3,B239=Dimension!$A$4,B239=Dimension!$A$5),\"สถานประกอบการ\",\"\"))","v":""},{"$f":"IF(OR(B239=Dimension!$A$6,B239=Dimension!$A$7,B239=Dimension!$A$8,B239=Dimension!$A$9,B239=\"\"),\"\",Payment_ID2)","v":""},"",null,null,{"$f":"IF(D239=Dimension!$C$9,IF(LEFT(UPPER(E239),2)=\"MC\",TRUE,FALSE),TRUE)","v":true}]
[null,null,null,{"$f":"IF(B240=Dimension!$A$8,Dimension!$C$9,IF(B240=Dimension!$A$6,CD,\"\"))","v":""},null,{"$f":"IF(OR(B240=Dimension!$A$3,B240=Dimension!$A$4,B240=Dimension!$A$6,B240=Dimension!$A$8),CCYA,\"\")","v":""},{"$f":"IFERROR(VLOOKUP(F240,Dimension!$G$3:$H$252,2,FALSE),\"\")","v":""},{"$f":"IF(OR(B240=Dimension!$A$3,B240=Dimension!$A$4,B240=Dimension!$A$5),\"เดินทาง/ท่องเที่ยว\",\"\")","v":""},{"$f":"IF(OR(B240=Dimension!$A$6,B240=Dimension!$A$7,B240=Dimension!$A$8,B240=Dimension!$A$9),\"\",IF(OR(B240=Dimension!$A$3,B240=Dimension!$A$4,B240=Dimension!$A$5),\"สถานประกอบการ\",\"\"))","v":""},{"$f":"IF(OR(B240=Dimension!$A$3,B240=Dimension!$A$4,B240=Dimension!$A$5,B240=Dimension!$A$6,,B240=Dimension!$A$7,B240=Dimension!$A$8,B240=Dimension!$A$9),Payment_ID2,\"\")","v":""},null,{"$f":"IFERROR(VLOOKUP(K240,Dimension!$J$3:$K$179,2,FALSE),\"\")","v":""},null,null,{"$f":"IF(OR(B240=Dimension!$A$6,B240=Dimension!$A$7,B240=Dimension!$A$8,B240=Dimension!$A$9),\"\",IF(OR(B240=Dimension!$A$3,B240=Dimension!$A$4,B240=Dimension!$A$5),\"สถานประกอบการ\",\"\"))","v":""},{"$f":"IF(OR(B240=Dimension!$A$6,B240=Dimension!$A$7,B240=Dimension!$A$8,B240=Dimension!$A$9,B240=\"\"),\"\",Payment_ID2)","v":""},"",null,null,{"$f":"IF(D240=Dimension!$C$9,IF(LEFT(UPPER(E240),2)=\"MC\",TRUE,FALSE),TRUE)","v":true}]
[null,null,null,{"$f":"IF(B241=Dimension!$A$8,Dimension!$C$9,IF(B241=Dimension!$A$6,CD,\"\"))","v":""},null,{"$f":"IF(OR(B241=Dimension!$A$3,B241=Dimension!$A$4,B241=Dimension!$A$6,B241=Dimension!$A$8),CCYA,\"\")","v":""},{"$f":"IFERROR(VLOOKUP(F241,Dimension!$G$3:$H$252,2,FALSE),\"\")","v":""},{"$f":"IF(OR(B241=Dimension!$A$3,B241=Dimension!$A$4,B241=Dimension!$A$5),\"เดินทาง/ท่องเที่ยว\",\"\")","v":""},{"$f":"IF(OR(B241=Dimension!$A$6,B241=Dimension!$A$7,B241=Dimension!$A$8,B241=Dimension!$A$9),\"\",IF(OR(B241=Dimension!$A$3,B241=Dimension!$A$4,B241=Dimension!$A$5),\"สถานประกอบการ\",\"\"))","v":""},{"$f":"IF(OR(B241=Dimension!$A$3,B241=Dimension!$A$4,B241=Dimension!$A$5,B241=Dimension!$A$6,,B241=Dimension!$A$7,B241=Dimension!$A$8,B241=Dimension!$A$9),Payment_ID2,\"\")","v":""},null,{"$f":"IFERROR(VLOOKUP(K241,Dimension!$J$3:$K$179,2,FALSE),\"\")","v":""},null,null,{"$f":"IF(OR(B241=Dimension!$A$6,B241=Dimension!$A$7,B241=Dimension!$A$8,B241=Dimension!$A$9),\"\",IF(OR(B241=Dimension!$A$3,B241=Dimension!$A$4,B241=Dimension!$A$5),\"สถานประกอบการ\",\"\"))","v":""},{"$f":"IF(OR(B241=Dimension!$A$6,B241=Dimension!$A$7,B241=Dimension!$A$8,B241=Dimension!$A$9,B241=\"\"),\"\",Payment_ID2)","v":""},"",null,null,{"$f":"IF(D241=Dimension!$C$9,IF(LEFT(UPPER(E241),2)=\"MC\",TRUE,FALSE),TRUE)","v":true}]
[null,null,null,{"$f":"IF(B242=Dimension!$A$8,Dimension!$C$9,IF(B242=Dimension!$A$6,CD,\"\"))","v":""},null,{"$f":"IF(OR(B242=Dimension!$A$3,B242=Dimension!$A$4,B242=Dimension!$A$6,B242=Dimension!$A$8),CCYA,\"\")","v":""},{"$f":"IFERROR(VLOOKUP(F242,Dimension!$G$3:$H$252,2,FALSE),\"\")","v":""},{"$f":"IF(OR(B242=Dimension!$A$3,B242=Dimension!$A$4,B242=Dimension!$A$5),\"เดินทาง/ท่องเที่ยว\",\"\")","v":""},{"$f":"IF(OR(B242=Dimension!$A$6,B242=Dimension!$A$7,B242=Dimension!$A$8,B242=Dimension!$A$9),\"\",IF(OR(B242=Dimension!$A$3,B242=Dimension!$A$4,B242=Dimension!$A$5),\"สถานประกอบการ\",\"\"))","v":""},{"$f":"IF(OR(B242=Dimension!$A$3,B242=Dimension!$A$4,B242=Dimension!$A$5,B242=Dimension!$A$6,,B242=Dimension!$A$7,B242=Dimension!$A$8,B242=Dimension!$A$9),Payment_ID2,\"\")","v":""},null,{"$f":"IFERROR(VLOOKUP(K242,Dimension!$J$3:$K$179,2,FALSE),\"\")","v":""},null,null,{"$f":"IF(OR(B242=Dimension!$A$6,B242=Dimension!$A$7,B242=Dimension!$A$8,B242=Dimension!$A$9),\"\",IF(OR(B242=Dimension!$A$3,B242=Dimension!$A$4,B242=Dimension!$A$5),\"สถานประกอบการ\",\"\"))","v":""},{"$f":"IF(OR(B242=Dimension!$A$6,B242=Dimension!$A$7,B242=Dimension!$A$8,B242=Dimension!$A$9,B242=\"\"),\"\",Payment_ID2)","v":""},"",null,null,{"$f":"IF(D242=Dimension!$C$9,IF(LEFT(UPPER(E242),2)=\"MC\",TRUE,FALSE),TRUE)","v":true}]
[null,null,null,{"$f":"IF(B243=Dimension!$A$8,Dimension!$C$9,IF(B243=Dimension!$A$6,CD,\"\"))","v":""},null,{"$f":"IF(OR(B243=Dimension!$A$3,B243=Dimension!$A$4,B243=Dimension!$A$6,B243=Dimension!$A$8),CCYA,\"\")","v":""},{"$f":"IFERROR(VLOOKUP(F243,Dimension!$G$3:$H$252,2,FALSE),\"\")","v":""},{"$f":"IF(OR(B243=Dimension!$A$3,B243=Dimension!$A$4,B243=Dimension!$A$5),\"เดินทาง/ท่องเที่ยว\",\"\")","v":""},{"$f":"IF(OR(B243=Dimension!$A$6,B243=Dimension!$A$7,B243=Dimension!$A$8,B243=Dimension!$A$9),\"\",IF(OR(B243=Dimension!$A$3,B243=Dimension!$A$4,B243=Dimension!$A$5),\"สถานประกอบการ\",\"\"))","v":""},{"$f":"IF(OR(B243=Dimension!$A$3,B243=Dimension!$A$4,B243=Dimension!$A$5,B243=Dimension!$A$6,,B243=Dimension!$A$7,B243=Dimension!$A$8,B243=Dimension!$A$9),Payment_ID2,\"\")","v":""},null,{"$f":"IFERROR(VLOOKUP(K243,Dimension!$J$3:$K$179,2,FALSE),\"\")","v":""},null,null,{"$f":"IF(OR(B243=Dimension!$A$6,B243=Dimension!$A$7,B243=Dimension!$A$8,B243=Dimension!$A$9),\"\",IF(OR(B243=Dimension!$A$3,B243=Dimension!$A$4,B243=Dimension!$A$5),\"สถานประกอบการ\",\"\"))","v":""},{"$f":"IF(OR(B243=Dimension!$A$6,B243=Dimension!$A$7,B243=Dimension!$A$8,B243=Dimension!$A$9,B243=\"\"),\"\",Payment_ID2)","v":""},"",null,null,{"$f":"IF(D243=Dimension!$C$9,IF(LEFT(UPPER(E243),2)=\"MC\",TRUE,FALSE),TRUE)","v":true}]
[null,null,null,{"$f":"IF(B244=Dimension!$A$8,Dimension!$C$9,IF(B244=Dimension!$A$6,CD,\"\"))","v":""},null,{"$f":"IF(OR(B244=Dimension!$A$3,B244=Dimension!$A$4,B244=Dimension!$A$6,B244=Dimension!$A$8),CCYA,\"\")","v":""},{"$f":"IFERROR(VLOOKUP(F244,Dimension!$G$3:$H$252,2,FALSE),\"\")","v":""},{"$f":"IF(OR(B244=Dimension!$A$3,B244=Dimension!$A$4,B244=Dimension!$A$5),\"เดินทาง/ท่องเที่ยว\",\"\")","v":""},{"$f":"IF(OR(B244=Dimension!$A$6,B244=Dimension!$A$7,B244=Dimension!$A$8,B244=Dimension!$A$9),\"\",IF(OR(B244=Dimension!$A$3,B244=Dimension!$A$4,B244=Dimension!$A$5),\"สถานประกอบการ\",\"\"))","v":""},{"$f":"IF(OR(B244=Dimension!$A$3,B244=Dimension!$A$4,B244=Dimension!$A$5,B244=Dimension!$A$6,,B244=Dimension!$A$7,B244=Dimension!$A$8,B244=Dimension!$A$9),Payment_ID2,\"\")","v":""},null,{"$f":"IFERROR(VLOOKUP(K244,Dimension!$J$3:$K$179,2,FALSE),\"\")","v":""},null,null,{"$f":"IF(OR(B244=Dimension!$A$6,B244=Dimension!$A$7,B244=Dimension!$A$8,B244=Dimension!$A$9),\"\",IF(OR(B244=Dimension!$A$3,B244=Dimension!$A$4,B244=Dimension!$A$5),\"สถานประกอบการ\",\"\"))","v":""},{"$f":"IF(OR(B244=Dimension!$A$6,B244=Dimension!$A$7,B244=Dimension!$A$8,B244=Dimension!$A$9,B244=\"\"),\"\",Payment_ID2)","v":""},"",null,null,{"$f":"IF(D244=Dimension!$C$9,IF(LEFT(UPPER(E244),2)=\"MC\",TRUE,FALSE),TRUE)","v":true}]
[null,null,null,{"$f":"IF(B245=Dimension!$A$8,Dimension!$C$9,IF(B245=Dimension!$A$6,CD,\"\"))","v":""},null,{"$f":"IF(OR(B245=Dimension!$A$3,B245=Dimension!$A$4,B245=Dimension!$A$6,B245=Dimension!$A$8),CCYA,\"\")","v":""},{"$f":"IFERROR(VLOOKUP(F245,Dimension!$G$3:$H$252,2,FALSE),\"\")","v":""},{"$f":"IF(OR(B245=Dimension!$A$3,B245=Dimension!$A$4,B245=Dimension!$A$5),\"เดินทาง/ท่องเที่ยว\",\"\")","v":""},{"$f":"IF(OR(B245=Dimension!$A$6,B245=Dimension!$A$7,B245=Dimension!$A$8,B245=Dimension!$A$9),\"\",IF(OR(B245=Dimension!$A$3,B245=Dimension!$A$4,B245=Dimension!$A$5),\"สถานประกอบการ\",\"\"))","v":""},{"$f":"IF(OR(B245=Dimension!$A$3,B245=Dimension!$A$4,B245=Dimension!$A$5,B245=Dimension!$A$6,,B245=Dimension!$A$7,B245=Dimension!$A$8,B245=Dimension!$A$9),Payment_ID2,\"\")","v":""},null,{"$f":"IFERROR(VLOOKUP(K245,Dimension!$J$3:$K$179,2,FALSE),\"\")","v":""},null,null,{"$f":"IF(OR(B245=Dimension!$A$6,B245=Dimension!$A$7,B245=Dimension!$A$8,B245=Dimension!$A$9),\"\",IF(OR(B245=Dimension!$A$3,B245=Dimension!$A$4,B245=Dimension!$A$5),\"สถานประกอบการ\",\"\"))","v":""},{"$f":"IF(OR(B245=Dimension!$A$6,B245=Dimension!$A$7,B245=Dimension!$A$8,B245=Dimension!$A$9,B245=\"\"),\"\",Payment_ID2)","v":""},"",null,null,{"$f":"IF(D245=Dimension!$C$9,IF(LEFT(UPPER(E245),2)=\"MC\",TRUE,FALSE),TRUE)","v":true}]
[null,null,null,{"$f":"IF(B246=Dimension!$A$8,Dimension!$C$9,IF(B246=Dimension!$A$6,CD,\"\"))","v":""},null,{"$f":"IF(OR(B246=Dimension!$A$3,B246=Dimension!$A$4,B246=Dimension!$A$6,B246=Dimension!$A$8),CCYA,\"\")","v":""},{"$f":"IFERROR(VLOOKUP(F246,Dimension!$G$3:$H$252,2,FALSE),\"\")","v":""},{"$f":"IF(OR(B246=Dimension!$A$3,B246=Dimension!$A$4,B246=Dimension!$A$5),\"เดินทาง/ท่องเที่ยว\",\"\")","v":""},{"$f":"IF(OR(B246=Dimension!$A$6,B246=Dimension!$A$7,B246=Dimension!$A$8,B246=Dimension!$A$9),\"\",IF(OR(B246=Dimension!$A$3,B246=Dimension!$A$4,B246=Dimension!$A$5),\"สถานประกอบการ\",\"\"))","v":""},{"$f":"IF(OR(B246=Dimension!$A$3,B246=Dimension!$A$4,B246=Dimension!$A$5,B246=Dimension!$A$6,,B246=Dimension!$A$7,B246=Dimension!$A$8,B246=Dimension!$A$9),Payment_ID2,\"\")","v":""},null,{"$f":"IFERROR(VLOOKUP(K246,Dimension!$J$3:$K$179,2,FALSE),\"\")","v":""},null,null,{"$f":"IF(OR(B246=Dimension!$A$6,B246=Dimension!$A$7,B246=Dimension!$A$8,B246=Dimension!$A$9),\"\",IF(OR(B246=Dimension!$A$3,B246=Dimension!$A$4,B246=Dimension!$A$5),\"สถานประกอบการ\",\"\"))","v":""},{"$f":"IF(OR(B246=Dimension!$A$6,B246=Dimension!$A$7,B246=Dimension!$A$8,B246=Dimension!$A$9,B246=\"\"),\"\",Payment_ID2)","v":""},"",null,null,{"$f":"IF(D246=Dimension!$C$9,IF(LEFT(UPPER(E246),2)=\"MC\",TRUE,FALSE),TRUE)","v":true}]
[null,null,null,{"$f":"IF(B247=Dimension!$A$8,Dimension!$C$9,IF(B247=Dimension!$A$6,CD,\"\"))","v":""},null,{"$f":"IF(OR(B247=Dimension!$A$3,B247=Dimension!$A$4,B247=Dimension!$A$6,B247=Dimension!$A$8),CCYA,\"\")","v":""},{"$f":"IFERROR(VLOOKUP(F247,Dimension!$G$3:$H$252,2,FALSE),\"\")","v":""},{"$f":"IF(OR(B247=Dimension!$A$3,B247=Dimension!$A$4,B247=Dimension!$A$5),\"เดินทาง/ท่องเที่ยว\",\"\")","v":""},{"$f":"IF(OR(B247=Dimension!$A$6,B247=Dimension!$A$7,B247=Dimension!$A$8,B247=Dimension!$A$9),\"\",IF(OR(B247=Dimension!$A$3,B247=Dimension!$A$4,B247=Dimension!$A$5),\"สถานประกอบการ\",\"\"))","v":""},{"$f":"IF(OR(B247=Dimension!$A$3,B247=Dimension!$A$4,B247=Dimension!$A$5,B247=Dimension!$A$6,,B247=Dimension!$A$7,B247=Dimension!$A$8,B247=Dimension!$A$9),Payment_ID2,\"\")","v":""},null,{"$f":"IFERROR(VLOOKUP(K247,Dimension!$J$3:$K$179,2,FALSE),\"\")","v":""},null,null,{"$f":"IF(OR(B247=Dimension!$A$6,B247=Dimension!$A$7,B247=Dimension!$A$8,B247=Dimension!$A$9),\"\",IF(OR(B247=Dimension!$A$3,B247=Dimension!$A$4,B247=Dimension!$A$5),\"สถานประกอบการ\",\"\"))","v":""},{"$f":"IF(OR(B247=Dimension!$A$6,B247=Dimension!$A$7,B247=Dimension!$A$8,B247=Dimension!$A$9,B247=\"\"),\"\",Payment_ID2)","v":""},"",null,null,{"$f":"IF(D247=Dimension!$C$9,IF(LEFT(UPPER(E247),2)=\"MC\",TRUE,FALSE),TRUE)","v":true}]
[null,null,null,{"$f":"IF(B248=Dimension!$A$8,Dimension!$C$9,IF(B248=Dimension!$A$6,CD,\"\"))","v":""},null,{"$f":"IF(OR(B248=Dimension!$A$3,B248=Dimension!$A$4,B248=Dimension!$A$6,B248=Dimension!$A$8),CCYA,\"\")","v":""},{"$f":"IFERROR(VLOOKUP(F248,Dimension!$G$3:$H$252,2,FALSE),\"\")","v":""},{"$f":"IF(OR(B248=Dimension!$A$3,B248=Dimension!$A$4,B248=Dimension!$A$5),\"เดินทาง/ท่องเที่ยว\",\"\")","v":""},{"$f":"IF(OR(B248=Dimension!$A$6,B248=Dimension!$A$7,B248=Dimension!$A$8,B248=Dimension!$A$9),\"\",IF(OR(B248=Dimension!$A$3,B248=Dimension!$A$4,B248=Dimension!$A$5),\"สถานประกอบการ\",\"\"))","v":""},{"$f":"IF(OR(B248=Dimension!$A$3,B248=Dimension!$A$4,B248=Dimension!$A$5,B248=Dimension!$A$6,,B248=Dimension!$A$7,B248=Dimension!$A$8,B248=Dimension!$A$9),Payment_ID2,\"\")","v":""},null,{"$f":"IFERROR(VLOOKUP(K248,Dimension!$J$3:$K$179,2,FALSE),\"\")","v":""},null,null,{"$f":"IF(OR(B248=Dimension!$A$6,B248=Dimension!$A$7,B248=Dimension!$A$8,B248=Dimension!$A$9),\"\",IF(OR(B248=Dimension!$A$3,B248=Dimension!$A$4,B248=Dimension!$A$5),\"สถานประกอบการ\",\"\"))","v":""},{"$f":"IF(OR(B248=Dimension!$A$6,B248=Dimension!$A$7,B248=Dimension!$A$8,B248=Dimension!$A$9,B248=\"\"),\"\",Payment_ID2)","v":""},"",null,null,{"$f":"IF(D248=Dimension!$C$9,IF(LEFT(UPPER(E248),2)=\"MC\",TRUE,FALSE),TRUE)","v":true}]
[null,null,null,{"$f":"IF(B249=Dimension!$A$8,Dimension!$C$9,IF(B249=Dimension!$A$6,CD,\"\"))","v":""},null,{"$f":"IF(OR(B249=Dimension!$A$3,B249=Dimension!$A$4,B249=Dimension!$A$6,B249=Dimension!$A$8),CCYA,\"\")","v":""},{"$f":"IFERROR(VLOOKUP(F249,Dimension!$G$3:$H$252,2,FALSE),\"\")","v":""},{"$f":"IF(OR(B249=Dimension!$A$3,B249=Dimension!$A$4,B249=Dimension!$A$5),\"เดินทาง/ท่องเที่ยว\",\"\")","v":""},{"$f":"IF(OR(B249=Dimension!$A$6,B249=Dimension!$A$7,B249=Dimension!$A$8,B249=Dimension!$A$9),\"\",IF(OR(B249=Dimension!$A$3,B249=Dimension!$A$4,B249=Dimension!$A$5),\"สถานประกอบการ\",\"\"))","v":""},{"$f":"IF(OR(B249=Dimension!$A$3,B249=Dimension!$A$4,B249=Dimension!$A$5,B249=Dimension!$A$6,,B249=Dimension!$A$7,B249=Dimension!$A$8,B249=Dimension!$A$9),Payment_ID2,\"\")","v":""},null,{"$f":"IFERROR(VLOOKUP(K249,Dimension!$J$3:$K$179,2,FALSE),\"\")","v":""},null,null,{"$f":"IF(OR(B249=Dimension!$A$6,B249=Dimension!$A$7,B249=Dimension!$A$8,B249=Dimension!$A$9),\"\",IF(OR(B249=Dimension!$A$3,B249=Dimension!$A$4,B249=Dimension!$A$5),\"สถานประกอบการ\",\"\"))","v":""},{"$f":"IF(OR(B249=Dimension!$A$6,B249=Dimension!$A$7,B249=Dimension!$A$8,B249=Dimension!$A$9,B249=\"\"),\"\",Payment_ID2)","v":""},"",null,null,{"$f":"IF(D249=Dimension!$C$9,IF(LEFT(UPPER(E249),2)=\"MC\",TRUE,FALSE),TRUE)","v":true}]
[null,null,null,{"$f":"IF(B250=Dimension!$A$8,Dimension!$C$9,IF(B250=Dimension!$A$6,CD,\"\"))","v":""},null,{"$f":"IF(OR(B250=Dimension!$A$3,B250=Dimension!$A$4,B250=Dimension!$A$6,B250=Dimension!$A$8),CCYA,\"\")","v":""},{"$f":"IFERROR(VLOOKUP(F250,Dimension!$G$3:$H$252,2,FALSE),\"\")","v":""},{"$f":"IF(OR(B250=Dimension!$A$3,B250=Dimension!$A$4,B250=Dimension!$A$5),\"เดินทาง/ท่องเที่ยว\",\"\")","v":""},{"$f":"IF(OR(B250=Dimension!$A$6,B250=Dimension!$A$7,B250=Dimension!$A$8,B250=Dimension!$A$9),\"\",IF(OR(B250=Dimension!$A$3,B250=Dimension!$A$4,B250=Dimension!$A$5),\"สถานประกอบการ\",\"\"))","v":""},{"$f":"IF(OR(B250=Dimension!$A$3,B250=Dimension!$A$4,B250=Dimension!$A$5,B250=Dimension!$A$6,,B250=Dimension!$A$7,B250=Dimension!$A$8,B250=Dimension!$A$9),Payment_ID2,\"\")","v":""},null,{"$f":"IFERROR(VLOOKUP(K250,Dimension!$J$3:$K$179,2,FALSE),\"\")","v":""},null,null,{"$f":"IF(OR(B250=Dimension!$A$6,B250=Dimension!$A$7,B250=Dimension!$A$8,B250=Dimension!$A$9),\"\",IF(OR(B250=Dimension!$A$3,B250=Dimension!$A$4,B250=Dimension!$A$5),\"สถานประกอบการ\",\"\"))","v":""},{"$f":"IF(OR(B250=Dimension!$A$6,B250=Dimension!$A$7,B250=Dimension!$A$8,B250=Dimension!$A$9,B250=\"\"),\"\",Payment_ID2)","v":""},"",null,null,{"$f":"IF(D250=Dimension!$C$9,IF(LEFT(UPPER(E250),2)=\"MC\",TRUE,FALSE),TRUE)","v":true}]
[null,null,null,{"$f":"IF(B251=Dimension!$A$8,Dimension!$C$9,IF(B251=Dimension!$A$6,CD,\"\"))","v":""},null,{"$f":"IF(OR(B251=Dimension!$A$3,B251=Dimension!$A$4,B251=Dimension!$A$6,B251=Dimension!$A$8),CCYA,\"\")","v":""},{"$f":"IFERROR(VLOOKUP(F251,Dimension!$G$3:$H$252,2,FALSE),\"\")","v":""},{"$f":"IF(OR(B251=Dimension!$A$3,B251=Dimension!$A$4,B251=Dimension!$A$5),\"เดินทาง/ท่องเที่ยว\",\"\")","v":""},{"$f":"IF(OR(B251=Dimension!$A$6,B251=Dimension!$A$7,B251=Dimension!$A$8,B251=Dimension!$A$9),\"\",IF(OR(B251=Dimension!$A$3,B251=Dimension!$A$4,B251=Dimension!$A$5),\"สถานประกอบการ\",\"\"))","v":""},{"$f":"IF(OR(B251=Dimension!$A$3,B251=Dimension!$A$4,B251=Dimension!$A$5,B251=Dimension!$A$6,,B251=Dimension!$A$7,B251=Dimension!$A$8,B251=Dimension!$A$9),Payment_ID2,\"\")","v":""},null,{"$f":"IFERROR(VLOOKUP(K251,Dimension!$J$3:$K$179,2,FALSE),\"\")","v":""},null,null,{"$f":"IF(OR(B251=Dimension!$A$6,B251=Dimension!$A$7,B251=Dimension!$A$8,B251=Dimension!$A$9),\"\",IF(OR(B251=Dimension!$A$3,B251=Dimension!$A$4,B251=Dimension!$A$5),\"สถานประกอบการ\",\"\"))","v":""},{"$f":"IF(OR(B251=Dimension!$A$6,B251=Dimension!$A$7,B251=Dimension!$A$8,B251=Dimension!$A$9,B251=\"\"),\"\",Payment_ID2)","v":""},"",null,null,{"$f":"IF(D251=Dimension!$C$9,IF(LEFT(UPPER(E251),2)=\"MC\",TRUE,FALSE),TRUE)","v":true}]
[null,null,null,{"$f":"IF(B252=Dimension!$A$8,Dimension!$C$9,IF(B252=Dimension!$A$6,CD,\"\"))","v":""},null,{"$f":"IF(OR(B252=Dimension!$A$3,B252=Dimension!$A$4,B252=Dimension!$A$6,B252=Dimension!$A$8),CCYA,\"\")","v":""},{"$f":"IFERROR(VLOOKUP(F252,Dimension!$G$3:$H$252,2,FALSE),\"\")","v":""},{"$f":"IF(OR(B252=Dimension!$A$3,B252=Dimension!$A$4,B252=Dimension!$A$5),\"เดินทาง/ท่องเที่ยว\",\"\")","v":""},{"$f":"IF(OR(B252=Dimension!$A$6,B252=Dimension!$A$7,B252=Dimension!$A$8,B252=Dimension!$A$9),\"\",IF(OR(B252=Dimension!$A$3,B252=Dimension!$A$4,B252=Dimension!$A$5),\"สถานประกอบการ\",\"\"))","v":""},{"$f":"IF(OR(B252=Dimension!$A$3,B252=Dimension!$A$4,B252=Dimension!$A$5,B252=Dimension!$A$6,,B252=Dimension!$A$7,B252=Dimension!$A$8,B252=Dimension!$A$9),Payment_ID2,\"\")","v":""},null,{"$f":"IFERROR(VLOOKUP(K252,Dimension!$J$3:$K$179,2,FALSE),\"\")","v":""},null,null,{"$f":"IF(OR(B252=Dimension!$A$6,B252=Dimension!$A$7,B252=Dimension!$A$8,B252=Dimension!$A$9),\"\",IF(OR(B252=Dimension!$A$3,B252=Dimension!$A$4,B252=Dimension!$A$5),\"สถานประกอบการ\",\"\"))","v":""},{"$f":"IF(OR(B252=Dimension!$A$6,B252=Dimension!$A$7,B252=Dimension!$A$8,B252=Dimension!$A$9,B252=\"\"),\"\",Payment_ID2)","v":""},"",null,null,{"$f":"IF(D252=Dimension!$C$9,IF(LEFT(UPPER(E252),2)=\"MC\",TRUE,FALSE),TRUE)","v":true}]
[null,null,null,{"$f":"IF(B253=Dimension!$A$8,Dimension!$C$9,IF(B253=Dimension!$A$6,CD,\"\"))","v":""},null,{"$f":"IF(OR(B253=Dimension!$A$3,B253=Dimension!$A$4,B253=Dimension!$A$6,B253=Dimension!$A$8),CCYA,\"\")","v":""},{"$f":"IFERROR(VLOOKUP(F253,Dimension!$G$3:$H$252,2,FALSE),\"\")","v":""},{"$f":"IF(OR(B253=Dimension!$A$3,B253=Dimension!$A$4,B253=Dimension!$A$5),\"เดินทาง/ท่องเที่ยว\",\"\")","v":""},{"$f":"IF(OR(B253=Dimension!$A$6,B253=Dimension!$A$7,B253=Dimension!$A$8,B253=Dimension!$A$9),\"\",IF(OR(B253=Dimension!$A$3,B253=Dimension!$A$4,B253=Dimension!$A$5),\"สถานประกอบการ\",\"\"))","v":""},{"$f":"IF(OR(B253=Dimension!$A$3,B253=Dimension!$A$4,B253=Dimension!$A$5,B253=Dimension!$A$6,,B253=Dimension!$A$7,B253=Dimension!$A$8,B253=Dimension!$A$9),Payment_ID2,\"\")","v":""},null,{"$f":"IFERROR(VLOOKUP(K253,Dimension!$J$3:$K$179,2,FALSE),\"\")","v":""},null,null,{"$f":"IF(OR(B253=Dimension!$A$6,B253=Dimension!$A$7,B253=Dimension!$A$8,B253=Dimension!$A$9),\"\",IF(OR(B253=Dimension!$A$3,B253=Dimension!$A$4,B253=Dimension!$A$5),\"สถานประกอบการ\",\"\"))","v":""},{"$f":"IF(OR(B253=Dimension!$A$6,B253=Dimension!$A$7,B253=Dimension!$A$8,B253=Dimension!$A$9,B253=\"\"),\"\",Payment_ID2)","v":""},"",null,null,{"$f":"IF(D253=Dimension!$C$9,IF(LEFT(UPPER(E253),2)=\"MC\",TRUE,FALSE),TRUE)","v":true}]
[null,null,null,{"$f":"IF(B254=Dimension!$A$8,Dimension!$C$9,IF(B254=Dimension!$A$6,CD,\"\"))","v":""},null,{"$f":"IF(OR(B254=Dimension!$A$3,B254=Dimension!$A$4,B254=Dimension!$A$6,B254=Dimension!$A$8),CCYA,\"\")","v":""},{"$f":"IFERROR(VLOOKUP(F254,Dimension!$G$3:$H$252,2,FALSE),\"\")","v":""},{"$f":"IF(OR(B254=Dimension!$A$3,B254=Dimension!$A$4,B254=Dimension!$A$5),\"เดินทาง/ท่องเที่ยว\",\"\")","v":""},{"$f":"IF(OR(B254=Dimension!$A$6,B254=Dimension!$A$7,B254=Dimension!$A$8,B254=Dimension!$A$9),\"\",IF(OR(B254=Dimension!$A$3,B254=Dimension!$A$4,B254=Dimension!$A$5),\"สถานประกอบการ\",\"\"))","v":""},{"$f":"IF(OR(B254=Dimension!$A$3,B254=Dimension!$A$4,B254=Dimension!$A$5,B254=Dimension!$A$6,,B254=Dimension!$A$7,B254=Dimension!$A$8,B254=Dimension!$A$9),Payment_ID2,\"\")","v":""},null,{"$f":"IFERROR(VLOOKUP(K254,Dimension!$J$3:$K$179,2,FALSE),\"\")","v":""},null,null,{"$f":"IF(OR(B254=Dimension!$A$6,B254=Dimension!$A$7,B254=Dimension!$A$8,B254=Dimension!$A$9),\"\",IF(OR(B254=Dimension!$A$3,B254=Dimension!$A$4,B254=Dimension!$A$5),\"สถานประกอบการ\",\"\"))","v":""},{"$f":"IF(OR(B254=Dimension!$A$6,B254=Dimension!$A$7,B254=Dimension!$A$8,B254=Dimension!$A$9,B254=\"\"),\"\",Payment_ID2)","v":""},"",null,null,{"$f":"IF(D254=Dimension!$C$9,IF(LEFT(UPPER(E254),2)=\"MC\",TRUE,FALSE),TRUE)","v":true}]
[null,null,null,{"$f":"IF(B255=Dimension!$A$8,Dimension!$C$9,IF(B255=Dimension!$A$6,CD,\"\"))","v":""},null,{"$f":"IF(OR(B255=Dimension!$A$3,B255=Dimension!$A$4,B255=Dimension!$A$6,B255=Dimension!$A$8),CCYA,\"\")","v":""},{"$f":"IFERROR(VLOOKUP(F255,Dimension!$G$3:$H$252,2,FALSE),\"\")","v":""},{"$f":"IF(OR(B255=Dimension!$A$3,B255=Dimension!$A$4,B255=Dimension!$A$5),\"เดินทาง/ท่องเที่ยว\",\"\")","v":""},{"$f":"IF(OR(B255=Dimension!$A$6,B255=Dimension!$A$7,B255=Dimension!$A$8,B255=Dimension!$A$9),\"\",IF(OR(B255=Dimension!$A$3,B255=Dimension!$A$4,B255=Dimension!$A$5),\"สถานประกอบการ\",\"\"))","v":""},{"$f":"IF(OR(B255=Dimension!$A$3,B255=Dimension!$A$4,B255=Dimension!$A$5,B255=Dimension!$A$6,,B255=Dimension!$A$7,B255=Dimension!$A$8,B255=Dimension!$A$9),Payment_ID2,\"\")","v":""},null,{"$f":"IFERROR(VLOOKUP(K255,Dimension!$J$3:$K$179,2,FALSE),\"\")","v":""},null,null,{"$f":"IF(OR(B255=Dimension!$A$6,B255=Dimension!$A$7,B255=Dimension!$A$8,B255=Dimension!$A$9),\"\",IF(OR(B255=Dimension!$A$3,B255=Dimension!$A$4,B255=Dimension!$A$5),\"สถานประกอบการ\",\"\"))","v":""},{"$f":"IF(OR(B255=Dimension!$A$6,B255=Dimension!$A$7,B255=Dimension!$A$8,B255=Dimension!$A$9,B255=\"\"),\"\",Payment_ID2)","v":""},"",null,null,{"$f":"IF(D255=Dimension!$C$9,IF(LEFT(UPPER(E255),2)=\"MC\",TRUE,FALSE),TRUE)","v":true}]
[null,null,null,{"$f":"IF(B256=Dimension!$A$8,Dimension!$C$9,IF(B256=Dimension!$A$6,CD,\"\"))","v":""},null,{"$f":"IF(OR(B256=Dimension!$A$3,B256=Dimension!$A$4,B256=Dimension!$A$6,B256=Dimension!$A$8),CCYA,\"\")","v":""},{"$f":"IFERROR(VLOOKUP(F256,Dimension!$G$3:$H$252,2,FALSE),\"\")","v":""},{"$f":"IF(OR(B256=Dimension!$A$3,B256=Dimension!$A$4,B256=Dimension!$A$5),\"เดินทาง/ท่องเที่ยว\",\"\")","v":""},{"$f":"IF(OR(B256=Dimension!$A$6,B256=Dimension!$A$7,B256=Dimension!$A$8,B256=Dimension!$A$9),\"\",IF(OR(B256=Dimension!$A$3,B256=Dimension!$A$4,B256=Dimension!$A$5),\"สถานประกอบการ\",\"\"))","v":""},{"$f":"IF(OR(B256=Dimension!$A$3,B256=Dimension!$A$4,B256=Dimension!$A$5,B256=Dimension!$A$6,,B256=Dimension!$A$7,B256=Dimension!$A$8,B256=Dimension!$A$9),Payment_ID2,\"\")","v":""},null,{"$f":"IFERROR(VLOOKUP(K256,Dimension!$J$3:$K$179,2,FALSE),\"\")","v":""},null,null,{"$f":"IF(OR(B256=Dimension!$A$6,B256=Dimension!$A$7,B256=Dimension!$A$8,B256=Dimension!$A$9),\"\",IF(OR(B256=Dimension!$A$3,B256=Dimension!$A$4,B256=Dimension!$A$5),\"สถานประกอบการ\",\"\"))","v":""},{"$f":"IF(OR(B256=Dimension!$A$6,B256=Dimension!$A$7,B256=Dimension!$A$8,B256=Dimension!$A$9,B256=\"\"),\"\",Payment_ID2)","v":""},"",null,null,{"$f":"IF(D256=Dimension!$C$9,IF(LEFT(UPPER(E256),2)=\"MC\",TRUE,FALSE),TRUE)","v":true}]
[null,null,null,{"$f":"IF(B257=Dimension!$A$8,Dimension!$C$9,IF(B257=Dimension!$A$6,CD,\"\"))","v":""},null,{"$f":"IF(OR(B257=Dimension!$A$3,B257=Dimension!$A$4,B257=Dimension!$A$6,B257=Dimension!$A$8),CCYA,\"\")","v":""},{"$f":"IFERROR(VLOOKUP(F257,Dimension!$G$3:$H$252,2,FALSE),\"\")","v":""},{"$f":"IF(OR(B257=Dimension!$A$3,B257=Dimension!$A$4,B257=Dimension!$A$5),\"เดินทาง/ท่องเที่ยว\",\"\")","v":""},{"$f":"IF(OR(B257=Dimension!$A$6,B257=Dimension!$A$7,B257=Dimension!$A$8,B257=Dimension!$A$9),\"\",IF(OR(B257=Dimension!$A$3,B257=Dimension!$A$4,B257=Dimension!$A$5),\"สถานประกอบการ\",\"\"))","v":""},{"$f":"IF(OR(B257=Dimension!$A$3,B257=Dimension!$A$4,B257=Dimension!$A$5,B257=Dimension!$A$6,,B257=Dimension!$A$7,B257=Dimension!$A$8,B257=Dimension!$A$9),Payment_ID2,\"\")","v":""},null,{"$f":"IFERROR(VLOOKUP(K257,Dimension!$J$3:$K$179,2,FALSE),\"\")","v":""},null,null,{"$f":"IF(OR(B257=Dimension!$A$6,B257=Dimension!$A$7,B257=Dimension!$A$8,B257=Dimension!$A$9),\"\",IF(OR(B257=Dimension!$A$3,B257=Dimension!$A$4,B257=Dimension!$A$5),\"สถานประกอบการ\",\"\"))","v":""},{"$f":"IF(OR(B257=Dimension!$A$6,B257=Dimension!$A$7,B257=Dimension!$A$8,B257=Dimension!$A$9,B257=\"\"),\"\",Payment_ID2)","v":""},"",null,null,{"$f":"IF(D257=Dimension!$C$9,IF(LEFT(UPPER(E257),2)=\"MC\",TRUE,FALSE),TRUE)","v":true}]
[null,null,null,{"$f":"IF(B258=Dimension!$A$8,Dimension!$C$9,IF(B258=Dimension!$A$6,CD,\"\"))","v":""},null,{"$f":"IF(OR(B258=Dimension!$A$3,B258=Dimension!$A$4,B258=Dimension!$A$6,B258=Dimension!$A$8),CCYA,\"\")","v":""},{"$f":"IFERROR(VLOOKUP(F258,Dimension!$G$3:$H$252,2,FALSE),\"\")","v":""},{"$f":"IF(OR(B258=Dimension!$A$3,B258=Dimension!$A$4,B258=Dimension!$A$5),\"เดินทาง/ท่องเที่ยว\",\"\")","v":""},{"$f":"IF(OR(B258=Dimension!$A$6,B258=Dimension!$A$7,B258=Dimension!$A$8,B258=Dimension!$A$9),\"\",IF(OR(B258=Dimension!$A$3,B258=Dimension!$A$4,B258=Dimension!$A$5),\"สถานประกอบการ\",\"\"))","v":""},{"$f":"IF(OR(B258=Dimension!$A$3,B258=Dimension!$A$4,B258=Dimension!$A$5,B258=Dimension!$A$6,,B258=Dimension!$A$7,B258=Dimension!$A$8,B258=Dimension!$A$9),Payment_ID2,\"\")","v":""},null,{"$f":"IFERROR(VLOOKUP(K258,Dimension!$J$3:$K$179,2,FALSE),\"\")","v":""},null,null,{"$f":"IF(OR(B258=Dimension!$A$6,B258=Dimension!$A$7,B258=Dimension!$A$8,B258=Dimension!$A$9),\"\",IF(OR(B258=Dimension!$A$3,B258=Dimension!$A$4,B258=Dimension!$A$5),\"สถานประกอบการ\",\"\"))","v":""},{"$f":"IF(OR(B258=Dimension!$A$6,B258=Dimension!$A$7,B258=Dimension!$A$8,B258=Dimension!$A$9,B258=\"\"),\"\",Payment_ID2)","v":""},"",null,null,{"$f":"IF(D258=Dimension!$C$9,IF(LEFT(UPPER(E258),2)=\"MC\",TRUE,FALSE),TRUE)","v":true}]
[null,null,null,{"$f":"IF(B259=Dimension!$A$8,Dimension!$C$9,IF(B259=Dimension!$A$6,CD,\"\"))","v":""},null,{"$f":"IF(OR(B259=Dimension!$A$3,B259=Dimension!$A$4,B259=Dimension!$A$6,B259=Dimension!$A$8),CCYA,\"\")","v":""},{"$f":"IFERROR(VLOOKUP(F259,Dimension!$G$3:$H$252,2,FALSE),\"\")","v":""},{"$f":"IF(OR(B259=Dimension!$A$3,B259=Dimension!$A$4,B259=Dimension!$A$5),\"เดินทาง/ท่องเที่ยว\",\"\")","v":""},{"$f":"IF(OR(B259=Dimension!$A$6,B259=Dimension!$A$7,B259=Dimension!$A$8,B259=Dimension!$A$9),\"\",IF(OR(B259=Dimension!$A$3,B259=Dimension!$A$4,B259=Dimension!$A$5),\"สถานประกอบการ\",\"\"))","v":""},{"$f":"IF(OR(B259=Dimension!$A$3,B259=Dimension!$A$4,B259=Dimension!$A$5,B259=Dimension!$A$6,,B259=Dimension!$A$7,B259=Dimension!$A$8,B259=Dimension!$A$9),Payment_ID2,\"\")","v":""},null,{"$f":"IFERROR(VLOOKUP(K259,Dimension!$J$3:$K$179,2,FALSE),\"\")","v":""},null,null,{"$f":"IF(OR(B259=Dimension!$A$6,B259=Dimension!$A$7,B259=Dimension!$A$8,B259=Dimension!$A$9),\"\",IF(OR(B259=Dimension!$A$3,B259=Dimension!$A$4,B259=Dimension!$A$5),\"สถานประกอบการ\",\"\"))","v":""},{"$f":"IF(OR(B259=Dimension!$A$6,B259=Dimension!$A$7,B259=Dimension!$A$8,B259=Dimension!$A$9,B259=\"\"),\"\",Payment_ID2)","v":""},"",null,null,{"$f":"IF(D259=Dimension!$C$9,IF(LEFT(UPPER(E259),2)=\"MC\",TRUE,FALSE),TRUE)","v":true}]
[null,null,null,{"$f":"IF(B260=Dimension!$A$8,Dimension!$C$9,IF(B260=Dimension!$A$6,CD,\"\"))","v":""},null,{"$f":"IF(OR(B260=Dimension!$A$3,B260=Dimension!$A$4,B260=Dimension!$A$6,B260=Dimension!$A$8),CCYA,\"\")","v":""},{"$f":"IFERROR(VLOOKUP(F260,Dimension!$G$3:$H$252,2,FALSE),\"\")","v":""},{"$f":"IF(OR(B260=Dimension!$A$3,B260=Dimension!$A$4,B260=Dimension!$A$5),\"เดินทาง/ท่องเที่ยว\",\"\")","v":""},{"$f":"IF(OR(B260=Dimension!$A$6,B260=Dimension!$A$7,B260=Dimension!$A$8,B260=Dimension!$A$9),\"\",IF(OR(B260=Dimension!$A$3,B260=Dimension!$A$4,B260=Dimension!$A$5),\"สถานประกอบการ\",\"\"))","v":""},{"$f":"IF(OR(B260=Dimension!$A$3,B260=Dimension!$A$4,B260=Dimension!$A$5,B260=Dimension!$A$6,,B260=Dimension!$A$7,B260=Dimension!$A$8,B260=Dimension!$A$9),Payment_ID2,\"\")","v":""},null,{"$f":"IFERROR(VLOOKUP(K260,Dimension!$J$3:$K$179,2,FALSE),\"\")","v":""},null,null,{"$f":"IF(OR(B260=Dimension!$A$6,B260=Dimension!$A$7,B260=Dimension!$A$8,B260=Dimension!$A$9),\"\",IF(OR(B260=Dimension!$A$3,B260=Dimension!$A$4,B260=Dimension!$A$5),\"สถานประกอบการ\",\"\"))","v":""},{"$f":"IF(OR(B260=Dimension!$A$6,B260=Dimension!$A$7,B260=Dimension!$A$8,B260=Dimension!$A$9,B260=\"\"),\"\",Payment_ID2)","v":""},"",null,null,{"$f":"IF(D260=Dimension!$C$9,IF(LEFT(UPPER(E260),2)=\"MC\",TRUE,FALSE),TRUE)","v":true}]
[null,null,null,{"$f":"IF(B261=Dimension!$A$8,Dimension!$C$9,IF(B261=Dimension!$A$6,CD,\"\"))","v":""},null,{"$f":"IF(OR(B261=Dimension!$A$3,B261=Dimension!$A$4,B261=Dimension!$A$6,B261=Dimension!$A$8),CCYA,\"\")","v":""},{"$f":"IFERROR(VLOOKUP(F261,Dimension!$G$3:$H$252,2,FALSE),\"\")","v":""},{"$f":"IF(OR(B261=Dimension!$A$3,B261=Dimension!$A$4,B261=Dimension!$A$5),\"เดินทาง/ท่องเที่ยว\",\"\")","v":""},{"$f":"IF(OR(B261=Dimension!$A$6,B261=Dimension!$A$7,B261=Dimension!$A$8,B261=Dimension!$A$9),\"\",IF(OR(B261=Dimension!$A$3,B261=Dimension!$A$4,B261=Dimension!$A$5),\"สถานประกอบการ\",\"\"))","v":""},{"$f":"IF(OR(B261=Dimension!$A$3,B261=Dimension!$A$4,B261=Dimension!$A$5,B261=Dimension!$A$6,,B261=Dimension!$A$7,B261=Dimension!$A$8,B261=Dimension!$A$9),Payment_ID2,\"\")","v":""},null,{"$f":"IFERROR(VLOOKUP(K261,Dimension!$J$3:$K$179,2,FALSE),\"\")","v":""},null,null,{"$f":"IF(OR(B261=Dimension!$A$6,B261=Dimension!$A$7,B261=Dimension!$A$8,B261=Dimension!$A$9),\"\",IF(OR(B261=Dimension!$A$3,B261=Dimension!$A$4,B261=Dimension!$A$5),\"สถานประกอบการ\",\"\"))","v":""},{"$f":"IF(OR(B261=Dimension!$A$6,B261=Dimension!$A$7,B261=Dimension!$A$8,B261=Dimension!$A$9,B261=\"\"),\"\",Payment_ID2)","v":""},"",null,null,{"$f":"IF(D261=Dimension!$C$9,IF(LEFT(UPPER(E261),2)=\"MC\",TRUE,FALSE),TRUE)","v":true}]
[null,null,null,{"$f":"IF(B262=Dimension!$A$8,Dimension!$C$9,IF(B262=Dimension!$A$6,CD,\"\"))","v":""},null,{"$f":"IF(OR(B262=Dimension!$A$3,B262=Dimension!$A$4,B262=Dimension!$A$6,B262=Dimension!$A$8),CCYA,\"\")","v":""},{"$f":"IFERROR(VLOOKUP(F262,Dimension!$G$3:$H$252,2,FALSE),\"\")","v":""},{"$f":"IF(OR(B262=Dimension!$A$3,B262=Dimension!$A$4,B262=Dimension!$A$5),\"เดินทาง/ท่องเที่ยว\",\"\")","v":""},{"$f":"IF(OR(B262=Dimension!$A$6,B262=Dimension!$A$7,B262=Dimension!$A$8,B262=Dimension!$A$9),\"\",IF(OR(B262=Dimension!$A$3,B262=Dimension!$A$4,B262=Dimension!$A$5),\"สถานประกอบการ\",\"\"))","v":""},{"$f":"IF(OR(B262=Dimension!$A$3,B262=Dimension!$A$4,B262=Dimension!$A$5,B262=Dimension!$A$6,,B262=Dimension!$A$7,B262=Dimension!$A$8,B262=Dimension!$A$9),Payment_ID2,\"\")","v":""},null,{"$f":"IFERROR(VLOOKUP(K262,Dimension!$J$3:$K$179,2,FALSE),\"\")","v":""},null,null,{"$f":"IF(OR(B262=Dimension!$A$6,B262=Dimension!$A$7,B262=Dimension!$A$8,B262=Dimension!$A$9),\"\",IF(OR(B262=Dimension!$A$3,B262=Dimension!$A$4,B262=Dimension!$A$5),\"สถานประกอบการ\",\"\"))","v":""},{"$f":"IF(OR(B262=Dimension!$A$6,B262=Dimension!$A$7,B262=Dimension!$A$8,B262=Dimension!$A$9,B262=\"\"),\"\",Payment_ID2)","v":""},"",null,null,{"$f":"IF(D262=Dimension!$C$9,IF(LEFT(UPPER(E262),2)=\"MC\",TRUE,FALSE),TRUE)","v":true}]
[null,null,null,{"$f":"IF(B263=Dimension!$A$8,Dimension!$C$9,IF(B263=Dimension!$A$6,CD,\"\"))","v":""},null,{"$f":"IF(OR(B263=Dimension!$A$3,B263=Dimension!$A$4,B263=Dimension!$A$6,B263=Dimension!$A$8),CCYA,\"\")","v":""},{"$f":"IFERROR(VLOOKUP(F263,Dimension!$G$3:$H$252,2,FALSE),\"\")","v":""},{"$f":"IF(OR(B263=Dimension!$A$3,B263=Dimension!$A$4,B263=Dimension!$A$5),\"เดินทาง/ท่องเที่ยว\",\"\")","v":""},{"$f":"IF(OR(B263=Dimension!$A$6,B263=Dimension!$A$7,B263=Dimension!$A$8,B263=Dimension!$A$9),\"\",IF(OR(B263=Dimension!$A$3,B263=Dimension!$A$4,B263=Dimension!$A$5),\"สถานประกอบการ\",\"\"))","v":""},{"$f":"IF(OR(B263=Dimension!$A$3,B263=Dimension!$A$4,B263=Dimension!$A$5,B263=Dimension!$A$6,,B263=Dimension!$A$7,B263=Dimension!$A$8,B263=Dimension!$A$9),Payment_ID2,\"\")","v":""},null,{"$f":"IFERROR(VLOOKUP(K263,Dimension!$J$3:$K$179,2,FALSE),\"\")","v":""},null,null,{"$f":"IF(OR(B263=Dimension!$A$6,B263=Dimension!$A$7,B263=Dimension!$A$8,B263=Dimension!$A$9),\"\",IF(OR(B263=Dimension!$A$3,B263=Dimension!$A$4,B263=Dimension!$A$5),\"สถานประกอบการ\",\"\"))","v":""},{"$f":"IF(OR(B263=Dimension!$A$6,B263=Dimension!$A$7,B263=Dimension!$A$8,B263=Dimension!$A$9,B263=\"\"),\"\",Payment_ID2)","v":""},"",null,null,{"$f":"IF(D263=Dimension!$C$9,IF(LEFT(UPPER(E263),2)=\"MC\",TRUE,FALSE),TRUE)","v":true}]
[null,null,null,{"$f":"IF(B264=Dimension!$A$8,Dimension!$C$9,IF(B264=Dimension!$A$6,CD,\"\"))","v":""},null,{"$f":"IF(OR(B264=Dimension!$A$3,B264=Dimension!$A$4,B264=Dimension!$A$6,B264=Dimension!$A$8),CCYA,\"\")","v":""},{"$f":"IFERROR(VLOOKUP(F264,Dimension!$G$3:$H$252,2,FALSE),\"\")","v":""},{"$f":"IF(OR(B264=Dimension!$A$3,B264=Dimension!$A$4,B264=Dimension!$A$5),\"เดินทาง/ท่องเที่ยว\",\"\")","v":""},{"$f":"IF(OR(B264=Dimension!$A$6,B264=Dimension!$A$7,B264=Dimension!$A$8,B264=Dimension!$A$9),\"\",IF(OR(B264=Dimension!$A$3,B264=Dimension!$A$4,B264=Dimension!$A$5),\"สถานประกอบการ\",\"\"))","v":""},{"$f":"IF(OR(B264=Dimension!$A$3,B264=Dimension!$A$4,B264=Dimension!$A$5,B264=Dimension!$A$6,,B264=Dimension!$A$7,B264=Dimension!$A$8,B264=Dimension!$A$9),Payment_ID2,\"\")","v":""},null,{"$f":"IFERROR(VLOOKUP(K264,Dimension!$J$3:$K$179,2,FALSE),\"\")","v":""},null,null,{"$f":"IF(OR(B264=Dimension!$A$6,B264=Dimension!$A$7,B264=Dimension!$A$8,B264=Dimension!$A$9),\"\",IF(OR(B264=Dimension!$A$3,B264=Dimension!$A$4,B264=Dimension!$A$5),\"สถานประกอบการ\",\"\"))","v":""},{"$f":"IF(OR(B264=Dimension!$A$6,B264=Dimension!$A$7,B264=Dimension!$A$8,B264=Dimension!$A$9,B264=\"\"),\"\",Payment_ID2)","v":""},"",null,null,{"$f":"IF(D264=Dimension!$C$9,IF(LEFT(UPPER(E264),2)=\"MC\",TRUE,FALSE),TRUE)","v":true}]
[null,null,null,{"$f":"IF(B265=Dimension!$A$8,Dimension!$C$9,IF(B265=Dimension!$A$6,CD,\"\"))","v":""},null,{"$f":"IF(OR(B265=Dimension!$A$3,B265=Dimension!$A$4,B265=Dimension!$A$6,B265=Dimension!$A$8),CCYA,\"\")","v":""},{"$f":"IFERROR(VLOOKUP(F265,Dimension!$G$3:$H$252,2,FALSE),\"\")","v":""},{"$f":"IF(OR(B265=Dimension!$A$3,B265=Dimension!$A$4,B265=Dimension!$A$5),\"เดินทาง/ท่องเที่ยว\",\"\")","v":""},{"$f":"IF(OR(B265=Dimension!$A$6,B265=Dimension!$A$7,B265=Dimension!$A$8,B265=Dimension!$A$9),\"\",IF(OR(B265=Dimension!$A$3,B265=Dimension!$A$4,B265=Dimension!$A$5),\"สถานประกอบการ\",\"\"))","v":""},{"$f":"IF(OR(B265=Dimension!$A$3,B265=Dimension!$A$4,B265=Dimension!$A$5,B265=Dimension!$A$6,,B265=Dimension!$A$7,B265=Dimension!$A$8,B265=Dimension!$A$9),Payment_ID2,\"\")","v":""},null,{"$f":"IFERROR(VLOOKUP(K265,Dimension!$J$3:$K$179,2,FALSE),\"\")","v":""},null,null,{"$f":"IF(OR(B265=Dimension!$A$6,B265=Dimension!$A$7,B265=Dimension!$A$8,B265=Dimension!$A$9),\"\",IF(OR(B265=Dimension!$A$3,B265=Dimension!$A$4,B265=Dimension!$A$5),\"สถานประกอบการ\",\"\"))","v":""},{"$f":"IF(OR(B265=Dimension!$A$6,B265=Dimension!$A$7,B265=Dimension!$A$8,B265=Dimension!$A$9,B265=\"\"),\"\",Payment_ID2)","v":""},"",null,null,{"$f":"IF(D265=Dimension!$C$9,IF(LEFT(UPPER(E265),2)=\"MC\",TRUE,FALSE),TRUE)","v":true}]
[null,null,null,{"$f":"IF(B266=Dimension!$A$8,Dimension!$C$9,IF(B266=Dimension!$A$6,CD,\"\"))","v":""},null,{"$f":"IF(OR(B266=Dimension!$A$3,B266=Dimension!$A$4,B266=Dimension!$A$6,B266=Dimension!$A$8),CCYA,\"\")","v":""},{"$f":"IFERROR(VLOOKUP(F266,Dimension!$G$3:$H$252,2,FALSE),\"\")","v":""},{"$f":"IF(OR(B266=Dimension!$A$3,B266=Dimension!$A$4,B266=Dimension!$A$5),\"เดินทาง/ท่องเที่ยว\",\"\")","v":""},{"$f":"IF(OR(B266=Dimension!$A$6,B266=Dimension!$A$7,B266=Dimension!$A$8,B266=Dimension!$A$9),\"\",IF(OR(B266=Dimension!$A$3,B266=Dimension!$A$4,B266=Dimension!$A$5),\"สถานประกอบการ\",\"\"))","v":""},{"$f":"IF(OR(B266=Dimension!$A$3,B266=Dimension!$A$4,B266=Dimension!$A$5,B266=Dimension!$A$6,,B266=Dimension!$A$7,B266=Dimension!$A$8,B266=Dimension!$A$9),Payment_ID2,\"\")","v":""},null,{"$f":"IFERROR(VLOOKUP(K266,Dimension!$J$3:$K$179,2,FALSE),\"\")","v":""},null,null,{"$f":"IF(OR(B266=Dimension!$A$6,B266=Dimension!$A$7,B266=Dimension!$A$8,B266=Dimension!$A$9),\"\",IF(OR(B266=Dimension!$A$3,B266=Dimension!$A$4,B266=Dimension!$A$5),\"สถานประกอบการ\",\"\"))","v":""},{"$f":"IF(OR(B266=Dimension!$A$6,B266=Dimension!$A$7,B266=Dimension!$A$8,B266=Dimension!$A$9,B266=\"\"),\"\",Payment_ID2)","v":""},{"$f":"IF(OR(M266=\"\",N266=\"\"),\"\",ROUND(M266*N266,2))","v":""},null,null,{"$f":"IF(D266=Dimension!$C$9,IF(LEFT(UPPER(E266),2)=\"MC\",TRUE,FALSE),TRUE)","v":true}]
[null,null,null,{"$f":"IF(B267=Dimension!$A$8,Dimension!$C$9,IF(B267=Dimension!$A$6,CD,\"\"))","v":""},null,{"$f":"IF(OR(B267=Dimension!$A$3,B267=Dimension!$A$4,B267=Dimension!$A$6,B267=Dimension!$A$8),CCYA,\"\")","v":""},{"$f":"IFERROR(VLOOKUP(F267,Dimension!$G$3:$H$252,2,FALSE),\"\")","v":""},{"$f":"IF(OR(B267=Dimension!$A$3,B267=Dimension!$A$4,B267=Dimension!$A$5),\"เดินทาง/ท่องเที่ยว\",\"\")","v":""},{"$f":"IF(OR(B267=Dimension!$A$6,B267=Dimension!$A$7,B267=Dimension!$A$8,B267=Dimension!$A$9),\"\",IF(OR(B267=Dimension!$A$3,B267=Dimension!$A$4,B267=Dimension!$A$5),\"สถานประกอบการ\",\"\"))","v":""},{"$f":"IF(OR(B267=Dimension!$A$3,B267=Dimension!$A$4,B267=Dimension!$A$5,B267=Dimension!$A$6,,B267=Dimension!$A$7,B267=Dimension!$A$8,B267=Dimension!$A$9),Payment_ID2,\"\")","v":""},null,{"$f":"IFERROR(VLOOKUP(K267,Dimension!$J$3:$K$179,2,FALSE),\"\")","v":""},null,null,{"$f":"IF(OR(B267=Dimension!$A$6,B267=Dimension!$A$7,B267=Dimension!$A$8,B267=Dimension!$A$9),\"\",IF(OR(B267=Dimension!$A$3,B267=Dimension!$A$4,B267=Dimension!$A$5),\"สถานประกอบการ\",\"\"))","v":""},{"$f":"IF(OR(B267=Dimension!$A$6,B267=Dimension!$A$7,B267=Dimension!$A$8,B267=Dimension!$A$9,B267=\"\"),\"\",Payment_ID2)","v":""},"",null,null,{"$f":"IF(D267=Dimension!$C$9,IF(LEFT(UPPER(E267),2)=\"MC\",TRUE,FALSE),TRUE)","v":true}]
[null,null,null,{"$f":"IF(B268=Dimension!$A$8,Dimension!$C$9,IF(B268=Dimension!$A$6,CD,\"\"))","v":""},null,{"$f":"IF(OR(B268=Dimension!$A$3,B268=Dimension!$A$4,B268=Dimension!$A$6,B268=Dimension!$A$8),CCYA,\"\")","v":""},{"$f":"IFERROR(VLOOKUP(F268,Dimension!$G$3:$H$252,2,FALSE),\"\")","v":""},{"$f":"IF(OR(B268=Dimension!$A$3,B268=Dimension!$A$4,B268=Dimension!$A$5),\"เดินทาง/ท่องเที่ยว\",\"\")","v":""},{"$f":"IF(OR(B268=Dimension!$A$6,B268=Dimension!$A$7,B268=Dimension!$A$8,B268=Dimension!$A$9),\"\",IF(OR(B268=Dimension!$A$3,B268=Dimension!$A$4,B268=Dimension!$A$5),\"สถานประกอบการ\",\"\"))","v":""},{"$f":"IF(OR(B268=Dimension!$A$3,B268=Dimension!$A$4,B268=Dimension!$A$5,B268=Dimension!$A$6,,B268=Dimension!$A$7,B268=Dimension!$A$8,B268=Dimension!$A$9),Payment_ID2,\"\")","v":""},null,{"$f":"IFERROR(VLOOKUP(K268,Dimension!$J$3:$K$179,2,FALSE),\"\")","v":""},null,null,{"$f":"IF(OR(B268=Dimension!$A$6,B268=Dimension!$A$7,B268=Dimension!$A$8,B268=Dimension!$A$9),\"\",IF(OR(B268=Dimension!$A$3,B268=Dimension!$A$4,B268=Dimension!$A$5),\"สถานประกอบการ\",\"\"))","v":""},{"$f":"IF(OR(B268=Dimension!$A$6,B268=Dimension!$A$7,B268=Dimension!$A$8,B268=Dimension!$A$9,B268=\"\"),\"\",Payment_ID2)","v":""},"",null,null,{"$f":"IF(D268=Dimension!$C$9,IF(LEFT(UPPER(E268),2)=\"MC\",TRUE,FALSE),TRUE)","v":true}]
[null,null,null,{"$f":"IF(B269=Dimension!$A$8,Dimension!$C$9,IF(B269=Dimension!$A$6,CD,\"\"))","v":""},null,{"$f":"IF(OR(B269=Dimension!$A$3,B269=Dimension!$A$4,B269=Dimension!$A$6,B269=Dimension!$A$8),CCYA,\"\")","v":""},{"$f":"IFERROR(VLOOKUP(F269,Dimension!$G$3:$H$252,2,FALSE),\"\")","v":""},{"$f":"IF(OR(B269=Dimension!$A$3,B269=Dimension!$A$4,B269=Dimension!$A$5),\"เดินทาง/ท่องเที่ยว\",\"\")","v":""},{"$f":"IF(OR(B269=Dimension!$A$6,B269=Dimension!$A$7,B269=Dimension!$A$8,B269=Dimension!$A$9),\"\",IF(OR(B269=Dimension!$A$3,B269=Dimension!$A$4,B269=Dimension!$A$5),\"สถานประกอบการ\",\"\"))","v":""},{"$f":"IF(OR(B269=Dimension!$A$3,B269=Dimension!$A$4,B269=Dimension!$A$5,B269=Dimension!$A$6,,B269=Dimension!$A$7,B269=Dimension!$A$8,B269=Dimension!$A$9),Payment_ID2,\"\")","v":""},null,{"$f":"IFERROR(VLOOKUP(K269,Dimension!$J$3:$K$179,2,FALSE),\"\")","v":""},null,null,{"$f":"IF(OR(B269=Dimension!$A$6,B269=Dimension!$A$7,B269=Dimension!$A$8,B269=Dimension!$A$9),\"\",IF(OR(B269=Dimension!$A$3,B269=Dimension!$A$4,B269=Dimension!$A$5),\"สถานประกอบการ\",\"\"))","v":""},{"$f":"IF(OR(B269=Dimension!$A$6,B269=Dimension!$A$7,B269=Dimension!$A$8,B269=Dimension!$A$9,B269=\"\"),\"\",Payment_ID2)","v":""},"",null,null,{"$f":"IF(D269=Dimension!$C$9,IF(LEFT(UPPER(E269),2)=\"MC\",TRUE,FALSE),TRUE)","v":true}]
[null,null,null,{"$f":"IF(B270=Dimension!$A$8,Dimension!$C$9,IF(B270=Dimension!$A$6,CD,\"\"))","v":""},null,{"$f":"IF(OR(B270=Dimension!$A$3,B270=Dimension!$A$4,B270=Dimension!$A$6,B270=Dimension!$A$8),CCYA,\"\")","v":""},{"$f":"IFERROR(VLOOKUP(F270,Dimension!$G$3:$H$252,2,FALSE),\"\")","v":""},{"$f":"IF(OR(B270=Dimension!$A$3,B270=Dimension!$A$4,B270=Dimension!$A$5),\"เดินทาง/ท่องเที่ยว\",\"\")","v":""},{"$f":"IF(OR(B270=Dimension!$A$6,B270=Dimension!$A$7,B270=Dimension!$A$8,B270=Dimension!$A$9),\"\",IF(OR(B270=Dimension!$A$3,B270=Dimension!$A$4,B270=Dimension!$A$5),\"สถานประกอบการ\",\"\"))","v":""},{"$f":"IF(OR(B270=Dimension!$A$3,B270=Dimension!$A$4,B270=Dimension!$A$5,B270=Dimension!$A$6,,B270=Dimension!$A$7,B270=Dimension!$A$8,B270=Dimension!$A$9),Payment_ID2,\"\")","v":""},null,{"$f":"IFERROR(VLOOKUP(K270,Dimension!$J$3:$K$179,2,FALSE),\"\")","v":""},null,null,{"$f":"IF(OR(B270=Dimension!$A$6,B270=Dimension!$A$7,B270=Dimension!$A$8,B270=Dimension!$A$9),\"\",IF(OR(B270=Dimension!$A$3,B270=Dimension!$A$4,B270=Dimension!$A$5),\"สถานประกอบการ\",\"\"))","v":""},{"$f":"IF(OR(B270=Dimension!$A$6,B270=Dimension!$A$7,B270=Dimension!$A$8,B270=Dimension!$A$9,B270=\"\"),\"\",Payment_ID2)","v":""},"",null,null,{"$f":"IF(D270=Dimension!$C$9,IF(LEFT(UPPER(E270),2)=\"MC\",TRUE,FALSE),TRUE)","v":true}]
[null,null,null,{"$f":"IF(B271=Dimension!$A$8,Dimension!$C$9,IF(B271=Dimension!$A$6,CD,\"\"))","v":""},null,{"$f":"IF(OR(B271=Dimension!$A$3,B271=Dimension!$A$4,B271=Dimension!$A$6,B271=Dimension!$A$8),CCYA,\"\")","v":""},{"$f":"IFERROR(VLOOKUP(F271,Dimension!$G$3:$H$252,2,FALSE),\"\")","v":""},{"$f":"IF(OR(B271=Dimension!$A$3,B271=Dimension!$A$4,B271=Dimension!$A$5),\"เดินทาง/ท่องเที่ยว\",\"\")","v":""},{"$f":"IF(OR(B271=Dimension!$A$6,B271=Dimension!$A$7,B271=Dimension!$A$8,B271=Dimension!$A$9),\"\",IF(OR(B271=Dimension!$A$3,B271=Dimension!$A$4,B271=Dimension!$A$5),\"สถานประกอบการ\",\"\"))","v":""},{"$f":"IF(OR(B271=Dimension!$A$3,B271=Dimension!$A$4,B271=Dimension!$A$5,B271=Dimension!$A$6,,B271=Dimension!$A$7,B271=Dimension!$A$8,B271=Dimension!$A$9),Payment_ID2,\"\")","v":""},null,{"$f":"IFERROR(VLOOKUP(K271,Dimension!$J$3:$K$179,2,FALSE),\"\")","v":""},null,null,{"$f":"IF(OR(B271=Dimension!$A$6,B271=Dimension!$A$7,B271=Dimension!$A$8,B271=Dimension!$A$9),\"\",IF(OR(B271=Dimension!$A$3,B271=Dimension!$A$4,B271=Dimension!$A$5),\"สถานประกอบการ\",\"\"))","v":""},{"$f":"IF(OR(B271=Dimension!$A$6,B271=Dimension!$A$7,B271=Dimension!$A$8,B271=Dimension!$A$9,B271=\"\"),\"\",Payment_ID2)","v":""},"",null,null,{"$f":"IF(D271=Dimension!$C$9,IF(LEFT(UPPER(E271),2)=\"MC\",TRUE,FALSE),TRUE)","v":true}]
[null,null,null,{"$f":"IF(B272=Dimension!$A$8,Dimension!$C$9,IF(B272=Dimension!$A$6,CD,\"\"))","v":""},null,{"$f":"IF(OR(B272=Dimension!$A$3,B272=Dimension!$A$4,B272=Dimension!$A$6,B272=Dimension!$A$8),CCYA,\"\")","v":""},{"$f":"IFERROR(VLOOKUP(F272,Dimension!$G$3:$H$252,2,FALSE),\"\")","v":""},{"$f":"IF(OR(B272=Dimension!$A$3,B272=Dimension!$A$4,B272=Dimension!$A$5),\"เดินทาง/ท่องเที่ยว\",\"\")","v":""},{"$f":"IF(OR(B272=Dimension!$A$6,B272=Dimension!$A$7,B272=Dimension!$A$8,B272=Dimension!$A$9),\"\",IF(OR(B272=Dimension!$A$3,B272=Dimension!$A$4,B272=Dimension!$A$5),\"สถานประกอบการ\",\"\"))","v":""},{"$f":"IF(OR(B272=Dimension!$A$3,B272=Dimension!$A$4,B272=Dimension!$A$5,B272=Dimension!$A$6,,B272=Dimension!$A$7,B272=Dimension!$A$8,B272=Dimension!$A$9),Payment_ID2,\"\")","v":""},null,{"$f":"IFERROR(VLOOKUP(K272,Dimension!$J$3:$K$179,2,FALSE),\"\")","v":""},null,null,{"$f":"IF(OR(B272=Dimension!$A$6,B272=Dimension!$A$7,B272=Dimension!$A$8,B272=Dimension!$A$9),\"\",IF(OR(B272=Dimension!$A$3,B272=Dimension!$A$4,B272=Dimension!$A$5),\"สถานประกอบการ\",\"\"))","v":""},{"$f":"IF(OR(B272=Dimension!$A$6,B272=Dimension!$A$7,B272=Dimension!$A$8,B272=Dimension!$A$9,B272=\"\"),\"\",Payment_ID2)","v":""},"",null,null,{"$f":"IF(D272=Dimension!$C$9,IF(LEFT(UPPER(E272),2)=\"MC\",TRUE,FALSE),TRUE)","v":true}]
[null,null,null,{"$f":"IF(B273=Dimension!$A$8,Dimension!$C$9,IF(B273=Dimension!$A$6,CD,\"\"))","v":""},null,{"$f":"IF(OR(B273=Dimension!$A$3,B273=Dimension!$A$4,B273=Dimension!$A$6,B273=Dimension!$A$8),CCYA,\"\")","v":""},{"$f":"IFERROR(VLOOKUP(F273,Dimension!$G$3:$H$252,2,FALSE),\"\")","v":""},{"$f":"IF(OR(B273=Dimension!$A$3,B273=Dimension!$A$4,B273=Dimension!$A$5),\"เดินทาง/ท่องเที่ยว\",\"\")","v":""},{"$f":"IF(OR(B273=Dimension!$A$6,B273=Dimension!$A$7,B273=Dimension!$A$8,B273=Dimension!$A$9),\"\",IF(OR(B273=Dimension!$A$3,B273=Dimension!$A$4,B273=Dimension!$A$5),\"สถานประกอบการ\",\"\"))","v":""},{"$f":"IF(OR(B273=Dimension!$A$3,B273=Dimension!$A$4,B273=Dimension!$A$5,B273=Dimension!$A$6,,B273=Dimension!$A$7,B273=Dimension!$A$8,B273=Dimension!$A$9),Payment_ID2,\"\")","v":""},null,{"$f":"IFERROR(VLOOKUP(K273,Dimension!$J$3:$K$179,2,FALSE),\"\")","v":""},null,null,{"$f":"IF(OR(B273=Dimension!$A$6,B273=Dimension!$A$7,B273=Dimension!$A$8,B273=Dimension!$A$9),\"\",IF(OR(B273=Dimension!$A$3,B273=Dimension!$A$4,B273=Dimension!$A$5),\"สถานประกอบการ\",\"\"))","v":""},{"$f":"IF(OR(B273=Dimension!$A$6,B273=Dimension!$A$7,B273=Dimension!$A$8,B273=Dimension!$A$9,B273=\"\"),\"\",Payment_ID2)","v":""},"",null,null,{"$f":"IF(D273=Dimension!$C$9,IF(LEFT(UPPER(E273),2)=\"MC\",TRUE,FALSE),TRUE)","v":true}]
[null,null,null,{"$f":"IF(B274=Dimension!$A$8,Dimension!$C$9,IF(B274=Dimension!$A$6,CD,\"\"))","v":""},null,{"$f":"IF(OR(B274=Dimension!$A$3,B274=Dimension!$A$4,B274=Dimension!$A$6,B274=Dimension!$A$8),CCYA,\"\")","v":""},{"$f":"IFERROR(VLOOKUP(F274,Dimension!$G$3:$H$252,2,FALSE),\"\")","v":""},{"$f":"IF(OR(B274=Dimension!$A$3,B274=Dimension!$A$4,B274=Dimension!$A$5),\"เดินทาง/ท่องเที่ยว\",\"\")","v":""},{"$f":"IF(OR(B274=Dimension!$A$6,B274=Dimension!$A$7,B274=Dimension!$A$8,B274=Dimension!$A$9),\"\",IF(OR(B274=Dimension!$A$3,B274=Dimension!$A$4,B274=Dimension!$A$5),\"สถานประกอบการ\",\"\"))","v":""},{"$f":"IF(OR(B274=Dimension!$A$3,B274=Dimension!$A$4,B274=Dimension!$A$5,B274=Dimension!$A$6,,B274=Dimension!$A$7,B274=Dimension!$A$8,B274=Dimension!$A$9),Payment_ID2,\"\")","v":""},null,{"$f":"IFERROR(VLOOKUP(K274,Dimension!$J$3:$K$179,2,FALSE),\"\")","v":""},null,null,{"$f":"IF(OR(B274=Dimension!$A$6,B274=Dimension!$A$7,B274=Dimension!$A$8,B274=Dimension!$A$9),\"\",IF(OR(B274=Dimension!$A$3,B274=Dimension!$A$4,B274=Dimension!$A$5),\"สถานประกอบการ\",\"\"))","v":""},{"$f":"IF(OR(B274=Dimension!$A$6,B274=Dimension!$A$7,B274=Dimension!$A$8,B274=Dimension!$A$9,B274=\"\"),\"\",Payment_ID2)","v":""},"",null,null,{"$f":"IF(D274=Dimension!$C$9,IF(LEFT(UPPER(E274),2)=\"MC\",TRUE,FALSE),TRUE)","v":true}]
[null,null,null,{"$f":"IF(B275=Dimension!$A$8,Dimension!$C$9,IF(B275=Dimension!$A$6,CD,\"\"))","v":""},null,{"$f":"IF(OR(B275=Dimension!$A$3,B275=Dimension!$A$4,B275=Dimension!$A$6,B275=Dimension!$A$8),CCYA,\"\")","v":""},{"$f":"IFERROR(VLOOKUP(F275,Dimension!$G$3:$H$252,2,FALSE),\"\")","v":""},{"$f":"IF(OR(B275=Dimension!$A$3,B275=Dimension!$A$4,B275=Dimension!$A$5),\"เดินทาง/ท่องเที่ยว\",\"\")","v":""},{"$f":"IF(OR(B275=Dimension!$A$6,B275=Dimension!$A$7,B275=Dimension!$A$8,B275=Dimension!$A$9),\"\",IF(OR(B275=Dimension!$A$3,B275=Dimension!$A$4,B275=Dimension!$A$5),\"สถานประกอบการ\",\"\"))","v":""},{"$f":"IF(OR(B275=Dimension!$A$3,B275=Dimension!$A$4,B275=Dimension!$A$5,B275=Dimension!$A$6,,B275=Dimension!$A$7,B275=Dimension!$A$8,B275=Dimension!$A$9),Payment_ID2,\"\")","v":""},null,{"$f":"IFERROR(VLOOKUP(K275,Dimension!$J$3:$K$179,2,FALSE),\"\")","v":""},null,null,{"$f":"IF(OR(B275=Dimension!$A$6,B275=Dimension!$A$7,B275=Dimension!$A$8,B275=Dimension!$A$9),\"\",IF(OR(B275=Dimension!$A$3,B275=Dimension!$A$4,B275=Dimension!$A$5),\"สถานประกอบการ\",\"\"))","v":""},{"$f":"IF(OR(B275=Dimension!$A$6,B275=Dimension!$A$7,B275=Dimension!$A$8,B275=Dimension!$A$9,B275=\"\"),\"\",Payment_ID2)","v":""},"",null,null,{"$f":"IF(D275=Dimension!$C$9,IF(LEFT(UPPER(E275),2)=\"MC\",TRUE,FALSE),TRUE)","v":true}]
[null,null,null,{"$f":"IF(B276=Dimension!$A$8,Dimension!$C$9,IF(B276=Dimension!$A$6,CD,\"\"))","v":""},null,{"$f":"IF(OR(B276=Dimension!$A$3,B276=Dimension!$A$4,B276=Dimension!$A$6,B276=Dimension!$A$8),CCYA,\"\")","v":""},{"$f":"IFERROR(VLOOKUP(F276,Dimension!$G$3:$H$252,2,FALSE),\"\")","v":""},{"$f":"IF(OR(B276=Dimension!$A$3,B276=Dimension!$A$4,B276=Dimension!$A$5),\"เดินทาง/ท่องเที่ยว\",\"\")","v":""},{"$f":"IF(OR(B276=Dimension!$A$6,B276=Dimension!$A$7,B276=Dimension!$A$8,B276=Dimension!$A$9),\"\",IF(OR(B276=Dimension!$A$3,B276=Dimension!$A$4,B276=Dimension!$A$5),\"สถานประกอบการ\",\"\"))","v":""},{"$f":"IF(OR(B276=Dimension!$A$3,B276=Dimension!$A$4,B276=Dimension!$A$5,B276=Dimension!$A$6,,B276=Dimension!$A$7,B276=Dimension!$A$8,B276=Dimension!$A$9),Payment_ID2,\"\")","v":""},null,{"$f":"IFERROR(VLOOKUP(K276,Dimension!$J$3:$K$179,2,FALSE),\"\")","v":""},null,null,{"$f":"IF(OR(B276=Dimension!$A$6,B276=Dimension!$A$7,B276=Dimension!$A$8,B276=Dimension!$A$9),\"\",IF(OR(B276=Dimension!$A$3,B276=Dimension!$A$4,B276=Dimension!$A$5),\"สถานประกอบการ\",\"\"))","v":""},{"$f":"IF(OR(B276=Dimension!$A$6,B276=Dimension!$A$7,B276=Dimension!$A$8,B276=Dimension!$A$9,B276=\"\"),\"\",Payment_ID2)","v":""},"",null,null,{"$f":"IF(D276=Dimension!$C$9,IF(LEFT(UPPER(E276),2)=\"MC\",TRUE,FALSE),TRUE)","v":true}]
[null,null,null,{"$f":"IF(B277=Dimension!$A$8,Dimension!$C$9,IF(B277=Dimension!$A$6,CD,\"\"))","v":""},null,{"$f":"IF(OR(B277=Dimension!$A$3,B277=Dimension!$A$4,B277=Dimension!$A$6,B277=Dimension!$A$8),CCYA,\"\")","v":""},{"$f":"IFERROR(VLOOKUP(F277,Dimension!$G$3:$H$252,2,FALSE),\"\")","v":""},{"$f":"IF(OR(B277=Dimension!$A$3,B277=Dimension!$A$4,B277=Dimension!$A$5),\"เดินทาง/ท่องเที่ยว\",\"\")","v":""},{"$f":"IF(OR(B277=Dimension!$A$6,B277=Dimension!$A$7,B277=Dimension!$A$8,B277=Dimension!$A$9),\"\",IF(OR(B277=Dimension!$A$3,B277=Dimension!$A$4,B277=Dimension!$A$5),\"สถานประกอบการ\",\"\"))","v":""},{"$f":"IF(OR(B277=Dimension!$A$3,B277=Dimension!$A$4,B277=Dimension!$A$5,B277=Dimension!$A$6,,B277=Dimension!$A$7,B277=Dimension!$A$8,B277=Dimension!$A$9),Payment_ID2,\"\")","v":""},null,{"$f":"IFERROR(VLOOKUP(K277,Dimension!$J$3:$K$179,2,FALSE),\"\")","v":""},null,null,{"$f":"IF(OR(B277=Dimension!$A$6,B277=Dimension!$A$7,B277=Dimension!$A$8,B277=Dimension!$A$9),\"\",IF(OR(B277=Dimension!$A$3,B277=Dimension!$A$4,B277=Dimension!$A$5),\"สถานประกอบการ\",\"\"))","v":""},{"$f":"IF(OR(B277=Dimension!$A$6,B277=Dimension!$A$7,B277=Dimension!$A$8,B277=Dimension!$A$9,B277=\"\"),\"\",Payment_ID2)","v":""},"",null,null,{"$f":"IF(D277=Dimension!$C$9,IF(LEFT(UPPER(E277),2)=\"MC\",TRUE,FALSE),TRUE)","v":true}]
[null,null,null,{"$f":"IF(B278=Dimension!$A$8,Dimension!$C$9,IF(B278=Dimension!$A$6,CD,\"\"))","v":""},null,{"$f":"IF(OR(B278=Dimension!$A$3,B278=Dimension!$A$4,B278=Dimension!$A$6,B278=Dimension!$A$8),CCYA,\"\")","v":""},{"$f":"IFERROR(VLOOKUP(F278,Dimension!$G$3:$H$252,2,FALSE),\"\")","v":""},{"$f":"IF(OR(B278=Dimension!$A$3,B278=Dimension!$A$4,B278=Dimension!$A$5),\"เดินทาง/ท่องเที่ยว\",\"\")","v":""},{"$f":"IF(OR(B278=Dimension!$A$6,B278=Dimension!$A$7,B278=Dimension!$A$8,B278=Dimension!$A$9),\"\",IF(OR(B278=Dimension!$A$3,B278=Dimension!$A$4,B278=Dimension!$A$5),\"สถานประกอบการ\",\"\"))","v":""},{"$f":"IF(OR(B278=Dimension!$A$3,B278=Dimension!$A$4,B278=Dimension!$A$5,B278=Dimension!$A$6,,B278=Dimension!$A$7,B278=Dimension!$A$8,B278=Dimension!$A$9),Payment_ID2,\"\")","v":""},null,{"$f":"IFERROR(VLOOKUP(K278,Dimension!$J$3:$K$179,2,FALSE),\"\")","v":""},null,null,{"$f":"IF(OR(B278=Dimension!$A$6,B278=Dimension!$A$7,B278=Dimension!$A$8,B278=Dimension!$A$9),\"\",IF(OR(B278=Dimension!$A$3,B278=Dimension!$A$4,B278=Dimension!$A$5),\"สถานประกอบการ\",\"\"))","v":""},{"$f":"IF(OR(B278=Dimension!$A$6,B278=Dimension!$A$7,B278=Dimension!$A$8,B278=Dimension!$A$9,B278=\"\"),\"\",Payment_ID2)","v":""},"",null,null,{"$f":"IF(D278=Dimension!$C$9,IF(LEFT(UPPER(E278),2)=\"MC\",TRUE,FALSE),TRUE)","v":true}]
[null,null,null,{"$f":"IF(B279=Dimension!$A$8,Dimension!$C$9,IF(B279=Dimension!$A$6,CD,\"\"))","v":""},null,{"$f":"IF(OR(B279=Dimension!$A$3,B279=Dimension!$A$4,B279=Dimension!$A$6,B279=Dimension!$A$8),CCYA,\"\")","v":""},{"$f":"IFERROR(VLOOKUP(F279,Dimension!$G$3:$H$252,2,FALSE),\"\")","v":""},{"$f":"IF(OR(B279=Dimension!$A$3,B279=Dimension!$A$4,B279=Dimension!$A$5),\"เดินทาง/ท่องเที่ยว\",\"\")","v":""},{"$f":"IF(OR(B279=Dimension!$A$6,B279=Dimension!$A$7,B279=Dimension!$A$8,B279=Dimension!$A$9),\"\",IF(OR(B279=Dimension!$A$3,B279=Dimension!$A$4,B279=Dimension!$A$5),\"สถานประกอบการ\",\"\"))","v":""},{"$f":"IF(OR(B279=Dimension!$A$3,B279=Dimension!$A$4,B279=Dimension!$A$5,B279=Dimension!$A$6,,B279=Dimension!$A$7,B279=Dimension!$A$8,B279=Dimension!$A$9),Payment_ID2,\"\")","v":""},null,{"$f":"IFERROR(VLOOKUP(K279,Dimension!$J$3:$K$179,2,FALSE),\"\")","v":""},null,null,{"$f":"IF(OR(B279=Dimension!$A$6,B279=Dimension!$A$7,B279=Dimension!$A$8,B279=Dimension!$A$9),\"\",IF(OR(B279=Dimension!$A$3,B279=Dimension!$A$4,B279=Dimension!$A$5),\"สถานประกอบการ\",\"\"))","v":""},{"$f":"IF(OR(B279=Dimension!$A$6,B279=Dimension!$A$7,B279=Dimension!$A$8,B279=Dimension!$A$9,B279=\"\"),\"\",Payment_ID2)","v":""},"",null,null,{"$f":"IF(D279=Dimension!$C$9,IF(LEFT(UPPER(E279),2)=\"MC\",TRUE,FALSE),TRUE)","v":true}]
[null,null,null,{"$f":"IF(B280=Dimension!$A$8,Dimension!$C$9,IF(B280=Dimension!$A$6,CD,\"\"))","v":""},null,{"$f":"IF(OR(B280=Dimension!$A$3,B280=Dimension!$A$4,B280=Dimension!$A$6,B280=Dimension!$A$8),CCYA,\"\")","v":""},{"$f":"IFERROR(VLOOKUP(F280,Dimension!$G$3:$H$252,2,FALSE),\"\")","v":""},{"$f":"IF(OR(B280=Dimension!$A$3,B280=Dimension!$A$4,B280=Dimension!$A$5),\"เดินทาง/ท่องเที่ยว\",\"\")","v":""},{"$f":"IF(OR(B280=Dimension!$A$6,B280=Dimension!$A$7,B280=Dimension!$A$8,B280=Dimension!$A$9),\"\",IF(OR(B280=Dimension!$A$3,B280=Dimension!$A$4,B280=Dimension!$A$5),\"สถานประกอบการ\",\"\"))","v":""},{"$f":"IF(OR(B280=Dimension!$A$3,B280=Dimension!$A$4,B280=Dimension!$A$5,B280=Dimension!$A$6,,B280=Dimension!$A$7,B280=Dimension!$A$8,B280=Dimension!$A$9),Payment_ID2,\"\")","v":""},null,{"$f":"IFERROR(VLOOKUP(K280,Dimension!$J$3:$K$179,2,FALSE),\"\")","v":""},null,null,{"$f":"IF(OR(B280=Dimension!$A$6,B280=Dimension!$A$7,B280=Dimension!$A$8,B280=Dimension!$A$9),\"\",IF(OR(B280=Dimension!$A$3,B280=Dimension!$A$4,B280=Dimension!$A$5),\"สถานประกอบการ\",\"\"))","v":""},{"$f":"IF(OR(B280=Dimension!$A$6,B280=Dimension!$A$7,B280=Dimension!$A$8,B280=Dimension!$A$9,B280=\"\"),\"\",Payment_ID2)","v":""},"",null,null,{"$f":"IF(D280=Dimension!$C$9,IF(LEFT(UPPER(E280),2)=\"MC\",TRUE,FALSE),TRUE)","v":true}]
[null,null,null,{"$f":"IF(B281=Dimension!$A$8,Dimension!$C$9,IF(B281=Dimension!$A$6,CD,\"\"))","v":""},null,{"$f":"IF(OR(B281=Dimension!$A$3,B281=Dimension!$A$4,B281=Dimension!$A$6,B281=Dimension!$A$8),CCYA,\"\")","v":""},{"$f":"IFERROR(VLOOKUP(F281,Dimension!$G$3:$H$252,2,FALSE),\"\")","v":""},{"$f":"IF(OR(B281=Dimension!$A$3,B281=Dimension!$A$4,B281=Dimension!$A$5),\"เดินทาง/ท่องเที่ยว\",\"\")","v":""},{"$f":"IF(OR(B281=Dimension!$A$6,B281=Dimension!$A$7,B281=Dimension!$A$8,B281=Dimension!$A$9),\"\",IF(OR(B281=Dimension!$A$3,B281=Dimension!$A$4,B281=Dimension!$A$5),\"สถานประกอบการ\",\"\"))","v":""},{"$f":"IF(OR(B281=Dimension!$A$3,B281=Dimension!$A$4,B281=Dimension!$A$5,B281=Dimension!$A$6,,B281=Dimension!$A$7,B281=Dimension!$A$8,B281=Dimension!$A$9),Payment_ID2,\"\")","v":""},null,{"$f":"IFERROR(VLOOKUP(K281,Dimension!$J$3:$K$179,2,FALSE),\"\")","v":""},null,null,{"$f":"IF(OR(B281=Dimension!$A$6,B281=Dimension!$A$7,B281=Dimension!$A$8,B281=Dimension!$A$9),\"\",IF(OR(B281=Dimension!$A$3,B281=Dimension!$A$4,B281=Dimension!$A$5),\"สถานประกอบการ\",\"\"))","v":""},{"$f":"IF(OR(B281=Dimension!$A$6,B281=Dimension!$A$7,B281=Dimension!$A$8,B281=Dimension!$A$9,B281=\"\"),\"\",Payment_ID2)","v":""},"",null,null,{"$f":"IF(D281=Dimension!$C$9,IF(LEFT(UPPER(E281),2)=\"MC\",TRUE,FALSE),TRUE)","v":true}]
[null,null,null,{"$f":"IF(B282=Dimension!$A$8,Dimension!$C$9,IF(B282=Dimension!$A$6,CD,\"\"))","v":""},null,{"$f":"IF(OR(B282=Dimension!$A$3,B282=Dimension!$A$4,B282=Dimension!$A$6,B282=Dimension!$A$8),CCYA,\"\")","v":""},{"$f":"IFERROR(VLOOKUP(F282,Dimension!$G$3:$H$252,2,FALSE),\"\")","v":""},{"$f":"IF(OR(B282=Dimension!$A$3,B282=Dimension!$A$4,B282=Dimension!$A$5),\"เดินทาง/ท่องเที่ยว\",\"\")","v":""},{"$f":"IF(OR(B282=Dimension!$A$6,B282=Dimension!$A$7,B282=Dimension!$A$8,B282=Dimension!$A$9),\"\",IF(OR(B282=Dimension!$A$3,B282=Dimension!$A$4,B282=Dimension!$A$5),\"สถานประกอบการ\",\"\"))","v":""},{"$f":"IF(OR(B282=Dimension!$A$3,B282=Dimension!$A$4,B282=Dimension!$A$5,B282=Dimension!$A$6,,B282=Dimension!$A$7,B282=Dimension!$A$8,B282=Dimension!$A$9),Payment_ID2,\"\")","v":""},null,{"$f":"IFERROR(VLOOKUP(K282,Dimension!$J$3:$K$179,2,FALSE),\"\")","v":""},null,null,{"$f":"IF(OR(B282=Dimension!$A$6,B282=Dimension!$A$7,B282=Dimension!$A$8,B282=Dimension!$A$9),\"\",IF(OR(B282=Dimension!$A$3,B282=Dimension!$A$4,B282=Dimension!$A$5),\"สถานประกอบการ\",\"\"))","v":""},{"$f":"IF(OR(B282=Dimension!$A$6,B282=Dimension!$A$7,B282=Dimension!$A$8,B282=Dimension!$A$9,B282=\"\"),\"\",Payment_ID2)","v":""},"",null,null,{"$f":"IF(D282=Dimension!$C$9,IF(LEFT(UPPER(E282),2)=\"MC\",TRUE,FALSE),TRUE)","v":true}]
[null,null,null,{"$f":"IF(B283=Dimension!$A$8,Dimension!$C$9,IF(B283=Dimension!$A$6,CD,\"\"))","v":""},null,{"$f":"IF(OR(B283=Dimension!$A$3,B283=Dimension!$A$4,B283=Dimension!$A$6,B283=Dimension!$A$8),CCYA,\"\")","v":""},{"$f":"IFERROR(VLOOKUP(F283,Dimension!$G$3:$H$252,2,FALSE),\"\")","v":""},{"$f":"IF(OR(B283=Dimension!$A$3,B283=Dimension!$A$4,B283=Dimension!$A$5),\"เดินทาง/ท่องเที่ยว\",\"\")","v":""},{"$f":"IF(OR(B283=Dimension!$A$6,B283=Dimension!$A$7,B283=Dimension!$A$8,B283=Dimension!$A$9),\"\",IF(OR(B283=Dimension!$A$3,B283=Dimension!$A$4,B283=Dimension!$A$5),\"สถานประกอบการ\",\"\"))","v":""},{"$f":"IF(OR(B283=Dimension!$A$3,B283=Dimension!$A$4,B283=Dimension!$A$5,B283=Dimension!$A$6,,B283=Dimension!$A$7,B283=Dimension!$A$8,B283=Dimension!$A$9),Payment_ID2,\"\")","v":""},null,{"$f":"IFERROR(VLOOKUP(K283,Dimension!$J$3:$K$179,2,FALSE),\"\")","v":""},null,null,{"$f":"IF(OR(B283=Dimension!$A$6,B283=Dimension!$A$7,B283=Dimension!$A$8,B283=Dimension!$A$9),\"\",IF(OR(B283=Dimension!$A$3,B283=Dimension!$A$4,B283=Dimension!$A$5),\"สถานประกอบการ\",\"\"))","v":""},{"$f":"IF(OR(B283=Dimension!$A$6,B283=Dimension!$A$7,B283=Dimension!$A$8,B283=Dimension!$A$9,B283=\"\"),\"\",Payment_ID2)","v":""},"",null,null,{"$f":"IF(D283=Dimension!$C$9,IF(LEFT(UPPER(E283),2)=\"MC\",TRUE,FALSE),TRUE)","v":true}]
[null,null,null,{"$f":"IF(B284=Dimension!$A$8,Dimension!$C$9,IF(B284=Dimension!$A$6,CD,\"\"))","v":""},null,{"$f":"IF(OR(B284=Dimension!$A$3,B284=Dimension!$A$4,B284=Dimension!$A$6,B284=Dimension!$A$8),CCYA,\"\")","v":""},{"$f":"IFERROR(VLOOKUP(F284,Dimension!$G$3:$H$252,2,FALSE),\"\")","v":""},{"$f":"IF(OR(B284=Dimension!$A$3,B284=Dimension!$A$4,B284=Dimension!$A$5),\"เดินทาง/ท่องเที่ยว\",\"\")","v":""},{"$f":"IF(OR(B284=Dimension!$A$6,B284=Dimension!$A$7,B284=Dimension!$A$8,B284=Dimension!$A$9),\"\",IF(OR(B284=Dimension!$A$3,B284=Dimension!$A$4,B284=Dimension!$A$5),\"สถานประกอบการ\",\"\"))","v":""},{"$f":"IF(OR(B284=Dimension!$A$3,B284=Dimension!$A$4,B284=Dimension!$A$5,B284=Dimension!$A$6,,B284=Dimension!$A$7,B284=Dimension!$A$8,B284=Dimension!$A$9),Payment_ID2,\"\")","v":""},null,{"$f":"IFERROR(VLOOKUP(K284,Dimension!$J$3:$K$179,2,FALSE),\"\")","v":""},null,null,{"$f":"IF(OR(B284=Dimension!$A$6,B284=Dimension!$A$7,B284=Dimension!$A$8,B284=Dimension!$A$9),\"\",IF(OR(B284=Dimension!$A$3,B284=Dimension!$A$4,B284=Dimension!$A$5),\"สถานประกอบการ\",\"\"))","v":""},{"$f":"IF(OR(B284=Dimension!$A$6,B284=Dimension!$A$7,B284=Dimension!$A$8,B284=Dimension!$A$9,B284=\"\"),\"\",Payment_ID2)","v":""},"",null,null,{"$f":"IF(D284=Dimension!$C$9,IF(LEFT(UPPER(E284),2)=\"MC\",TRUE,FALSE),TRUE)","v":true}]
[null,null,null,{"$f":"IF(B285=Dimension!$A$8,Dimension!$C$9,IF(B285=Dimension!$A$6,CD,\"\"))","v":""},null,{"$f":"IF(OR(B285=Dimension!$A$3,B285=Dimension!$A$4,B285=Dimension!$A$6,B285=Dimension!$A$8),CCYA,\"\")","v":""},{"$f":"IFERROR(VLOOKUP(F285,Dimension!$G$3:$H$252,2,FALSE),\"\")","v":""},{"$f":"IF(OR(B285=Dimension!$A$3,B285=Dimension!$A$4,B285=Dimension!$A$5),\"เดินทาง/ท่องเที่ยว\",\"\")","v":""},{"$f":"IF(OR(B285=Dimension!$A$6,B285=Dimension!$A$7,B285=Dimension!$A$8,B285=Dimension!$A$9),\"\",IF(OR(B285=Dimension!$A$3,B285=Dimension!$A$4,B285=Dimension!$A$5),\"สถานประกอบการ\",\"\"))","v":""},{"$f":"IF(OR(B285=Dimension!$A$3,B285=Dimension!$A$4,B285=Dimension!$A$5,B285=Dimension!$A$6,,B285=Dimension!$A$7,B285=Dimension!$A$8,B285=Dimension!$A$9),Payment_ID2,\"\")","v":""},null,{"$f":"IFERROR(VLOOKUP(K285,Dimension!$J$3:$K$179,2,FALSE),\"\")","v":""},null,null,{"$f":"IF(OR(B285=Dimension!$A$6,B285=Dimension!$A$7,B285=Dimension!$A$8,B285=Dimension!$A$9),\"\",IF(OR(B285=Dimension!$A$3,B285=Dimension!$A$4,B285=Dimension!$A$5),\"สถานประกอบการ\",\"\"))","v":""},{"$f":"IF(OR(B285=Dimension!$A$6,B285=Dimension!$A$7,B285=Dimension!$A$8,B285=Dimension!$A$9,B285=\"\"),\"\",Payment_ID2)","v":""},"",null,null,{"$f":"IF(D285=Dimension!$C$9,IF(LEFT(UPPER(E285),2)=\"MC\",TRUE,FALSE),TRUE)","v":true}]
[null,null,null,{"$f":"IF(B286=Dimension!$A$8,Dimension!$C$9,IF(B286=Dimension!$A$6,CD,\"\"))","v":""},null,{"$f":"IF(OR(B286=Dimension!$A$3,B286=Dimension!$A$4,B286=Dimension!$A$6,B286=Dimension!$A$8),CCYA,\"\")","v":""},{"$f":"IFERROR(VLOOKUP(F286,Dimension!$G$3:$H$252,2,FALSE),\"\")","v":""},{"$f":"IF(OR(B286=Dimension!$A$3,B286=Dimension!$A$4,B286=Dimension!$A$5),\"เดินทาง/ท่องเที่ยว\",\"\")","v":""},{"$f":"IF(OR(B286=Dimension!$A$6,B286=Dimension!$A$7,B286=Dimension!$A$8,B286=Dimension!$A$9),\"\",IF(OR(B286=Dimension!$A$3,B286=Dimension!$A$4,B286=Dimension!$A$5),\"สถานประกอบการ\",\"\"))","v":""},{"$f":"IF(OR(B286=Dimension!$A$3,B286=Dimension!$A$4,B286=Dimension!$A$5,B286=Dimension!$A$6,,B286=Dimension!$A$7,B286=Dimension!$A$8,B286=Dimension!$A$9),Payment_ID2,\"\")","v":""},null,{"$f":"IFERROR(VLOOKUP(K286,Dimension!$J$3:$K$179,2,FALSE),\"\")","v":""},null,null,{"$f":"IF(OR(B286=Dimension!$A$6,B286=Dimension!$A$7,B286=Dimension!$A$8,B286=Dimension!$A$9),\"\",IF(OR(B286=Dimension!$A$3,B286=Dimension!$A$4,B286=Dimension!$A$5),\"สถานประกอบการ\",\"\"))","v":""},{"$f":"IF(OR(B286=Dimension!$A$6,B286=Dimension!$A$7,B286=Dimension!$A$8,B286=Dimension!$A$9,B286=\"\"),\"\",Payment_ID2)","v":""},"",null,null,{"$f":"IF(D286=Dimension!$C$9,IF(LEFT(UPPER(E286),2)=\"MC\",TRUE,FALSE),TRUE)","v":true}]
[null,null,null,{"$f":"IF(B287=Dimension!$A$8,Dimension!$C$9,IF(B287=Dimension!$A$6,CD,\"\"))","v":""},null,{"$f":"IF(OR(B287=Dimension!$A$3,B287=Dimension!$A$4,B287=Dimension!$A$6,B287=Dimension!$A$8),CCYA,\"\")","v":""},{"$f":"IFERROR(VLOOKUP(F287,Dimension!$G$3:$H$252,2,FALSE),\"\")","v":""},{"$f":"IF(OR(B287=Dimension!$A$3,B287=Dimension!$A$4,B287=Dimension!$A$5),\"เดินทาง/ท่องเที่ยว\",\"\")","v":""},{"$f":"IF(OR(B287=Dimension!$A$6,B287=Dimension!$A$7,B287=Dimension!$A$8,B287=Dimension!$A$9),\"\",IF(OR(B287=Dimension!$A$3,B287=Dimension!$A$4,B287=Dimension!$A$5),\"สถานประกอบการ\",\"\"))","v":""},{"$f":"IF(OR(B287=Dimension!$A$3,B287=Dimension!$A$4,B287=Dimension!$A$5,B287=Dimension!$A$6,,B287=Dimension!$A$7,B287=Dimension!$A$8,B287=Dimension!$A$9),Payment_ID2,\"\")","v":""},null,{"$f":"IFERROR(VLOOKUP(K287,Dimension!$J$3:$K$179,2,FALSE),\"\")","v":""},null,null,{"$f":"IF(OR(B287=Dimension!$A$6,B287=Dimension!$A$7,B287=Dimension!$A$8,B287=Dimension!$A$9),\"\",IF(OR(B287=Dimension!$A$3,B287=Dimension!$A$4,B287=Dimension!$A$5),\"สถานประกอบการ\",\"\"))","v":""},{"$f":"IF(OR(B287=Dimension!$A$6,B287=Dimension!$A$7,B287=Dimension!$A$8,B287=Dimension!$A$9,B287=\"\"),\"\",Payment_ID2)","v":""},"",null,null,{"$f":"IF(D287=Dimension!$C$9,IF(LEFT(UPPER(E287),2)=\"MC\",TRUE,FALSE),TRUE)","v":true}]
[null,null,null,{"$f":"IF(B288=Dimension!$A$8,Dimension!$C$9,IF(B288=Dimension!$A$6,CD,\"\"))","v":""},null,{"$f":"IF(OR(B288=Dimension!$A$3,B288=Dimension!$A$4,B288=Dimension!$A$6,B288=Dimension!$A$8),CCYA,\"\")","v":""},{"$f":"IFERROR(VLOOKUP(F288,Dimension!$G$3:$H$252,2,FALSE),\"\")","v":""},{"$f":"IF(OR(B288=Dimension!$A$3,B288=Dimension!$A$4,B288=Dimension!$A$5),\"เดินทาง/ท่องเที่ยว\",\"\")","v":""},{"$f":"IF(OR(B288=Dimension!$A$6,B288=Dimension!$A$7,B288=Dimension!$A$8,B288=Dimension!$A$9),\"\",IF(OR(B288=Dimension!$A$3,B288=Dimension!$A$4,B288=Dimension!$A$5),\"สถานประกอบการ\",\"\"))","v":""},{"$f":"IF(OR(B288=Dimension!$A$3,B288=Dimension!$A$4,B288=Dimension!$A$5,B288=Dimension!$A$6,,B288=Dimension!$A$7,B288=Dimension!$A$8,B288=Dimension!$A$9),Payment_ID2,\"\")","v":""},null,{"$f":"IFERROR(VLOOKUP(K288,Dimension!$J$3:$K$179,2,FALSE),\"\")","v":""},null,null,{"$f":"IF(OR(B288=Dimension!$A$6,B288=Dimension!$A$7,B288=Dimension!$A$8,B288=Dimension!$A$9),\"\",IF(OR(B288=Dimension!$A$3,B288=Dimension!$A$4,B288=Dimension!$A$5),\"สถานประกอบการ\",\"\"))","v":""},{"$f":"IF(OR(B288=Dimension!$A$6,B288=Dimension!$A$7,B288=Dimension!$A$8,B288=Dimension!$A$9,B288=\"\"),\"\",Payment_ID2)","v":""},"",null,null,{"$f":"IF(D288=Dimension!$C$9,IF(LEFT(UPPER(E288),2)=\"MC\",TRUE,FALSE),TRUE)","v":true}]
[null,null,null,{"$f":"IF(B289=Dimension!$A$8,Dimension!$C$9,IF(B289=Dimension!$A$6,CD,\"\"))","v":""},null,{"$f":"IF(OR(B289=Dimension!$A$3,B289=Dimension!$A$4,B289=Dimension!$A$6,B289=Dimension!$A$8),CCYA,\"\")","v":""},{"$f":"IFERROR(VLOOKUP(F289,Dimension!$G$3:$H$252,2,FALSE),\"\")","v":""},{"$f":"IF(OR(B289=Dimension!$A$3,B289=Dimension!$A$4,B289=Dimension!$A$5),\"เดินทาง/ท่องเที่ยว\",\"\")","v":""},{"$f":"IF(OR(B289=Dimension!$A$6,B289=Dimension!$A$7,B289=Dimension!$A$8,B289=Dimension!$A$9),\"\",IF(OR(B289=Dimension!$A$3,B289=Dimension!$A$4,B289=Dimension!$A$5),\"สถานประกอบการ\",\"\"))","v":""},{"$f":"IF(OR(B289=Dimension!$A$3,B289=Dimension!$A$4,B289=Dimension!$A$5,B289=Dimension!$A$6,,B289=Dimension!$A$7,B289=Dimension!$A$8,B289=Dimension!$A$9),Payment_ID2,\"\")","v":""},null,{"$f":"IFERROR(VLOOKUP(K289,Dimension!$J$3:$K$179,2,FALSE),\"\")","v":""},null,null,{"$f":"IF(OR(B289=Dimension!$A$6,B289=Dimension!$A$7,B289=Dimension!$A$8,B289=Dimension!$A$9),\"\",IF(OR(B289=Dimension!$A$3,B289=Dimension!$A$4,B289=Dimension!$A$5),\"สถานประกอบการ\",\"\"))","v":""},{"$f":"IF(OR(B289=Dimension!$A$6,B289=Dimension!$A$7,B289=Dimension!$A$8,B289=Dimension!$A$9,B289=\"\"),\"\",Payment_ID2)","v":""},"",null,null,{"$f":"IF(D289=Dimension!$C$9,IF(LEFT(UPPER(E289),2)=\"MC\",TRUE,FALSE),TRUE)","v":true}]
[null,null,null,{"$f":"IF(B290=Dimension!$A$8,Dimension!$C$9,IF(B290=Dimension!$A$6,CD,\"\"))","v":""},null,{"$f":"IF(OR(B290=Dimension!$A$3,B290=Dimension!$A$4,B290=Dimension!$A$6,B290=Dimension!$A$8),CCYA,\"\")","v":""},{"$f":"IFERROR(VLOOKUP(F290,Dimension!$G$3:$H$252,2,FALSE),\"\")","v":""},{"$f":"IF(OR(B290=Dimension!$A$3,B290=Dimension!$A$4,B290=Dimension!$A$5),\"เดินทาง/ท่องเที่ยว\",\"\")","v":""},{"$f":"IF(OR(B290=Dimension!$A$6,B290=Dimension!$A$7,B290=Dimension!$A$8,B290=Dimension!$A$9),\"\",IF(OR(B290=Dimension!$A$3,B290=Dimension!$A$4,B290=Dimension!$A$5),\"สถานประกอบการ\",\"\"))","v":""},{"$f":"IF(OR(B290=Dimension!$A$3,B290=Dimension!$A$4,B290=Dimension!$A$5,B290=Dimension!$A$6,,B290=Dimension!$A$7,B290=Dimension!$A$8,B290=Dimension!$A$9),Payment_ID2,\"\")","v":""},null,{"$f":"IFERROR(VLOOKUP(K290,Dimension!$J$3:$K$179,2,FALSE),\"\")","v":""},null,null,{"$f":"IF(OR(B290=Dimension!$A$6,B290=Dimension!$A$7,B290=Dimension!$A$8,B290=Dimension!$A$9),\"\",IF(OR(B290=Dimension!$A$3,B290=Dimension!$A$4,B290=Dimension!$A$5),\"สถานประกอบการ\",\"\"))","v":""},{"$f":"IF(OR(B290=Dimension!$A$6,B290=Dimension!$A$7,B290=Dimension!$A$8,B290=Dimension!$A$9,B290=\"\"),\"\",Payment_ID2)","v":""},"",null,null,{"$f":"IF(D290=Dimension!$C$9,IF(LEFT(UPPER(E290),2)=\"MC\",TRUE,FALSE),TRUE)","v":true}]
[null,null,null,{"$f":"IF(B291=Dimension!$A$8,Dimension!$C$9,IF(B291=Dimension!$A$6,CD,\"\"))","v":""},null,{"$f":"IF(OR(B291=Dimension!$A$3,B291=Dimension!$A$4,B291=Dimension!$A$6,B291=Dimension!$A$8),CCYA,\"\")","v":""},{"$f":"IFERROR(VLOOKUP(F291,Dimension!$G$3:$H$252,2,FALSE),\"\")","v":""},{"$f":"IF(OR(B291=Dimension!$A$3,B291=Dimension!$A$4,B291=Dimension!$A$5),\"เดินทาง/ท่องเที่ยว\",\"\")","v":""},{"$f":"IF(OR(B291=Dimension!$A$6,B291=Dimension!$A$7,B291=Dimension!$A$8,B291=Dimension!$A$9),\"\",IF(OR(B291=Dimension!$A$3,B291=Dimension!$A$4,B291=Dimension!$A$5),\"สถานประกอบการ\",\"\"))","v":""},{"$f":"IF(OR(B291=Dimension!$A$3,B291=Dimension!$A$4,B291=Dimension!$A$5,B291=Dimension!$A$6,,B291=Dimension!$A$7,B291=Dimension!$A$8,B291=Dimension!$A$9),Payment_ID2,\"\")","v":""},null,{"$f":"IFERROR(VLOOKUP(K291,Dimension!$J$3:$K$179,2,FALSE),\"\")","v":""},null,null,{"$f":"IF(OR(B291=Dimension!$A$6,B291=Dimension!$A$7,B291=Dimension!$A$8,B291=Dimension!$A$9),\"\",IF(OR(B291=Dimension!$A$3,B291=Dimension!$A$4,B291=Dimension!$A$5),\"สถานประกอบการ\",\"\"))","v":""},{"$f":"IF(OR(B291=Dimension!$A$6,B291=Dimension!$A$7,B291=Dimension!$A$8,B291=Dimension!$A$9,B291=\"\"),\"\",Payment_ID2)","v":""},"",null,null,{"$f":"IF(D291=Dimension!$C$9,IF(LEFT(UPPER(E291),2)=\"MC\",TRUE,FALSE),TRUE)","v":true}]
[null,null,null,{"$f":"IF(B292=Dimension!$A$8,Dimension!$C$9,IF(B292=Dimension!$A$6,CD,\"\"))","v":""},null,{"$f":"IF(OR(B292=Dimension!$A$3,B292=Dimension!$A$4,B292=Dimension!$A$6,B292=Dimension!$A$8),CCYA,\"\")","v":""},{"$f":"IFERROR(VLOOKUP(F292,Dimension!$G$3:$H$252,2,FALSE),\"\")","v":""},{"$f":"IF(OR(B292=Dimension!$A$3,B292=Dimension!$A$4,B292=Dimension!$A$5),\"เดินทาง/ท่องเที่ยว\",\"\")","v":""},{"$f":"IF(OR(B292=Dimension!$A$6,B292=Dimension!$A$7,B292=Dimension!$A$8,B292=Dimension!$A$9),\"\",IF(OR(B292=Dimension!$A$3,B292=Dimension!$A$4,B292=Dimension!$A$5),\"สถานประกอบการ\",\"\"))","v":""},{"$f":"IF(OR(B292=Dimension!$A$3,B292=Dimension!$A$4,B292=Dimension!$A$5,B292=Dimension!$A$6,,B292=Dimension!$A$7,B292=Dimension!$A$8,B292=Dimension!$A$9),Payment_ID2,\"\")","v":""},null,{"$f":"IFERROR(VLOOKUP(K292,Dimension!$J$3:$K$179,2,FALSE),\"\")","v":""},null,null,{"$f":"IF(OR(B292=Dimension!$A$6,B292=Dimension!$A$7,B292=Dimension!$A$8,B292=Dimension!$A$9),\"\",IF(OR(B292=Dimension!$A$3,B292=Dimension!$A$4,B292=Dimension!$A$5),\"สถานประกอบการ\",\"\"))","v":""},{"$f":"IF(OR(B292=Dimension!$A$6,B292=Dimension!$A$7,B292=Dimension!$A$8,B292=Dimension!$A$9,B292=\"\"),\"\",Payment_ID2)","v":""},"",null,null,{"$f":"IF(D292=Dimension!$C$9,IF(LEFT(UPPER(E292),2)=\"MC\",TRUE,FALSE),TRUE)","v":true}]
[null,null,null,{"$f":"IF(B293=Dimension!$A$8,Dimension!$C$9,IF(B293=Dimension!$A$6,CD,\"\"))","v":""},null,{"$f":"IF(OR(B293=Dimension!$A$3,B293=Dimension!$A$4,B293=Dimension!$A$6,B293=Dimension!$A$8),CCYA,\"\")","v":""},{"$f":"IFERROR(VLOOKUP(F293,Dimension!$G$3:$H$252,2,FALSE),\"\")","v":""},{"$f":"IF(OR(B293=Dimension!$A$3,B293=Dimension!$A$4,B293=Dimension!$A$5),\"เดินทาง/ท่องเที่ยว\",\"\")","v":""},{"$f":"IF(OR(B293=Dimension!$A$6,B293=Dimension!$A$7,B293=Dimension!$A$8,B293=Dimension!$A$9),\"\",IF(OR(B293=Dimension!$A$3,B293=Dimension!$A$4,B293=Dimension!$A$5),\"สถานประกอบการ\",\"\"))","v":""},{"$f":"IF(OR(B293=Dimension!$A$3,B293=Dimension!$A$4,B293=Dimension!$A$5,B293=Dimension!$A$6,,B293=Dimension!$A$7,B293=Dimension!$A$8,B293=Dimension!$A$9),Payment_ID2,\"\")","v":""},null,{"$f":"IFERROR(VLOOKUP(K293,Dimension!$J$3:$K$179,2,FALSE),\"\")","v":""},null,null,{"$f":"IF(OR(B293=Dimension!$A$6,B293=Dimension!$A$7,B293=Dimension!$A$8,B293=Dimension!$A$9),\"\",IF(OR(B293=Dimension!$A$3,B293=Dimension!$A$4,B293=Dimension!$A$5),\"สถานประกอบการ\",\"\"))","v":""},{"$f":"IF(OR(B293=Dimension!$A$6,B293=Dimension!$A$7,B293=Dimension!$A$8,B293=Dimension!$A$9,B293=\"\"),\"\",Payment_ID2)","v":""},"",null,null,{"$f":"IF(D293=Dimension!$C$9,IF(LEFT(UPPER(E293),2)=\"MC\",TRUE,FALSE),TRUE)","v":true}]
[null,null,null,{"$f":"IF(B294=Dimension!$A$8,Dimension!$C$9,IF(B294=Dimension!$A$6,CD,\"\"))","v":""},null,{"$f":"IF(OR(B294=Dimension!$A$3,B294=Dimension!$A$4,B294=Dimension!$A$6,B294=Dimension!$A$8),CCYA,\"\")","v":""},{"$f":"IFERROR(VLOOKUP(F294,Dimension!$G$3:$H$252,2,FALSE),\"\")","v":""},{"$f":"IF(OR(B294=Dimension!$A$3,B294=Dimension!$A$4,B294=Dimension!$A$5),\"เดินทาง/ท่องเที่ยว\",\"\")","v":""},{"$f":"IF(OR(B294=Dimension!$A$6,B294=Dimension!$A$7,B294=Dimension!$A$8,B294=Dimension!$A$9),\"\",IF(OR(B294=Dimension!$A$3,B294=Dimension!$A$4,B294=Dimension!$A$5),\"สถานประกอบการ\",\"\"))","v":""},{"$f":"IF(OR(B294=Dimension!$A$3,B294=Dimension!$A$4,B294=Dimension!$A$5,B294=Dimension!$A$6,,B294=Dimension!$A$7,B294=Dimension!$A$8,B294=Dimension!$A$9),Payment_ID2,\"\")","v":""},null,{"$f":"IFERROR(VLOOKUP(K294,Dimension!$J$3:$K$179,2,FALSE),\"\")","v":""},null,null,{"$f":"IF(OR(B294=Dimension!$A$6,B294=Dimension!$A$7,B294=Dimension!$A$8,B294=Dimension!$A$9),\"\",IF(OR(B294=Dimension!$A$3,B294=Dimension!$A$4,B294=Dimension!$A$5),\"สถานประกอบการ\",\"\"))","v":""},{"$f":"IF(OR(B294=Dimension!$A$6,B294=Dimension!$A$7,B294=Dimension!$A$8,B294=Dimension!$A$9,B294=\"\"),\"\",Payment_ID2)","v":""},"",null,null,{"$f":"IF(D294=Dimension!$C$9,IF(LEFT(UPPER(E294),2)=\"MC\",TRUE,FALSE),TRUE)","v":true}]
[null,null,null,{"$f":"IF(B295=Dimension!$A$8,Dimension!$C$9,IF(B295=Dimension!$A$6,CD,\"\"))","v":""},null,{"$f":"IF(OR(B295=Dimension!$A$3,B295=Dimension!$A$4,B295=Dimension!$A$6,B295=Dimension!$A$8),CCYA,\"\")","v":""},{"$f":"IFERROR(VLOOKUP(F295,Dimension!$G$3:$H$252,2,FALSE),\"\")","v":""},{"$f":"IF(OR(B295=Dimension!$A$3,B295=Dimension!$A$4,B295=Dimension!$A$5),\"เดินทาง/ท่องเที่ยว\",\"\")","v":""},{"$f":"IF(OR(B295=Dimension!$A$6,B295=Dimension!$A$7,B295=Dimension!$A$8,B295=Dimension!$A$9),\"\",IF(OR(B295=Dimension!$A$3,B295=Dimension!$A$4,B295=Dimension!$A$5),\"สถานประกอบการ\",\"\"))","v":""},{"$f":"IF(OR(B295=Dimension!$A$3,B295=Dimension!$A$4,B295=Dimension!$A$5,B295=Dimension!$A$6,,B295=Dimension!$A$7,B295=Dimension!$A$8,B295=Dimension!$A$9),Payment_ID2,\"\")","v":""},null,{"$f":"IFERROR(VLOOKUP(K295,Dimension!$J$3:$K$179,2,FALSE),\"\")","v":""},null,null,{"$f":"IF(OR(B295=Dimension!$A$6,B295=Dimension!$A$7,B295=Dimension!$A$8,B295=Dimension!$A$9),\"\",IF(OR(B295=Dimension!$A$3,B295=Dimension!$A$4,B295=Dimension!$A$5),\"สถานประกอบการ\",\"\"))","v":""},{"$f":"IF(OR(B295=Dimension!$A$6,B295=Dimension!$A$7,B295=Dimension!$A$8,B295=Dimension!$A$9,B295=\"\"),\"\",Payment_ID2)","v":""},"",null,null,{"$f":"IF(D295=Dimension!$C$9,IF(LEFT(UPPER(E295),2)=\"MC\",TRUE,FALSE),TRUE)","v":true}]
[null,null,null,{"$f":"IF(B296=Dimension!$A$8,Dimension!$C$9,IF(B296=Dimension!$A$6,CD,\"\"))","v":""},null,{"$f":"IF(OR(B296=Dimension!$A$3,B296=Dimension!$A$4,B296=Dimension!$A$6,B296=Dimension!$A$8),CCYA,\"\")","v":""},{"$f":"IFERROR(VLOOKUP(F296,Dimension!$G$3:$H$252,2,FALSE),\"\")","v":""},{"$f":"IF(OR(B296=Dimension!$A$3,B296=Dimension!$A$4,B296=Dimension!$A$5),\"เดินทาง/ท่องเที่ยว\",\"\")","v":""},{"$f":"IF(OR(B296=Dimension!$A$6,B296=Dimension!$A$7,B296=Dimension!$A$8,B296=Dimension!$A$9),\"\",IF(OR(B296=Dimension!$A$3,B296=Dimension!$A$4,B296=Dimension!$A$5),\"สถานประกอบการ\",\"\"))","v":""},{"$f":"IF(OR(B296=Dimension!$A$3,B296=Dimension!$A$4,B296=Dimension!$A$5,B296=Dimension!$A$6,,B296=Dimension!$A$7,B296=Dimension!$A$8,B296=Dimension!$A$9),Payment_ID2,\"\")","v":""},null,{"$f":"IFERROR(VLOOKUP(K296,Dimension!$J$3:$K$179,2,FALSE),\"\")","v":""},null,null,{"$f":"IF(OR(B296=Dimension!$A$6,B296=Dimension!$A$7,B296=Dimension!$A$8,B296=Dimension!$A$9),\"\",IF(OR(B296=Dimension!$A$3,B296=Dimension!$A$4,B296=Dimension!$A$5),\"สถานประกอบการ\",\"\"))","v":""},{"$f":"IF(OR(B296=Dimension!$A$6,B296=Dimension!$A$7,B296=Dimension!$A$8,B296=Dimension!$A$9,B296=\"\"),\"\",Payment_ID2)","v":""},"",null,null,{"$f":"IF(D296=Dimension!$C$9,IF(LEFT(UPPER(E296),2)=\"MC\",TRUE,FALSE),TRUE)","v":true}]
[null,null,null,{"$f":"IF(B297=Dimension!$A$8,Dimension!$C$9,IF(B297=Dimension!$A$6,CD,\"\"))","v":""},null,{"$f":"IF(OR(B297=Dimension!$A$3,B297=Dimension!$A$4,B297=Dimension!$A$6,B297=Dimension!$A$8),CCYA,\"\")","v":""},{"$f":"IFERROR(VLOOKUP(F297,Dimension!$G$3:$H$252,2,FALSE),\"\")","v":""},{"$f":"IF(OR(B297=Dimension!$A$3,B297=Dimension!$A$4,B297=Dimension!$A$5),\"เดินทาง/ท่องเที่ยว\",\"\")","v":""},{"$f":"IF(OR(B297=Dimension!$A$6,B297=Dimension!$A$7,B297=Dimension!$A$8,B297=Dimension!$A$9),\"\",IF(OR(B297=Dimension!$A$3,B297=Dimension!$A$4,B297=Dimension!$A$5),\"สถานประกอบการ\",\"\"))","v":""},{"$f":"IF(OR(B297=Dimension!$A$3,B297=Dimension!$A$4,B297=Dimension!$A$5,B297=Dimension!$A$6,,B297=Dimension!$A$7,B297=Dimension!$A$8,B297=Dimension!$A$9),Payment_ID2,\"\")","v":""},null,{"$f":"IFERROR(VLOOKUP(K297,Dimension!$J$3:$K$179,2,FALSE),\"\")","v":""},null,null,{"$f":"IF(OR(B297=Dimension!$A$6,B297=Dimension!$A$7,B297=Dimension!$A$8,B297=Dimension!$A$9),\"\",IF(OR(B297=Dimension!$A$3,B297=Dimension!$A$4,B297=Dimension!$A$5),\"สถานประกอบการ\",\"\"))","v":""},{"$f":"IF(OR(B297=Dimension!$A$6,B297=Dimension!$A$7,B297=Dimension!$A$8,B297=Dimension!$A$9,B297=\"\"),\"\",Payment_ID2)","v":""},"",null,null,{"$f":"IF(D297=Dimension!$C$9,IF(LEFT(UPPER(E297),2)=\"MC\",TRUE,FALSE),TRUE)","v":true}]
[null,null,null,{"$f":"IF(B298=Dimension!$A$8,Dimension!$C$9,IF(B298=Dimension!$A$6,CD,\"\"))","v":""},null,{"$f":"IF(OR(B298=Dimension!$A$3,B298=Dimension!$A$4,B298=Dimension!$A$6,B298=Dimension!$A$8),CCYA,\"\")","v":""},{"$f":"IFERROR(VLOOKUP(F298,Dimension!$G$3:$H$252,2,FALSE),\"\")","v":""},{"$f":"IF(OR(B298=Dimension!$A$3,B298=Dimension!$A$4,B298=Dimension!$A$5),\"เดินทาง/ท่องเที่ยว\",\"\")","v":""},{"$f":"IF(OR(B298=Dimension!$A$6,B298=Dimension!$A$7,B298=Dimension!$A$8,B298=Dimension!$A$9),\"\",IF(OR(B298=Dimension!$A$3,B298=Dimension!$A$4,B298=Dimension!$A$5),\"สถานประกอบการ\",\"\"))","v":""},{"$f":"IF(OR(B298=Dimension!$A$3,B298=Dimension!$A$4,B298=Dimension!$A$5,B298=Dimension!$A$6,,B298=Dimension!$A$7,B298=Dimension!$A$8,B298=Dimension!$A$9),Payment_ID2,\"\")","v":""},null,{"$f":"IFERROR(VLOOKUP(K298,Dimension!$J$3:$K$179,2,FALSE),\"\")","v":""},null,null,{"$f":"IF(OR(B298=Dimension!$A$6,B298=Dimension!$A$7,B298=Dimension!$A$8,B298=Dimension!$A$9),\"\",IF(OR(B298=Dimension!$A$3,B298=Dimension!$A$4,B298=Dimension!$A$5),\"สถานประกอบการ\",\"\"))","v":""},{"$f":"IF(OR(B298=Dimension!$A$6,B298=Dimension!$A$7,B298=Dimension!$A$8,B298=Dimension!$A$9,B298=\"\"),\"\",Payment_ID2)","v":""},"",null,null,{"$f":"IF(D298=Dimension!$C$9,IF(LEFT(UPPER(E298),2)=\"MC\",TRUE,FALSE),TRUE)","v":true}]
[null,null,null,{"$f":"IF(B299=Dimension!$A$8,Dimension!$C$9,IF(B299=Dimension!$A$6,CD,\"\"))","v":""},null,{"$f":"IF(OR(B299=Dimension!$A$3,B299=Dimension!$A$4,B299=Dimension!$A$6,B299=Dimension!$A$8),CCYA,\"\")","v":""},{"$f":"IFERROR(VLOOKUP(F299,Dimension!$G$3:$H$252,2,FALSE),\"\")","v":""},{"$f":"IF(OR(B299=Dimension!$A$3,B299=Dimension!$A$4,B299=Dimension!$A$5),\"เดินทาง/ท่องเที่ยว\",\"\")","v":""},{"$f":"IF(OR(B299=Dimension!$A$6,B299=Dimension!$A$7,B299=Dimension!$A$8,B299=Dimension!$A$9),\"\",IF(OR(B299=Dimension!$A$3,B299=Dimension!$A$4,B299=Dimension!$A$5),\"สถานประกอบการ\",\"\"))","v":""},{"$f":"IF(OR(B299=Dimension!$A$3,B299=Dimension!$A$4,B299=Dimension!$A$5,B299=Dimension!$A$6,,B299=Dimension!$A$7,B299=Dimension!$A$8,B299=Dimension!$A$9),Payment_ID2,\"\")","v":""},null,{"$f":"IFERROR(VLOOKUP(K299,Dimension!$J$3:$K$179,2,FALSE),\"\")","v":""},null,null,{"$f":"IF(OR(B299=Dimension!$A$6,B299=Dimension!$A$7,B299=Dimension!$A$8,B299=Dimension!$A$9),\"\",IF(OR(B299=Dimension!$A$3,B299=Dimension!$A$4,B299=Dimension!$A$5),\"สถานประกอบการ\",\"\"))","v":""},{"$f":"IF(OR(B299=Dimension!$A$6,B299=Dimension!$A$7,B299=Dimension!$A$8,B299=Dimension!$A$9,B299=\"\"),\"\",Payment_ID2)","v":""},"",null,null,{"$f":"IF(D299=Dimension!$C$9,IF(LEFT(UPPER(E299),2)=\"MC\",TRUE,FALSE),TRUE)","v":true}]
[null,null,null,{"$f":"IF(B300=Dimension!$A$8,Dimension!$C$9,IF(B300=Dimension!$A$6,CD,\"\"))","v":""},null,{"$f":"IF(OR(B300=Dimension!$A$3,B300=Dimension!$A$4,B300=Dimension!$A$6,B300=Dimension!$A$8),CCYA,\"\")","v":""},{"$f":"IFERROR(VLOOKUP(F300,Dimension!$G$3:$H$252,2,FALSE),\"\")","v":""},{"$f":"IF(OR(B300=Dimension!$A$3,B300=Dimension!$A$4,B300=Dimension!$A$5),\"เดินทาง/ท่องเที่ยว\",\"\")","v":""},{"$f":"IF(OR(B300=Dimension!$A$6,B300=Dimension!$A$7,B300=Dimension!$A$8,B300=Dimension!$A$9),\"\",IF(OR(B300=Dimension!$A$3,B300=Dimension!$A$4,B300=Dimension!$A$5),\"สถานประกอบการ\",\"\"))","v":""},{"$f":"IF(OR(B300=Dimension!$A$3,B300=Dimension!$A$4,B300=Dimension!$A$5,B300=Dimension!$A$6,,B300=Dimension!$A$7,B300=Dimension!$A$8,B300=Dimension!$A$9),Payment_ID2,\"\")","v":""},null,{"$f":"IFERROR(VLOOKUP(K300,Dimension!$J$3:$K$179,2,FALSE),\"\")","v":""},null,null,{"$f":"IF(OR(B300=Dimension!$A$6,B300=Dimension!$A$7,B300=Dimension!$A$8,B300=Dimension!$A$9),\"\",IF(OR(B300=Dimension!$A$3,B300=Dimension!$A$4,B300=Dimension!$A$5),\"สถานประกอบการ\",\"\"))","v":""},{"$f":"IF(OR(B300=Dimension!$A$6,B300=Dimension!$A$7,B300=Dimension!$A$8,B300=Dimension!$A$9,B300=\"\"),\"\",Payment_ID2)","v":""},"",null,null,{"$f":"IF(D300=Dimension!$C$9,IF(LEFT(UPPER(E300),2)=\"MC\",TRUE,FALSE),TRUE)","v":true}]
[null,null,null,{"$f":"IF(B301=Dimension!$A$8,Dimension!$C$9,IF(B301=Dimension!$A$6,CD,\"\"))","v":""},null,{"$f":"IF(OR(B301=Dimension!$A$3,B301=Dimension!$A$4,B301=Dimension!$A$6,B301=Dimension!$A$8),CCYA,\"\")","v":""},{"$f":"IFERROR(VLOOKUP(F301,Dimension!$G$3:$H$252,2,FALSE),\"\")","v":""},{"$f":"IF(OR(B301=Dimension!$A$3,B301=Dimension!$A$4,B301=Dimension!$A$5),\"เดินทาง/ท่องเที่ยว\",\"\")","v":""},{"$f":"IF(OR(B301=Dimension!$A$6,B301=Dimension!$A$7,B301=Dimension!$A$8,B301=Dimension!$A$9),\"\",IF(OR(B301=Dimension!$A$3,B301=Dimension!$A$4,B301=Dimension!$A$5),\"สถานประกอบการ\",\"\"))","v":""},{"$f":"IF(OR(B301=Dimension!$A$3,B301=Dimension!$A$4,B301=Dimension!$A$5,B301=Dimension!$A$6,,B301=Dimension!$A$7,B301=Dimension!$A$8,B301=Dimension!$A$9),Payment_ID2,\"\")","v":""},null,{"$f":"IFERROR(VLOOKUP(K301,Dimension!$J$3:$K$179,2,FALSE),\"\")","v":""},null,null,{"$f":"IF(OR(B301=Dimension!$A$6,B301=Dimension!$A$7,B301=Dimension!$A$8,B301=Dimension!$A$9),\"\",IF(OR(B301=Dimension!$A$3,B301=Dimension!$A$4,B301=Dimension!$A$5),\"สถานประกอบการ\",\"\"))","v":""},{"$f":"IF(OR(B301=Dimension!$A$6,B301=Dimension!$A$7,B301=Dimension!$A$8,B301=Dimension!$A$9,B301=\"\"),\"\",Payment_ID2)","v":""},"",null,null,{"$f":"IF(D301=Dimension!$C$9,IF(LEFT(UPPER(E301),2)=\"MC\",TRUE,FALSE),TRUE)","v":true}]
[null,null,null,{"$f":"IF(B302=Dimension!$A$8,Dimension!$C$9,IF(B302=Dimension!$A$6,CD,\"\"))","v":""},null,{"$f":"IF(OR(B302=Dimension!$A$3,B302=Dimension!$A$4,B302=Dimension!$A$6,B302=Dimension!$A$8),CCYA,\"\")","v":""},{"$f":"IFERROR(VLOOKUP(F302,Dimension!$G$3:$H$252,2,FALSE),\"\")","v":""},{"$f":"IF(OR(B302=Dimension!$A$3,B302=Dimension!$A$4,B302=Dimension!$A$5),\"เดินทาง/ท่องเที่ยว\",\"\")","v":""},{"$f":"IF(OR(B302=Dimension!$A$6,B302=Dimension!$A$7,B302=Dimension!$A$8,B302=Dimension!$A$9),\"\",IF(OR(B302=Dimension!$A$3,B302=Dimension!$A$4,B302=Dimension!$A$5),\"สถานประกอบการ\",\"\"))","v":""},{"$f":"IF(OR(B302=Dimension!$A$3,B302=Dimension!$A$4,B302=Dimension!$A$5,B302=Dimension!$A$6,,B302=Dimension!$A$7,B302=Dimension!$A$8,B302=Dimension!$A$9),Payment_ID2,\"\")","v":""},null,{"$f":"IFERROR(VLOOKUP(K302,Dimension!$J$3:$K$179,2,FALSE),\"\")","v":""},null,null,{"$f":"IF(OR(B302=Dimension!$A$6,B302=Dimension!$A$7,B302=Dimension!$A$8,B302=Dimension!$A$9),\"\",IF(OR(B302=Dimension!$A$3,B302=Dimension!$A$4,B302=Dimension!$A$5),\"สถานประกอบการ\",\"\"))","v":""},{"$f":"IF(OR(B302=Dimension!$A$6,B302=Dimension!$A$7,B302=Dimension!$A$8,B302=Dimension!$A$9,B302=\"\"),\"\",Payment_ID2)","v":""},"",null,null,{"$f":"IF(D302=Dimension!$C$9,IF(LEFT(UPPER(E302),2)=\"MC\",TRUE,FALSE),TRUE)","v":true}]
[null,null,null,{"$f":"IF(B303=Dimension!$A$8,Dimension!$C$9,IF(B303=Dimension!$A$6,CD,\"\"))","v":""},null,{"$f":"IF(OR(B303=Dimension!$A$3,B303=Dimension!$A$4,B303=Dimension!$A$6,B303=Dimension!$A$8),CCYA,\"\")","v":""},{"$f":"IFERROR(VLOOKUP(F303,Dimension!$G$3:$H$252,2,FALSE),\"\")","v":""},{"$f":"IF(OR(B303=Dimension!$A$3,B303=Dimension!$A$4,B303=Dimension!$A$5),\"เดินทาง/ท่องเที่ยว\",\"\")","v":""},{"$f":"IF(OR(B303=Dimension!$A$6,B303=Dimension!$A$7,B303=Dimension!$A$8,B303=Dimension!$A$9),\"\",IF(OR(B303=Dimension!$A$3,B303=Dimension!$A$4,B303=Dimension!$A$5),\"สถานประกอบการ\",\"\"))","v":""},{"$f":"IF(OR(B303=Dimension!$A$3,B303=Dimension!$A$4,B303=Dimension!$A$5,B303=Dimension!$A$6,,B303=Dimension!$A$7,B303=Dimension!$A$8,B303=Dimension!$A$9),Payment_ID2,\"\")","v":""},null,{"$f":"IFERROR(VLOOKUP(K303,Dimension!$J$3:$K$179,2,FALSE),\"\")","v":""},null,null,{"$f":"IF(OR(B303=Dimension!$A$6,B303=Dimension!$A$7,B303=Dimension!$A$8,B303=Dimension!$A$9),\"\",IF(OR(B303=Dimension!$A$3,B303=Dimension!$A$4,B303=Dimension!$A$5),\"สถานประกอบการ\",\"\"))","v":""},{"$f":"IF(OR(B303=Dimension!$A$6,B303=Dimension!$A$7,B303=Dimension!$A$8,B303=Dimension!$A$9,B303=\"\"),\"\",Payment_ID2)","v":""},"",null,null,{"$f":"IF(D303=Dimension!$C$9,IF(LEFT(UPPER(E303),2)=\"MC\",TRUE,FALSE),TRUE)","v":true}]
[null,null,null,{"$f":"IF(B304=Dimension!$A$8,Dimension!$C$9,IF(B304=Dimension!$A$6,CD,\"\"))","v":""},null,{"$f":"IF(OR(B304=Dimension!$A$3,B304=Dimension!$A$4,B304=Dimension!$A$6,B304=Dimension!$A$8),CCYA,\"\")","v":""},{"$f":"IFERROR(VLOOKUP(F304,Dimension!$G$3:$H$252,2,FALSE),\"\")","v":""},{"$f":"IF(OR(B304=Dimension!$A$3,B304=Dimension!$A$4,B304=Dimension!$A$5),\"เดินทาง/ท่องเที่ยว\",\"\")","v":""},{"$f":"IF(OR(B304=Dimension!$A$6,B304=Dimension!$A$7,B304=Dimension!$A$8,B304=Dimension!$A$9),\"\",IF(OR(B304=Dimension!$A$3,B304=Dimension!$A$4,B304=Dimension!$A$5),\"สถานประกอบการ\",\"\"))","v":""},{"$f":"IF(OR(B304=Dimension!$A$3,B304=Dimension!$A$4,B304=Dimension!$A$5,B304=Dimension!$A$6,,B304=Dimension!$A$7,B304=Dimension!$A$8,B304=Dimension!$A$9),Payment_ID2,\"\")","v":""},null,{"$f":"IFERROR(VLOOKUP(K304,Dimension!$J$3:$K$179,2,FALSE),\"\")","v":""},null,null,{"$f":"IF(OR(B304=Dimension!$A$6,B304=Dimension!$A$7,B304=Dimension!$A$8,B304=Dimension!$A$9),\"\",IF(OR(B304=Dimension!$A$3,B304=Dimension!$A$4,B304=Dimension!$A$5),\"สถานประกอบการ\",\"\"))","v":""},{"$f":"IF(OR(B304=Dimension!$A$6,B304=Dimension!$A$7,B304=Dimension!$A$8,B304=Dimension!$A$9,B304=\"\"),\"\",Payment_ID2)","v":""},"",null,null,{"$f":"IF(D304=Dimension!$C$9,IF(LEFT(UPPER(E304),2)=\"MC\",TRUE,FALSE),TRUE)","v":true}]
[null,null,null,{"$f":"IF(B305=Dimension!$A$8,Dimension!$C$9,IF(B305=Dimension!$A$6,CD,\"\"))","v":""},null,{"$f":"IF(OR(B305=Dimension!$A$3,B305=Dimension!$A$4,B305=Dimension!$A$6,B305=Dimension!$A$8),CCYA,\"\")","v":""},{"$f":"IFERROR(VLOOKUP(F305,Dimension!$G$3:$H$252,2,FALSE),\"\")","v":""},{"$f":"IF(OR(B305=Dimension!$A$3,B305=Dimension!$A$4,B305=Dimension!$A$5),\"เดินทาง/ท่องเที่ยว\",\"\")","v":""},{"$f":"IF(OR(B305=Dimension!$A$6,B305=Dimension!$A$7,B305=Dimension!$A$8,B305=Dimension!$A$9),\"\",IF(OR(B305=Dimension!$A$3,B305=Dimension!$A$4,B305=Dimension!$A$5),\"สถานประกอบการ\",\"\"))","v":""},{"$f":"IF(OR(B305=Dimension!$A$3,B305=Dimension!$A$4,B305=Dimension!$A$5,B305=Dimension!$A$6,,B305=Dimension!$A$7,B305=Dimension!$A$8,B305=Dimension!$A$9),Payment_ID2,\"\")","v":""},null,{"$f":"IFERROR(VLOOKUP(K305,Dimension!$J$3:$K$179,2,FALSE),\"\")","v":""},null,null,{"$f":"IF(OR(B305=Dimension!$A$6,B305=Dimension!$A$7,B305=Dimension!$A$8,B305=Dimension!$A$9),\"\",IF(OR(B305=Dimension!$A$3,B305=Dimension!$A$4,B305=Dimension!$A$5),\"สถานประกอบการ\",\"\"))","v":""},{"$f":"IF(OR(B305=Dimension!$A$6,B305=Dimension!$A$7,B305=Dimension!$A$8,B305=Dimension!$A$9,B305=\"\"),\"\",Payment_ID2)","v":""},"",null,null,{"$f":"IF(D305=Dimension!$C$9,IF(LEFT(UPPER(E305),2)=\"MC\",TRUE,FALSE),TRUE)","v":true}]
[null,null,null,{"$f":"IF(B306=Dimension!$A$8,Dimension!$C$9,IF(B306=Dimension!$A$6,CD,\"\"))","v":""},null,{"$f":"IF(OR(B306=Dimension!$A$3,B306=Dimension!$A$4,B306=Dimension!$A$6,B306=Dimension!$A$8),CCYA,\"\")","v":""},{"$f":"IFERROR(VLOOKUP(F306,Dimension!$G$3:$H$252,2,FALSE),\"\")","v":""},{"$f":"IF(OR(B306=Dimension!$A$3,B306=Dimension!$A$4,B306=Dimension!$A$5),\"เดินทาง/ท่องเที่ยว\",\"\")","v":""},{"$f":"IF(OR(B306=Dimension!$A$6,B306=Dimension!$A$7,B306=Dimension!$A$8,B306=Dimension!$A$9),\"\",IF(OR(B306=Dimension!$A$3,B306=Dimension!$A$4,B306=Dimension!$A$5),\"สถานประกอบการ\",\"\"))","v":""},{"$f":"IF(OR(B306=Dimension!$A$3,B306=Dimension!$A$4,B306=Dimension!$A$5,B306=Dimension!$A$6,,B306=Dimension!$A$7,B306=Dimension!$A$8,B306=Dimension!$A$9),Payment_ID2,\"\")","v":""},null,{"$f":"IFERROR(VLOOKUP(K306,Dimension!$J$3:$K$179,2,FALSE),\"\")","v":""},null,null,{"$f":"IF(OR(B306=Dimension!$A$6,B306=Dimension!$A$7,B306=Dimension!$A$8,B306=Dimension!$A$9),\"\",IF(OR(B306=Dimension!$A$3,B306=Dimension!$A$4,B306=Dimension!$A$5),\"สถานประกอบการ\",\"\"))","v":""},{"$f":"IF(OR(B306=Dimension!$A$6,B306=Dimension!$A$7,B306=Dimension!$A$8,B306=Dimension!$A$9,B306=\"\"),\"\",Payment_ID2)","v":""},"",null,null,{"$f":"IF(D306=Dimension!$C$9,IF(LEFT(UPPER(E306),2)=\"MC\",TRUE,FALSE),TRUE)","v":true}]
[null,null,null,{"$f":"IF(B307=Dimension!$A$8,Dimension!$C$9,IF(B307=Dimension!$A$6,CD,\"\"))","v":""},null,{"$f":"IF(OR(B307=Dimension!$A$3,B307=Dimension!$A$4,B307=Dimension!$A$6,B307=Dimension!$A$8),CCYA,\"\")","v":""},{"$f":"IFERROR(VLOOKUP(F307,Dimension!$G$3:$H$252,2,FALSE),\"\")","v":""},{"$f":"IF(OR(B307=Dimension!$A$3,B307=Dimension!$A$4,B307=Dimension!$A$5),\"เดินทาง/ท่องเที่ยว\",\"\")","v":""},{"$f":"IF(OR(B307=Dimension!$A$6,B307=Dimension!$A$7,B307=Dimension!$A$8,B307=Dimension!$A$9),\"\",IF(OR(B307=Dimension!$A$3,B307=Dimension!$A$4,B307=Dimension!$A$5),\"สถานประกอบการ\",\"\"))","v":""},{"$f":"IF(OR(B307=Dimension!$A$3,B307=Dimension!$A$4,B307=Dimension!$A$5,B307=Dimension!$A$6,,B307=Dimension!$A$7,B307=Dimension!$A$8,B307=Dimension!$A$9),Payment_ID2,\"\")","v":""},null,{"$f":"IFERROR(VLOOKUP(K307,Dimension!$J$3:$K$179,2,FALSE),\"\")","v":""},null,null,{"$f":"IF(OR(B307=Dimension!$A$6,B307=Dimension!$A$7,B307=Dimension!$A$8,B307=Dimension!$A$9),\"\",IF(OR(B307=Dimension!$A$3,B307=Dimension!$A$4,B307=Dimension!$A$5),\"สถานประกอบการ\",\"\"))","v":""},{"$f":"IF(OR(B307=Dimension!$A$6,B307=Dimension!$A$7,B307=Dimension!$A$8,B307=Dimension!$A$9,B307=\"\"),\"\",Payment_ID2)","v":""},"",null,null,{"$f":"IF(D307=Dimension!$C$9,IF(LEFT(UPPER(E307),2)=\"MC\",TRUE,FALSE),TRUE)","v":true}]
[null,null,null,{"$f":"IF(B308=Dimension!$A$8,Dimension!$C$9,IF(B308=Dimension!$A$6,CD,\"\"))","v":""},null,{"$f":"IF(OR(B308=Dimension!$A$3,B308=Dimension!$A$4,B308=Dimension!$A$6,B308=Dimension!$A$8),CCYA,\"\")","v":""},{"$f":"IFERROR(VLOOKUP(F308,Dimension!$G$3:$H$252,2,FALSE),\"\")","v":""},{"$f":"IF(OR(B308=Dimension!$A$3,B308=Dimension!$A$4,B308=Dimension!$A$5),\"เดินทาง/ท่องเที่ยว\",\"\")","v":""},{"$f":"IF(OR(B308=Dimension!$A$6,B308=Dimension!$A$7,B308=Dimension!$A$8,B308=Dimension!$A$9),\"\",IF(OR(B308=Dimension!$A$3,B308=Dimension!$A$4,B308=Dimension!$A$5),\"สถานประกอบการ\",\"\"))","v":""},{"$f":"IF(OR(B308=Dimension!$A$3,B308=Dimension!$A$4,B308=Dimension!$A$5,B308=Dimension!$A$6,,B308=Dimension!$A$7,B308=Dimension!$A$8,B308=Dimension!$A$9),Payment_ID2,\"\")","v":""},null,{"$f":"IFERROR(VLOOKUP(K308,Dimension!$J$3:$K$179,2,FALSE),\"\")","v":""},null,null,{"$f":"IF(OR(B308=Dimension!$A$6,B308=Dimension!$A$7,B308=Dimension!$A$8,B308=Dimension!$A$9),\"\",IF(OR(B308=Dimension!$A$3,B308=Dimension!$A$4,B308=Dimension!$A$5),\"สถานประกอบการ\",\"\"))","v":""},{"$f":"IF(OR(B308=Dimension!$A$6,B308=Dimension!$A$7,B308=Dimension!$A$8,B308=Dimension!$A$9,B308=\"\"),\"\",Payment_ID2)","v":""},"",null,null,{"$f":"IF(D308=Dimension!$C$9,IF(LEFT(UPPER(E308),2)=\"MC\",TRUE,FALSE),TRUE)","v":true}]
[null,null,null,{"$f":"IF(B309=Dimension!$A$8,Dimension!$C$9,IF(B309=Dimension!$A$6,CD,\"\"))","v":""},null,{"$f":"IF(OR(B309=Dimension!$A$3,B309=Dimension!$A$4,B309=Dimension!$A$6,B309=Dimension!$A$8),CCYA,\"\")","v":""},{"$f":"IFERROR(VLOOKUP(F309,Dimension!$G$3:$H$252,2,FALSE),\"\")","v":""},{"$f":"IF(OR(B309=Dimension!$A$3,B309=Dimension!$A$4,B309=Dimension!$A$5),\"เดินทาง/ท่องเที่ยว\",\"\")","v":""},{"$f":"IF(OR(B309=Dimension!$A$6,B309=Dimension!$A$7,B309=Dimension!$A$8,B309=Dimension!$A$9),\"\",IF(OR(B309=Dimension!$A$3,B309=Dimension!$A$4,B309=Dimension!$A$5),\"สถานประกอบการ\",\"\"))","v":""},{"$f":"IF(OR(B309=Dimension!$A$3,B309=Dimension!$A$4,B309=Dimension!$A$5,B309=Dimension!$A$6,,B309=Dimension!$A$7,B309=Dimension!$A$8,B309=Dimension!$A$9),Payment_ID2,\"\")","v":""},null,{"$f":"IFERROR(VLOOKUP(K309,Dimension!$J$3:$K$179,2,FALSE),\"\")","v":""},null,null,{"$f":"IF(OR(B309=Dimension!$A$6,B309=Dimension!$A$7,B309=Dimension!$A$8,B309=Dimension!$A$9),\"\",IF(OR(B309=Dimension!$A$3,B309=Dimension!$A$4,B309=Dimension!$A$5),\"สถานประกอบการ\",\"\"))","v":""},{"$f":"IF(OR(B309=Dimension!$A$6,B309=Dimension!$A$7,B309=Dimension!$A$8,B309=Dimension!$A$9,B309=\"\"),\"\",Payment_ID2)","v":""},"",null,null,{"$f":"IF(D309=Dimension!$C$9,IF(LEFT(UPPER(E309),2)=\"MC\",TRUE,FALSE),TRUE)","v":true}]
[null,null,null,{"$f":"IF(B310=Dimension!$A$8,Dimension!$C$9,IF(B310=Dimension!$A$6,CD,\"\"))","v":""},null,{"$f":"IF(OR(B310=Dimension!$A$3,B310=Dimension!$A$4,B310=Dimension!$A$6,B310=Dimension!$A$8),CCYA,\"\")","v":""},{"$f":"IFERROR(VLOOKUP(F310,Dimension!$G$3:$H$252,2,FALSE),\"\")","v":""},{"$f":"IF(OR(B310=Dimension!$A$3,B310=Dimension!$A$4,B310=Dimension!$A$5),\"เดินทาง/ท่องเที่ยว\",\"\")","v":""},{"$f":"IF(OR(B310=Dimension!$A$6,B310=Dimension!$A$7,B310=Dimension!$A$8,B310=Dimension!$A$9),\"\",IF(OR(B310=Dimension!$A$3,B310=Dimension!$A$4,B310=Dimension!$A$5),\"สถานประกอบการ\",\"\"))","v":""},{"$f":"IF(OR(B310=Dimension!$A$3,B310=Dimension!$A$4,B310=Dimension!$A$5,B310=Dimension!$A$6,,B310=Dimension!$A$7,B310=Dimension!$A$8,B310=Dimension!$A$9),Payment_ID2,\"\")","v":""},null,{"$f":"IFERROR(VLOOKUP(K310,Dimension!$J$3:$K$179,2,FALSE),\"\")","v":""},null,null,{"$f":"IF(OR(B310=Dimension!$A$6,B310=Dimension!$A$7,B310=Dimension!$A$8,B310=Dimension!$A$9),\"\",IF(OR(B310=Dimension!$A$3,B310=Dimension!$A$4,B310=Dimension!$A$5),\"สถานประกอบการ\",\"\"))","v":""},{"$f":"IF(OR(B310=Dimension!$A$6,B310=Dimension!$A$7,B310=Dimension!$A$8,B310=Dimension!$A$9,B310=\"\"),\"\",Payment_ID2)","v":""},"",null,null,{"$f":"IF(D310=Dimension!$C$9,IF(LEFT(UPPER(E310),2)=\"MC\",TRUE,FALSE),TRUE)","v":true}]
[null,null,null,{"$f":"IF(B311=Dimension!$A$8,Dimension!$C$9,IF(B311=Dimension!$A$6,CD,\"\"))","v":""},null,{"$f":"IF(OR(B311=Dimension!$A$3,B311=Dimension!$A$4,B311=Dimension!$A$6,B311=Dimension!$A$8),CCYA,\"\")","v":""},{"$f":"IFERROR(VLOOKUP(F311,Dimension!$G$3:$H$252,2,FALSE),\"\")","v":""},{"$f":"IF(OR(B311=Dimension!$A$3,B311=Dimension!$A$4,B311=Dimension!$A$5),\"เดินทาง/ท่องเที่ยว\",\"\")","v":""},{"$f":"IF(OR(B311=Dimension!$A$6,B311=Dimension!$A$7,B311=Dimension!$A$8,B311=Dimension!$A$9),\"\",IF(OR(B311=Dimension!$A$3,B311=Dimension!$A$4,B311=Dimension!$A$5),\"สถานประกอบการ\",\"\"))","v":""},{"$f":"IF(OR(B311=Dimension!$A$3,B311=Dimension!$A$4,B311=Dimension!$A$5,B311=Dimension!$A$6,,B311=Dimension!$A$7,B311=Dimension!$A$8,B311=Dimension!$A$9),Payment_ID2,\"\")","v":""},null,{"$f":"IFERROR(VLOOKUP(K311,Dimension!$J$3:$K$179,2,FALSE),\"\")","v":""},null,null,{"$f":"IF(OR(B311=Dimension!$A$6,B311=Dimension!$A$7,B311=Dimension!$A$8,B311=Dimension!$A$9),\"\",IF(OR(B311=Dimension!$A$3,B311=Dimension!$A$4,B311=Dimension!$A$5),\"สถานประกอบการ\",\"\"))","v":""},{"$f":"IF(OR(B311=Dimension!$A$6,B311=Dimension!$A$7,B311=Dimension!$A$8,B311=Dimension!$A$9,B311=\"\"),\"\",Payment_ID2)","v":""},"",null,null,{"$f":"IF(D311=Dimension!$C$9,IF(LEFT(UPPER(E311),2)=\"MC\",TRUE,FALSE),TRUE)","v":true}]
[null,null,null,{"$f":"IF(B312=Dimension!$A$8,Dimension!$C$9,IF(B312=Dimension!$A$6,CD,\"\"))","v":""},null,{"$f":"IF(OR(B312=Dimension!$A$3,B312=Dimension!$A$4,B312=Dimension!$A$6,B312=Dimension!$A$8),CCYA,\"\")","v":""},{"$f":"IFERROR(VLOOKUP(F312,Dimension!$G$3:$H$252,2,FALSE),\"\")","v":""},{"$f":"IF(OR(B312=Dimension!$A$3,B312=Dimension!$A$4,B312=Dimension!$A$5),\"เดินทาง/ท่องเที่ยว\",\"\")","v":""},{"$f":"IF(OR(B312=Dimension!$A$6,B312=Dimension!$A$7,B312=Dimension!$A$8,B312=Dimension!$A$9),\"\",IF(OR(B312=Dimension!$A$3,B312=Dimension!$A$4,B312=Dimension!$A$5),\"สถานประกอบการ\",\"\"))","v":""},{"$f":"IF(OR(B312=Dimension!$A$3,B312=Dimension!$A$4,B312=Dimension!$A$5,B312=Dimension!$A$6,,B312=Dimension!$A$7,B312=Dimension!$A$8,B312=Dimension!$A$9),Payment_ID2,\"\")","v":""},null,{"$f":"IFERROR(VLOOKUP(K312,Dimension!$J$3:$K$179,2,FALSE),\"\")","v":""},null,null,{"$f":"IF(OR(B312=Dimension!$A$6,B312=Dimension!$A$7,B312=Dimension!$A$8,B312=Dimension!$A$9),\"\",IF(OR(B312=Dimension!$A$3,B312=Dimension!$A$4,B312=Dimension!$A$5),\"สถานประกอบการ\",\"\"))","v":""},{"$f":"IF(OR(B312=Dimension!$A$6,B312=Dimension!$A$7,B312=Dimension!$A$8,B312=Dimension!$A$9,B312=\"\"),\"\",Payment_ID2)","v":""},"",null,null,{"$f":"IF(D312=Dimension!$C$9,IF(LEFT(UPPER(E312),2)=\"MC\",TRUE,FALSE),TRUE)","v":true}]
[null,null,null,{"$f":"IF(B313=Dimension!$A$8,Dimension!$C$9,IF(B313=Dimension!$A$6,CD,\"\"))","v":""},null,{"$f":"IF(OR(B313=Dimension!$A$3,B313=Dimension!$A$4,B313=Dimension!$A$6,B313=Dimension!$A$8),CCYA,\"\")","v":""},{"$f":"IFERROR(VLOOKUP(F313,Dimension!$G$3:$H$252,2,FALSE),\"\")","v":""},{"$f":"IF(OR(B313=Dimension!$A$3,B313=Dimension!$A$4,B313=Dimension!$A$5),\"เดินทาง/ท่องเที่ยว\",\"\")","v":""},{"$f":"IF(OR(B313=Dimension!$A$6,B313=Dimension!$A$7,B313=Dimension!$A$8,B313=Dimension!$A$9),\"\",IF(OR(B313=Dimension!$A$3,B313=Dimension!$A$4,B313=Dimension!$A$5),\"สถานประกอบการ\",\"\"))","v":""},{"$f":"IF(OR(B313=Dimension!$A$3,B313=Dimension!$A$4,B313=Dimension!$A$5,B313=Dimension!$A$6,,B313=Dimension!$A$7,B313=Dimension!$A$8,B313=Dimension!$A$9),Payment_ID2,\"\")","v":""},null,{"$f":"IFERROR(VLOOKUP(K313,Dimension!$J$3:$K$179,2,FALSE),\"\")","v":""},null,null,{"$f":"IF(OR(B313=Dimension!$A$6,B313=Dimension!$A$7,B313=Dimension!$A$8,B313=Dimension!$A$9),\"\",IF(OR(B313=Dimension!$A$3,B313=Dimension!$A$4,B313=Dimension!$A$5),\"สถานประกอบการ\",\"\"))","v":""},{"$f":"IF(OR(B313=Dimension!$A$6,B313=Dimension!$A$7,B313=Dimension!$A$8,B313=Dimension!$A$9,B313=\"\"),\"\",Payment_ID2)","v":""},"",null,null,{"$f":"IF(D313=Dimension!$C$9,IF(LEFT(UPPER(E313),2)=\"MC\",TRUE,FALSE),TRUE)","v":true}]
[null,null,null,{"$f":"IF(B314=Dimension!$A$8,Dimension!$C$9,IF(B314=Dimension!$A$6,CD,\"\"))","v":""},null,{"$f":"IF(OR(B314=Dimension!$A$3,B314=Dimension!$A$4,B314=Dimension!$A$6,B314=Dimension!$A$8),CCYA,\"\")","v":""},{"$f":"IFERROR(VLOOKUP(F314,Dimension!$G$3:$H$252,2,FALSE),\"\")","v":""},{"$f":"IF(OR(B314=Dimension!$A$3,B314=Dimension!$A$4,B314=Dimension!$A$5),\"เดินทาง/ท่องเที่ยว\",\"\")","v":""},{"$f":"IF(OR(B314=Dimension!$A$6,B314=Dimension!$A$7,B314=Dimension!$A$8,B314=Dimension!$A$9),\"\",IF(OR(B314=Dimension!$A$3,B314=Dimension!$A$4,B314=Dimension!$A$5),\"สถานประกอบการ\",\"\"))","v":""},{"$f":"IF(OR(B314=Dimension!$A$3,B314=Dimension!$A$4,B314=Dimension!$A$5,B314=Dimension!$A$6,,B314=Dimension!$A$7,B314=Dimension!$A$8,B314=Dimension!$A$9),Payment_ID2,\"\")","v":""},null,{"$f":"IFERROR(VLOOKUP(K314,Dimension!$J$3:$K$179,2,FALSE),\"\")","v":""},null,null,{"$f":"IF(OR(B314=Dimension!$A$6,B314=Dimension!$A$7,B314=Dimension!$A$8,B314=Dimension!$A$9),\"\",IF(OR(B314=Dimension!$A$3,B314=Dimension!$A$4,B314=Dimension!$A$5),\"สถานประกอบการ\",\"\"))","v":""},{"$f":"IF(OR(B314=Dimension!$A$6,B314=Dimension!$A$7,B314=Dimension!$A$8,B314=Dimension!$A$9,B314=\"\"),\"\",Payment_ID2)","v":""},"",null,null,{"$f":"IF(D314=Dimension!$C$9,IF(LEFT(UPPER(E314),2)=\"MC\",TRUE,FALSE),TRUE)","v":true}]
[null,null,null,{"$f":"IF(B315=Dimension!$A$8,Dimension!$C$9,IF(B315=Dimension!$A$6,CD,\"\"))","v":""},null,{"$f":"IF(OR(B315=Dimension!$A$3,B315=Dimension!$A$4,B315=Dimension!$A$6,B315=Dimension!$A$8),CCYA,\"\")","v":""},{"$f":"IFERROR(VLOOKUP(F315,Dimension!$G$3:$H$252,2,FALSE),\"\")","v":""},{"$f":"IF(OR(B315=Dimension!$A$3,B315=Dimension!$A$4,B315=Dimension!$A$5),\"เดินทาง/ท่องเที่ยว\",\"\")","v":""},{"$f":"IF(OR(B315=Dimension!$A$6,B315=Dimension!$A$7,B315=Dimension!$A$8,B315=Dimension!$A$9),\"\",IF(OR(B315=Dimension!$A$3,B315=Dimension!$A$4,B315=Dimension!$A$5),\"สถานประกอบการ\",\"\"))","v":""},{"$f":"IF(OR(B315=Dimension!$A$3,B315=Dimension!$A$4,B315=Dimension!$A$5,B315=Dimension!$A$6,,B315=Dimension!$A$7,B315=Dimension!$A$8,B315=Dimension!$A$9),Payment_ID2,\"\")","v":""},null,{"$f":"IFERROR(VLOOKUP(K315,Dimension!$J$3:$K$179,2,FALSE),\"\")","v":""},null,null,{"$f":"IF(OR(B315=Dimension!$A$6,B315=Dimension!$A$7,B315=Dimension!$A$8,B315=Dimension!$A$9),\"\",IF(OR(B315=Dimension!$A$3,B315=Dimension!$A$4,B315=Dimension!$A$5),\"สถานประกอบการ\",\"\"))","v":""},{"$f":"IF(OR(B315=Dimension!$A$6,B315=Dimension!$A$7,B315=Dimension!$A$8,B315=Dimension!$A$9,B315=\"\"),\"\",Payment_ID2)","v":""},"",null,null,{"$f":"IF(D315=Dimension!$C$9,IF(LEFT(UPPER(E315),2)=\"MC\",TRUE,FALSE),TRUE)","v":true}]
[null,null,null,{"$f":"IF(B316=Dimension!$A$8,Dimension!$C$9,IF(B316=Dimension!$A$6,CD,\"\"))","v":""},null,{"$f":"IF(OR(B316=Dimension!$A$3,B316=Dimension!$A$4,B316=Dimension!$A$6,B316=Dimension!$A$8),CCYA,\"\")","v":""},{"$f":"IFERROR(VLOOKUP(F316,Dimension!$G$3:$H$252,2,FALSE),\"\")","v":""},{"$f":"IF(OR(B316=Dimension!$A$3,B316=Dimension!$A$4,B316=Dimension!$A$5),\"เดินทาง/ท่องเที่ยว\",\"\")","v":""},{"$f":"IF(OR(B316=Dimension!$A$6,B316=Dimension!$A$7,B316=Dimension!$A$8,B316=Dimension!$A$9),\"\",IF(OR(B316=Dimension!$A$3,B316=Dimension!$A$4,B316=Dimension!$A$5),\"สถานประกอบการ\",\"\"))","v":""},{"$f":"IF(OR(B316=Dimension!$A$3,B316=Dimension!$A$4,B316=Dimension!$A$5,B316=Dimension!$A$6,,B316=Dimension!$A$7,B316=Dimension!$A$8,B316=Dimension!$A$9),Payment_ID2,\"\")","v":""},null,{"$f":"IFERROR(VLOOKUP(K316,Dimension!$J$3:$K$179,2,FALSE),\"\")","v":""},null,null,{"$f":"IF(OR(B316=Dimension!$A$6,B316=Dimension!$A$7,B316=Dimension!$A$8,B316=Dimension!$A$9),\"\",IF(OR(B316=Dimension!$A$3,B316=Dimension!$A$4,B316=Dimension!$A$5),\"สถานประกอบการ\",\"\"))","v":""},{"$f":"IF(OR(B316=Dimension!$A$6,B316=Dimension!$A$7,B316=Dimension!$A$8,B316=Dimension!$A$9,B316=\"\"),\"\",Payment_ID2)","v":""},"",null,null,{"$f":"IF(D316=Dimension!$C$9,IF(LEFT(UPPER(E316),2)=\"MC\",TRUE,FALSE),TRUE)","v":true}]
[null,null,null,{"$f":"IF(B317=Dimension!$A$8,Dimension!$C$9,IF(B317=Dimension!$A$6,CD,\"\"))","v":""},null,{"$f":"IF(OR(B317=Dimension!$A$3,B317=Dimension!$A$4,B317=Dimension!$A$6,B317=Dimension!$A$8),CCYA,\"\")","v":""},{"$f":"IFERROR(VLOOKUP(F317,Dimension!$G$3:$H$252,2,FALSE),\"\")","v":""},{"$f":"IF(OR(B317=Dimension!$A$3,B317=Dimension!$A$4,B317=Dimension!$A$5),\"เดินทาง/ท่องเที่ยว\",\"\")","v":""},{"$f":"IF(OR(B317=Dimension!$A$6,B317=Dimension!$A$7,B317=Dimension!$A$8,B317=Dimension!$A$9),\"\",IF(OR(B317=Dimension!$A$3,B317=Dimension!$A$4,B317=Dimension!$A$5),\"สถานประกอบการ\",\"\"))","v":""},{"$f":"IF(OR(B317=Dimension!$A$3,B317=Dimension!$A$4,B317=Dimension!$A$5,B317=Dimension!$A$6,,B317=Dimension!$A$7,B317=Dimension!$A$8,B317=Dimension!$A$9),Payment_ID2,\"\")","v":""},null,{"$f":"IFERROR(VLOOKUP(K317,Dimension!$J$3:$K$179,2,FALSE),\"\")","v":""},null,null,{"$f":"IF(OR(B317=Dimension!$A$6,B317=Dimension!$A$7,B317=Dimension!$A$8,B317=Dimension!$A$9),\"\",IF(OR(B317=Dimension!$A$3,B317=Dimension!$A$4,B317=Dimension!$A$5),\"สถานประกอบการ\",\"\"))","v":""},{"$f":"IF(OR(B317=Dimension!$A$6,B317=Dimension!$A$7,B317=Dimension!$A$8,B317=Dimension!$A$9,B317=\"\"),\"\",Payment_ID2)","v":""},"",null,null,{"$f":"IF(D317=Dimension!$C$9,IF(LEFT(UPPER(E317),2)=\"MC\",TRUE,FALSE),TRUE)","v":true}]
[null,null,null,{"$f":"IF(B318=Dimension!$A$8,Dimension!$C$9,IF(B318=Dimension!$A$6,CD,\"\"))","v":""},null,{"$f":"IF(OR(B318=Dimension!$A$3,B318=Dimension!$A$4,B318=Dimension!$A$6,B318=Dimension!$A$8),CCYA,\"\")","v":""},{"$f":"IFERROR(VLOOKUP(F318,Dimension!$G$3:$H$252,2,FALSE),\"\")","v":""},{"$f":"IF(OR(B318=Dimension!$A$3,B318=Dimension!$A$4,B318=Dimension!$A$5),\"เดินทาง/ท่องเที่ยว\",\"\")","v":""},{"$f":"IF(OR(B318=Dimension!$A$6,B318=Dimension!$A$7,B318=Dimension!$A$8,B318=Dimension!$A$9),\"\",IF(OR(B318=Dimension!$A$3,B318=Dimension!$A$4,B318=Dimension!$A$5),\"สถานประกอบการ\",\"\"))","v":""},{"$f":"IF(OR(B318=Dimension!$A$3,B318=Dimension!$A$4,B318=Dimension!$A$5,B318=Dimension!$A$6,,B318=Dimension!$A$7,B318=Dimension!$A$8,B318=Dimension!$A$9),Payment_ID2,\"\")","v":""},null,{"$f":"IFERROR(VLOOKUP(K318,Dimension!$J$3:$K$179,2,FALSE),\"\")","v":""},null,null,{"$f":"IF(OR(B318=Dimension!$A$6,B318=Dimension!$A$7,B318=Dimension!$A$8,B318=Dimension!$A$9),\"\",IF(OR(B318=Dimension!$A$3,B318=Dimension!$A$4,B318=Dimension!$A$5),\"สถานประกอบการ\",\"\"))","v":""},{"$f":"IF(OR(B318=Dimension!$A$6,B318=Dimension!$A$7,B318=Dimension!$A$8,B318=Dimension!$A$9,B318=\"\"),\"\",Payment_ID2)","v":""},"",null,null,{"$f":"IF(D318=Dimension!$C$9,IF(LEFT(UPPER(E318),2)=\"MC\",TRUE,FALSE),TRUE)","v":true}]
[null,null,null,{"$f":"IF(B319=Dimension!$A$8,Dimension!$C$9,IF(B319=Dimension!$A$6,CD,\"\"))","v":""},null,{"$f":"IF(OR(B319=Dimension!$A$3,B319=Dimension!$A$4,B319=Dimension!$A$6,B319=Dimension!$A$8),CCYA,\"\")","v":""},{"$f":"IFERROR(VLOOKUP(F319,Dimension!$G$3:$H$252,2,FALSE),\"\")","v":""},{"$f":"IF(OR(B319=Dimension!$A$3,B319=Dimension!$A$4,B319=Dimension!$A$5),\"เดินทาง/ท่องเที่ยว\",\"\")","v":""},{"$f":"IF(OR(B319=Dimension!$A$6,B319=Dimension!$A$7,B319=Dimension!$A$8,B319=Dimension!$A$9),\"\",IF(OR(B319=Dimension!$A$3,B319=Dimension!$A$4,B319=Dimension!$A$5),\"สถานประกอบการ\",\"\"))","v":""},{"$f":"IF(OR(B319=Dimension!$A$3,B319=Dimension!$A$4,B319=Dimension!$A$5,B319=Dimension!$A$6,,B319=Dimension!$A$7,B319=Dimension!$A$8,B319=Dimension!$A$9),Payment_ID2,\"\")","v":""},null,{"$f":"IFERROR(VLOOKUP(K319,Dimension!$J$3:$K$179,2,FALSE),\"\")","v":""},null,null,{"$f":"IF(OR(B319=Dimension!$A$6,B319=Dimension!$A$7,B319=Dimension!$A$8,B319=Dimension!$A$9),\"\",IF(OR(B319=Dimension!$A$3,B319=Dimension!$A$4,B319=Dimension!$A$5),\"สถานประกอบการ\",\"\"))","v":""},{"$f":"IF(OR(B319=Dimension!$A$6,B319=Dimension!$A$7,B319=Dimension!$A$8,B319=Dimension!$A$9,B319=\"\"),\"\",Payment_ID2)","v":""},"",null,null,{"$f":"IF(D319=Dimension!$C$9,IF(LEFT(UPPER(E319),2)=\"MC\",TRUE,FALSE),TRUE)","v":true}]
[null,null,null,{"$f":"IF(B320=Dimension!$A$8,Dimension!$C$9,IF(B320=Dimension!$A$6,CD,\"\"))","v":""},null,{"$f":"IF(OR(B320=Dimension!$A$3,B320=Dimension!$A$4,B320=Dimension!$A$6,B320=Dimension!$A$8),CCYA,\"\")","v":""},{"$f":"IFERROR(VLOOKUP(F320,Dimension!$G$3:$H$252,2,FALSE),\"\")","v":""},{"$f":"IF(OR(B320=Dimension!$A$3,B320=Dimension!$A$4,B320=Dimension!$A$5),\"เดินทาง/ท่องเที่ยว\",\"\")","v":""},{"$f":"IF(OR(B320=Dimension!$A$6,B320=Dimension!$A$7,B320=Dimension!$A$8,B320=Dimension!$A$9),\"\",IF(OR(B320=Dimension!$A$3,B320=Dimension!$A$4,B320=Dimension!$A$5),\"สถานประกอบการ\",\"\"))","v":""},{"$f":"IF(OR(B320=Dimension!$A$3,B320=Dimension!$A$4,B320=Dimension!$A$5,B320=Dimension!$A$6,,B320=Dimension!$A$7,B320=Dimension!$A$8,B320=Dimension!$A$9),Payment_ID2,\"\")","v":""},null,{"$f":"IFERROR(VLOOKUP(K320,Dimension!$J$3:$K$179,2,FALSE),\"\")","v":""},null,null,{"$f":"IF(OR(B320=Dimension!$A$6,B320=Dimension!$A$7,B320=Dimension!$A$8,B320=Dimension!$A$9),\"\",IF(OR(B320=Dimension!$A$3,B320=Dimension!$A$4,B320=Dimension!$A$5),\"สถานประกอบการ\",\"\"))","v":""},{"$f":"IF(OR(B320=Dimension!$A$6,B320=Dimension!$A$7,B320=Dimension!$A$8,B320=Dimension!$A$9,B320=\"\"),\"\",Payment_ID2)","v":""},"",null,null,{"$f":"IF(D320=Dimension!$C$9,IF(LEFT(UPPER(E320),2)=\"MC\",TRUE,FALSE),TRUE)","v":true}]
[null,null,null,{"$f":"IF(B321=Dimension!$A$8,Dimension!$C$9,IF(B321=Dimension!$A$6,CD,\"\"))","v":""},null,{"$f":"IF(OR(B321=Dimension!$A$3,B321=Dimension!$A$4,B321=Dimension!$A$6,B321=Dimension!$A$8),CCYA,\"\")","v":""},{"$f":"IFERROR(VLOOKUP(F321,Dimension!$G$3:$H$252,2,FALSE),\"\")","v":""},{"$f":"IF(OR(B321=Dimension!$A$3,B321=Dimension!$A$4,B321=Dimension!$A$5),\"เดินทาง/ท่องเที่ยว\",\"\")","v":""},{"$f":"IF(OR(B321=Dimension!$A$6,B321=Dimension!$A$7,B321=Dimension!$A$8,B321=Dimension!$A$9),\"\",IF(OR(B321=Dimension!$A$3,B321=Dimension!$A$4,B321=Dimension!$A$5),\"สถานประกอบการ\",\"\"))","v":""},{"$f":"IF(OR(B321=Dimension!$A$3,B321=Dimension!$A$4,B321=Dimension!$A$5,B321=Dimension!$A$6,,B321=Dimension!$A$7,B321=Dimension!$A$8,B321=Dimension!$A$9),Payment_ID2,\"\")","v":""},null,{"$f":"IFERROR(VLOOKUP(K321,Dimension!$J$3:$K$179,2,FALSE),\"\")","v":""},null,null,{"$f":"IF(OR(B321=Dimension!$A$6,B321=Dimension!$A$7,B321=Dimension!$A$8,B321=Dimension!$A$9),\"\",IF(OR(B321=Dimension!$A$3,B321=Dimension!$A$4,B321=Dimension!$A$5),\"สถานประกอบการ\",\"\"))","v":""},{"$f":"IF(OR(B321=Dimension!$A$6,B321=Dimension!$A$7,B321=Dimension!$A$8,B321=Dimension!$A$9,B321=\"\"),\"\",Payment_ID2)","v":""},"",null,null,{"$f":"IF(D321=Dimension!$C$9,IF(LEFT(UPPER(E321),2)=\"MC\",TRUE,FALSE),TRUE)","v":true}]
[null,null,null,{"$f":"IF(B322=Dimension!$A$8,Dimension!$C$9,IF(B322=Dimension!$A$6,CD,\"\"))","v":""},null,{"$f":"IF(OR(B322=Dimension!$A$3,B322=Dimension!$A$4,B322=Dimension!$A$6,B322=Dimension!$A$8),CCYA,\"\")","v":""},{"$f":"IFERROR(VLOOKUP(F322,Dimension!$G$3:$H$252,2,FALSE),\"\")","v":""},{"$f":"IF(OR(B322=Dimension!$A$3,B322=Dimension!$A$4,B322=Dimension!$A$5),\"เดินทาง/ท่องเที่ยว\",\"\")","v":""},{"$f":"IF(OR(B322=Dimension!$A$6,B322=Dimension!$A$7,B322=Dimension!$A$8,B322=Dimension!$A$9),\"\",IF(OR(B322=Dimension!$A$3,B322=Dimension!$A$4,B322=Dimension!$A$5),\"สถานประกอบการ\",\"\"))","v":""},{"$f":"IF(OR(B322=Dimension!$A$3,B322=Dimension!$A$4,B322=Dimension!$A$5,B322=Dimension!$A$6,,B322=Dimension!$A$7,B322=Dimension!$A$8,B322=Dimension!$A$9),Payment_ID2,\"\")","v":""},null,{"$f":"IFERROR(VLOOKUP(K322,Dimension!$J$3:$K$179,2,FALSE),\"\")","v":""},null,null,{"$f":"IF(OR(B322=Dimension!$A$6,B322=Dimension!$A$7,B322=Dimension!$A$8,B322=Dimension!$A$9),\"\",IF(OR(B322=Dimension!$A$3,B322=Dimension!$A$4,B322=Dimension!$A$5),\"สถานประกอบการ\",\"\"))","v":""},{"$f":"IF(OR(B322=Dimension!$A$6,B322=Dimension!$A$7,B322=Dimension!$A$8,B322=Dimension!$A$9,B322=\"\"),\"\",Payment_ID2)","v":""},"",null,null,{"$f":"IF(D322=Dimension!$C$9,IF(LEFT(UPPER(E322),2)=\"MC\",TRUE,FALSE),TRUE)","v":true}]
[null,null,null,{"$f":"IF(B323=Dimension!$A$8,Dimension!$C$9,IF(B323=Dimension!$A$6,CD,\"\"))","v":""},null,{"$f":"IF(OR(B323=Dimension!$A$3,B323=Dimension!$A$4,B323=Dimension!$A$6,B323=Dimension!$A$8),CCYA,\"\")","v":""},{"$f":"IFERROR(VLOOKUP(F323,Dimension!$G$3:$H$252,2,FALSE),\"\")","v":""},{"$f":"IF(OR(B323=Dimension!$A$3,B323=Dimension!$A$4,B323=Dimension!$A$5),\"เดินทาง/ท่องเที่ยว\",\"\")","v":""},{"$f":"IF(OR(B323=Dimension!$A$6,B323=Dimension!$A$7,B323=Dimension!$A$8,B323=Dimension!$A$9),\"\",IF(OR(B323=Dimension!$A$3,B323=Dimension!$A$4,B323=Dimension!$A$5),\"สถานประกอบการ\",\"\"))","v":""},{"$f":"IF(OR(B323=Dimension!$A$3,B323=Dimension!$A$4,B323=Dimension!$A$5,B323=Dimension!$A$6,,B323=Dimension!$A$7,B323=Dimension!$A$8,B323=Dimension!$A$9),Payment_ID2,\"\")","v":""},null,{"$f":"IFERROR(VLOOKUP(K323,Dimension!$J$3:$K$179,2,FALSE),\"\")","v":""},null,null,{"$f":"IF(OR(B323=Dimension!$A$6,B323=Dimension!$A$7,B323=Dimension!$A$8,B323=Dimension!$A$9),\"\",IF(OR(B323=Dimension!$A$3,B323=Dimension!$A$4,B323=Dimension!$A$5),\"สถานประกอบการ\",\"\"))","v":""},{"$f":"IF(OR(B323=Dimension!$A$6,B323=Dimension!$A$7,B323=Dimension!$A$8,B323=Dimension!$A$9,B323=\"\"),\"\",Payment_ID2)","v":""},"",null,null,{"$f":"IF(D323=Dimension!$C$9,IF(LEFT(UPPER(E323),2)=\"MC\",TRUE,FALSE),TRUE)","v":true}]
[null,null,null,{"$f":"IF(B324=Dimension!$A$8,Dimension!$C$9,IF(B324=Dimension!$A$6,CD,\"\"))","v":""},null,{"$f":"IF(OR(B324=Dimension!$A$3,B324=Dimension!$A$4,B324=Dimension!$A$6,B324=Dimension!$A$8),CCYA,\"\")","v":""},{"$f":"IFERROR(VLOOKUP(F324,Dimension!$G$3:$H$252,2,FALSE),\"\")","v":""},{"$f":"IF(OR(B324=Dimension!$A$3,B324=Dimension!$A$4,B324=Dimension!$A$5),\"เดินทาง/ท่องเที่ยว\",\"\")","v":""},{"$f":"IF(OR(B324=Dimension!$A$6,B324=Dimension!$A$7,B324=Dimension!$A$8,B324=Dimension!$A$9),\"\",IF(OR(B324=Dimension!$A$3,B324=Dimension!$A$4,B324=Dimension!$A$5),\"สถานประกอบการ\",\"\"))","v":""},{"$f":"IF(OR(B324=Dimension!$A$3,B324=Dimension!$A$4,B324=Dimension!$A$5,B324=Dimension!$A$6,,B324=Dimension!$A$7,B324=Dimension!$A$8,B324=Dimension!$A$9),Payment_ID2,\"\")","v":""},null,{"$f":"IFERROR(VLOOKUP(K324,Dimension!$J$3:$K$179,2,FALSE),\"\")","v":""},null,null,{"$f":"IF(OR(B324=Dimension!$A$6,B324=Dimension!$A$7,B324=Dimension!$A$8,B324=Dimension!$A$9),\"\",IF(OR(B324=Dimension!$A$3,B324=Dimension!$A$4,B324=Dimension!$A$5),\"สถานประกอบการ\",\"\"))","v":""},{"$f":"IF(OR(B324=Dimension!$A$6,B324=Dimension!$A$7,B324=Dimension!$A$8,B324=Dimension!$A$9,B324=\"\"),\"\",Payment_ID2)","v":""},"",null,null,{"$f":"IF(D324=Dimension!$C$9,IF(LEFT(UPPER(E324),2)=\"MC\",TRUE,FALSE),TRUE)","v":true}]
[null,null,null,{"$f":"IF(B325=Dimension!$A$8,Dimension!$C$9,IF(B325=Dimension!$A$6,CD,\"\"))","v":""},null,{"$f":"IF(OR(B325=Dimension!$A$3,B325=Dimension!$A$4,B325=Dimension!$A$6,B325=Dimension!$A$8),CCYA,\"\")","v":""},{"$f":"IFERROR(VLOOKUP(F325,Dimension!$G$3:$H$252,2,FALSE),\"\")","v":""},{"$f":"IF(OR(B325=Dimension!$A$3,B325=Dimension!$A$4,B325=Dimension!$A$5),\"เดินทาง/ท่องเที่ยว\",\"\")","v":""},{"$f":"IF(OR(B325=Dimension!$A$6,B325=Dimension!$A$7,B325=Dimension!$A$8,B325=Dimension!$A$9),\"\",IF(OR(B325=Dimension!$A$3,B325=Dimension!$A$4,B325=Dimension!$A$5),\"สถานประกอบการ\",\"\"))","v":""},{"$f":"IF(OR(B325=Dimension!$A$3,B325=Dimension!$A$4,B325=Dimension!$A$5,B325=Dimension!$A$6,,B325=Dimension!$A$7,B325=Dimension!$A$8,B325=Dimension!$A$9),Payment_ID2,\"\")","v":""},null,{"$f":"IFERROR(VLOOKUP(K325,Dimension!$J$3:$K$179,2,FALSE),\"\")","v":""},null,null,{"$f":"IF(OR(B325=Dimension!$A$6,B325=Dimension!$A$7,B325=Dimension!$A$8,B325=Dimension!$A$9),\"\",IF(OR(B325=Dimension!$A$3,B325=Dimension!$A$4,B325=Dimension!$A$5),\"สถานประกอบการ\",\"\"))","v":""},{"$f":"IF(OR(B325=Dimension!$A$6,B325=Dimension!$A$7,B325=Dimension!$A$8,B325=Dimension!$A$9,B325=\"\"),\"\",Payment_ID2)","v":""},"",null,null,{"$f":"IF(D325=Dimension!$C$9,IF(LEFT(UPPER(E325),2)=\"MC\",TRUE,FALSE),TRUE)","v":true}]
[null,null,null,{"$f":"IF(B326=Dimension!$A$8,Dimension!$C$9,IF(B326=Dimension!$A$6,CD,\"\"))","v":""},null,{"$f":"IF(OR(B326=Dimension!$A$3,B326=Dimension!$A$4,B326=Dimension!$A$6,B326=Dimension!$A$8),CCYA,\"\")","v":""},{"$f":"IFERROR(VLOOKUP(F326,Dimension!$G$3:$H$252,2,FALSE),\"\")","v":""},{"$f":"IF(OR(B326=Dimension!$A$3,B326=Dimension!$A$4,B326=Dimension!$A$5),\"เดินทาง/ท่องเที่ยว\",\"\")","v":""},{"$f":"IF(OR(B326=Dimension!$A$6,B326=Dimension!$A$7,B326=Dimension!$A$8,B326=Dimension!$A$9),\"\",IF(OR(B326=Dimension!$A$3,B326=Dimension!$A$4,B326=Dimension!$A$5),\"สถานประกอบการ\",\"\"))","v":""},{"$f":"IF(OR(B326=Dimension!$A$3,B326=Dimension!$A$4,B326=Dimension!$A$5,B326=Dimension!$A$6,,B326=Dimension!$A$7,B326=Dimension!$A$8,B326=Dimension!$A$9),Payment_ID2,\"\")","v":""},null,{"$f":"IFERROR(VLOOKUP(K326,Dimension!$J$3:$K$179,2,FALSE),\"\")","v":""},null,null,{"$f":"IF(OR(B326=Dimension!$A$6,B326=Dimension!$A$7,B326=Dimension!$A$8,B326=Dimension!$A$9),\"\",IF(OR(B326=Dimension!$A$3,B326=Dimension!$A$4,B326=Dimension!$A$5),\"สถานประกอบการ\",\"\"))","v":""},{"$f":"IF(OR(B326=Dimension!$A$6,B326=Dimension!$A$7,B326=Dimension!$A$8,B326=Dimension!$A$9,B326=\"\"),\"\",Payment_ID2)","v":""},"",null,null,{"$f":"IF(D326=Dimension!$C$9,IF(LEFT(UPPER(E326),2)=\"MC\",TRUE,FALSE),TRUE)","v":true}]
[null,null,null,{"$f":"IF(B327=Dimension!$A$8,Dimension!$C$9,IF(B327=Dimension!$A$6,CD,\"\"))","v":""},null,{"$f":"IF(OR(B327=Dimension!$A$3,B327=Dimension!$A$4,B327=Dimension!$A$6,B327=Dimension!$A$8),CCYA,\"\")","v":""},{"$f":"IFERROR(VLOOKUP(F327,Dimension!$G$3:$H$252,2,FALSE),\"\")","v":""},{"$f":"IF(OR(B327=Dimension!$A$3,B327=Dimension!$A$4,B327=Dimension!$A$5),\"เดินทาง/ท่องเที่ยว\",\"\")","v":""},{"$f":"IF(OR(B327=Dimension!$A$6,B327=Dimension!$A$7,B327=Dimension!$A$8,B327=Dimension!$A$9),\"\",IF(OR(B327=Dimension!$A$3,B327=Dimension!$A$4,B327=Dimension!$A$5),\"สถานประกอบการ\",\"\"))","v":""},{"$f":"IF(OR(B327=Dimension!$A$3,B327=Dimension!$A$4,B327=Dimension!$A$5,B327=Dimension!$A$6,,B327=Dimension!$A$7,B327=Dimension!$A$8,B327=Dimension!$A$9),Payment_ID2,\"\")","v":""},null,{"$f":"IFERROR(VLOOKUP(K327,Dimension!$J$3:$K$179,2,FALSE),\"\")","v":""},null,null,{"$f":"IF(OR(B327=Dimension!$A$6,B327=Dimension!$A$7,B327=Dimension!$A$8,B327=Dimension!$A$9),\"\",IF(OR(B327=Dimension!$A$3,B327=Dimension!$A$4,B327=Dimension!$A$5),\"สถานประกอบการ\",\"\"))","v":""},{"$f":"IF(OR(B327=Dimension!$A$6,B327=Dimension!$A$7,B327=Dimension!$A$8,B327=Dimension!$A$9,B327=\"\"),\"\",Payment_ID2)","v":""},"",null,null,{"$f":"IF(D327=Dimension!$C$9,IF(LEFT(UPPER(E327),2)=\"MC\",TRUE,FALSE),TRUE)","v":true}]
[null,null,null,{"$f":"IF(B328=Dimension!$A$8,Dimension!$C$9,IF(B328=Dimension!$A$6,CD,\"\"))","v":""},null,{"$f":"IF(OR(B328=Dimension!$A$3,B328=Dimension!$A$4,B328=Dimension!$A$6,B328=Dimension!$A$8),CCYA,\"\")","v":""},{"$f":"IFERROR(VLOOKUP(F328,Dimension!$G$3:$H$252,2,FALSE),\"\")","v":""},{"$f":"IF(OR(B328=Dimension!$A$3,B328=Dimension!$A$4,B328=Dimension!$A$5),\"เดินทาง/ท่องเที่ยว\",\"\")","v":""},{"$f":"IF(OR(B328=Dimension!$A$6,B328=Dimension!$A$7,B328=Dimension!$A$8,B328=Dimension!$A$9),\"\",IF(OR(B328=Dimension!$A$3,B328=Dimension!$A$4,B328=Dimension!$A$5),\"สถานประกอบการ\",\"\"))","v":""},{"$f":"IF(OR(B328=Dimension!$A$3,B328=Dimension!$A$4,B328=Dimension!$A$5,B328=Dimension!$A$6,,B328=Dimension!$A$7,B328=Dimension!$A$8,B328=Dimension!$A$9),Payment_ID2,\"\")","v":""},null,{"$f":"IFERROR(VLOOKUP(K328,Dimension!$J$3:$K$179,2,FALSE),\"\")","v":""},null,null,{"$f":"IF(OR(B328=Dimension!$A$6,B328=Dimension!$A$7,B328=Dimension!$A$8,B328=Dimension!$A$9),\"\",IF(OR(B328=Dimension!$A$3,B328=Dimension!$A$4,B328=Dimension!$A$5),\"สถานประกอบการ\",\"\"))","v":""},{"$f":"IF(OR(B328=Dimension!$A$6,B328=Dimension!$A$7,B328=Dimension!$A$8,B328=Dimension!$A$9,B328=\"\"),\"\",Payment_ID2)","v":""},"",null,null,{"$f":"IF(D328=Dimension!$C$9,IF(LEFT(UPPER(E328),2)=\"MC\",TRUE,FALSE),TRUE)","v":true}]
[null,null,null,{"$f":"IF(B329=Dimension!$A$8,Dimension!$C$9,IF(B329=Dimension!$A$6,CD,\"\"))","v":""},null,{"$f":"IF(OR(B329=Dimension!$A$3,B329=Dimension!$A$4,B329=Dimension!$A$6,B329=Dimension!$A$8),CCYA,\"\")","v":""},{"$f":"IFERROR(VLOOKUP(F329,Dimension!$G$3:$H$252,2,FALSE),\"\")","v":""},{"$f":"IF(OR(B329=Dimension!$A$3,B329=Dimension!$A$4,B329=Dimension!$A$5),\"เดินทาง/ท่องเที่ยว\",\"\")","v":""},{"$f":"IF(OR(B329=Dimension!$A$6,B329=Dimension!$A$7,B329=Dimension!$A$8,B329=Dimension!$A$9),\"\",IF(OR(B329=Dimension!$A$3,B329=Dimension!$A$4,B329=Dimension!$A$5),\"สถานประกอบการ\",\"\"))","v":""},{"$f":"IF(OR(B329=Dimension!$A$3,B329=Dimension!$A$4,B329=Dimension!$A$5,B329=Dimension!$A$6,,B329=Dimension!$A$7,B329=Dimension!$A$8,B329=Dimension!$A$9),Payment_ID2,\"\")","v":""},null,{"$f":"IFERROR(VLOOKUP(K329,Dimension!$J$3:$K$179,2,FALSE),\"\")","v":""},null,null,{"$f":"IF(OR(B329=Dimension!$A$6,B329=Dimension!$A$7,B329=Dimension!$A$8,B329=Dimension!$A$9),\"\",IF(OR(B329=Dimension!$A$3,B329=Dimension!$A$4,B329=Dimension!$A$5),\"สถานประกอบการ\",\"\"))","v":""},{"$f":"IF(OR(B329=Dimension!$A$6,B329=Dimension!$A$7,B329=Dimension!$A$8,B329=Dimension!$A$9,B329=\"\"),\"\",Payment_ID2)","v":""},"",null,null,{"$f":"IF(D329=Dimension!$C$9,IF(LEFT(UPPER(E329),2)=\"MC\",TRUE,FALSE),TRUE)","v":true}]
[null,null,null,{"$f":"IF(B330=Dimension!$A$8,Dimension!$C$9,IF(B330=Dimension!$A$6,CD,\"\"))","v":""},null,{"$f":"IF(OR(B330=Dimension!$A$3,B330=Dimension!$A$4,B330=Dimension!$A$6,B330=Dimension!$A$8),CCYA,\"\")","v":""},{"$f":"IFERROR(VLOOKUP(F330,Dimension!$G$3:$H$252,2,FALSE),\"\")","v":""},{"$f":"IF(OR(B330=Dimension!$A$3,B330=Dimension!$A$4,B330=Dimension!$A$5),\"เดินทาง/ท่องเที่ยว\",\"\")","v":""},{"$f":"IF(OR(B330=Dimension!$A$6,B330=Dimension!$A$7,B330=Dimension!$A$8,B330=Dimension!$A$9),\"\",IF(OR(B330=Dimension!$A$3,B330=Dimension!$A$4,B330=Dimension!$A$5),\"สถานประกอบการ\",\"\"))","v":""},{"$f":"IF(OR(B330=Dimension!$A$3,B330=Dimension!$A$4,B330=Dimension!$A$5,B330=Dimension!$A$6,,B330=Dimension!$A$7,B330=Dimension!$A$8,B330=Dimension!$A$9),Payment_ID2,\"\")","v":""},null,{"$f":"IFERROR(VLOOKUP(K330,Dimension!$J$3:$K$179,2,FALSE),\"\")","v":""},null,null,{"$f":"IF(OR(B330=Dimension!$A$6,B330=Dimension!$A$7,B330=Dimension!$A$8,B330=Dimension!$A$9),\"\",IF(OR(B330=Dimension!$A$3,B330=Dimension!$A$4,B330=Dimension!$A$5),\"สถานประกอบการ\",\"\"))","v":""},{"$f":"IF(OR(B330=Dimension!$A$6,B330=Dimension!$A$7,B330=Dimension!$A$8,B330=Dimension!$A$9,B330=\"\"),\"\",Payment_ID2)","v":""},{"$f":"IF(OR(M330=\"\",N330=\"\"),\"\",ROUND(M330*N330,2))","v":""},null,null,{"$f":"IF(D330=Dimension!$C$9,IF(LEFT(UPPER(E330),2)=\"MC\",TRUE,FALSE),TRUE)","v":true}]
[null,null,null,{"$f":"IF(B331=Dimension!$A$8,Dimension!$C$9,IF(B331=Dimension!$A$6,CD,\"\"))","v":""},null,{"$f":"IF(OR(B331=Dimension!$A$3,B331=Dimension!$A$4,B331=Dimension!$A$6,B331=Dimension!$A$8),CCYA,\"\")","v":""},{"$f":"IFERROR(VLOOKUP(F331,Dimension!$G$3:$H$252,2,FALSE),\"\")","v":""},{"$f":"IF(OR(B331=Dimension!$A$3,B331=Dimension!$A$4,B331=Dimension!$A$5),\"เดินทาง/ท่องเที่ยว\",\"\")","v":""},{"$f":"IF(OR(B331=Dimension!$A$6,B331=Dimension!$A$7,B331=Dimension!$A$8,B331=Dimension!$A$9),\"\",IF(OR(B331=Dimension!$A$3,B331=Dimension!$A$4,B331=Dimension!$A$5),\"สถานประกอบการ\",\"\"))","v":""},{"$f":"IF(OR(B331=Dimension!$A$3,B331=Dimension!$A$4,B331=Dimension!$A$5,B331=Dimension!$A$6,,B331=Dimension!$A$7,B331=Dimension!$A$8,B331=Dimension!$A$9),Payment_ID2,\"\")","v":""},null,{"$f":"IFERROR(VLOOKUP(K331,Dimension!$J$3:$K$179,2,FALSE),\"\")","v":""},null,null,{"$f":"IF(OR(B331=Dimension!$A$6,B331=Dimension!$A$7,B331=Dimension!$A$8,B331=Dimension!$A$9),\"\",IF(OR(B331=Dimension!$A$3,B331=Dimension!$A$4,B331=Dimension!$A$5),\"สถานประกอบการ\",\"\"))","v":""},{"$f":"IF(OR(B331=Dimension!$A$6,B331=Dimension!$A$7,B331=Dimension!$A$8,B331=Dimension!$A$9,B331=\"\"),\"\",Payment_ID2)","v":""},"",null,null,{"$f":"IF(D331=Dimension!$C$9,IF(LEFT(UPPER(E331),2)=\"MC\",TRUE,FALSE),TRUE)","v":true}]
[null,null,null,{"$f":"IF(B332=Dimension!$A$8,Dimension!$C$9,IF(B332=Dimension!$A$6,CD,\"\"))","v":""},null,{"$f":"IF(OR(B332=Dimension!$A$3,B332=Dimension!$A$4,B332=Dimension!$A$6,B332=Dimension!$A$8),CCYA,\"\")","v":""},{"$f":"IFERROR(VLOOKUP(F332,Dimension!$G$3:$H$252,2,FALSE),\"\")","v":""},{"$f":"IF(OR(B332=Dimension!$A$3,B332=Dimension!$A$4,B332=Dimension!$A$5),\"เดินทาง/ท่องเที่ยว\",\"\")","v":""},{"$f":"IF(OR(B332=Dimension!$A$6,B332=Dimension!$A$7,B332=Dimension!$A$8,B332=Dimension!$A$9),\"\",IF(OR(B332=Dimension!$A$3,B332=Dimension!$A$4,B332=Dimension!$A$5),\"สถานประกอบการ\",\"\"))","v":""},{"$f":"IF(OR(B332=Dimension!$A$3,B332=Dimension!$A$4,B332=Dimension!$A$5,B332=Dimension!$A$6,,B332=Dimension!$A$7,B332=Dimension!$A$8,B332=Dimension!$A$9),Payment_ID2,\"\")","v":""},null,{"$f":"IFERROR(VLOOKUP(K332,Dimension!$J$3:$K$179,2,FALSE),\"\")","v":""},null,null,{"$f":"IF(OR(B332=Dimension!$A$6,B332=Dimension!$A$7,B332=Dimension!$A$8,B332=Dimension!$A$9),\"\",IF(OR(B332=Dimension!$A$3,B332=Dimension!$A$4,B332=Dimension!$A$5),\"สถานประกอบการ\",\"\"))","v":""},{"$f":"IF(OR(B332=Dimension!$A$6,B332=Dimension!$A$7,B332=Dimension!$A$8,B332=Dimension!$A$9,B332=\"\"),\"\",Payment_ID2)","v":""},"",null,null,{"$f":"IF(D332=Dimension!$C$9,IF(LEFT(UPPER(E332),2)=\"MC\",TRUE,FALSE),TRUE)","v":true}]
[null,null,null,{"$f":"IF(B333=Dimension!$A$8,Dimension!$C$9,IF(B333=Dimension!$A$6,CD,\"\"))","v":""},null,{"$f":"IF(OR(B333=Dimension!$A$3,B333=Dimension!$A$4,B333=Dimension!$A$6,B333=Dimension!$A$8),CCYA,\"\")","v":""},{"$f":"IFERROR(VLOOKUP(F333,Dimension!$G$3:$H$252,2,FALSE),\"\")","v":""},{"$f":"IF(OR(B333=Dimension!$A$3,B333=Dimension!$A$4,B333=Dimension!$A$5),\"เดินทาง/ท่องเที่ยว\",\"\")","v":""},{"$f":"IF(OR(B333=Dimension!$A$6,B333=Dimension!$A$7,B333=Dimension!$A$8,B333=Dimension!$A$9),\"\",IF(OR(B333=Dimension!$A$3,B333=Dimension!$A$4,B333=Dimension!$A$5),\"สถานประกอบการ\",\"\"))","v":""},{"$f":"IF(OR(B333=Dimension!$A$3,B333=Dimension!$A$4,B333=Dimension!$A$5,B333=Dimension!$A$6,,B333=Dimension!$A$7,B333=Dimension!$A$8,B333=Dimension!$A$9),Payment_ID2,\"\")","v":""},null,{"$f":"IFERROR(VLOOKUP(K333,Dimension!$J$3:$K$179,2,FALSE),\"\")","v":""},null,null,{"$f":"IF(OR(B333=Dimension!$A$6,B333=Dimension!$A$7,B333=Dimension!$A$8,B333=Dimension!$A$9),\"\",IF(OR(B333=Dimension!$A$3,B333=Dimension!$A$4,B333=Dimension!$A$5),\"สถานประกอบการ\",\"\"))","v":""},{"$f":"IF(OR(B333=Dimension!$A$6,B333=Dimension!$A$7,B333=Dimension!$A$8,B333=Dimension!$A$9,B333=\"\"),\"\",Payment_ID2)","v":""},"",null,null,{"$f":"IF(D333=Dimension!$C$9,IF(LEFT(UPPER(E333),2)=\"MC\",TRUE,FALSE),TRUE)","v":true}]
[null,null,null,{"$f":"IF(B334=Dimension!$A$8,Dimension!$C$9,IF(B334=Dimension!$A$6,CD,\"\"))","v":""},null,{"$f":"IF(OR(B334=Dimension!$A$3,B334=Dimension!$A$4,B334=Dimension!$A$6,B334=Dimension!$A$8),CCYA,\"\")","v":""},{"$f":"IFERROR(VLOOKUP(F334,Dimension!$G$3:$H$252,2,FALSE),\"\")","v":""},{"$f":"IF(OR(B334=Dimension!$A$3,B334=Dimension!$A$4,B334=Dimension!$A$5),\"เดินทาง/ท่องเที่ยว\",\"\")","v":""},{"$f":"IF(OR(B334=Dimension!$A$6,B334=Dimension!$A$7,B334=Dimension!$A$8,B334=Dimension!$A$9),\"\",IF(OR(B334=Dimension!$A$3,B334=Dimension!$A$4,B334=Dimension!$A$5),\"สถานประกอบการ\",\"\"))","v":""},{"$f":"IF(OR(B334=Dimension!$A$3,B334=Dimension!$A$4,B334=Dimension!$A$5,B334=Dimension!$A$6,,B334=Dimension!$A$7,B334=Dimension!$A$8,B334=Dimension!$A$9),Payment_ID2,\"\")","v":""},null,{"$f":"IFERROR(VLOOKUP(K334,Dimension!$J$3:$K$179,2,FALSE),\"\")","v":""},null,null,{"$f":"IF(OR(B334=Dimension!$A$6,B334=Dimension!$A$7,B334=Dimension!$A$8,B334=Dimension!$A$9),\"\",IF(OR(B334=Dimension!$A$3,B334=Dimension!$A$4,B334=Dimension!$A$5),\"สถานประกอบการ\",\"\"))","v":""},{"$f":"IF(OR(B334=Dimension!$A$6,B334=Dimension!$A$7,B334=Dimension!$A$8,B334=Dimension!$A$9,B334=\"\"),\"\",Payment_ID2)","v":""},"",null,null,{"$f":"IF(D334=Dimension!$C$9,IF(LEFT(UPPER(E334),2)=\"MC\",TRUE,FALSE),TRUE)","v":true}]
[null,null,null,{"$f":"IF(B335=Dimension!$A$8,Dimension!$C$9,IF(B335=Dimension!$A$6,CD,\"\"))","v":""},null,{"$f":"IF(OR(B335=Dimension!$A$3,B335=Dimension!$A$4,B335=Dimension!$A$6,B335=Dimension!$A$8),CCYA,\"\")","v":""},{"$f":"IFERROR(VLOOKUP(F335,Dimension!$G$3:$H$252,2,FALSE),\"\")","v":""},{"$f":"IF(OR(B335=Dimension!$A$3,B335=Dimension!$A$4,B335=Dimension!$A$5),\"เดินทาง/ท่องเที่ยว\",\"\")","v":""},{"$f":"IF(OR(B335=Dimension!$A$6,B335=Dimension!$A$7,B335=Dimension!$A$8,B335=Dimension!$A$9),\"\",IF(OR(B335=Dimension!$A$3,B335=Dimension!$A$4,B335=Dimension!$A$5),\"สถานประกอบการ\",\"\"))","v":""},{"$f":"IF(OR(B335=Dimension!$A$3,B335=Dimension!$A$4,B335=Dimension!$A$5,B335=Dimension!$A$6,,B335=Dimension!$A$7,B335=Dimension!$A$8,B335=Dimension!$A$9),Payment_ID2,\"\")","v":""},null,{"$f":"IFERROR(VLOOKUP(K335,Dimension!$J$3:$K$179,2,FALSE),\"\")","v":""},null,null,{"$f":"IF(OR(B335=Dimension!$A$6,B335=Dimension!$A$7,B335=Dimension!$A$8,B335=Dimension!$A$9),\"\",IF(OR(B335=Dimension!$A$3,B335=Dimension!$A$4,B335=Dimension!$A$5),\"สถานประกอบการ\",\"\"))","v":""},{"$f":"IF(OR(B335=Dimension!$A$6,B335=Dimension!$A$7,B335=Dimension!$A$8,B335=Dimension!$A$9,B335=\"\"),\"\",Payment_ID2)","v":""},"",null,null,{"$f":"IF(D335=Dimension!$C$9,IF(LEFT(UPPER(E335),2)=\"MC\",TRUE,FALSE),TRUE)","v":true}]
[null,null,null,{"$f":"IF(B336=Dimension!$A$8,Dimension!$C$9,IF(B336=Dimension!$A$6,CD,\"\"))","v":""},null,{"$f":"IF(OR(B336=Dimension!$A$3,B336=Dimension!$A$4,B336=Dimension!$A$6,B336=Dimension!$A$8),CCYA,\"\")","v":""},{"$f":"IFERROR(VLOOKUP(F336,Dimension!$G$3:$H$252,2,FALSE),\"\")","v":""},{"$f":"IF(OR(B336=Dimension!$A$3,B336=Dimension!$A$4,B336=Dimension!$A$5),\"เดินทาง/ท่องเที่ยว\",\"\")","v":""},{"$f":"IF(OR(B336=Dimension!$A$6,B336=Dimension!$A$7,B336=Dimension!$A$8,B336=Dimension!$A$9),\"\",IF(OR(B336=Dimension!$A$3,B336=Dimension!$A$4,B336=Dimension!$A$5),\"สถานประกอบการ\",\"\"))","v":""},{"$f":"IF(OR(B336=Dimension!$A$3,B336=Dimension!$A$4,B336=Dimension!$A$5,B336=Dimension!$A$6,,B336=Dimension!$A$7,B336=Dimension!$A$8,B336=Dimension!$A$9),Payment_ID2,\"\")","v":""},null,{"$f":"IFERROR(VLOOKUP(K336,Dimension!$J$3:$K$179,2,FALSE),\"\")","v":""},null,null,{"$f":"IF(OR(B336=Dimension!$A$6,B336=Dimension!$A$7,B336=Dimension!$A$8,B336=Dimension!$A$9),\"\",IF(OR(B336=Dimension!$A$3,B336=Dimension!$A$4,B336=Dimension!$A$5),\"สถานประกอบการ\",\"\"))","v":""},{"$f":"IF(OR(B336=Dimension!$A$6,B336=Dimension!$A$7,B336=Dimension!$A$8,B336=Dimension!$A$9,B336=\"\"),\"\",Payment_ID2)","v":""},"",null,null,{"$f":"IF(D336=Dimension!$C$9,IF(LEFT(UPPER(E336),2)=\"MC\",TRUE,FALSE),TRUE)","v":true}]
[null,null,null,{"$f":"IF(B337=Dimension!$A$8,Dimension!$C$9,IF(B337=Dimension!$A$6,CD,\"\"))","v":""},null,{"$f":"IF(OR(B337=Dimension!$A$3,B337=Dimension!$A$4,B337=Dimension!$A$6,B337=Dimension!$A$8),CCYA,\"\")","v":""},{"$f":"IFERROR(VLOOKUP(F337,Dimension!$G$3:$H$252,2,FALSE),\"\")","v":""},{"$f":"IF(OR(B337=Dimension!$A$3,B337=Dimension!$A$4,B337=Dimension!$A$5),\"เดินทาง/ท่องเที่ยว\",\"\")","v":""},{"$f":"IF(OR(B337=Dimension!$A$6,B337=Dimension!$A$7,B337=Dimension!$A$8,B337=Dimension!$A$9),\"\",IF(OR(B337=Dimension!$A$3,B337=Dimension!$A$4,B337=Dimension!$A$5),\"สถานประกอบการ\",\"\"))","v":""},{"$f":"IF(OR(B337=Dimension!$A$3,B337=Dimension!$A$4,B337=Dimension!$A$5,B337=Dimension!$A$6,,B337=Dimension!$A$7,B337=Dimension!$A$8,B337=Dimension!$A$9),Payment_ID2,\"\")","v":""},null,{"$f":"IFERROR(VLOOKUP(K337,Dimension!$J$3:$K$179,2,FALSE),\"\")","v":""},null,null,{"$f":"IF(OR(B337=Dimension!$A$6,B337=Dimension!$A$7,B337=Dimension!$A$8,B337=Dimension!$A$9),\"\",IF(OR(B337=Dimension!$A$3,B337=Dimension!$A$4,B337=Dimension!$A$5),\"สถานประกอบการ\",\"\"))","v":""},{"$f":"IF(OR(B337=Dimension!$A$6,B337=Dimension!$A$7,B337=Dimension!$A$8,B337=Dimension!$A$9,B337=\"\"),\"\",Payment_ID2)","v":""},"",null,null,{"$f":"IF(D337=Dimension!$C$9,IF(LEFT(UPPER(E337),2)=\"MC\",TRUE,FALSE),TRUE)","v":true}]
[null,null,null,{"$f":"IF(B338=Dimension!$A$8,Dimension!$C$9,IF(B338=Dimension!$A$6,CD,\"\"))","v":""},null,{"$f":"IF(OR(B338=Dimension!$A$3,B338=Dimension!$A$4,B338=Dimension!$A$6,B338=Dimension!$A$8),CCYA,\"\")","v":""},{"$f":"IFERROR(VLOOKUP(F338,Dimension!$G$3:$H$252,2,FALSE),\"\")","v":""},{"$f":"IF(OR(B338=Dimension!$A$3,B338=Dimension!$A$4,B338=Dimension!$A$5),\"เดินทาง/ท่องเที่ยว\",\"\")","v":""},{"$f":"IF(OR(B338=Dimension!$A$6,B338=Dimension!$A$7,B338=Dimension!$A$8,B338=Dimension!$A$9),\"\",IF(OR(B338=Dimension!$A$3,B338=Dimension!$A$4,B338=Dimension!$A$5),\"สถานประกอบการ\",\"\"))","v":""},{"$f":"IF(OR(B338=Dimension!$A$3,B338=Dimension!$A$4,B338=Dimension!$A$5,B338=Dimension!$A$6,,B338=Dimension!$A$7,B338=Dimension!$A$8,B338=Dimension!$A$9),Payment_ID2,\"\")","v":""},null,{"$f":"IFERROR(VLOOKUP(K338,Dimension!$J$3:$K$179,2,FALSE),\"\")","v":""},null,null,{"$f":"IF(OR(B338=Dimension!$A$6,B338=Dimension!$A$7,B338=Dimension!$A$8,B338=Dimension!$A$9),\"\",IF(OR(B338=Dimension!$A$3,B338=Dimension!$A$4,B338=Dimension!$A$5),\"สถานประกอบการ\",\"\"))","v":""},{"$f":"IF(OR(B338=Dimension!$A$6,B338=Dimension!$A$7,B338=Dimension!$A$8,B338=Dimension!$A$9,B338=\"\"),\"\",Payment_ID2)","v":""},"",null,null,{"$f":"IF(D338=Dimension!$C$9,IF(LEFT(UPPER(E338),2)=\"MC\",TRUE,FALSE),TRUE)","v":true}]
[null,null,null,{"$f":"IF(B339=Dimension!$A$8,Dimension!$C$9,IF(B339=Dimension!$A$6,CD,\"\"))","v":""},null,{"$f":"IF(OR(B339=Dimension!$A$3,B339=Dimension!$A$4,B339=Dimension!$A$6,B339=Dimension!$A$8),CCYA,\"\")","v":""},{"$f":"IFERROR(VLOOKUP(F339,Dimension!$G$3:$H$252,2,FALSE),\"\")","v":""},{"$f":"IF(OR(B339=Dimension!$A$3,B339=Dimension!$A$4,B339=Dimension!$A$5),\"เดินทาง/ท่องเที่ยว\",\"\")","v":""},{"$f":"IF(OR(B339=Dimension!$A$6,B339=Dimension!$A$7,B339=Dimension!$A$8,B339=Dimension!$A$9),\"\",IF(OR(B339=Dimension!$A$3,B339=Dimension!$A$4,B339=Dimension!$A$5),\"สถานประกอบการ\",\"\"))","v":""},{"$f":"IF(OR(B339=Dimension!$A$3,B339=Dimension!$A$4,B339=Dimension!$A$5,B339=Dimension!$A$6,,B339=Dimension!$A$7,B339=Dimension!$A$8,B339=Dimension!$A$9),Payment_ID2,\"\")","v":""},null,{"$f":"IFERROR(VLOOKUP(K339,Dimension!$J$3:$K$179,2,FALSE),\"\")","v":""},null,null,{"$f":"IF(OR(B339=Dimension!$A$6,B339=Dimension!$A$7,B339=Dimension!$A$8,B339=Dimension!$A$9),\"\",IF(OR(B339=Dimension!$A$3,B339=Dimension!$A$4,B339=Dimension!$A$5),\"สถานประกอบการ\",\"\"))","v":""},{"$f":"IF(OR(B339=Dimension!$A$6,B339=Dimension!$A$7,B339=Dimension!$A$8,B339=Dimension!$A$9,B339=\"\"),\"\",Payment_ID2)","v":""},"",null,null,{"$f":"IF(D339=Dimension!$C$9,IF(LEFT(UPPER(E339),2)=\"MC\",TRUE,FALSE),TRUE)","v":true}]
[null,null,null,{"$f":"IF(B340=Dimension!$A$8,Dimension!$C$9,IF(B340=Dimension!$A$6,CD,\"\"))","v":""},null,{"$f":"IF(OR(B340=Dimension!$A$3,B340=Dimension!$A$4,B340=Dimension!$A$6,B340=Dimension!$A$8),CCYA,\"\")","v":""},{"$f":"IFERROR(VLOOKUP(F340,Dimension!$G$3:$H$252,2,FALSE),\"\")","v":""},{"$f":"IF(OR(B340=Dimension!$A$3,B340=Dimension!$A$4,B340=Dimension!$A$5),\"เดินทาง/ท่องเที่ยว\",\"\")","v":""},{"$f":"IF(OR(B340=Dimension!$A$6,B340=Dimension!$A$7,B340=Dimension!$A$8,B340=Dimension!$A$9),\"\",IF(OR(B340=Dimension!$A$3,B340=Dimension!$A$4,B340=Dimension!$A$5),\"สถานประกอบการ\",\"\"))","v":""},{"$f":"IF(OR(B340=Dimension!$A$3,B340=Dimension!$A$4,B340=Dimension!$A$5,B340=Dimension!$A$6,,B340=Dimension!$A$7,B340=Dimension!$A$8,B340=Dimension!$A$9),Payment_ID2,\"\")","v":""},null,{"$f":"IFERROR(VLOOKUP(K340,Dimension!$J$3:$K$179,2,FALSE),\"\")","v":""},null,null,{"$f":"IF(OR(B340=Dimension!$A$6,B340=Dimension!$A$7,B340=Dimension!$A$8,B340=Dimension!$A$9),\"\",IF(OR(B340=Dimension!$A$3,B340=Dimension!$A$4,B340=Dimension!$A$5),\"สถานประกอบการ\",\"\"))","v":""},{"$f":"IF(OR(B340=Dimension!$A$6,B340=Dimension!$A$7,B340=Dimension!$A$8,B340=Dimension!$A$9,B340=\"\"),\"\",Payment_ID2)","v":""},"",null,null,{"$f":"IF(D340=Dimension!$C$9,IF(LEFT(UPPER(E340),2)=\"MC\",TRUE,FALSE),TRUE)","v":true}]
[null,null,null,{"$f":"IF(B341=Dimension!$A$8,Dimension!$C$9,IF(B341=Dimension!$A$6,CD,\"\"))","v":""},null,{"$f":"IF(OR(B341=Dimension!$A$3,B341=Dimension!$A$4,B341=Dimension!$A$6,B341=Dimension!$A$8),CCYA,\"\")","v":""},{"$f":"IFERROR(VLOOKUP(F341,Dimension!$G$3:$H$252,2,FALSE),\"\")","v":""},{"$f":"IF(OR(B341=Dimension!$A$3,B341=Dimension!$A$4,B341=Dimension!$A$5),\"เดินทาง/ท่องเที่ยว\",\"\")","v":""},{"$f":"IF(OR(B341=Dimension!$A$6,B341=Dimension!$A$7,B341=Dimension!$A$8,B341=Dimension!$A$9),\"\",IF(OR(B341=Dimension!$A$3,B341=Dimension!$A$4,B341=Dimension!$A$5),\"สถานประกอบการ\",\"\"))","v":""},{"$f":"IF(OR(B341=Dimension!$A$3,B341=Dimension!$A$4,B341=Dimension!$A$5,B341=Dimension!$A$6,,B341=Dimension!$A$7,B341=Dimension!$A$8,B341=Dimension!$A$9),Payment_ID2,\"\")","v":""},null,{"$f":"IFERROR(VLOOKUP(K341,Dimension!$J$3:$K$179,2,FALSE),\"\")","v":""},null,null,{"$f":"IF(OR(B341=Dimension!$A$6,B341=Dimension!$A$7,B341=Dimension!$A$8,B341=Dimension!$A$9),\"\",IF(OR(B341=Dimension!$A$3,B341=Dimension!$A$4,B341=Dimension!$A$5),\"สถานประกอบการ\",\"\"))","v":""},{"$f":"IF(OR(B341=Dimension!$A$6,B341=Dimension!$A$7,B341=Dimension!$A$8,B341=Dimension!$A$9,B341=\"\"),\"\",Payment_ID2)","v":""},"",null,null,{"$f":"IF(D341=Dimension!$C$9,IF(LEFT(UPPER(E341),2)=\"MC\",TRUE,FALSE),TRUE)","v":true}]
[null,null,null,{"$f":"IF(B342=Dimension!$A$8,Dimension!$C$9,IF(B342=Dimension!$A$6,CD,\"\"))","v":""},null,{"$f":"IF(OR(B342=Dimension!$A$3,B342=Dimension!$A$4,B342=Dimension!$A$6,B342=Dimension!$A$8),CCYA,\"\")","v":""},{"$f":"IFERROR(VLOOKUP(F342,Dimension!$G$3:$H$252,2,FALSE),\"\")","v":""},{"$f":"IF(OR(B342=Dimension!$A$3,B342=Dimension!$A$4,B342=Dimension!$A$5),\"เดินทาง/ท่องเที่ยว\",\"\")","v":""},{"$f":"IF(OR(B342=Dimension!$A$6,B342=Dimension!$A$7,B342=Dimension!$A$8,B342=Dimension!$A$9),\"\",IF(OR(B342=Dimension!$A$3,B342=Dimension!$A$4,B342=Dimension!$A$5),\"สถานประกอบการ\",\"\"))","v":""},{"$f":"IF(OR(B342=Dimension!$A$3,B342=Dimension!$A$4,B342=Dimension!$A$5,B342=Dimension!$A$6,,B342=Dimension!$A$7,B342=Dimension!$A$8,B342=Dimension!$A$9),Payment_ID2,\"\")","v":""},null,{"$f":"IFERROR(VLOOKUP(K342,Dimension!$J$3:$K$179,2,FALSE),\"\")","v":""},null,null,{"$f":"IF(OR(B342=Dimension!$A$6,B342=Dimension!$A$7,B342=Dimension!$A$8,B342=Dimension!$A$9),\"\",IF(OR(B342=Dimension!$A$3,B342=Dimension!$A$4,B342=Dimension!$A$5),\"สถานประกอบการ\",\"\"))","v":""},{"$f":"IF(OR(B342=Dimension!$A$6,B342=Dimension!$A$7,B342=Dimension!$A$8,B342=Dimension!$A$9,B342=\"\"),\"\",Payment_ID2)","v":""},"",null,null,{"$f":"IF(D342=Dimension!$C$9,IF(LEFT(UPPER(E342),2)=\"MC\",TRUE,FALSE),TRUE)","v":true}]
[null,null,null,{"$f":"IF(B343=Dimension!$A$8,Dimension!$C$9,IF(B343=Dimension!$A$6,CD,\"\"))","v":""},null,{"$f":"IF(OR(B343=Dimension!$A$3,B343=Dimension!$A$4,B343=Dimension!$A$6,B343=Dimension!$A$8),CCYA,\"\")","v":""},{"$f":"IFERROR(VLOOKUP(F343,Dimension!$G$3:$H$252,2,FALSE),\"\")","v":""},{"$f":"IF(OR(B343=Dimension!$A$3,B343=Dimension!$A$4,B343=Dimension!$A$5),\"เดินทาง/ท่องเที่ยว\",\"\")","v":""},{"$f":"IF(OR(B343=Dimension!$A$6,B343=Dimension!$A$7,B343=Dimension!$A$8,B343=Dimension!$A$9),\"\",IF(OR(B343=Dimension!$A$3,B343=Dimension!$A$4,B343=Dimension!$A$5),\"สถานประกอบการ\",\"\"))","v":""},{"$f":"IF(OR(B343=Dimension!$A$3,B343=Dimension!$A$4,B343=Dimension!$A$5,B343=Dimension!$A$6,,B343=Dimension!$A$7,B343=Dimension!$A$8,B343=Dimension!$A$9),Payment_ID2,\"\")","v":""},null,{"$f":"IFERROR(VLOOKUP(K343,Dimension!$J$3:$K$179,2,FALSE),\"\")","v":""},null,null,{"$f":"IF(OR(B343=Dimension!$A$6,B343=Dimension!$A$7,B343=Dimension!$A$8,B343=Dimension!$A$9),\"\",IF(OR(B343=Dimension!$A$3,B343=Dimension!$A$4,B343=Dimension!$A$5),\"สถานประกอบการ\",\"\"))","v":""},{"$f":"IF(OR(B343=Dimension!$A$6,B343=Dimension!$A$7,B343=Dimension!$A$8,B343=Dimension!$A$9,B343=\"\"),\"\",Payment_ID2)","v":""},"",null,null,{"$f":"IF(D343=Dimension!$C$9,IF(LEFT(UPPER(E343),2)=\"MC\",TRUE,FALSE),TRUE)","v":true}]
[null,null,null,{"$f":"IF(B344=Dimension!$A$8,Dimension!$C$9,IF(B344=Dimension!$A$6,CD,\"\"))","v":""},null,{"$f":"IF(OR(B344=Dimension!$A$3,B344=Dimension!$A$4,B344=Dimension!$A$6,B344=Dimension!$A$8),CCYA,\"\")","v":""},{"$f":"IFERROR(VLOOKUP(F344,Dimension!$G$3:$H$252,2,FALSE),\"\")","v":""},{"$f":"IF(OR(B344=Dimension!$A$3,B344=Dimension!$A$4,B344=Dimension!$A$5),\"เดินทาง/ท่องเที่ยว\",\"\")","v":""},{"$f":"IF(OR(B344=Dimension!$A$6,B344=Dimension!$A$7,B344=Dimension!$A$8,B344=Dimension!$A$9),\"\",IF(OR(B344=Dimension!$A$3,B344=Dimension!$A$4,B344=Dimension!$A$5),\"สถานประกอบการ\",\"\"))","v":""},{"$f":"IF(OR(B344=Dimension!$A$3,B344=Dimension!$A$4,B344=Dimension!$A$5,B344=Dimension!$A$6,,B344=Dimension!$A$7,B344=Dimension!$A$8,B344=Dimension!$A$9),Payment_ID2,\"\")","v":""},null,{"$f":"IFERROR(VLOOKUP(K344,Dimension!$J$3:$K$179,2,FALSE),\"\")","v":""},null,null,{"$f":"IF(OR(B344=Dimension!$A$6,B344=Dimension!$A$7,B344=Dimension!$A$8,B344=Dimension!$A$9),\"\",IF(OR(B344=Dimension!$A$3,B344=Dimension!$A$4,B344=Dimension!$A$5),\"สถานประกอบการ\",\"\"))","v":""},{"$f":"IF(OR(B344=Dimension!$A$6,B344=Dimension!$A$7,B344=Dimension!$A$8,B344=Dimension!$A$9,B344=\"\"),\"\",Payment_ID2)","v":""},"",null,null,{"$f":"IF(D344=Dimension!$C$9,IF(LEFT(UPPER(E344),2)=\"MC\",TRUE,FALSE),TRUE)","v":true}]
[null,null,null,{"$f":"IF(B345=Dimension!$A$8,Dimension!$C$9,IF(B345=Dimension!$A$6,CD,\"\"))","v":""},null,{"$f":"IF(OR(B345=Dimension!$A$3,B345=Dimension!$A$4,B345=Dimension!$A$6,B345=Dimension!$A$8),CCYA,\"\")","v":""},{"$f":"IFERROR(VLOOKUP(F345,Dimension!$G$3:$H$252,2,FALSE),\"\")","v":""},{"$f":"IF(OR(B345=Dimension!$A$3,B345=Dimension!$A$4,B345=Dimension!$A$5),\"เดินทาง/ท่องเที่ยว\",\"\")","v":""},{"$f":"IF(OR(B345=Dimension!$A$6,B345=Dimension!$A$7,B345=Dimension!$A$8,B345=Dimension!$A$9),\"\",IF(OR(B345=Dimension!$A$3,B345=Dimension!$A$4,B345=Dimension!$A$5),\"สถานประกอบการ\",\"\"))","v":""},{"$f":"IF(OR(B345=Dimension!$A$3,B345=Dimension!$A$4,B345=Dimension!$A$5,B345=Dimension!$A$6,,B345=Dimension!$A$7,B345=Dimension!$A$8,B345=Dimension!$A$9),Payment_ID2,\"\")","v":""},null,{"$f":"IFERROR(VLOOKUP(K345,Dimension!$J$3:$K$179,2,FALSE),\"\")","v":""},null,null,{"$f":"IF(OR(B345=Dimension!$A$6,B345=Dimension!$A$7,B345=Dimension!$A$8,B345=Dimension!$A$9),\"\",IF(OR(B345=Dimension!$A$3,B345=Dimension!$A$4,B345=Dimension!$A$5),\"สถานประกอบการ\",\"\"))","v":""},{"$f":"IF(OR(B345=Dimension!$A$6,B345=Dimension!$A$7,B345=Dimension!$A$8,B345=Dimension!$A$9,B345=\"\"),\"\",Payment_ID2)","v":""},"",null,null,{"$f":"IF(D345=Dimension!$C$9,IF(LEFT(UPPER(E345),2)=\"MC\",TRUE,FALSE),TRUE)","v":true}]
[null,null,null,{"$f":"IF(B346=Dimension!$A$8,Dimension!$C$9,IF(B346=Dimension!$A$6,CD,\"\"))","v":""},null,{"$f":"IF(OR(B346=Dimension!$A$3,B346=Dimension!$A$4,B346=Dimension!$A$6,B346=Dimension!$A$8),CCYA,\"\")","v":""},{"$f":"IFERROR(VLOOKUP(F346,Dimension!$G$3:$H$252,2,FALSE),\"\")","v":""},{"$f":"IF(OR(B346=Dimension!$A$3,B346=Dimension!$A$4,B346=Dimension!$A$5),\"เดินทาง/ท่องเที่ยว\",\"\")","v":""},{"$f":"IF(OR(B346=Dimension!$A$6,B346=Dimension!$A$7,B346=Dimension!$A$8,B346=Dimension!$A$9),\"\",IF(OR(B346=Dimension!$A$3,B346=Dimension!$A$4,B346=Dimension!$A$5),\"สถานประกอบการ\",\"\"))","v":""},{"$f":"IF(OR(B346=Dimension!$A$3,B346=Dimension!$A$4,B346=Dimension!$A$5,B346=Dimension!$A$6,,B346=Dimension!$A$7,B346=Dimension!$A$8,B346=Dimension!$A$9),Payment_ID2,\"\")","v":""},null,{"$f":"IFERROR(VLOOKUP(K346,Dimension!$J$3:$K$179,2,FALSE),\"\")","v":""},null,null,{"$f":"IF(OR(B346=Dimension!$A$6,B346=Dimension!$A$7,B346=Dimension!$A$8,B346=Dimension!$A$9),\"\",IF(OR(B346=Dimension!$A$3,B346=Dimension!$A$4,B346=Dimension!$A$5),\"สถานประกอบการ\",\"\"))","v":""},{"$f":"IF(OR(B346=Dimension!$A$6,B346=Dimension!$A$7,B346=Dimension!$A$8,B346=Dimension!$A$9,B346=\"\"),\"\",Payment_ID2)","v":""},"",null,null,{"$f":"IF(D346=Dimension!$C$9,IF(LEFT(UPPER(E346),2)=\"MC\",TRUE,FALSE),TRUE)","v":true}]
[null,null,null,{"$f":"IF(B347=Dimension!$A$8,Dimension!$C$9,IF(B347=Dimension!$A$6,CD,\"\"))","v":""},null,{"$f":"IF(OR(B347=Dimension!$A$3,B347=Dimension!$A$4,B347=Dimension!$A$6,B347=Dimension!$A$8),CCYA,\"\")","v":""},{"$f":"IFERROR(VLOOKUP(F347,Dimension!$G$3:$H$252,2,FALSE),\"\")","v":""},{"$f":"IF(OR(B347=Dimension!$A$3,B347=Dimension!$A$4,B347=Dimension!$A$5),\"เดินทาง/ท่องเที่ยว\",\"\")","v":""},{"$f":"IF(OR(B347=Dimension!$A$6,B347=Dimension!$A$7,B347=Dimension!$A$8,B347=Dimension!$A$9),\"\",IF(OR(B347=Dimension!$A$3,B347=Dimension!$A$4,B347=Dimension!$A$5),\"สถานประกอบการ\",\"\"))","v":""},{"$f":"IF(OR(B347=Dimension!$A$3,B347=Dimension!$A$4,B347=Dimension!$A$5,B347=Dimension!$A$6,,B347=Dimension!$A$7,B347=Dimension!$A$8,B347=Dimension!$A$9),Payment_ID2,\"\")","v":""},null,{"$f":"IFERROR(VLOOKUP(K347,Dimension!$J$3:$K$179,2,FALSE),\"\")","v":""},null,null,{"$f":"IF(OR(B347=Dimension!$A$6,B347=Dimension!$A$7,B347=Dimension!$A$8,B347=Dimension!$A$9),\"\",IF(OR(B347=Dimension!$A$3,B347=Dimension!$A$4,B347=Dimension!$A$5),\"สถานประกอบการ\",\"\"))","v":""},{"$f":"IF(OR(B347=Dimension!$A$6,B347=Dimension!$A$7,B347=Dimension!$A$8,B347=Dimension!$A$9,B347=\"\"),\"\",Payment_ID2)","v":""},"",null,null,{"$f":"IF(D347=Dimension!$C$9,IF(LEFT(UPPER(E347),2)=\"MC\",TRUE,FALSE),TRUE)","v":true}]
[null,null,null,{"$f":"IF(B348=Dimension!$A$8,Dimension!$C$9,IF(B348=Dimension!$A$6,CD,\"\"))","v":""},null,{"$f":"IF(OR(B348=Dimension!$A$3,B348=Dimension!$A$4,B348=Dimension!$A$6,B348=Dimension!$A$8),CCYA,\"\")","v":""},{"$f":"IFERROR(VLOOKUP(F348,Dimension!$G$3:$H$252,2,FALSE),\"\")","v":""},{"$f":"IF(OR(B348=Dimension!$A$3,B348=Dimension!$A$4,B348=Dimension!$A$5),\"เดินทาง/ท่องเที่ยว\",\"\")","v":""},{"$f":"IF(OR(B348=Dimension!$A$6,B348=Dimension!$A$7,B348=Dimension!$A$8,B348=Dimension!$A$9),\"\",IF(OR(B348=Dimension!$A$3,B348=Dimension!$A$4,B348=Dimension!$A$5),\"สถานประกอบการ\",\"\"))","v":""},{"$f":"IF(OR(B348=Dimension!$A$3,B348=Dimension!$A$4,B348=Dimension!$A$5,B348=Dimension!$A$6,,B348=Dimension!$A$7,B348=Dimension!$A$8,B348=Dimension!$A$9),Payment_ID2,\"\")","v":""},null,{"$f":"IFERROR(VLOOKUP(K348,Dimension!$J$3:$K$179,2,FALSE),\"\")","v":""},null,null,{"$f":"IF(OR(B348=Dimension!$A$6,B348=Dimension!$A$7,B348=Dimension!$A$8,B348=Dimension!$A$9),\"\",IF(OR(B348=Dimension!$A$3,B348=Dimension!$A$4,B348=Dimension!$A$5),\"สถานประกอบการ\",\"\"))","v":""},{"$f":"IF(OR(B348=Dimension!$A$6,B348=Dimension!$A$7,B348=Dimension!$A$8,B348=Dimension!$A$9,B348=\"\"),\"\",Payment_ID2)","v":""},"",null,null,{"$f":"IF(D348=Dimension!$C$9,IF(LEFT(UPPER(E348),2)=\"MC\",TRUE,FALSE),TRUE)","v":true}]
[null,null,null,{"$f":"IF(B349=Dimension!$A$8,Dimension!$C$9,IF(B349=Dimension!$A$6,CD,\"\"))","v":""},null,{"$f":"IF(OR(B349=Dimension!$A$3,B349=Dimension!$A$4,B349=Dimension!$A$6,B349=Dimension!$A$8),CCYA,\"\")","v":""},{"$f":"IFERROR(VLOOKUP(F349,Dimension!$G$3:$H$252,2,FALSE),\"\")","v":""},{"$f":"IF(OR(B349=Dimension!$A$3,B349=Dimension!$A$4,B349=Dimension!$A$5),\"เดินทาง/ท่องเที่ยว\",\"\")","v":""},{"$f":"IF(OR(B349=Dimension!$A$6,B349=Dimension!$A$7,B349=Dimension!$A$8,B349=Dimension!$A$9),\"\",IF(OR(B349=Dimension!$A$3,B349=Dimension!$A$4,B349=Dimension!$A$5),\"สถานประกอบการ\",\"\"))","v":""},{"$f":"IF(OR(B349=Dimension!$A$3,B349=Dimension!$A$4,B349=Dimension!$A$5,B349=Dimension!$A$6,,B349=Dimension!$A$7,B349=Dimension!$A$8,B349=Dimension!$A$9),Payment_ID2,\"\")","v":""},null,{"$f":"IFERROR(VLOOKUP(K349,Dimension!$J$3:$K$179,2,FALSE),\"\")","v":""},null,null,{"$f":"IF(OR(B349=Dimension!$A$6,B349=Dimension!$A$7,B349=Dimension!$A$8,B349=Dimension!$A$9),\"\",IF(OR(B349=Dimension!$A$3,B349=Dimension!$A$4,B349=Dimension!$A$5),\"สถานประกอบการ\",\"\"))","v":""},{"$f":"IF(OR(B349=Dimension!$A$6,B349=Dimension!$A$7,B349=Dimension!$A$8,B349=Dimension!$A$9,B349=\"\"),\"\",Payment_ID2)","v":""},"",null,null,{"$f":"IF(D349=Dimension!$C$9,IF(LEFT(UPPER(E349),2)=\"MC\",TRUE,FALSE),TRUE)","v":true}]
[null,null,null,{"$f":"IF(B350=Dimension!$A$8,Dimension!$C$9,IF(B350=Dimension!$A$6,CD,\"\"))","v":""},null,{"$f":"IF(OR(B350=Dimension!$A$3,B350=Dimension!$A$4,B350=Dimension!$A$6,B350=Dimension!$A$8),CCYA,\"\")","v":""},{"$f":"IFERROR(VLOOKUP(F350,Dimension!$G$3:$H$252,2,FALSE),\"\")","v":""},{"$f":"IF(OR(B350=Dimension!$A$3,B350=Dimension!$A$4,B350=Dimension!$A$5),\"เดินทาง/ท่องเที่ยว\",\"\")","v":""},{"$f":"IF(OR(B350=Dimension!$A$6,B350=Dimension!$A$7,B350=Dimension!$A$8,B350=Dimension!$A$9),\"\",IF(OR(B350=Dimension!$A$3,B350=Dimension!$A$4,B350=Dimension!$A$5),\"สถานประกอบการ\",\"\"))","v":""},{"$f":"IF(OR(B350=Dimension!$A$3,B350=Dimension!$A$4,B350=Dimension!$A$5,B350=Dimension!$A$6,,B350=Dimension!$A$7,B350=Dimension!$A$8,B350=Dimension!$A$9),Payment_ID2,\"\")","v":""},null,{"$f":"IFERROR(VLOOKUP(K350,Dimension!$J$3:$K$179,2,FALSE),\"\")","v":""},null,null,{"$f":"IF(OR(B350=Dimension!$A$6,B350=Dimension!$A$7,B350=Dimension!$A$8,B350=Dimension!$A$9),\"\",IF(OR(B350=Dimension!$A$3,B350=Dimension!$A$4,B350=Dimension!$A$5),\"สถานประกอบการ\",\"\"))","v":""},{"$f":"IF(OR(B350=Dimension!$A$6,B350=Dimension!$A$7,B350=Dimension!$A$8,B350=Dimension!$A$9,B350=\"\"),\"\",Payment_ID2)","v":""},"",null,null,{"$f":"IF(D350=Dimension!$C$9,IF(LEFT(UPPER(E350),2)=\"MC\",TRUE,FALSE),TRUE)","v":true}]
[null,null,null,{"$f":"IF(B351=Dimension!$A$8,Dimension!$C$9,IF(B351=Dimension!$A$6,CD,\"\"))","v":""},null,{"$f":"IF(OR(B351=Dimension!$A$3,B351=Dimension!$A$4,B351=Dimension!$A$6,B351=Dimension!$A$8),CCYA,\"\")","v":""},{"$f":"IFERROR(VLOOKUP(F351,Dimension!$G$3:$H$252,2,FALSE),\"\")","v":""},{"$f":"IF(OR(B351=Dimension!$A$3,B351=Dimension!$A$4,B351=Dimension!$A$5),\"เดินทาง/ท่องเที่ยว\",\"\")","v":""},{"$f":"IF(OR(B351=Dimension!$A$6,B351=Dimension!$A$7,B351=Dimension!$A$8,B351=Dimension!$A$9),\"\",IF(OR(B351=Dimension!$A$3,B351=Dimension!$A$4,B351=Dimension!$A$5),\"สถานประกอบการ\",\"\"))","v":""},{"$f":"IF(OR(B351=Dimension!$A$3,B351=Dimension!$A$4,B351=Dimension!$A$5,B351=Dimension!$A$6,,B351=Dimension!$A$7,B351=Dimension!$A$8,B351=Dimension!$A$9),Payment_ID2,\"\")","v":""},null,{"$f":"IFERROR(VLOOKUP(K351,Dimension!$J$3:$K$179,2,FALSE),\"\")","v":""},null,null,{"$f":"IF(OR(B351=Dimension!$A$6,B351=Dimension!$A$7,B351=Dimension!$A$8,B351=Dimension!$A$9),\"\",IF(OR(B351=Dimension!$A$3,B351=Dimension!$A$4,B351=Dimension!$A$5),\"สถานประกอบการ\",\"\"))","v":""},{"$f":"IF(OR(B351=Dimension!$A$6,B351=Dimension!$A$7,B351=Dimension!$A$8,B351=Dimension!$A$9,B351=\"\"),\"\",Payment_ID2)","v":""},"",null,null,{"$f":"IF(D351=Dimension!$C$9,IF(LEFT(UPPER(E351),2)=\"MC\",TRUE,FALSE),TRUE)","v":true}]
[null,null,null,{"$f":"IF(B352=Dimension!$A$8,Dimension!$C$9,IF(B352=Dimension!$A$6,CD,\"\"))","v":""},null,{"$f":"IF(OR(B352=Dimension!$A$3,B352=Dimension!$A$4,B352=Dimension!$A$6,B352=Dimension!$A$8),CCYA,\"\")","v":""},{"$f":"IFERROR(VLOOKUP(F352,Dimension!$G$3:$H$252,2,FALSE),\"\")","v":""},{"$f":"IF(OR(B352=Dimension!$A$3,B352=Dimension!$A$4,B352=Dimension!$A$5),\"เดินทาง/ท่องเที่ยว\",\"\")","v":""},{"$f":"IF(OR(B352=Dimension!$A$6,B352=Dimension!$A$7,B352=Dimension!$A$8,B352=Dimension!$A$9),\"\",IF(OR(B352=Dimension!$A$3,B352=Dimension!$A$4,B352=Dimension!$A$5),\"สถานประกอบการ\",\"\"))","v":""},{"$f":"IF(OR(B352=Dimension!$A$3,B352=Dimension!$A$4,B352=Dimension!$A$5,B352=Dimension!$A$6,,B352=Dimension!$A$7,B352=Dimension!$A$8,B352=Dimension!$A$9),Payment_ID2,\"\")","v":""},null,{"$f":"IFERROR(VLOOKUP(K352,Dimension!$J$3:$K$179,2,FALSE),\"\")","v":""},null,null,{"$f":"IF(OR(B352=Dimension!$A$6,B352=Dimension!$A$7,B352=Dimension!$A$8,B352=Dimension!$A$9),\"\",IF(OR(B352=Dimension!$A$3,B352=Dimension!$A$4,B352=Dimension!$A$5),\"สถานประกอบการ\",\"\"))","v":""},{"$f":"IF(OR(B352=Dimension!$A$6,B352=Dimension!$A$7,B352=Dimension!$A$8,B352=Dimension!$A$9,B352=\"\"),\"\",Payment_ID2)","v":""},"",null,null,{"$f":"IF(D352=Dimension!$C$9,IF(LEFT(UPPER(E352),2)=\"MC\",TRUE,FALSE),TRUE)","v":true}]
[null,null,null,{"$f":"IF(B353=Dimension!$A$8,Dimension!$C$9,IF(B353=Dimension!$A$6,CD,\"\"))","v":""},null,{"$f":"IF(OR(B353=Dimension!$A$3,B353=Dimension!$A$4,B353=Dimension!$A$6,B353=Dimension!$A$8),CCYA,\"\")","v":""},{"$f":"IFERROR(VLOOKUP(F353,Dimension!$G$3:$H$252,2,FALSE),\"\")","v":""},{"$f":"IF(OR(B353=Dimension!$A$3,B353=Dimension!$A$4,B353=Dimension!$A$5),\"เดินทาง/ท่องเที่ยว\",\"\")","v":""},{"$f":"IF(OR(B353=Dimension!$A$6,B353=Dimension!$A$7,B353=Dimension!$A$8,B353=Dimension!$A$9),\"\",IF(OR(B353=Dimension!$A$3,B353=Dimension!$A$4,B353=Dimension!$A$5),\"สถานประกอบการ\",\"\"))","v":""},{"$f":"IF(OR(B353=Dimension!$A$3,B353=Dimension!$A$4,B353=Dimension!$A$5,B353=Dimension!$A$6,,B353=Dimension!$A$7,B353=Dimension!$A$8,B353=Dimension!$A$9),Payment_ID2,\"\")","v":""},null,{"$f":"IFERROR(VLOOKUP(K353,Dimension!$J$3:$K$179,2,FALSE),\"\")","v":""},null,null,{"$f":"IF(OR(B353=Dimension!$A$6,B353=Dimension!$A$7,B353=Dimension!$A$8,B353=Dimension!$A$9),\"\",IF(OR(B353=Dimension!$A$3,B353=Dimension!$A$4,B353=Dimension!$A$5),\"สถานประกอบการ\",\"\"))","v":""},{"$f":"IF(OR(B353=Dimension!$A$6,B353=Dimension!$A$7,B353=Dimension!$A$8,B353=Dimension!$A$9,B353=\"\"),\"\",Payment_ID2)","v":""},"",null,null,{"$f":"IF(D353=Dimension!$C$9,IF(LEFT(UPPER(E353),2)=\"MC\",TRUE,FALSE),TRUE)","v":true}]
[null,null,null,{"$f":"IF(B354=Dimension!$A$8,Dimension!$C$9,IF(B354=Dimension!$A$6,CD,\"\"))","v":""},null,{"$f":"IF(OR(B354=Dimension!$A$3,B354=Dimension!$A$4,B354=Dimension!$A$6,B354=Dimension!$A$8),CCYA,\"\")","v":""},{"$f":"IFERROR(VLOOKUP(F354,Dimension!$G$3:$H$252,2,FALSE),\"\")","v":""},{"$f":"IF(OR(B354=Dimension!$A$3,B354=Dimension!$A$4,B354=Dimension!$A$5),\"เดินทาง/ท่องเที่ยว\",\"\")","v":""},{"$f":"IF(OR(B354=Dimension!$A$6,B354=Dimension!$A$7,B354=Dimension!$A$8,B354=Dimension!$A$9),\"\",IF(OR(B354=Dimension!$A$3,B354=Dimension!$A$4,B354=Dimension!$A$5),\"สถานประกอบการ\",\"\"))","v":""},{"$f":"IF(OR(B354=Dimension!$A$3,B354=Dimension!$A$4,B354=Dimension!$A$5,B354=Dimension!$A$6,,B354=Dimension!$A$7,B354=Dimension!$A$8,B354=Dimension!$A$9),Payment_ID2,\"\")","v":""},null,{"$f":"IFERROR(VLOOKUP(K354,Dimension!$J$3:$K$179,2,FALSE),\"\")","v":""},null,null,{"$f":"IF(OR(B354=Dimension!$A$6,B354=Dimension!$A$7,B354=Dimension!$A$8,B354=Dimension!$A$9),\"\",IF(OR(B354=Dimension!$A$3,B354=Dimension!$A$4,B354=Dimension!$A$5),\"สถานประกอบการ\",\"\"))","v":""},{"$f":"IF(OR(B354=Dimension!$A$6,B354=Dimension!$A$7,B354=Dimension!$A$8,B354=Dimension!$A$9,B354=\"\"),\"\",Payment_ID2)","v":""},"",null,null,{"$f":"IF(D354=Dimension!$C$9,IF(LEFT(UPPER(E354),2)=\"MC\",TRUE,FALSE),TRUE)","v":true}]
[null,null,null,{"$f":"IF(B355=Dimension!$A$8,Dimension!$C$9,IF(B355=Dimension!$A$6,CD,\"\"))","v":""},null,{"$f":"IF(OR(B355=Dimension!$A$3,B355=Dimension!$A$4,B355=Dimension!$A$6,B355=Dimension!$A$8),CCYA,\"\")","v":""},{"$f":"IFERROR(VLOOKUP(F355,Dimension!$G$3:$H$252,2,FALSE),\"\")","v":""},{"$f":"IF(OR(B355=Dimension!$A$3,B355=Dimension!$A$4,B355=Dimension!$A$5),\"เดินทาง/ท่องเที่ยว\",\"\")","v":""},{"$f":"IF(OR(B355=Dimension!$A$6,B355=Dimension!$A$7,B355=Dimension!$A$8,B355=Dimension!$A$9),\"\",IF(OR(B355=Dimension!$A$3,B355=Dimension!$A$4,B355=Dimension!$A$5),\"สถานประกอบการ\",\"\"))","v":""},{"$f":"IF(OR(B355=Dimension!$A$3,B355=Dimension!$A$4,B355=Dimension!$A$5,B355=Dimension!$A$6,,B355=Dimension!$A$7,B355=Dimension!$A$8,B355=Dimension!$A$9),Payment_ID2,\"\")","v":""},null,{"$f":"IFERROR(VLOOKUP(K355,Dimension!$J$3:$K$179,2,FALSE),\"\")","v":""},null,null,{"$f":"IF(OR(B355=Dimension!$A$6,B355=Dimension!$A$7,B355=Dimension!$A$8,B355=Dimension!$A$9),\"\",IF(OR(B355=Dimension!$A$3,B355=Dimension!$A$4,B355=Dimension!$A$5),\"สถานประกอบการ\",\"\"))","v":""},{"$f":"IF(OR(B355=Dimension!$A$6,B355=Dimension!$A$7,B355=Dimension!$A$8,B355=Dimension!$A$9,B355=\"\"),\"\",Payment_ID2)","v":""},"",null,null,{"$f":"IF(D355=Dimension!$C$9,IF(LEFT(UPPER(E355),2)=\"MC\",TRUE,FALSE),TRUE)","v":true}]
[null,null,null,{"$f":"IF(B356=Dimension!$A$8,Dimension!$C$9,IF(B356=Dimension!$A$6,CD,\"\"))","v":""},null,{"$f":"IF(OR(B356=Dimension!$A$3,B356=Dimension!$A$4,B356=Dimension!$A$6,B356=Dimension!$A$8),CCYA,\"\")","v":""},{"$f":"IFERROR(VLOOKUP(F356,Dimension!$G$3:$H$252,2,FALSE),\"\")","v":""},{"$f":"IF(OR(B356=Dimension!$A$3,B356=Dimension!$A$4,B356=Dimension!$A$5),\"เดินทาง/ท่องเที่ยว\",\"\")","v":""},{"$f":"IF(OR(B356=Dimension!$A$6,B356=Dimension!$A$7,B356=Dimension!$A$8,B356=Dimension!$A$9),\"\",IF(OR(B356=Dimension!$A$3,B356=Dimension!$A$4,B356=Dimension!$A$5),\"สถานประกอบการ\",\"\"))","v":""},{"$f":"IF(OR(B356=Dimension!$A$3,B356=Dimension!$A$4,B356=Dimension!$A$5,B356=Dimension!$A$6,,B356=Dimension!$A$7,B356=Dimension!$A$8,B356=Dimension!$A$9),Payment_ID2,\"\")","v":""},null,{"$f":"IFERROR(VLOOKUP(K356,Dimension!$J$3:$K$179,2,FALSE),\"\")","v":""},null,null,{"$f":"IF(OR(B356=Dimension!$A$6,B356=Dimension!$A$7,B356=Dimension!$A$8,B356=Dimension!$A$9),\"\",IF(OR(B356=Dimension!$A$3,B356=Dimension!$A$4,B356=Dimension!$A$5),\"สถานประกอบการ\",\"\"))","v":""},{"$f":"IF(OR(B356=Dimension!$A$6,B356=Dimension!$A$7,B356=Dimension!$A$8,B356=Dimension!$A$9,B356=\"\"),\"\",Payment_ID2)","v":""},"",null,null,{"$f":"IF(D356=Dimension!$C$9,IF(LEFT(UPPER(E356),2)=\"MC\",TRUE,FALSE),TRUE)","v":true}]
[null,null,null,{"$f":"IF(B357=Dimension!$A$8,Dimension!$C$9,IF(B357=Dimension!$A$6,CD,\"\"))","v":""},null,{"$f":"IF(OR(B357=Dimension!$A$3,B357=Dimension!$A$4,B357=Dimension!$A$6,B357=Dimension!$A$8),CCYA,\"\")","v":""},{"$f":"IFERROR(VLOOKUP(F357,Dimension!$G$3:$H$252,2,FALSE),\"\")","v":""},{"$f":"IF(OR(B357=Dimension!$A$3,B357=Dimension!$A$4,B357=Dimension!$A$5),\"เดินทาง/ท่องเที่ยว\",\"\")","v":""},{"$f":"IF(OR(B357=Dimension!$A$6,B357=Dimension!$A$7,B357=Dimension!$A$8,B357=Dimension!$A$9),\"\",IF(OR(B357=Dimension!$A$3,B357=Dimension!$A$4,B357=Dimension!$A$5),\"สถานประกอบการ\",\"\"))","v":""},{"$f":"IF(OR(B357=Dimension!$A$3,B357=Dimension!$A$4,B357=Dimension!$A$5,B357=Dimension!$A$6,,B357=Dimension!$A$7,B357=Dimension!$A$8,B357=Dimension!$A$9),Payment_ID2,\"\")","v":""},null,{"$f":"IFERROR(VLOOKUP(K357,Dimension!$J$3:$K$179,2,FALSE),\"\")","v":""},null,null,{"$f":"IF(OR(B357=Dimension!$A$6,B357=Dimension!$A$7,B357=Dimension!$A$8,B357=Dimension!$A$9),\"\",IF(OR(B357=Dimension!$A$3,B357=Dimension!$A$4,B357=Dimension!$A$5),\"สถานประกอบการ\",\"\"))","v":""},{"$f":"IF(OR(B357=Dimension!$A$6,B357=Dimension!$A$7,B357=Dimension!$A$8,B357=Dimension!$A$9,B357=\"\"),\"\",Payment_ID2)","v":""},"",null,null,{"$f":"IF(D357=Dimension!$C$9,IF(LEFT(UPPER(E357),2)=\"MC\",TRUE,FALSE),TRUE)","v":true}]
[null,null,null,{"$f":"IF(B358=Dimension!$A$8,Dimension!$C$9,IF(B358=Dimension!$A$6,CD,\"\"))","v":""},null,{"$f":"IF(OR(B358=Dimension!$A$3,B358=Dimension!$A$4,B358=Dimension!$A$6,B358=Dimension!$A$8),CCYA,\"\")","v":""},{"$f":"IFERROR(VLOOKUP(F358,Dimension!$G$3:$H$252,2,FALSE),\"\")","v":""},{"$f":"IF(OR(B358=Dimension!$A$3,B358=Dimension!$A$4,B358=Dimension!$A$5),\"เดินทาง/ท่องเที่ยว\",\"\")","v":""},{"$f":"IF(OR(B358=Dimension!$A$6,B358=Dimension!$A$7,B358=Dimension!$A$8,B358=Dimension!$A$9),\"\",IF(OR(B358=Dimension!$A$3,B358=Dimension!$A$4,B358=Dimension!$A$5),\"สถานประกอบการ\",\"\"))","v":""},{"$f":"IF(OR(B358=Dimension!$A$3,B358=Dimension!$A$4,B358=Dimension!$A$5,B358=Dimension!$A$6,,B358=Dimension!$A$7,B358=Dimension!$A$8,B358=Dimension!$A$9),Payment_ID2,\"\")","v":""},null,{"$f":"IFERROR(VLOOKUP(K358,Dimension!$J$3:$K$179,2,FALSE),\"\")","v":""},null,null,{"$f":"IF(OR(B358=Dimension!$A$6,B358=Dimension!$A$7,B358=Dimension!$A$8,B358=Dimension!$A$9),\"\",IF(OR(B358=Dimension!$A$3,B358=Dimension!$A$4,B358=Dimension!$A$5),\"สถานประกอบการ\",\"\"))","v":""},{"$f":"IF(OR(B358=Dimension!$A$6,B358=Dimension!$A$7,B358=Dimension!$A$8,B358=Dimension!$A$9,B358=\"\"),\"\",Payment_ID2)","v":""},"",null,null,{"$f":"IF(D358=Dimension!$C$9,IF(LEFT(UPPER(E358),2)=\"MC\",TRUE,FALSE),TRUE)","v":true}]
[null,null,null,{"$f":"IF(B359=Dimension!$A$8,Dimension!$C$9,IF(B359=Dimension!$A$6,CD,\"\"))","v":""},null,{"$f":"IF(OR(B359=Dimension!$A$3,B359=Dimension!$A$4,B359=Dimension!$A$6,B359=Dimension!$A$8),CCYA,\"\")","v":""},{"$f":"IFERROR(VLOOKUP(F359,Dimension!$G$3:$H$252,2,FALSE),\"\")","v":""},{"$f":"IF(OR(B359=Dimension!$A$3,B359=Dimension!$A$4,B359=Dimension!$A$5),\"เดินทาง/ท่องเที่ยว\",\"\")","v":""},{"$f":"IF(OR(B359=Dimension!$A$6,B359=Dimension!$A$7,B359=Dimension!$A$8,B359=Dimension!$A$9),\"\",IF(OR(B359=Dimension!$A$3,B359=Dimension!$A$4,B359=Dimension!$A$5),\"สถานประกอบการ\",\"\"))","v":""},{"$f":"IF(OR(B359=Dimension!$A$3,B359=Dimension!$A$4,B359=Dimension!$A$5,B359=Dimension!$A$6,,B359=Dimension!$A$7,B359=Dimension!$A$8,B359=Dimension!$A$9),Payment_ID2,\"\")","v":""},null,{"$f":"IFERROR(VLOOKUP(K359,Dimension!$J$3:$K$179,2,FALSE),\"\")","v":""},null,null,{"$f":"IF(OR(B359=Dimension!$A$6,B359=Dimension!$A$7,B359=Dimension!$A$8,B359=Dimension!$A$9),\"\",IF(OR(B359=Dimension!$A$3,B359=Dimension!$A$4,B359=Dimension!$A$5),\"สถานประกอบการ\",\"\"))","v":""},{"$f":"IF(OR(B359=Dimension!$A$6,B359=Dimension!$A$7,B359=Dimension!$A$8,B359=Dimension!$A$9,B359=\"\"),\"\",Payment_ID2)","v":""},"",null,null,{"$f":"IF(D359=Dimension!$C$9,IF(LEFT(UPPER(E359),2)=\"MC\",TRUE,FALSE),TRUE)","v":true}]
[null,null,null,{"$f":"IF(B360=Dimension!$A$8,Dimension!$C$9,IF(B360=Dimension!$A$6,CD,\"\"))","v":""},null,{"$f":"IF(OR(B360=Dimension!$A$3,B360=Dimension!$A$4,B360=Dimension!$A$6,B360=Dimension!$A$8),CCYA,\"\")","v":""},{"$f":"IFERROR(VLOOKUP(F360,Dimension!$G$3:$H$252,2,FALSE),\"\")","v":""},{"$f":"IF(OR(B360=Dimension!$A$3,B360=Dimension!$A$4,B360=Dimension!$A$5),\"เดินทาง/ท่องเที่ยว\",\"\")","v":""},{"$f":"IF(OR(B360=Dimension!$A$6,B360=Dimension!$A$7,B360=Dimension!$A$8,B360=Dimension!$A$9),\"\",IF(OR(B360=Dimension!$A$3,B360=Dimension!$A$4,B360=Dimension!$A$5),\"สถานประกอบการ\",\"\"))","v":""},{"$f":"IF(OR(B360=Dimension!$A$3,B360=Dimension!$A$4,B360=Dimension!$A$5,B360=Dimension!$A$6,,B360=Dimension!$A$7,B360=Dimension!$A$8,B360=Dimension!$A$9),Payment_ID2,\"\")","v":""},null,{"$f":"IFERROR(VLOOKUP(K360,Dimension!$J$3:$K$179,2,FALSE),\"\")","v":""},null,null,{"$f":"IF(OR(B360=Dimension!$A$6,B360=Dimension!$A$7,B360=Dimension!$A$8,B360=Dimension!$A$9),\"\",IF(OR(B360=Dimension!$A$3,B360=Dimension!$A$4,B360=Dimension!$A$5),\"สถานประกอบการ\",\"\"))","v":""},{"$f":"IF(OR(B360=Dimension!$A$6,B360=Dimension!$A$7,B360=Dimension!$A$8,B360=Dimension!$A$9,B360=\"\"),\"\",Payment_ID2)","v":""},"",null,null,{"$f":"IF(D360=Dimension!$C$9,IF(LEFT(UPPER(E360),2)=\"MC\",TRUE,FALSE),TRUE)","v":true}]
[null,null,null,{"$f":"IF(B361=Dimension!$A$8,Dimension!$C$9,IF(B361=Dimension!$A$6,CD,\"\"))","v":""},null,{"$f":"IF(OR(B361=Dimension!$A$3,B361=Dimension!$A$4,B361=Dimension!$A$6,B361=Dimension!$A$8),CCYA,\"\")","v":""},{"$f":"IFERROR(VLOOKUP(F361,Dimension!$G$3:$H$252,2,FALSE),\"\")","v":""},{"$f":"IF(OR(B361=Dimension!$A$3,B361=Dimension!$A$4,B361=Dimension!$A$5),\"เดินทาง/ท่องเที่ยว\",\"\")","v":""},{"$f":"IF(OR(B361=Dimension!$A$6,B361=Dimension!$A$7,B361=Dimension!$A$8,B361=Dimension!$A$9),\"\",IF(OR(B361=Dimension!$A$3,B361=Dimension!$A$4,B361=Dimension!$A$5),\"สถานประกอบการ\",\"\"))","v":""},{"$f":"IF(OR(B361=Dimension!$A$3,B361=Dimension!$A$4,B361=Dimension!$A$5,B361=Dimension!$A$6,,B361=Dimension!$A$7,B361=Dimension!$A$8,B361=Dimension!$A$9),Payment_ID2,\"\")","v":""},null,{"$f":"IFERROR(VLOOKUP(K361,Dimension!$J$3:$K$179,2,FALSE),\"\")","v":""},null,null,{"$f":"IF(OR(B361=Dimension!$A$6,B361=Dimension!$A$7,B361=Dimension!$A$8,B361=Dimension!$A$9),\"\",IF(OR(B361=Dimension!$A$3,B361=Dimension!$A$4,B361=Dimension!$A$5),\"สถานประกอบการ\",\"\"))","v":""},{"$f":"IF(OR(B361=Dimension!$A$6,B361=Dimension!$A$7,B361=Dimension!$A$8,B361=Dimension!$A$9,B361=\"\"),\"\",Payment_ID2)","v":""},"",null,null,{"$f":"IF(D361=Dimension!$C$9,IF(LEFT(UPPER(E361),2)=\"MC\",TRUE,FALSE),TRUE)","v":true}]
[null,null,null,{"$f":"IF(B362=Dimension!$A$8,Dimension!$C$9,IF(B362=Dimension!$A$6,CD,\"\"))","v":""},null,{"$f":"IF(OR(B362=Dimension!$A$3,B362=Dimension!$A$4,B362=Dimension!$A$6,B362=Dimension!$A$8),CCYA,\"\")","v":""},{"$f":"IFERROR(VLOOKUP(F362,Dimension!$G$3:$H$252,2,FALSE),\"\")","v":""},{"$f":"IF(OR(B362=Dimension!$A$3,B362=Dimension!$A$4,B362=Dimension!$A$5),\"เดินทาง/ท่องเที่ยว\",\"\")","v":""},{"$f":"IF(OR(B362=Dimension!$A$6,B362=Dimension!$A$7,B362=Dimension!$A$8,B362=Dimension!$A$9),\"\",IF(OR(B362=Dimension!$A$3,B362=Dimension!$A$4,B362=Dimension!$A$5),\"สถานประกอบการ\",\"\"))","v":""},{"$f":"IF(OR(B362=Dimension!$A$3,B362=Dimension!$A$4,B362=Dimension!$A$5,B362=Dimension!$A$6,,B362=Dimension!$A$7,B362=Dimension!$A$8,B362=Dimension!$A$9),Payment_ID2,\"\")","v":""},null,{"$f":"IFERROR(VLOOKUP(K362,Dimension!$J$3:$K$179,2,FALSE),\"\")","v":""},null,null,{"$f":"IF(OR(B362=Dimension!$A$6,B362=Dimension!$A$7,B362=Dimension!$A$8,B362=Dimension!$A$9),\"\",IF(OR(B362=Dimension!$A$3,B362=Dimension!$A$4,B362=Dimension!$A$5),\"สถานประกอบการ\",\"\"))","v":""},{"$f":"IF(OR(B362=Dimension!$A$6,B362=Dimension!$A$7,B362=Dimension!$A$8,B362=Dimension!$A$9,B362=\"\"),\"\",Payment_ID2)","v":""},"",null,null,{"$f":"IF(D362=Dimension!$C$9,IF(LEFT(UPPER(E362),2)=\"MC\",TRUE,FALSE),TRUE)","v":true}]
[null,null,null,{"$f":"IF(B363=Dimension!$A$8,Dimension!$C$9,IF(B363=Dimension!$A$6,CD,\"\"))","v":""},null,{"$f":"IF(OR(B363=Dimension!$A$3,B363=Dimension!$A$4,B363=Dimension!$A$6,B363=Dimension!$A$8),CCYA,\"\")","v":""},{"$f":"IFERROR(VLOOKUP(F363,Dimension!$G$3:$H$252,2,FALSE),\"\")","v":""},{"$f":"IF(OR(B363=Dimension!$A$3,B363=Dimension!$A$4,B363=Dimension!$A$5),\"เดินทาง/ท่องเที่ยว\",\"\")","v":""},{"$f":"IF(OR(B363=Dimension!$A$6,B363=Dimension!$A$7,B363=Dimension!$A$8,B363=Dimension!$A$9),\"\",IF(OR(B363=Dimension!$A$3,B363=Dimension!$A$4,B363=Dimension!$A$5),\"สถานประกอบการ\",\"\"))","v":""},{"$f":"IF(OR(B363=Dimension!$A$3,B363=Dimension!$A$4,B363=Dimension!$A$5,B363=Dimension!$A$6,,B363=Dimension!$A$7,B363=Dimension!$A$8,B363=Dimension!$A$9),Payment_ID2,\"\")","v":""},null,{"$f":"IFERROR(VLOOKUP(K363,Dimension!$J$3:$K$179,2,FALSE),\"\")","v":""},null,null,{"$f":"IF(OR(B363=Dimension!$A$6,B363=Dimension!$A$7,B363=Dimension!$A$8,B363=Dimension!$A$9),\"\",IF(OR(B363=Dimension!$A$3,B363=Dimension!$A$4,B363=Dimension!$A$5),\"สถานประกอบการ\",\"\"))","v":""},{"$f":"IF(OR(B363=Dimension!$A$6,B363=Dimension!$A$7,B363=Dimension!$A$8,B363=Dimension!$A$9,B363=\"\"),\"\",Payment_ID2)","v":""},"",null,null,{"$f":"IF(D363=Dimension!$C$9,IF(LEFT(UPPER(E363),2)=\"MC\",TRUE,FALSE),TRUE)","v":true}]
[null,null,null,{"$f":"IF(B364=Dimension!$A$8,Dimension!$C$9,IF(B364=Dimension!$A$6,CD,\"\"))","v":""},null,{"$f":"IF(OR(B364=Dimension!$A$3,B364=Dimension!$A$4,B364=Dimension!$A$6,B364=Dimension!$A$8),CCYA,\"\")","v":""},{"$f":"IFERROR(VLOOKUP(F364,Dimension!$G$3:$H$252,2,FALSE),\"\")","v":""},{"$f":"IF(OR(B364=Dimension!$A$3,B364=Dimension!$A$4,B364=Dimension!$A$5),\"เดินทาง/ท่องเที่ยว\",\"\")","v":""},{"$f":"IF(OR(B364=Dimension!$A$6,B364=Dimension!$A$7,B364=Dimension!$A$8,B364=Dimension!$A$9),\"\",IF(OR(B364=Dimension!$A$3,B364=Dimension!$A$4,B364=Dimension!$A$5),\"สถานประกอบการ\",\"\"))","v":""},{"$f":"IF(OR(B364=Dimension!$A$3,B364=Dimension!$A$4,B364=Dimension!$A$5,B364=Dimension!$A$6,,B364=Dimension!$A$7,B364=Dimension!$A$8,B364=Dimension!$A$9),Payment_ID2,\"\")","v":""},null,{"$f":"IFERROR(VLOOKUP(K364,Dimension!$J$3:$K$179,2,FALSE),\"\")","v":""},null,null,{"$f":"IF(OR(B364=Dimension!$A$6,B364=Dimension!$A$7,B364=Dimension!$A$8,B364=Dimension!$A$9),\"\",IF(OR(B364=Dimension!$A$3,B364=Dimension!$A$4,B364=Dimension!$A$5),\"สถานประกอบการ\",\"\"))","v":""},{"$f":"IF(OR(B364=Dimension!$A$6,B364=Dimension!$A$7,B364=Dimension!$A$8,B364=Dimension!$A$9,B364=\"\"),\"\",Payment_ID2)","v":""},"",null,null,{"$f":"IF(D364=Dimension!$C$9,IF(LEFT(UPPER(E364),2)=\"MC\",TRUE,FALSE),TRUE)","v":true}]
[null,null,null,{"$f":"IF(B365=Dimension!$A$8,Dimension!$C$9,IF(B365=Dimension!$A$6,CD,\"\"))","v":""},null,{"$f":"IF(OR(B365=Dimension!$A$3,B365=Dimension!$A$4,B365=Dimension!$A$6,B365=Dimension!$A$8),CCYA,\"\")","v":""},{"$f":"IFERROR(VLOOKUP(F365,Dimension!$G$3:$H$252,2,FALSE),\"\")","v":""},{"$f":"IF(OR(B365=Dimension!$A$3,B365=Dimension!$A$4,B365=Dimension!$A$5),\"เดินทาง/ท่องเที่ยว\",\"\")","v":""},{"$f":"IF(OR(B365=Dimension!$A$6,B365=Dimension!$A$7,B365=Dimension!$A$8,B365=Dimension!$A$9),\"\",IF(OR(B365=Dimension!$A$3,B365=Dimension!$A$4,B365=Dimension!$A$5),\"สถานประกอบการ\",\"\"))","v":""},{"$f":"IF(OR(B365=Dimension!$A$3,B365=Dimension!$A$4,B365=Dimension!$A$5,B365=Dimension!$A$6,,B365=Dimension!$A$7,B365=Dimension!$A$8,B365=Dimension!$A$9),Payment_ID2,\"\")","v":""},null,{"$f":"IFERROR(VLOOKUP(K365,Dimension!$J$3:$K$179,2,FALSE),\"\")","v":""},null,null,{"$f":"IF(OR(B365=Dimension!$A$6,B365=Dimension!$A$7,B365=Dimension!$A$8,B365=Dimension!$A$9),\"\",IF(OR(B365=Dimension!$A$3,B365=Dimension!$A$4,B365=Dimension!$A$5),\"สถานประกอบการ\",\"\"))","v":""},{"$f":"IF(OR(B365=Dimension!$A$6,B365=Dimension!$A$7,B365=Dimension!$A$8,B365=Dimension!$A$9,B365=\"\"),\"\",Payment_ID2)","v":""},"",null,null,{"$f":"IF(D365=Dimension!$C$9,IF(LEFT(UPPER(E365),2)=\"MC\",TRUE,FALSE),TRUE)","v":true}]
[null,null,null,{"$f":"IF(B366=Dimension!$A$8,Dimension!$C$9,IF(B366=Dimension!$A$6,CD,\"\"))","v":""},null,{"$f":"IF(OR(B366=Dimension!$A$3,B366=Dimension!$A$4,B366=Dimension!$A$6,B366=Dimension!$A$8),CCYA,\"\")","v":""},{"$f":"IFERROR(VLOOKUP(F366,Dimension!$G$3:$H$252,2,FALSE),\"\")","v":""},{"$f":"IF(OR(B366=Dimension!$A$3,B366=Dimension!$A$4,B366=Dimension!$A$5),\"เดินทาง/ท่องเที่ยว\",\"\")","v":""},{"$f":"IF(OR(B366=Dimension!$A$6,B366=Dimension!$A$7,B366=Dimension!$A$8,B366=Dimension!$A$9),\"\",IF(OR(B366=Dimension!$A$3,B366=Dimension!$A$4,B366=Dimension!$A$5),\"สถานประกอบการ\",\"\"))","v":""},{"$f":"IF(OR(B366=Dimension!$A$3,B366=Dimension!$A$4,B366=Dimension!$A$5,B366=Dimension!$A$6,,B366=Dimension!$A$7,B366=Dimension!$A$8,B366=Dimension!$A$9),Payment_ID2,\"\")","v":""},null,{"$f":"IFERROR(VLOOKUP(K366,Dimension!$J$3:$K$179,2,FALSE),\"\")","v":""},null,null,{"$f":"IF(OR(B366=Dimension!$A$6,B366=Dimension!$A$7,B366=Dimension!$A$8,B366=Dimension!$A$9),\"\",IF(OR(B366=Dimension!$A$3,B366=Dimension!$A$4,B366=Dimension!$A$5),\"สถานประกอบการ\",\"\"))","v":""},{"$f":"IF(OR(B366=Dimension!$A$6,B366=Dimension!$A$7,B366=Dimension!$A$8,B366=Dimension!$A$9,B366=\"\"),\"\",Payment_ID2)","v":""},"",null,null,{"$f":"IF(D366=Dimension!$C$9,IF(LEFT(UPPER(E366),2)=\"MC\",TRUE,FALSE),TRUE)","v":true}]
[null,null,null,{"$f":"IF(B367=Dimension!$A$8,Dimension!$C$9,IF(B367=Dimension!$A$6,CD,\"\"))","v":""},null,{"$f":"IF(OR(B367=Dimension!$A$3,B367=Dimension!$A$4,B367=Dimension!$A$6,B367=Dimension!$A$8),CCYA,\"\")","v":""},{"$f":"IFERROR(VLOOKUP(F367,Dimension!$G$3:$H$252,2,FALSE),\"\")","v":""},{"$f":"IF(OR(B367=Dimension!$A$3,B367=Dimension!$A$4,B367=Dimension!$A$5),\"เดินทาง/ท่องเที่ยว\",\"\")","v":""},{"$f":"IF(OR(B367=Dimension!$A$6,B367=Dimension!$A$7,B367=Dimension!$A$8,B367=Dimension!$A$9),\"\",IF(OR(B367=Dimension!$A$3,B367=Dimension!$A$4,B367=Dimension!$A$5),\"สถานประกอบการ\",\"\"))","v":""},{"$f":"IF(OR(B367=Dimension!$A$3,B367=Dimension!$A$4,B367=Dimension!$A$5,B367=Dimension!$A$6,,B367=Dimension!$A$7,B367=Dimension!$A$8,B367=Dimension!$A$9),Payment_ID2,\"\")","v":""},null,{"$f":"IFERROR(VLOOKUP(K367,Dimension!$J$3:$K$179,2,FALSE),\"\")","v":""},null,null,{"$f":"IF(OR(B367=Dimension!$A$6,B367=Dimension!$A$7,B367=Dimension!$A$8,B367=Dimension!$A$9),\"\",IF(OR(B367=Dimension!$A$3,B367=Dimension!$A$4,B367=Dimension!$A$5),\"สถานประกอบการ\",\"\"))","v":""},{"$f":"IF(OR(B367=Dimension!$A$6,B367=Dimension!$A$7,B367=Dimension!$A$8,B367=Dimension!$A$9,B367=\"\"),\"\",Payment_ID2)","v":""},"",null,null,{"$f":"IF(D367=Dimension!$C$9,IF(LEFT(UPPER(E367),2)=\"MC\",TRUE,FALSE),TRUE)","v":true}]
[null,null,null,{"$f":"IF(B368=Dimension!$A$8,Dimension!$C$9,IF(B368=Dimension!$A$6,CD,\"\"))","v":""},null,{"$f":"IF(OR(B368=Dimension!$A$3,B368=Dimension!$A$4,B368=Dimension!$A$6,B368=Dimension!$A$8),CCYA,\"\")","v":""},{"$f":"IFERROR(VLOOKUP(F368,Dimension!$G$3:$H$252,2,FALSE),\"\")","v":""},{"$f":"IF(OR(B368=Dimension!$A$3,B368=Dimension!$A$4,B368=Dimension!$A$5),\"เดินทาง/ท่องเที่ยว\",\"\")","v":""},{"$f":"IF(OR(B368=Dimension!$A$6,B368=Dimension!$A$7,B368=Dimension!$A$8,B368=Dimension!$A$9),\"\",IF(OR(B368=Dimension!$A$3,B368=Dimension!$A$4,B368=Dimension!$A$5),\"สถานประกอบการ\",\"\"))","v":""},{"$f":"IF(OR(B368=Dimension!$A$3,B368=Dimension!$A$4,B368=Dimension!$A$5,B368=Dimension!$A$6,,B368=Dimension!$A$7,B368=Dimension!$A$8,B368=Dimension!$A$9),Payment_ID2,\"\")","v":""},null,{"$f":"IFERROR(VLOOKUP(K368,Dimension!$J$3:$K$179,2,FALSE),\"\")","v":""},null,null,{"$f":"IF(OR(B368=Dimension!$A$6,B368=Dimension!$A$7,B368=Dimension!$A$8,B368=Dimension!$A$9),\"\",IF(OR(B368=Dimension!$A$3,B368=Dimension!$A$4,B368=Dimension!$A$5),\"สถานประกอบการ\",\"\"))","v":""},{"$f":"IF(OR(B368=Dimension!$A$6,B368=Dimension!$A$7,B368=Dimension!$A$8,B368=Dimension!$A$9,B368=\"\"),\"\",Payment_ID2)","v":""},"",null,null,{"$f":"IF(D368=Dimension!$C$9,IF(LEFT(UPPER(E368),2)=\"MC\",TRUE,FALSE),TRUE)","v":true}]
[null,null,null,{"$f":"IF(B369=Dimension!$A$8,Dimension!$C$9,IF(B369=Dimension!$A$6,CD,\"\"))","v":""},null,{"$f":"IF(OR(B369=Dimension!$A$3,B369=Dimension!$A$4,B369=Dimension!$A$6,B369=Dimension!$A$8),CCYA,\"\")","v":""},{"$f":"IFERROR(VLOOKUP(F369,Dimension!$G$3:$H$252,2,FALSE),\"\")","v":""},{"$f":"IF(OR(B369=Dimension!$A$3,B369=Dimension!$A$4,B369=Dimension!$A$5),\"เดินทาง/ท่องเที่ยว\",\"\")","v":""},{"$f":"IF(OR(B369=Dimension!$A$6,B369=Dimension!$A$7,B369=Dimension!$A$8,B369=Dimension!$A$9),\"\",IF(OR(B369=Dimension!$A$3,B369=Dimension!$A$4,B369=Dimension!$A$5),\"สถานประกอบการ\",\"\"))","v":""},{"$f":"IF(OR(B369=Dimension!$A$3,B369=Dimension!$A$4,B369=Dimension!$A$5,B369=Dimension!$A$6,,B369=Dimension!$A$7,B369=Dimension!$A$8,B369=Dimension!$A$9),Payment_ID2,\"\")","v":""},null,{"$f":"IFERROR(VLOOKUP(K369,Dimension!$J$3:$K$179,2,FALSE),\"\")","v":""},null,null,{"$f":"IF(OR(B369=Dimension!$A$6,B369=Dimension!$A$7,B369=Dimension!$A$8,B369=Dimension!$A$9),\"\",IF(OR(B369=Dimension!$A$3,B369=Dimension!$A$4,B369=Dimension!$A$5),\"สถานประกอบการ\",\"\"))","v":""},{"$f":"IF(OR(B369=Dimension!$A$6,B369=Dimension!$A$7,B369=Dimension!$A$8,B369=Dimension!$A$9,B369=\"\"),\"\",Payment_ID2)","v":""},"",null,null,{"$f":"IF(D369=Dimension!$C$9,IF(LEFT(UPPER(E369),2)=\"MC\",TRUE,FALSE),TRUE)","v":true}]
[null,null,null,{"$f":"IF(B370=Dimension!$A$8,Dimension!$C$9,IF(B370=Dimension!$A$6,CD,\"\"))","v":""},null,{"$f":"IF(OR(B370=Dimension!$A$3,B370=Dimension!$A$4,B370=Dimension!$A$6,B370=Dimension!$A$8),CCYA,\"\")","v":""},{"$f":"IFERROR(VLOOKUP(F370,Dimension!$G$3:$H$252,2,FALSE),\"\")","v":""},{"$f":"IF(OR(B370=Dimension!$A$3,B370=Dimension!$A$4,B370=Dimension!$A$5),\"เดินทาง/ท่องเที่ยว\",\"\")","v":""},{"$f":"IF(OR(B370=Dimension!$A$6,B370=Dimension!$A$7,B370=Dimension!$A$8,B370=Dimension!$A$9),\"\",IF(OR(B370=Dimension!$A$3,B370=Dimension!$A$4,B370=Dimension!$A$5),\"สถานประกอบการ\",\"\"))","v":""},{"$f":"IF(OR(B370=Dimension!$A$3,B370=Dimension!$A$4,B370=Dimension!$A$5,B370=Dimension!$A$6,,B370=Dimension!$A$7,B370=Dimension!$A$8,B370=Dimension!$A$9),Payment_ID2,\"\")","v":""},null,{"$f":"IFERROR(VLOOKUP(K370,Dimension!$J$3:$K$179,2,FALSE),\"\")","v":""},null,null,{"$f":"IF(OR(B370=Dimension!$A$6,B370=Dimension!$A$7,B370=Dimension!$A$8,B370=Dimension!$A$9),\"\",IF(OR(B370=Dimension!$A$3,B370=Dimension!$A$4,B370=Dimension!$A$5),\"สถานประกอบการ\",\"\"))","v":""},{"$f":"IF(OR(B370=Dimension!$A$6,B370=Dimension!$A$7,B370=Dimension!$A$8,B370=Dimension!$A$9,B370=\"\"),\"\",Payment_ID2)","v":""},"",null,null,{"$f":"IF(D370=Dimension!$C$9,IF(LEFT(UPPER(E370),2)=\"MC\",TRUE,FALSE),TRUE)","v":true}]
[null,null,null,{"$f":"IF(B371=Dimension!$A$8,Dimension!$C$9,IF(B371=Dimension!$A$6,CD,\"\"))","v":""},null,{"$f":"IF(OR(B371=Dimension!$A$3,B371=Dimension!$A$4,B371=Dimension!$A$6,B371=Dimension!$A$8),CCYA,\"\")","v":""},{"$f":"IFERROR(VLOOKUP(F371,Dimension!$G$3:$H$252,2,FALSE),\"\")","v":""},{"$f":"IF(OR(B371=Dimension!$A$3,B371=Dimension!$A$4,B371=Dimension!$A$5),\"เดินทาง/ท่องเที่ยว\",\"\")","v":""},{"$f":"IF(OR(B371=Dimension!$A$6,B371=Dimension!$A$7,B371=Dimension!$A$8,B371=Dimension!$A$9),\"\",IF(OR(B371=Dimension!$A$3,B371=Dimension!$A$4,B371=Dimension!$A$5),\"สถานประกอบการ\",\"\"))","v":""},{"$f":"IF(OR(B371=Dimension!$A$3,B371=Dimension!$A$4,B371=Dimension!$A$5,B371=Dimension!$A$6,,B371=Dimension!$A$7,B371=Dimension!$A$8,B371=Dimension!$A$9),Payment_ID2,\"\")","v":""},null,{"$f":"IFERROR(VLOOKUP(K371,Dimension!$J$3:$K$179,2,FALSE),\"\")","v":""},null,null,{"$f":"IF(OR(B371=Dimension!$A$6,B371=Dimension!$A$7,B371=Dimension!$A$8,B371=Dimension!$A$9),\"\",IF(OR(B371=Dimension!$A$3,B371=Dimension!$A$4,B371=Dimension!$A$5),\"สถานประกอบการ\",\"\"))","v":""},{"$f":"IF(OR(B371=Dimension!$A$6,B371=Dimension!$A$7,B371=Dimension!$A$8,B371=Dimension!$A$9,B371=\"\"),\"\",Payment_ID2)","v":""},"",null,null,{"$f":"IF(D371=Dimension!$C$9,IF(LEFT(UPPER(E371),2)=\"MC\",TRUE,FALSE),TRUE)","v":true}]
[null,null,null,{"$f":"IF(B372=Dimension!$A$8,Dimension!$C$9,IF(B372=Dimension!$A$6,CD,\"\"))","v":""},null,{"$f":"IF(OR(B372=Dimension!$A$3,B372=Dimension!$A$4,B372=Dimension!$A$6,B372=Dimension!$A$8),CCYA,\"\")","v":""},{"$f":"IFERROR(VLOOKUP(F372,Dimension!$G$3:$H$252,2,FALSE),\"\")","v":""},{"$f":"IF(OR(B372=Dimension!$A$3,B372=Dimension!$A$4,B372=Dimension!$A$5),\"เดินทาง/ท่องเที่ยว\",\"\")","v":""},{"$f":"IF(OR(B372=Dimension!$A$6,B372=Dimension!$A$7,B372=Dimension!$A$8,B372=Dimension!$A$9),\"\",IF(OR(B372=Dimension!$A$3,B372=Dimension!$A$4,B372=Dimension!$A$5),\"สถานประกอบการ\",\"\"))","v":""},{"$f":"IF(OR(B372=Dimension!$A$3,B372=Dimension!$A$4,B372=Dimension!$A$5,B372=Dimension!$A$6,,B372=Dimension!$A$7,B372=Dimension!$A$8,B372=Dimension!$A$9),Payment_ID2,\"\")","v":""},null,{"$f":"IFERROR(VLOOKUP(K372,Dimension!$J$3:$K$179,2,FALSE),\"\")","v":""},null,null,{"$f":"IF(OR(B372=Dimension!$A$6,B372=Dimension!$A$7,B372=Dimension!$A$8,B372=Dimension!$A$9),\"\",IF(OR(B372=Dimension!$A$3,B372=Dimension!$A$4,B372=Dimension!$A$5),\"สถานประกอบการ\",\"\"))","v":""},{"$f":"IF(OR(B372=Dimension!$A$6,B372=Dimension!$A$7,B372=Dimension!$A$8,B372=Dimension!$A$9,B372=\"\"),\"\",Payment_ID2)","v":""},"",null,null,{"$f":"IF(D372=Dimension!$C$9,IF(LEFT(UPPER(E372),2)=\"MC\",TRUE,FALSE),TRUE)","v":true}]
[null,null,null,{"$f":"IF(B373=Dimension!$A$8,Dimension!$C$9,IF(B373=Dimension!$A$6,CD,\"\"))","v":""},null,{"$f":"IF(OR(B373=Dimension!$A$3,B373=Dimension!$A$4,B373=Dimension!$A$6,B373=Dimension!$A$8),CCYA,\"\")","v":""},{"$f":"IFERROR(VLOOKUP(F373,Dimension!$G$3:$H$252,2,FALSE),\"\")","v":""},{"$f":"IF(OR(B373=Dimension!$A$3,B373=Dimension!$A$4,B373=Dimension!$A$5),\"เดินทาง/ท่องเที่ยว\",\"\")","v":""},{"$f":"IF(OR(B373=Dimension!$A$6,B373=Dimension!$A$7,B373=Dimension!$A$8,B373=Dimension!$A$9),\"\",IF(OR(B373=Dimension!$A$3,B373=Dimension!$A$4,B373=Dimension!$A$5),\"สถานประกอบการ\",\"\"))","v":""},{"$f":"IF(OR(B373=Dimension!$A$3,B373=Dimension!$A$4,B373=Dimension!$A$5,B373=Dimension!$A$6,,B373=Dimension!$A$7,B373=Dimension!$A$8,B373=Dimension!$A$9),Payment_ID2,\"\")","v":""},null,{"$f":"IFERROR(VLOOKUP(K373,Dimension!$J$3:$K$179,2,FALSE),\"\")","v":""},null,null,{"$f":"IF(OR(B373=Dimension!$A$6,B373=Dimension!$A$7,B373=Dimension!$A$8,B373=Dimension!$A$9),\"\",IF(OR(B373=Dimension!$A$3,B373=Dimension!$A$4,B373=Dimension!$A$5),\"สถานประกอบการ\",\"\"))","v":""},{"$f":"IF(OR(B373=Dimension!$A$6,B373=Dimension!$A$7,B373=Dimension!$A$8,B373=Dimension!$A$9,B373=\"\"),\"\",Payment_ID2)","v":""},"",null,null,{"$f":"IF(D373=Dimension!$C$9,IF(LEFT(UPPER(E373),2)=\"MC\",TRUE,FALSE),TRUE)","v":true}]
[null,null,null,{"$f":"IF(B374=Dimension!$A$8,Dimension!$C$9,IF(B374=Dimension!$A$6,CD,\"\"))","v":""},null,{"$f":"IF(OR(B374=Dimension!$A$3,B374=Dimension!$A$4,B374=Dimension!$A$6,B374=Dimension!$A$8),CCYA,\"\")","v":""},{"$f":"IFERROR(VLOOKUP(F374,Dimension!$G$3:$H$252,2,FALSE),\"\")","v":""},{"$f":"IF(OR(B374=Dimension!$A$3,B374=Dimension!$A$4,B374=Dimension!$A$5),\"เดินทาง/ท่องเที่ยว\",\"\")","v":""},{"$f":"IF(OR(B374=Dimension!$A$6,B374=Dimension!$A$7,B374=Dimension!$A$8,B374=Dimension!$A$9),\"\",IF(OR(B374=Dimension!$A$3,B374=Dimension!$A$4,B374=Dimension!$A$5),\"สถานประกอบการ\",\"\"))","v":""},{"$f":"IF(OR(B374=Dimension!$A$3,B374=Dimension!$A$4,B374=Dimension!$A$5,B374=Dimension!$A$6,,B374=Dimension!$A$7,B374=Dimension!$A$8,B374=Dimension!$A$9),Payment_ID2,\"\")","v":""},null,{"$f":"IFERROR(VLOOKUP(K374,Dimension!$J$3:$K$179,2,FALSE),\"\")","v":""},null,null,{"$f":"IF(OR(B374=Dimension!$A$6,B374=Dimension!$A$7,B374=Dimension!$A$8,B374=Dimension!$A$9),\"\",IF(OR(B374=Dimension!$A$3,B374=Dimension!$A$4,B374=Dimension!$A$5),\"สถานประกอบการ\",\"\"))","v":""},{"$f":"IF(OR(B374=Dimension!$A$6,B374=Dimension!$A$7,B374=Dimension!$A$8,B374=Dimension!$A$9,B374=\"\"),\"\",Payment_ID2)","v":""},"",null,null,{"$f":"IF(D374=Dimension!$C$9,IF(LEFT(UPPER(E374),2)=\"MC\",TRUE,FALSE),TRUE)","v":true}]
[null,null,null,{"$f":"IF(B375=Dimension!$A$8,Dimension!$C$9,IF(B375=Dimension!$A$6,CD,\"\"))","v":""},null,{"$f":"IF(OR(B375=Dimension!$A$3,B375=Dimension!$A$4,B375=Dimension!$A$6,B375=Dimension!$A$8),CCYA,\"\")","v":""},{"$f":"IFERROR(VLOOKUP(F375,Dimension!$G$3:$H$252,2,FALSE),\"\")","v":""},{"$f":"IF(OR(B375=Dimension!$A$3,B375=Dimension!$A$4,B375=Dimension!$A$5),\"เดินทาง/ท่องเที่ยว\",\"\")","v":""},{"$f":"IF(OR(B375=Dimension!$A$6,B375=Dimension!$A$7,B375=Dimension!$A$8,B375=Dimension!$A$9),\"\",IF(OR(B375=Dimension!$A$3,B375=Dimension!$A$4,B375=Dimension!$A$5),\"สถานประกอบการ\",\"\"))","v":""},{"$f":"IF(OR(B375=Dimension!$A$3,B375=Dimension!$A$4,B375=Dimension!$A$5,B375=Dimension!$A$6,,B375=Dimension!$A$7,B375=Dimension!$A$8,B375=Dimension!$A$9),Payment_ID2,\"\")","v":""},null,{"$f":"IFERROR(VLOOKUP(K375,Dimension!$J$3:$K$179,2,FALSE),\"\")","v":""},null,null,{"$f":"IF(OR(B375=Dimension!$A$6,B375=Dimension!$A$7,B375=Dimension!$A$8,B375=Dimension!$A$9),\"\",IF(OR(B375=Dimension!$A$3,B375=Dimension!$A$4,B375=Dimension!$A$5),\"สถานประกอบการ\",\"\"))","v":""},{"$f":"IF(OR(B375=Dimension!$A$6,B375=Dimension!$A$7,B375=Dimension!$A$8,B375=Dimension!$A$9,B375=\"\"),\"\",Payment_ID2)","v":""},"",null,null,{"$f":"IF(D375=Dimension!$C$9,IF(LEFT(UPPER(E375),2)=\"MC\",TRUE,FALSE),TRUE)","v":true}]
[null,null,null,{"$f":"IF(B376=Dimension!$A$8,Dimension!$C$9,IF(B376=Dimension!$A$6,CD,\"\"))","v":""},null,{"$f":"IF(OR(B376=Dimension!$A$3,B376=Dimension!$A$4,B376=Dimension!$A$6,B376=Dimension!$A$8),CCYA,\"\")","v":""},{"$f":"IFERROR(VLOOKUP(F376,Dimension!$G$3:$H$252,2,FALSE),\"\")","v":""},{"$f":"IF(OR(B376=Dimension!$A$3,B376=Dimension!$A$4,B376=Dimension!$A$5),\"เดินทาง/ท่องเที่ยว\",\"\")","v":""},{"$f":"IF(OR(B376=Dimension!$A$6,B376=Dimension!$A$7,B376=Dimension!$A$8,B376=Dimension!$A$9),\"\",IF(OR(B376=Dimension!$A$3,B376=Dimension!$A$4,B376=Dimension!$A$5),\"สถานประกอบการ\",\"\"))","v":""},{"$f":"IF(OR(B376=Dimension!$A$3,B376=Dimension!$A$4,B376=Dimension!$A$5,B376=Dimension!$A$6,,B376=Dimension!$A$7,B376=Dimension!$A$8,B376=Dimension!$A$9),Payment_ID2,\"\")","v":""},null,{"$f":"IFERROR(VLOOKUP(K376,Dimension!$J$3:$K$179,2,FALSE),\"\")","v":""},null,null,{"$f":"IF(OR(B376=Dimension!$A$6,B376=Dimension!$A$7,B376=Dimension!$A$8,B376=Dimension!$A$9),\"\",IF(OR(B376=Dimension!$A$3,B376=Dimension!$A$4,B376=Dimension!$A$5),\"สถานประกอบการ\",\"\"))","v":""},{"$f":"IF(OR(B376=Dimension!$A$6,B376=Dimension!$A$7,B376=Dimension!$A$8,B376=Dimension!$A$9,B376=\"\"),\"\",Payment_ID2)","v":""},"",null,null,{"$f":"IF(D376=Dimension!$C$9,IF(LEFT(UPPER(E376),2)=\"MC\",TRUE,FALSE),TRUE)","v":true}]
[null,null,null,{"$f":"IF(B377=Dimension!$A$8,Dimension!$C$9,IF(B377=Dimension!$A$6,CD,\"\"))","v":""},null,{"$f":"IF(OR(B377=Dimension!$A$3,B377=Dimension!$A$4,B377=Dimension!$A$6,B377=Dimension!$A$8),CCYA,\"\")","v":""},{"$f":"IFERROR(VLOOKUP(F377,Dimension!$G$3:$H$252,2,FALSE),\"\")","v":""},{"$f":"IF(OR(B377=Dimension!$A$3,B377=Dimension!$A$4,B377=Dimension!$A$5),\"เดินทาง/ท่องเที่ยว\",\"\")","v":""},{"$f":"IF(OR(B377=Dimension!$A$6,B377=Dimension!$A$7,B377=Dimension!$A$8,B377=Dimension!$A$9),\"\",IF(OR(B377=Dimension!$A$3,B377=Dimension!$A$4,B377=Dimension!$A$5),\"สถานประกอบการ\",\"\"))","v":""},{"$f":"IF(OR(B377=Dimension!$A$3,B377=Dimension!$A$4,B377=Dimension!$A$5,B377=Dimension!$A$6,,B377=Dimension!$A$7,B377=Dimension!$A$8,B377=Dimension!$A$9),Payment_ID2,\"\")","v":""},null,{"$f":"IFERROR(VLOOKUP(K377,Dimension!$J$3:$K$179,2,FALSE),\"\")","v":""},null,null,{"$f":"IF(OR(B377=Dimension!$A$6,B377=Dimension!$A$7,B377=Dimension!$A$8,B377=Dimension!$A$9),\"\",IF(OR(B377=Dimension!$A$3,B377=Dimension!$A$4,B377=Dimension!$A$5),\"สถานประกอบการ\",\"\"))","v":""},{"$f":"IF(OR(B377=Dimension!$A$6,B377=Dimension!$A$7,B377=Dimension!$A$8,B377=Dimension!$A$9,B377=\"\"),\"\",Payment_ID2)","v":""},"",null,null,{"$f":"IF(D377=Dimension!$C$9,IF(LEFT(UPPER(E377),2)=\"MC\",TRUE,FALSE),TRUE)","v":true}]
[null,null,null,{"$f":"IF(B378=Dimension!$A$8,Dimension!$C$9,IF(B378=Dimension!$A$6,CD,\"\"))","v":""},null,{"$f":"IF(OR(B378=Dimension!$A$3,B378=Dimension!$A$4,B378=Dimension!$A$6,B378=Dimension!$A$8),CCYA,\"\")","v":""},{"$f":"IFERROR(VLOOKUP(F378,Dimension!$G$3:$H$252,2,FALSE),\"\")","v":""},{"$f":"IF(OR(B378=Dimension!$A$3,B378=Dimension!$A$4,B378=Dimension!$A$5),\"เดินทาง/ท่องเที่ยว\",\"\")","v":""},{"$f":"IF(OR(B378=Dimension!$A$6,B378=Dimension!$A$7,B378=Dimension!$A$8,B378=Dimension!$A$9),\"\",IF(OR(B378=Dimension!$A$3,B378=Dimension!$A$4,B378=Dimension!$A$5),\"สถานประกอบการ\",\"\"))","v":""},{"$f":"IF(OR(B378=Dimension!$A$3,B378=Dimension!$A$4,B378=Dimension!$A$5,B378=Dimension!$A$6,,B378=Dimension!$A$7,B378=Dimension!$A$8,B378=Dimension!$A$9),Payment_ID2,\"\")","v":""},null,{"$f":"IFERROR(VLOOKUP(K378,Dimension!$J$3:$K$179,2,FALSE),\"\")","v":""},null,null,{"$f":"IF(OR(B378=Dimension!$A$6,B378=Dimension!$A$7,B378=Dimension!$A$8,B378=Dimension!$A$9),\"\",IF(OR(B378=Dimension!$A$3,B378=Dimension!$A$4,B378=Dimension!$A$5),\"สถานประกอบการ\",\"\"))","v":""},{"$f":"IF(OR(B378=Dimension!$A$6,B378=Dimension!$A$7,B378=Dimension!$A$8,B378=Dimension!$A$9,B378=\"\"),\"\",Payment_ID2)","v":""},"",null,null,{"$f":"IF(D378=Dimension!$C$9,IF(LEFT(UPPER(E378),2)=\"MC\",TRUE,FALSE),TRUE)","v":true}]
[null,null,null,{"$f":"IF(B379=Dimension!$A$8,Dimension!$C$9,IF(B379=Dimension!$A$6,CD,\"\"))","v":""},null,{"$f":"IF(OR(B379=Dimension!$A$3,B379=Dimension!$A$4,B379=Dimension!$A$6,B379=Dimension!$A$8),CCYA,\"\")","v":""},{"$f":"IFERROR(VLOOKUP(F379,Dimension!$G$3:$H$252,2,FALSE),\"\")","v":""},{"$f":"IF(OR(B379=Dimension!$A$3,B379=Dimension!$A$4,B379=Dimension!$A$5),\"เดินทาง/ท่องเที่ยว\",\"\")","v":""},{"$f":"IF(OR(B379=Dimension!$A$6,B379=Dimension!$A$7,B379=Dimension!$A$8,B379=Dimension!$A$9),\"\",IF(OR(B379=Dimension!$A$3,B379=Dimension!$A$4,B379=Dimension!$A$5),\"สถานประกอบการ\",\"\"))","v":""},{"$f":"IF(OR(B379=Dimension!$A$3,B379=Dimension!$A$4,B379=Dimension!$A$5,B379=Dimension!$A$6,,B379=Dimension!$A$7,B379=Dimension!$A$8,B379=Dimension!$A$9),Payment_ID2,\"\")","v":""},null,{"$f":"IFERROR(VLOOKUP(K379,Dimension!$J$3:$K$179,2,FALSE),\"\")","v":""},null,null,{"$f":"IF(OR(B379=Dimension!$A$6,B379=Dimension!$A$7,B379=Dimension!$A$8,B379=Dimension!$A$9),\"\",IF(OR(B379=Dimension!$A$3,B379=Dimension!$A$4,B379=Dimension!$A$5),\"สถานประกอบการ\",\"\"))","v":""},{"$f":"IF(OR(B379=Dimension!$A$6,B379=Dimension!$A$7,B379=Dimension!$A$8,B379=Dimension!$A$9,B379=\"\"),\"\",Payment_ID2)","v":""},"",null,null,{"$f":"IF(D379=Dimension!$C$9,IF(LEFT(UPPER(E379),2)=\"MC\",TRUE,FALSE),TRUE)","v":true}]
[null,null,null,{"$f":"IF(B380=Dimension!$A$8,Dimension!$C$9,IF(B380=Dimension!$A$6,CD,\"\"))","v":""},null,{"$f":"IF(OR(B380=Dimension!$A$3,B380=Dimension!$A$4,B380=Dimension!$A$6,B380=Dimension!$A$8),CCYA,\"\")","v":""},{"$f":"IFERROR(VLOOKUP(F380,Dimension!$G$3:$H$252,2,FALSE),\"\")","v":""},{"$f":"IF(OR(B380=Dimension!$A$3,B380=Dimension!$A$4,B380=Dimension!$A$5),\"เดินทาง/ท่องเที่ยว\",\"\")","v":""},{"$f":"IF(OR(B380=Dimension!$A$6,B380=Dimension!$A$7,B380=Dimension!$A$8,B380=Dimension!$A$9),\"\",IF(OR(B380=Dimension!$A$3,B380=Dimension!$A$4,B380=Dimension!$A$5),\"สถานประกอบการ\",\"\"))","v":""},{"$f":"IF(OR(B380=Dimension!$A$3,B380=Dimension!$A$4,B380=Dimension!$A$5,B380=Dimension!$A$6,,B380=Dimension!$A$7,B380=Dimension!$A$8,B380=Dimension!$A$9),Payment_ID2,\"\")","v":""},null,{"$f":"IFERROR(VLOOKUP(K380,Dimension!$J$3:$K$179,2,FALSE),\"\")","v":""},null,null,{"$f":"IF(OR(B380=Dimension!$A$6,B380=Dimension!$A$7,B380=Dimension!$A$8,B380=Dimension!$A$9),\"\",IF(OR(B380=Dimension!$A$3,B380=Dimension!$A$4,B380=Dimension!$A$5),\"สถานประกอบการ\",\"\"))","v":""},{"$f":"IF(OR(B380=Dimension!$A$6,B380=Dimension!$A$7,B380=Dimension!$A$8,B380=Dimension!$A$9,B380=\"\"),\"\",Payment_ID2)","v":""},"",null,null,{"$f":"IF(D380=Dimension!$C$9,IF(LEFT(UPPER(E380),2)=\"MC\",TRUE,FALSE),TRUE)","v":true}]
[null,null,null,{"$f":"IF(B381=Dimension!$A$8,Dimension!$C$9,IF(B381=Dimension!$A$6,CD,\"\"))","v":""},null,{"$f":"IF(OR(B381=Dimension!$A$3,B381=Dimension!$A$4,B381=Dimension!$A$6,B381=Dimension!$A$8),CCYA,\"\")","v":""},{"$f":"IFERROR(VLOOKUP(F381,Dimension!$G$3:$H$252,2,FALSE),\"\")","v":""},{"$f":"IF(OR(B381=Dimension!$A$3,B381=Dimension!$A$4,B381=Dimension!$A$5),\"เดินทาง/ท่องเที่ยว\",\"\")","v":""},{"$f":"IF(OR(B381=Dimension!$A$6,B381=Dimension!$A$7,B381=Dimension!$A$8,B381=Dimension!$A$9),\"\",IF(OR(B381=Dimension!$A$3,B381=Dimension!$A$4,B381=Dimension!$A$5),\"สถานประกอบการ\",\"\"))","v":""},{"$f":"IF(OR(B381=Dimension!$A$3,B381=Dimension!$A$4,B381=Dimension!$A$5,B381=Dimension!$A$6,,B381=Dimension!$A$7,B381=Dimension!$A$8,B381=Dimension!$A$9),Payment_ID2,\"\")","v":""},null,{"$f":"IFERROR(VLOOKUP(K381,Dimension!$J$3:$K$179,2,FALSE),\"\")","v":""},null,null,{"$f":"IF(OR(B381=Dimension!$A$6,B381=Dimension!$A$7,B381=Dimension!$A$8,B381=Dimension!$A$9),\"\",IF(OR(B381=Dimension!$A$3,B381=Dimension!$A$4,B381=Dimension!$A$5),\"สถานประกอบการ\",\"\"))","v":""},{"$f":"IF(OR(B381=Dimension!$A$6,B381=Dimension!$A$7,B381=Dimension!$A$8,B381=Dimension!$A$9,B381=\"\"),\"\",Payment_ID2)","v":""},"",null,null,{"$f":"IF(D381=Dimension!$C$9,IF(LEFT(UPPER(E381),2)=\"MC\",TRUE,FALSE),TRUE)","v":true}]
[null,null,null,{"$f":"IF(B382=Dimension!$A$8,Dimension!$C$9,IF(B382=Dimension!$A$6,CD,\"\"))","v":""},null,{"$f":"IF(OR(B382=Dimension!$A$3,B382=Dimension!$A$4,B382=Dimension!$A$6,B382=Dimension!$A$8),CCYA,\"\")","v":""},{"$f":"IFERROR(VLOOKUP(F382,Dimension!$G$3:$H$252,2,FALSE),\"\")","v":""},{"$f":"IF(OR(B382=Dimension!$A$3,B382=Dimension!$A$4,B382=Dimension!$A$5),\"เดินทาง/ท่องเที่ยว\",\"\")","v":""},{"$f":"IF(OR(B382=Dimension!$A$6,B382=Dimension!$A$7,B382=Dimension!$A$8,B382=Dimension!$A$9),\"\",IF(OR(B382=Dimension!$A$3,B382=Dimension!$A$4,B382=Dimension!$A$5),\"สถานประกอบการ\",\"\"))","v":""},{"$f":"IF(OR(B382=Dimension!$A$3,B382=Dimension!$A$4,B382=Dimension!$A$5,B382=Dimension!$A$6,,B382=Dimension!$A$7,B382=Dimension!$A$8,B382=Dimension!$A$9),Payment_ID2,\"\")","v":""},null,{"$f":"IFERROR(VLOOKUP(K382,Dimension!$J$3:$K$179,2,FALSE),\"\")","v":""},null,null,{"$f":"IF(OR(B382=Dimension!$A$6,B382=Dimension!$A$7,B382=Dimension!$A$8,B382=Dimension!$A$9),\"\",IF(OR(B382=Dimension!$A$3,B382=Dimension!$A$4,B382=Dimension!$A$5),\"สถานประกอบการ\",\"\"))","v":""},{"$f":"IF(OR(B382=Dimension!$A$6,B382=Dimension!$A$7,B382=Dimension!$A$8,B382=Dimension!$A$9,B382=\"\"),\"\",Payment_ID2)","v":""},"",null,null,{"$f":"IF(D382=Dimension!$C$9,IF(LEFT(UPPER(E382),2)=\"MC\",TRUE,FALSE),TRUE)","v":true}]
[null,null,null,{"$f":"IF(B383=Dimension!$A$8,Dimension!$C$9,IF(B383=Dimension!$A$6,CD,\"\"))","v":""},null,{"$f":"IF(OR(B383=Dimension!$A$3,B383=Dimension!$A$4,B383=Dimension!$A$6,B383=Dimension!$A$8),CCYA,\"\")","v":""},{"$f":"IFERROR(VLOOKUP(F383,Dimension!$G$3:$H$252,2,FALSE),\"\")","v":""},{"$f":"IF(OR(B383=Dimension!$A$3,B383=Dimension!$A$4,B383=Dimension!$A$5),\"เดินทาง/ท่องเที่ยว\",\"\")","v":""},{"$f":"IF(OR(B383=Dimension!$A$6,B383=Dimension!$A$7,B383=Dimension!$A$8,B383=Dimension!$A$9),\"\",IF(OR(B383=Dimension!$A$3,B383=Dimension!$A$4,B383=Dimension!$A$5),\"สถานประกอบการ\",\"\"))","v":""},{"$f":"IF(OR(B383=Dimension!$A$3,B383=Dimension!$A$4,B383=Dimension!$A$5,B383=Dimension!$A$6,,B383=Dimension!$A$7,B383=Dimension!$A$8,B383=Dimension!$A$9),Payment_ID2,\"\")","v":""},null,{"$f":"IFERROR(VLOOKUP(K383,Dimension!$J$3:$K$179,2,FALSE),\"\")","v":""},null,null,{"$f":"IF(OR(B383=Dimension!$A$6,B383=Dimension!$A$7,B383=Dimension!$A$8,B383=Dimension!$A$9),\"\",IF(OR(B383=Dimension!$A$3,B383=Dimension!$A$4,B383=Dimension!$A$5),\"สถานประกอบการ\",\"\"))","v":""},{"$f":"IF(OR(B383=Dimension!$A$6,B383=Dimension!$A$7,B383=Dimension!$A$8,B383=Dimension!$A$9,B383=\"\"),\"\",Payment_ID2)","v":""},"",null,null,{"$f":"IF(D383=Dimension!$C$9,IF(LEFT(UPPER(E383),2)=\"MC\",TRUE,FALSE),TRUE)","v":true}]
[null,null,null,{"$f":"IF(B384=Dimension!$A$8,Dimension!$C$9,IF(B384=Dimension!$A$6,CD,\"\"))","v":""},null,{"$f":"IF(OR(B384=Dimension!$A$3,B384=Dimension!$A$4,B384=Dimension!$A$6,B384=Dimension!$A$8),CCYA,\"\")","v":""},{"$f":"IFERROR(VLOOKUP(F384,Dimension!$G$3:$H$252,2,FALSE),\"\")","v":""},{"$f":"IF(OR(B384=Dimension!$A$3,B384=Dimension!$A$4,B384=Dimension!$A$5),\"เดินทาง/ท่องเที่ยว\",\"\")","v":""},{"$f":"IF(OR(B384=Dimension!$A$6,B384=Dimension!$A$7,B384=Dimension!$A$8,B384=Dimension!$A$9),\"\",IF(OR(B384=Dimension!$A$3,B384=Dimension!$A$4,B384=Dimension!$A$5),\"สถานประกอบการ\",\"\"))","v":""},{"$f":"IF(OR(B384=Dimension!$A$3,B384=Dimension!$A$4,B384=Dimension!$A$5,B384=Dimension!$A$6,,B384=Dimension!$A$7,B384=Dimension!$A$8,B384=Dimension!$A$9),Payment_ID2,\"\")","v":""},null,{"$f":"IFERROR(VLOOKUP(K384,Dimension!$J$3:$K$179,2,FALSE),\"\")","v":""},null,null,{"$f":"IF(OR(B384=Dimension!$A$6,B384=Dimension!$A$7,B384=Dimension!$A$8,B384=Dimension!$A$9),\"\",IF(OR(B384=Dimension!$A$3,B384=Dimension!$A$4,B384=Dimension!$A$5),\"สถานประกอบการ\",\"\"))","v":""},{"$f":"IF(OR(B384=Dimension!$A$6,B384=Dimension!$A$7,B384=Dimension!$A$8,B384=Dimension!$A$9,B384=\"\"),\"\",Payment_ID2)","v":""},"",null,null,{"$f":"IF(D384=Dimension!$C$9,IF(LEFT(UPPER(E384),2)=\"MC\",TRUE,FALSE),TRUE)","v":true}]
[null,null,null,{"$f":"IF(B385=Dimension!$A$8,Dimension!$C$9,IF(B385=Dimension!$A$6,CD,\"\"))","v":""},null,{"$f":"IF(OR(B385=Dimension!$A$3,B385=Dimension!$A$4,B385=Dimension!$A$6,B385=Dimension!$A$8),CCYA,\"\")","v":""},{"$f":"IFERROR(VLOOKUP(F385,Dimension!$G$3:$H$252,2,FALSE),\"\")","v":""},{"$f":"IF(OR(B385=Dimension!$A$3,B385=Dimension!$A$4,B385=Dimension!$A$5),\"เดินทาง/ท่องเที่ยว\",\"\")","v":""},{"$f":"IF(OR(B385=Dimension!$A$6,B385=Dimension!$A$7,B385=Dimension!$A$8,B385=Dimension!$A$9),\"\",IF(OR(B385=Dimension!$A$3,B385=Dimension!$A$4,B385=Dimension!$A$5),\"สถานประกอบการ\",\"\"))","v":""},{"$f":"IF(OR(B385=Dimension!$A$3,B385=Dimension!$A$4,B385=Dimension!$A$5,B385=Dimension!$A$6,,B385=Dimension!$A$7,B385=Dimension!$A$8,B385=Dimension!$A$9),Payment_ID2,\"\")","v":""},null,{"$f":"IFERROR(VLOOKUP(K385,Dimension!$J$3:$K$179,2,FALSE),\"\")","v":""},null,null,{"$f":"IF(OR(B385=Dimension!$A$6,B385=Dimension!$A$7,B385=Dimension!$A$8,B385=Dimension!$A$9),\"\",IF(OR(B385=Dimension!$A$3,B385=Dimension!$A$4,B385=Dimension!$A$5),\"สถานประกอบการ\",\"\"))","v":""},{"$f":"IF(OR(B385=Dimension!$A$6,B385=Dimension!$A$7,B385=Dimension!$A$8,B385=Dimension!$A$9,B385=\"\"),\"\",Payment_ID2)","v":""},"",null,null,{"$f":"IF(D385=Dimension!$C$9,IF(LEFT(UPPER(E385),2)=\"MC\",TRUE,FALSE),TRUE)","v":true}]
[null,null,null,{"$f":"IF(B386=Dimension!$A$8,Dimension!$C$9,IF(B386=Dimension!$A$6,CD,\"\"))","v":""},null,{"$f":"IF(OR(B386=Dimension!$A$3,B386=Dimension!$A$4,B386=Dimension!$A$6,B386=Dimension!$A$8),CCYA,\"\")","v":""},{"$f":"IFERROR(VLOOKUP(F386,Dimension!$G$3:$H$252,2,FALSE),\"\")","v":""},{"$f":"IF(OR(B386=Dimension!$A$3,B386=Dimension!$A$4,B386=Dimension!$A$5),\"เดินทาง/ท่องเที่ยว\",\"\")","v":""},{"$f":"IF(OR(B386=Dimension!$A$6,B386=Dimension!$A$7,B386=Dimension!$A$8,B386=Dimension!$A$9),\"\",IF(OR(B386=Dimension!$A$3,B386=Dimension!$A$4,B386=Dimension!$A$5),\"สถานประกอบการ\",\"\"))","v":""},{"$f":"IF(OR(B386=Dimension!$A$3,B386=Dimension!$A$4,B386=Dimension!$A$5,B386=Dimension!$A$6,,B386=Dimension!$A$7,B386=Dimension!$A$8,B386=Dimension!$A$9),Payment_ID2,\"\")","v":""},null,{"$f":"IFERROR(VLOOKUP(K386,Dimension!$J$3:$K$179,2,FALSE),\"\")","v":""},null,null,{"$f":"IF(OR(B386=Dimension!$A$6,B386=Dimension!$A$7,B386=Dimension!$A$8,B386=Dimension!$A$9),\"\",IF(OR(B386=Dimension!$A$3,B386=Dimension!$A$4,B386=Dimension!$A$5),\"สถานประกอบการ\",\"\"))","v":""},{"$f":"IF(OR(B386=Dimension!$A$6,B386=Dimension!$A$7,B386=Dimension!$A$8,B386=Dimension!$A$9,B386=\"\"),\"\",Payment_ID2)","v":""},"",null,null,{"$f":"IF(D386=Dimension!$C$9,IF(LEFT(UPPER(E386),2)=\"MC\",TRUE,FALSE),TRUE)","v":true}]
[null,null,null,{"$f":"IF(B387=Dimension!$A$8,Dimension!$C$9,IF(B387=Dimension!$A$6,CD,\"\"))","v":""},null,{"$f":"IF(OR(B387=Dimension!$A$3,B387=Dimension!$A$4,B387=Dimension!$A$6,B387=Dimension!$A$8),CCYA,\"\")","v":""},{"$f":"IFERROR(VLOOKUP(F387,Dimension!$G$3:$H$252,2,FALSE),\"\")","v":""},{"$f":"IF(OR(B387=Dimension!$A$3,B387=Dimension!$A$4,B387=Dimension!$A$5),\"เดินทาง/ท่องเที่ยว\",\"\")","v":""},{"$f":"IF(OR(B387=Dimension!$A$6,B387=Dimension!$A$7,B387=Dimension!$A$8,B387=Dimension!$A$9),\"\",IF(OR(B387=Dimension!$A$3,B387=Dimension!$A$4,B387=Dimension!$A$5),\"สถานประกอบการ\",\"\"))","v":""},{"$f":"IF(OR(B387=Dimension!$A$3,B387=Dimension!$A$4,B387=Dimension!$A$5,B387=Dimension!$A$6,,B387=Dimension!$A$7,B387=Dimension!$A$8,B387=Dimension!$A$9),Payment_ID2,\"\")","v":""},null,{"$f":"IFERROR(VLOOKUP(K387,Dimension!$J$3:$K$179,2,FALSE),\"\")","v":""},null,null,{"$f":"IF(OR(B387=Dimension!$A$6,B387=Dimension!$A$7,B387=Dimension!$A$8,B387=Dimension!$A$9),\"\",IF(OR(B387=Dimension!$A$3,B387=Dimension!$A$4,B387=Dimension!$A$5),\"สถานประกอบการ\",\"\"))","v":""},{"$f":"IF(OR(B387=Dimension!$A$6,B387=Dimension!$A$7,B387=Dimension!$A$8,B387=Dimension!$A$9,B387=\"\"),\"\",Payment_ID2)","v":""},"",null,null,{"$f":"IF(D387=Dimension!$C$9,IF(LEFT(UPPER(E387),2)=\"MC\",TRUE,FALSE),TRUE)","v":true}]
[null,null,null,{"$f":"IF(B388=Dimension!$A$8,Dimension!$C$9,IF(B388=Dimension!$A$6,CD,\"\"))","v":""},null,{"$f":"IF(OR(B388=Dimension!$A$3,B388=Dimension!$A$4,B388=Dimension!$A$6,B388=Dimension!$A$8),CCYA,\"\")","v":""},{"$f":"IFERROR(VLOOKUP(F388,Dimension!$G$3:$H$252,2,FALSE),\"\")","v":""},{"$f":"IF(OR(B388=Dimension!$A$3,B388=Dimension!$A$4,B388=Dimension!$A$5),\"เดินทาง/ท่องเที่ยว\",\"\")","v":""},{"$f":"IF(OR(B388=Dimension!$A$6,B388=Dimension!$A$7,B388=Dimension!$A$8,B388=Dimension!$A$9),\"\",IF(OR(B388=Dimension!$A$3,B388=Dimension!$A$4,B388=Dimension!$A$5),\"สถานประกอบการ\",\"\"))","v":""},{"$f":"IF(OR(B388=Dimension!$A$3,B388=Dimension!$A$4,B388=Dimension!$A$5,B388=Dimension!$A$6,,B388=Dimension!$A$7,B388=Dimension!$A$8,B388=Dimension!$A$9),Payment_ID2,\"\")","v":""},null,{"$f":"IFERROR(VLOOKUP(K388,Dimension!$J$3:$K$179,2,FALSE),\"\")","v":""},null,null,{"$f":"IF(OR(B388=Dimension!$A$6,B388=Dimension!$A$7,B388=Dimension!$A$8,B388=Dimension!$A$9),\"\",IF(OR(B388=Dimension!$A$3,B388=Dimension!$A$4,B388=Dimension!$A$5),\"สถานประกอบการ\",\"\"))","v":""},{"$f":"IF(OR(B388=Dimension!$A$6,B388=Dimension!$A$7,B388=Dimension!$A$8,B388=Dimension!$A$9,B388=\"\"),\"\",Payment_ID2)","v":""},"",null,null,{"$f":"IF(D388=Dimension!$C$9,IF(LEFT(UPPER(E388),2)=\"MC\",TRUE,FALSE),TRUE)","v":true}]
[null,null,null,{"$f":"IF(B389=Dimension!$A$8,Dimension!$C$9,IF(B389=Dimension!$A$6,CD,\"\"))","v":""},null,{"$f":"IF(OR(B389=Dimension!$A$3,B389=Dimension!$A$4,B389=Dimension!$A$6,B389=Dimension!$A$8),CCYA,\"\")","v":""},{"$f":"IFERROR(VLOOKUP(F389,Dimension!$G$3:$H$252,2,FALSE),\"\")","v":""},{"$f":"IF(OR(B389=Dimension!$A$3,B389=Dimension!$A$4,B389=Dimension!$A$5),\"เดินทาง/ท่องเที่ยว\",\"\")","v":""},{"$f":"IF(OR(B389=Dimension!$A$6,B389=Dimension!$A$7,B389=Dimension!$A$8,B389=Dimension!$A$9),\"\",IF(OR(B389=Dimension!$A$3,B389=Dimension!$A$4,B389=Dimension!$A$5),\"สถานประกอบการ\",\"\"))","v":""},{"$f":"IF(OR(B389=Dimension!$A$3,B389=Dimension!$A$4,B389=Dimension!$A$5,B389=Dimension!$A$6,,B389=Dimension!$A$7,B389=Dimension!$A$8,B389=Dimension!$A$9),Payment_ID2,\"\")","v":""},null,{"$f":"IFERROR(VLOOKUP(K389,Dimension!$J$3:$K$179,2,FALSE),\"\")","v":""},null,null,{"$f":"IF(OR(B389=Dimension!$A$6,B389=Dimension!$A$7,B389=Dimension!$A$8,B389=Dimension!$A$9),\"\",IF(OR(B389=Dimension!$A$3,B389=Dimension!$A$4,B389=Dimension!$A$5),\"สถานประกอบการ\",\"\"))","v":""},{"$f":"IF(OR(B389=Dimension!$A$6,B389=Dimension!$A$7,B389=Dimension!$A$8,B389=Dimension!$A$9,B389=\"\"),\"\",Payment_ID2)","v":""},"",null,null,{"$f":"IF(D389=Dimension!$C$9,IF(LEFT(UPPER(E389),2)=\"MC\",TRUE,FALSE),TRUE)","v":true}]
[null,null,null,{"$f":"IF(B390=Dimension!$A$8,Dimension!$C$9,IF(B390=Dimension!$A$6,CD,\"\"))","v":""},null,{"$f":"IF(OR(B390=Dimension!$A$3,B390=Dimension!$A$4,B390=Dimension!$A$6,B390=Dimension!$A$8),CCYA,\"\")","v":""},{"$f":"IFERROR(VLOOKUP(F390,Dimension!$G$3:$H$252,2,FALSE),\"\")","v":""},{"$f":"IF(OR(B390=Dimension!$A$3,B390=Dimension!$A$4,B390=Dimension!$A$5),\"เดินทาง/ท่องเที่ยว\",\"\")","v":""},{"$f":"IF(OR(B390=Dimension!$A$6,B390=Dimension!$A$7,B390=Dimension!$A$8,B390=Dimension!$A$9),\"\",IF(OR(B390=Dimension!$A$3,B390=Dimension!$A$4,B390=Dimension!$A$5),\"สถานประกอบการ\",\"\"))","v":""},{"$f":"IF(OR(B390=Dimension!$A$3,B390=Dimension!$A$4,B390=Dimension!$A$5,B390=Dimension!$A$6,,B390=Dimension!$A$7,B390=Dimension!$A$8,B390=Dimension!$A$9),Payment_ID2,\"\")","v":""},null,{"$f":"IFERROR(VLOOKUP(K390,Dimension!$J$3:$K$179,2,FALSE),\"\")","v":""},null,null,{"$f":"IF(OR(B390=Dimension!$A$6,B390=Dimension!$A$7,B390=Dimension!$A$8,B390=Dimension!$A$9),\"\",IF(OR(B390=Dimension!$A$3,B390=Dimension!$A$4,B390=Dimension!$A$5),\"สถานประกอบการ\",\"\"))","v":""},{"$f":"IF(OR(B390=Dimension!$A$6,B390=Dimension!$A$7,B390=Dimension!$A$8,B390=Dimension!$A$9,B390=\"\"),\"\",Payment_ID2)","v":""},"",null,null,{"$f":"IF(D390=Dimension!$C$9,IF(LEFT(UPPER(E390),2)=\"MC\",TRUE,FALSE),TRUE)","v":true}]
[null,null,null,{"$f":"IF(B391=Dimension!$A$8,Dimension!$C$9,IF(B391=Dimension!$A$6,CD,\"\"))","v":""},null,{"$f":"IF(OR(B391=Dimension!$A$3,B391=Dimension!$A$4,B391=Dimension!$A$6,B391=Dimension!$A$8),CCYA,\"\")","v":""},{"$f":"IFERROR(VLOOKUP(F391,Dimension!$G$3:$H$252,2,FALSE),\"\")","v":""},{"$f":"IF(OR(B391=Dimension!$A$3,B391=Dimension!$A$4,B391=Dimension!$A$5),\"เดินทาง/ท่องเที่ยว\",\"\")","v":""},{"$f":"IF(OR(B391=Dimension!$A$6,B391=Dimension!$A$7,B391=Dimension!$A$8,B391=Dimension!$A$9),\"\",IF(OR(B391=Dimension!$A$3,B391=Dimension!$A$4,B391=Dimension!$A$5),\"สถานประกอบการ\",\"\"))","v":""},{"$f":"IF(OR(B391=Dimension!$A$3,B391=Dimension!$A$4,B391=Dimension!$A$5,B391=Dimension!$A$6,,B391=Dimension!$A$7,B391=Dimension!$A$8,B391=Dimension!$A$9),Payment_ID2,\"\")","v":""},null,{"$f":"IFERROR(VLOOKUP(K391,Dimension!$J$3:$K$179,2,FALSE),\"\")","v":""},null,null,{"$f":"IF(OR(B391=Dimension!$A$6,B391=Dimension!$A$7,B391=Dimension!$A$8,B391=Dimension!$A$9),\"\",IF(OR(B391=Dimension!$A$3,B391=Dimension!$A$4,B391=Dimension!$A$5),\"สถานประกอบการ\",\"\"))","v":""},{"$f":"IF(OR(B391=Dimension!$A$6,B391=Dimension!$A$7,B391=Dimension!$A$8,B391=Dimension!$A$9,B391=\"\"),\"\",Payment_ID2)","v":""},"",null,null,{"$f":"IF(D391=Dimension!$C$9,IF(LEFT(UPPER(E391),2)=\"MC\",TRUE,FALSE),TRUE)","v":true}]
[null,null,null,{"$f":"IF(B392=Dimension!$A$8,Dimension!$C$9,IF(B392=Dimension!$A$6,CD,\"\"))","v":""},null,{"$f":"IF(OR(B392=Dimension!$A$3,B392=Dimension!$A$4,B392=Dimension!$A$6,B392=Dimension!$A$8),CCYA,\"\")","v":""},{"$f":"IFERROR(VLOOKUP(F392,Dimension!$G$3:$H$252,2,FALSE),\"\")","v":""},{"$f":"IF(OR(B392=Dimension!$A$3,B392=Dimension!$A$4,B392=Dimension!$A$5),\"เดินทาง/ท่องเที่ยว\",\"\")","v":""},{"$f":"IF(OR(B392=Dimension!$A$6,B392=Dimension!$A$7,B392=Dimension!$A$8,B392=Dimension!$A$9),\"\",IF(OR(B392=Dimension!$A$3,B392=Dimension!$A$4,B392=Dimension!$A$5),\"สถานประกอบการ\",\"\"))","v":""},{"$f":"IF(OR(B392=Dimension!$A$3,B392=Dimension!$A$4,B392=Dimension!$A$5,B392=Dimension!$A$6,,B392=Dimension!$A$7,B392=Dimension!$A$8,B392=Dimension!$A$9),Payment_ID2,\"\")","v":""},null,{"$f":"IFERROR(VLOOKUP(K392,Dimension!$J$3:$K$179,2,FALSE),\"\")","v":""},null,null,{"$f":"IF(OR(B392=Dimension!$A$6,B392=Dimension!$A$7,B392=Dimension!$A$8,B392=Dimension!$A$9),\"\",IF(OR(B392=Dimension!$A$3,B392=Dimension!$A$4,B392=Dimension!$A$5),\"สถานประกอบการ\",\"\"))","v":""},{"$f":"IF(OR(B392=Dimension!$A$6,B392=Dimension!$A$7,B392=Dimension!$A$8,B392=Dimension!$A$9,B392=\"\"),\"\",Payment_ID2)","v":""},"",null,null,{"$f":"IF(D392=Dimension!$C$9,IF(LEFT(UPPER(E392),2)=\"MC\",TRUE,FALSE),TRUE)","v":true}]
[null,null,null,{"$f":"IF(B393=Dimension!$A$8,Dimension!$C$9,IF(B393=Dimension!$A$6,CD,\"\"))","v":""},null,{"$f":"IF(OR(B393=Dimension!$A$3,B393=Dimension!$A$4,B393=Dimension!$A$6,B393=Dimension!$A$8),CCYA,\"\")","v":""},{"$f":"IFERROR(VLOOKUP(F393,Dimension!$G$3:$H$252,2,FALSE),\"\")","v":""},{"$f":"IF(OR(B393=Dimension!$A$3,B393=Dimension!$A$4,B393=Dimension!$A$5),\"เดินทาง/ท่องเที่ยว\",\"\")","v":""},{"$f":"IF(OR(B393=Dimension!$A$6,B393=Dimension!$A$7,B393=Dimension!$A$8,B393=Dimension!$A$9),\"\",IF(OR(B393=Dimension!$A$3,B393=Dimension!$A$4,B393=Dimension!$A$5),\"สถานประกอบการ\",\"\"))","v":""},{"$f":"IF(OR(B393=Dimension!$A$3,B393=Dimension!$A$4,B393=Dimension!$A$5,B393=Dimension!$A$6,,B393=Dimension!$A$7,B393=Dimension!$A$8,B393=Dimension!$A$9),Payment_ID2,\"\")","v":""},null,{"$f":"IFERROR(VLOOKUP(K393,Dimension!$J$3:$K$179,2,FALSE),\"\")","v":""},null,null,{"$f":"IF(OR(B393=Dimension!$A$6,B393=Dimension!$A$7,B393=Dimension!$A$8,B393=Dimension!$A$9),\"\",IF(OR(B393=Dimension!$A$3,B393=Dimension!$A$4,B393=Dimension!$A$5),\"สถานประกอบการ\",\"\"))","v":""},{"$f":"IF(OR(B393=Dimension!$A$6,B393=Dimension!$A$7,B393=Dimension!$A$8,B393=Dimension!$A$9,B393=\"\"),\"\",Payment_ID2)","v":""},"",null,null,{"$f":"IF(D393=Dimension!$C$9,IF(LEFT(UPPER(E393),2)=\"MC\",TRUE,FALSE),TRUE)","v":true}]
[null,null,null,{"$f":"IF(B394=Dimension!$A$8,Dimension!$C$9,IF(B394=Dimension!$A$6,CD,\"\"))","v":""},null,{"$f":"IF(OR(B394=Dimension!$A$3,B394=Dimension!$A$4,B394=Dimension!$A$6,B394=Dimension!$A$8),CCYA,\"\")","v":""},{"$f":"IFERROR(VLOOKUP(F394,Dimension!$G$3:$H$252,2,FALSE),\"\")","v":""},{"$f":"IF(OR(B394=Dimension!$A$3,B394=Dimension!$A$4,B394=Dimension!$A$5),\"เดินทาง/ท่องเที่ยว\",\"\")","v":""},{"$f":"IF(OR(B394=Dimension!$A$6,B394=Dimension!$A$7,B394=Dimension!$A$8,B394=Dimension!$A$9),\"\",IF(OR(B394=Dimension!$A$3,B394=Dimension!$A$4,B394=Dimension!$A$5),\"สถานประกอบการ\",\"\"))","v":""},{"$f":"IF(OR(B394=Dimension!$A$3,B394=Dimension!$A$4,B394=Dimension!$A$5,B394=Dimension!$A$6,,B394=Dimension!$A$7,B394=Dimension!$A$8,B394=Dimension!$A$9),Payment_ID2,\"\")","v":""},null,{"$f":"IFERROR(VLOOKUP(K394,Dimension!$J$3:$K$179,2,FALSE),\"\")","v":""},null,null,{"$f":"IF(OR(B394=Dimension!$A$6,B394=Dimension!$A$7,B394=Dimension!$A$8,B394=Dimension!$A$9),\"\",IF(OR(B394=Dimension!$A$3,B394=Dimension!$A$4,B394=Dimension!$A$5),\"สถานประกอบการ\",\"\"))","v":""},{"$f":"IF(OR(B394=Dimension!$A$6,B394=Dimension!$A$7,B394=Dimension!$A$8,B394=Dimension!$A$9,B394=\"\"),\"\",Payment_ID2)","v":""},{"$f":"IF(OR(M394=\"\",N394=\"\"),\"\",ROUND(M394*N394,2))","v":""},null,null,{"$f":"IF(D394=Dimension!$C$9,IF(LEFT(UPPER(E394),2)=\"MC\",TRUE,FALSE),TRUE)","v":true}]
[null,null,null,{"$f":"IF(B395=Dimension!$A$8,Dimension!$C$9,IF(B395=Dimension!$A$6,CD,\"\"))","v":""},null,{"$f":"IF(OR(B395=Dimension!$A$3,B395=Dimension!$A$4,B395=Dimension!$A$6,B395=Dimension!$A$8),CCYA,\"\")","v":""},{"$f":"IFERROR(VLOOKUP(F395,Dimension!$G$3:$H$252,2,FALSE),\"\")","v":""},{"$f":"IF(OR(B395=Dimension!$A$3,B395=Dimension!$A$4,B395=Dimension!$A$5),\"เดินทาง/ท่องเที่ยว\",\"\")","v":""},{"$f":"IF(OR(B395=Dimension!$A$6,B395=Dimension!$A$7,B395=Dimension!$A$8,B395=Dimension!$A$9),\"\",IF(OR(B395=Dimension!$A$3,B395=Dimension!$A$4,B395=Dimension!$A$5),\"สถานประกอบการ\",\"\"))","v":""},{"$f":"IF(OR(B395=Dimension!$A$3,B395=Dimension!$A$4,B395=Dimension!$A$5,B395=Dimension!$A$6,,B395=Dimension!$A$7,B395=Dimension!$A$8,B395=Dimension!$A$9),Payment_ID2,\"\")","v":""},null,{"$f":"IFERROR(VLOOKUP(K395,Dimension!$J$3:$K$179,2,FALSE),\"\")","v":""},null,null,{"$f":"IF(OR(B395=Dimension!$A$6,B395=Dimension!$A$7,B395=Dimension!$A$8,B395=Dimension!$A$9),\"\",IF(OR(B395=Dimension!$A$3,B395=Dimension!$A$4,B395=Dimension!$A$5),\"สถานประกอบการ\",\"\"))","v":""},{"$f":"IF(OR(B395=Dimension!$A$6,B395=Dimension!$A$7,B395=Dimension!$A$8,B395=Dimension!$A$9,B395=\"\"),\"\",Payment_ID2)","v":""},"",null,null,{"$f":"IF(D395=Dimension!$C$9,IF(LEFT(UPPER(E395),2)=\"MC\",TRUE,FALSE),TRUE)","v":true}]
[null,null,null,{"$f":"IF(B396=Dimension!$A$8,Dimension!$C$9,IF(B396=Dimension!$A$6,CD,\"\"))","v":""},null,{"$f":"IF(OR(B396=Dimension!$A$3,B396=Dimension!$A$4,B396=Dimension!$A$6,B396=Dimension!$A$8),CCYA,\"\")","v":""},{"$f":"IFERROR(VLOOKUP(F396,Dimension!$G$3:$H$252,2,FALSE),\"\")","v":""},{"$f":"IF(OR(B396=Dimension!$A$3,B396=Dimension!$A$4,B396=Dimension!$A$5),\"เดินทาง/ท่องเที่ยว\",\"\")","v":""},{"$f":"IF(OR(B396=Dimension!$A$6,B396=Dimension!$A$7,B396=Dimension!$A$8,B396=Dimension!$A$9),\"\",IF(OR(B396=Dimension!$A$3,B396=Dimension!$A$4,B396=Dimension!$A$5),\"สถานประกอบการ\",\"\"))","v":""},{"$f":"IF(OR(B396=Dimension!$A$3,B396=Dimension!$A$4,B396=Dimension!$A$5,B396=Dimension!$A$6,,B396=Dimension!$A$7,B396=Dimension!$A$8,B396=Dimension!$A$9),Payment_ID2,\"\")","v":""},null,{"$f":"IFERROR(VLOOKUP(K396,Dimension!$J$3:$K$179,2,FALSE),\"\")","v":""},null,null,{"$f":"IF(OR(B396=Dimension!$A$6,B396=Dimension!$A$7,B396=Dimension!$A$8,B396=Dimension!$A$9),\"\",IF(OR(B396=Dimension!$A$3,B396=Dimension!$A$4,B396=Dimension!$A$5),\"สถานประกอบการ\",\"\"))","v":""},{"$f":"IF(OR(B396=Dimension!$A$6,B396=Dimension!$A$7,B396=Dimension!$A$8,B396=Dimension!$A$9,B396=\"\"),\"\",Payment_ID2)","v":""},"",null,null,{"$f":"IF(D396=Dimension!$C$9,IF(LEFT(UPPER(E396),2)=\"MC\",TRUE,FALSE),TRUE)","v":true}]
[null,null,null,{"$f":"IF(B397=Dimension!$A$8,Dimension!$C$9,IF(B397=Dimension!$A$6,CD,\"\"))","v":""},null,{"$f":"IF(OR(B397=Dimension!$A$3,B397=Dimension!$A$4,B397=Dimension!$A$6,B397=Dimension!$A$8),CCYA,\"\")","v":""},{"$f":"IFERROR(VLOOKUP(F397,Dimension!$G$3:$H$252,2,FALSE),\"\")","v":""},{"$f":"IF(OR(B397=Dimension!$A$3,B397=Dimension!$A$4,B397=Dimension!$A$5),\"เดินทาง/ท่องเที่ยว\",\"\")","v":""},{"$f":"IF(OR(B397=Dimension!$A$6,B397=Dimension!$A$7,B397=Dimension!$A$8,B397=Dimension!$A$9),\"\",IF(OR(B397=Dimension!$A$3,B397=Dimension!$A$4,B397=Dimension!$A$5),\"สถานประกอบการ\",\"\"))","v":""},{"$f":"IF(OR(B397=Dimension!$A$3,B397=Dimension!$A$4,B397=Dimension!$A$5,B397=Dimension!$A$6,,B397=Dimension!$A$7,B397=Dimension!$A$8,B397=Dimension!$A$9),Payment_ID2,\"\")","v":""},null,{"$f":"IFERROR(VLOOKUP(K397,Dimension!$J$3:$K$179,2,FALSE),\"\")","v":""},null,null,{"$f":"IF(OR(B397=Dimension!$A$6,B397=Dimension!$A$7,B397=Dimension!$A$8,B397=Dimension!$A$9),\"\",IF(OR(B397=Dimension!$A$3,B397=Dimension!$A$4,B397=Dimension!$A$5),\"สถานประกอบการ\",\"\"))","v":""},{"$f":"IF(OR(B397=Dimension!$A$6,B397=Dimension!$A$7,B397=Dimension!$A$8,B397=Dimension!$A$9,B397=\"\"),\"\",Payment_ID2)","v":""},"",null,null,{"$f":"IF(D397=Dimension!$C$9,IF(LEFT(UPPER(E397),2)=\"MC\",TRUE,FALSE),TRUE)","v":true}]
[null,null,null,{"$f":"IF(B398=Dimension!$A$8,Dimension!$C$9,IF(B398=Dimension!$A$6,CD,\"\"))","v":""},null,{"$f":"IF(OR(B398=Dimension!$A$3,B398=Dimension!$A$4,B398=Dimension!$A$6,B398=Dimension!$A$8),CCYA,\"\")","v":""},{"$f":"IFERROR(VLOOKUP(F398,Dimension!$G$3:$H$252,2,FALSE),\"\")","v":""},{"$f":"IF(OR(B398=Dimension!$A$3,B398=Dimension!$A$4,B398=Dimension!$A$5),\"เดินทาง/ท่องเที่ยว\",\"\")","v":""},{"$f":"IF(OR(B398=Dimension!$A$6,B398=Dimension!$A$7,B398=Dimension!$A$8,B398=Dimension!$A$9),\"\",IF(OR(B398=Dimension!$A$3,B398=Dimension!$A$4,B398=Dimension!$A$5),\"สถานประกอบการ\",\"\"))","v":""},{"$f":"IF(OR(B398=Dimension!$A$3,B398=Dimension!$A$4,B398=Dimension!$A$5,B398=Dimension!$A$6,,B398=Dimension!$A$7,B398=Dimension!$A$8,B398=Dimension!$A$9),Payment_ID2,\"\")","v":""},null,{"$f":"IFERROR(VLOOKUP(K398,Dimension!$J$3:$K$179,2,FALSE),\"\")","v":""},null,null,{"$f":"IF(OR(B398=Dimension!$A$6,B398=Dimension!$A$7,B398=Dimension!$A$8,B398=Dimension!$A$9),\"\",IF(OR(B398=Dimension!$A$3,B398=Dimension!$A$4,B398=Dimension!$A$5),\"สถานประกอบการ\",\"\"))","v":""},{"$f":"IF(OR(B398=Dimension!$A$6,B398=Dimension!$A$7,B398=Dimension!$A$8,B398=Dimension!$A$9,B398=\"\"),\"\",Payment_ID2)","v":""},"",null,null,{"$f":"IF(D398=Dimension!$C$9,IF(LEFT(UPPER(E398),2)=\"MC\",TRUE,FALSE),TRUE)","v":true}]
[null,null,null,{"$f":"IF(B399=Dimension!$A$8,Dimension!$C$9,IF(B399=Dimension!$A$6,CD,\"\"))","v":""},null,{"$f":"IF(OR(B399=Dimension!$A$3,B399=Dimension!$A$4,B399=Dimension!$A$6,B399=Dimension!$A$8),CCYA,\"\")","v":""},{"$f":"IFERROR(VLOOKUP(F399,Dimension!$G$3:$H$252,2,FALSE),\"\")","v":""},{"$f":"IF(OR(B399=Dimension!$A$3,B399=Dimension!$A$4,B399=Dimension!$A$5),\"เดินทาง/ท่องเที่ยว\",\"\")","v":""},{"$f":"IF(OR(B399=Dimension!$A$6,B399=Dimension!$A$7,B399=Dimension!$A$8,B399=Dimension!$A$9),\"\",IF(OR(B399=Dimension!$A$3,B399=Dimension!$A$4,B399=Dimension!$A$5),\"สถานประกอบการ\",\"\"))","v":""},{"$f":"IF(OR(B399=Dimension!$A$3,B399=Dimension!$A$4,B399=Dimension!$A$5,B399=Dimension!$A$6,,B399=Dimension!$A$7,B399=Dimension!$A$8,B399=Dimension!$A$9),Payment_ID2,\"\")","v":""},null,{"$f":"IFERROR(VLOOKUP(K399,Dimension!$J$3:$K$179,2,FALSE),\"\")","v":""},null,null,{"$f":"IF(OR(B399=Dimension!$A$6,B399=Dimension!$A$7,B399=Dimension!$A$8,B399=Dimension!$A$9),\"\",IF(OR(B399=Dimension!$A$3,B399=Dimension!$A$4,B399=Dimension!$A$5),\"สถานประกอบการ\",\"\"))","v":""},{"$f":"IF(OR(B399=Dimension!$A$6,B399=Dimension!$A$7,B399=Dimension!$A$8,B399=Dimension!$A$9,B399=\"\"),\"\",Payment_ID2)","v":""},"",null,null,{"$f":"IF(D399=Dimension!$C$9,IF(LEFT(UPPER(E399),2)=\"MC\",TRUE,FALSE),TRUE)","v":true}]
[null,null,null,{"$f":"IF(B400=Dimension!$A$8,Dimension!$C$9,IF(B400=Dimension!$A$6,CD,\"\"))","v":""},null,{"$f":"IF(OR(B400=Dimension!$A$3,B400=Dimension!$A$4,B400=Dimension!$A$6,B400=Dimension!$A$8),CCYA,\"\")","v":""},{"$f":"IFERROR(VLOOKUP(F400,Dimension!$G$3:$H$252,2,FALSE),\"\")","v":""},{"$f":"IF(OR(B400=Dimension!$A$3,B400=Dimension!$A$4,B400=Dimension!$A$5),\"เดินทาง/ท่องเที่ยว\",\"\")","v":""},{"$f":"IF(OR(B400=Dimension!$A$6,B400=Dimension!$A$7,B400=Dimension!$A$8,B400=Dimension!$A$9),\"\",IF(OR(B400=Dimension!$A$3,B400=Dimension!$A$4,B400=Dimension!$A$5),\"สถานประกอบการ\",\"\"))","v":""},{"$f":"IF(OR(B400=Dimension!$A$3,B400=Dimension!$A$4,B400=Dimension!$A$5,B400=Dimension!$A$6,,B400=Dimension!$A$7,B400=Dimension!$A$8,B400=Dimension!$A$9),Payment_ID2,\"\")","v":""},null,{"$f":"IFERROR(VLOOKUP(K400,Dimension!$J$3:$K$179,2,FALSE),\"\")","v":""},null,null,{"$f":"IF(OR(B400=Dimension!$A$6,B400=Dimension!$A$7,B400=Dimension!$A$8,B400=Dimension!$A$9),\"\",IF(OR(B400=Dimension!$A$3,B400=Dimension!$A$4,B400=Dimension!$A$5),\"สถานประกอบการ\",\"\"))","v":""},{"$f":"IF(OR(B400=Dimension!$A$6,B400=Dimension!$A$7,B400=Dimension!$A$8,B400=Dimension!$A$9,B400=\"\"),\"\",Payment_ID2)","v":""},"",null,null,{"$f":"IF(D400=Dimension!$C$9,IF(LEFT(UPPER(E400),2)=\"MC\",TRUE,FALSE),TRUE)","v":true}]
[null,null,null,{"$f":"IF(B401=Dimension!$A$8,Dimension!$C$9,IF(B401=Dimension!$A$6,CD,\"\"))","v":""},null,{"$f":"IF(OR(B401=Dimension!$A$3,B401=Dimension!$A$4,B401=Dimension!$A$6,B401=Dimension!$A$8),CCYA,\"\")","v":""},{"$f":"IFERROR(VLOOKUP(F401,Dimension!$G$3:$H$252,2,FALSE),\"\")","v":""},{"$f":"IF(OR(B401=Dimension!$A$3,B401=Dimension!$A$4,B401=Dimension!$A$5),\"เดินทาง/ท่องเที่ยว\",\"\")","v":""},{"$f":"IF(OR(B401=Dimension!$A$6,B401=Dimension!$A$7,B401=Dimension!$A$8,B401=Dimension!$A$9),\"\",IF(OR(B401=Dimension!$A$3,B401=Dimension!$A$4,B401=Dimension!$A$5),\"สถานประกอบการ\",\"\"))","v":""},{"$f":"IF(OR(B401=Dimension!$A$3,B401=Dimension!$A$4,B401=Dimension!$A$5,B401=Dimension!$A$6,,B401=Dimension!$A$7,B401=Dimension!$A$8,B401=Dimension!$A$9),Payment_ID2,\"\")","v":""},null,{"$f":"IFERROR(VLOOKUP(K401,Dimension!$J$3:$K$179,2,FALSE),\"\")","v":""},null,null,{"$f":"IF(OR(B401=Dimension!$A$6,B401=Dimension!$A$7,B401=Dimension!$A$8,B401=Dimension!$A$9),\"\",IF(OR(B401=Dimension!$A$3,B401=Dimension!$A$4,B401=Dimension!$A$5),\"สถานประกอบการ\",\"\"))","v":""},{"$f":"IF(OR(B401=Dimension!$A$6,B401=Dimension!$A$7,B401=Dimension!$A$8,B401=Dimension!$A$9,B401=\"\"),\"\",Payment_ID2)","v":""},"",null,null,{"$f":"IF(D401=Dimension!$C$9,IF(LEFT(UPPER(E401),2)=\"MC\",TRUE,FALSE),TRUE)","v":true}]
[null,null,null,{"$f":"IF(B402=Dimension!$A$8,Dimension!$C$9,IF(B402=Dimension!$A$6,CD,\"\"))","v":""},null,{"$f":"IF(OR(B402=Dimension!$A$3,B402=Dimension!$A$4,B402=Dimension!$A$6,B402=Dimension!$A$8),CCYA,\"\")","v":""},{"$f":"IFERROR(VLOOKUP(F402,Dimension!$G$3:$H$252,2,FALSE),\"\")","v":""},{"$f":"IF(OR(B402=Dimension!$A$3,B402=Dimension!$A$4,B402=Dimension!$A$5),\"เดินทาง/ท่องเที่ยว\",\"\")","v":""},{"$f":"IF(OR(B402=Dimension!$A$6,B402=Dimension!$A$7,B402=Dimension!$A$8,B402=Dimension!$A$9),\"\",IF(OR(B402=Dimension!$A$3,B402=Dimension!$A$4,B402=Dimension!$A$5),\"สถานประกอบการ\",\"\"))","v":""},{"$f":"IF(OR(B402=Dimension!$A$3,B402=Dimension!$A$4,B402=Dimension!$A$5,B402=Dimension!$A$6,,B402=Dimension!$A$7,B402=Dimension!$A$8,B402=Dimension!$A$9),Payment_ID2,\"\")","v":""},null,{"$f":"IFERROR(VLOOKUP(K402,Dimension!$J$3:$K$179,2,FALSE),\"\")","v":""},null,null,{"$f":"IF(OR(B402=Dimension!$A$6,B402=Dimension!$A$7,B402=Dimension!$A$8,B402=Dimension!$A$9),\"\",IF(OR(B402=Dimension!$A$3,B402=Dimension!$A$4,B402=Dimension!$A$5),\"สถานประกอบการ\",\"\"))","v":""},{"$f":"IF(OR(B402=Dimension!$A$6,B402=Dimension!$A$7,B402=Dimension!$A$8,B402=Dimension!$A$9,B402=\"\"),\"\",Payment_ID2)","v":""},"",null,null,{"$f":"IF(D402=Dimension!$C$9,IF(LEFT(UPPER(E402),2)=\"MC\",TRUE,FALSE),TRUE)","v":true}]
[null,null,null,{"$f":"IF(B403=Dimension!$A$8,Dimension!$C$9,IF(B403=Dimension!$A$6,CD,\"\"))","v":""},null,{"$f":"IF(OR(B403=Dimension!$A$3,B403=Dimension!$A$4,B403=Dimension!$A$6,B403=Dimension!$A$8),CCYA,\"\")","v":""},{"$f":"IFERROR(VLOOKUP(F403,Dimension!$G$3:$H$252,2,FALSE),\"\")","v":""},{"$f":"IF(OR(B403=Dimension!$A$3,B403=Dimension!$A$4,B403=Dimension!$A$5),\"เดินทาง/ท่องเที่ยว\",\"\")","v":""},{"$f":"IF(OR(B403=Dimension!$A$6,B403=Dimension!$A$7,B403=Dimension!$A$8,B403=Dimension!$A$9),\"\",IF(OR(B403=Dimension!$A$3,B403=Dimension!$A$4,B403=Dimension!$A$5),\"สถานประกอบการ\",\"\"))","v":""},{"$f":"IF(OR(B403=Dimension!$A$3,B403=Dimension!$A$4,B403=Dimension!$A$5,B403=Dimension!$A$6,,B403=Dimension!$A$7,B403=Dimension!$A$8,B403=Dimension!$A$9),Payment_ID2,\"\")","v":""},null,{"$f":"IFERROR(VLOOKUP(K403,Dimension!$J$3:$K$179,2,FALSE),\"\")","v":""},null,null,{"$f":"IF(OR(B403=Dimension!$A$6,B403=Dimension!$A$7,B403=Dimension!$A$8,B403=Dimension!$A$9),\"\",IF(OR(B403=Dimension!$A$3,B403=Dimension!$A$4,B403=Dimension!$A$5),\"สถานประกอบการ\",\"\"))","v":""},{"$f":"IF(OR(B403=Dimension!$A$6,B403=Dimension!$A$7,B403=Dimension!$A$8,B403=Dimension!$A$9,B403=\"\"),\"\",Payment_ID2)","v":""},"",null,null,{"$f":"IF(D403=Dimension!$C$9,IF(LEFT(UPPER(E403),2)=\"MC\",TRUE,FALSE),TRUE)","v":true}]
[null,null,null,{"$f":"IF(B404=Dimension!$A$8,Dimension!$C$9,IF(B404=Dimension!$A$6,CD,\"\"))","v":""},null,{"$f":"IF(OR(B404=Dimension!$A$3,B404=Dimension!$A$4,B404=Dimension!$A$6,B404=Dimension!$A$8),CCYA,\"\")","v":""},{"$f":"IFERROR(VLOOKUP(F404,Dimension!$G$3:$H$252,2,FALSE),\"\")","v":""},{"$f":"IF(OR(B404=Dimension!$A$3,B404=Dimension!$A$4,B404=Dimension!$A$5),\"เดินทาง/ท่องเที่ยว\",\"\")","v":""},{"$f":"IF(OR(B404=Dimension!$A$6,B404=Dimension!$A$7,B404=Dimension!$A$8,B404=Dimension!$A$9),\"\",IF(OR(B404=Dimension!$A$3,B404=Dimension!$A$4,B404=Dimension!$A$5),\"สถานประกอบการ\",\"\"))","v":""},{"$f":"IF(OR(B404=Dimension!$A$3,B404=Dimension!$A$4,B404=Dimension!$A$5,B404=Dimension!$A$6,,B404=Dimension!$A$7,B404=Dimension!$A$8,B404=Dimension!$A$9),Payment_ID2,\"\")","v":""},null,{"$f":"IFERROR(VLOOKUP(K404,Dimension!$J$3:$K$179,2,FALSE),\"\")","v":""},null,null,{"$f":"IF(OR(B404=Dimension!$A$6,B404=Dimension!$A$7,B404=Dimension!$A$8,B404=Dimension!$A$9),\"\",IF(OR(B404=Dimension!$A$3,B404=Dimension!$A$4,B404=Dimension!$A$5),\"สถานประกอบการ\",\"\"))","v":""},{"$f":"IF(OR(B404=Dimension!$A$6,B404=Dimension!$A$7,B404=Dimension!$A$8,B404=Dimension!$A$9,B404=\"\"),\"\",Payment_ID2)","v":""},"",null,null,{"$f":"IF(D404=Dimension!$C$9,IF(LEFT(UPPER(E404),2)=\"MC\",TRUE,FALSE),TRUE)","v":true}]
[null,null,null,{"$f":"IF(B405=Dimension!$A$8,Dimension!$C$9,IF(B405=Dimension!$A$6,CD,\"\"))","v":""},null,{"$f":"IF(OR(B405=Dimension!$A$3,B405=Dimension!$A$4,B405=Dimension!$A$6,B405=Dimension!$A$8),CCYA,\"\")","v":""},{"$f":"IFERROR(VLOOKUP(F405,Dimension!$G$3:$H$252,2,FALSE),\"\")","v":""},{"$f":"IF(OR(B405=Dimension!$A$3,B405=Dimension!$A$4,B405=Dimension!$A$5),\"เดินทาง/ท่องเที่ยว\",\"\")","v":""},{"$f":"IF(OR(B405=Dimension!$A$6,B405=Dimension!$A$7,B405=Dimension!$A$8,B405=Dimension!$A$9),\"\",IF(OR(B405=Dimension!$A$3,B405=Dimension!$A$4,B405=Dimension!$A$5),\"สถานประกอบการ\",\"\"))","v":""},{"$f":"IF(OR(B405=Dimension!$A$3,B405=Dimension!$A$4,B405=Dimension!$A$5,B405=Dimension!$A$6,,B405=Dimension!$A$7,B405=Dimension!$A$8,B405=Dimension!$A$9),Payment_ID2,\"\")","v":""},null,{"$f":"IFERROR(VLOOKUP(K405,Dimension!$J$3:$K$179,2,FALSE),\"\")","v":""},null,null,{"$f":"IF(OR(B405=Dimension!$A$6,B405=Dimension!$A$7,B405=Dimension!$A$8,B405=Dimension!$A$9),\"\",IF(OR(B405=Dimension!$A$3,B405=Dimension!$A$4,B405=Dimension!$A$5),\"สถานประกอบการ\",\"\"))","v":""},{"$f":"IF(OR(B405=Dimension!$A$6,B405=Dimension!$A$7,B405=Dimension!$A$8,B405=Dimension!$A$9,B405=\"\"),\"\",Payment_ID2)","v":""},"",null,null,{"$f":"IF(D405=Dimension!$C$9,IF(LEFT(UPPER(E405),2)=\"MC\",TRUE,FALSE),TRUE)","v":true}]
[null,null,null,{"$f":"IF(B406=Dimension!$A$8,Dimension!$C$9,IF(B406=Dimension!$A$6,CD,\"\"))","v":""},null,{"$f":"IF(OR(B406=Dimension!$A$3,B406=Dimension!$A$4,B406=Dimension!$A$6,B406=Dimension!$A$8),CCYA,\"\")","v":""},{"$f":"IFERROR(VLOOKUP(F406,Dimension!$G$3:$H$252,2,FALSE),\"\")","v":""},{"$f":"IF(OR(B406=Dimension!$A$3,B406=Dimension!$A$4,B406=Dimension!$A$5),\"เดินทาง/ท่องเที่ยว\",\"\")","v":""},{"$f":"IF(OR(B406=Dimension!$A$6,B406=Dimension!$A$7,B406=Dimension!$A$8,B406=Dimension!$A$9),\"\",IF(OR(B406=Dimension!$A$3,B406=Dimension!$A$4,B406=Dimension!$A$5),\"สถานประกอบการ\",\"\"))","v":""},{"$f":"IF(OR(B406=Dimension!$A$3,B406=Dimension!$A$4,B406=Dimension!$A$5,B406=Dimension!$A$6,,B406=Dimension!$A$7,B406=Dimension!$A$8,B406=Dimension!$A$9),Payment_ID2,\"\")","v":""},null,{"$f":"IFERROR(VLOOKUP(K406,Dimension!$J$3:$K$179,2,FALSE),\"\")","v":""},null,null,{"$f":"IF(OR(B406=Dimension!$A$6,B406=Dimension!$A$7,B406=Dimension!$A$8,B406=Dimension!$A$9),\"\",IF(OR(B406=Dimension!$A$3,B406=Dimension!$A$4,B406=Dimension!$A$5),\"สถานประกอบการ\",\"\"))","v":""},{"$f":"IF(OR(B406=Dimension!$A$6,B406=Dimension!$A$7,B406=Dimension!$A$8,B406=Dimension!$A$9,B406=\"\"),\"\",Payment_ID2)","v":""},"",null,null,{"$f":"IF(D406=Dimension!$C$9,IF(LEFT(UPPER(E406),2)=\"MC\",TRUE,FALSE),TRUE)","v":true}]
[null,null,null,{"$f":"IF(B407=Dimension!$A$8,Dimension!$C$9,IF(B407=Dimension!$A$6,CD,\"\"))","v":""},null,{"$f":"IF(OR(B407=Dimension!$A$3,B407=Dimension!$A$4,B407=Dimension!$A$6,B407=Dimension!$A$8),CCYA,\"\")","v":""},{"$f":"IFERROR(VLOOKUP(F407,Dimension!$G$3:$H$252,2,FALSE),\"\")","v":""},{"$f":"IF(OR(B407=Dimension!$A$3,B407=Dimension!$A$4,B407=Dimension!$A$5),\"เดินทาง/ท่องเที่ยว\",\"\")","v":""},{"$f":"IF(OR(B407=Dimension!$A$6,B407=Dimension!$A$7,B407=Dimension!$A$8,B407=Dimension!$A$9),\"\",IF(OR(B407=Dimension!$A$3,B407=Dimension!$A$4,B407=Dimension!$A$5),\"สถานประกอบการ\",\"\"))","v":""},{"$f":"IF(OR(B407=Dimension!$A$3,B407=Dimension!$A$4,B407=Dimension!$A$5,B407=Dimension!$A$6,,B407=Dimension!$A$7,B407=Dimension!$A$8,B407=Dimension!$A$9),Payment_ID2,\"\")","v":""},null,{"$f":"IFERROR(VLOOKUP(K407,Dimension!$J$3:$K$179,2,FALSE),\"\")","v":""},null,null,{"$f":"IF(OR(B407=Dimension!$A$6,B407=Dimension!$A$7,B407=Dimension!$A$8,B407=Dimension!$A$9),\"\",IF(OR(B407=Dimension!$A$3,B407=Dimension!$A$4,B407=Dimension!$A$5),\"สถานประกอบการ\",\"\"))","v":""},{"$f":"IF(OR(B407=Dimension!$A$6,B407=Dimension!$A$7,B407=Dimension!$A$8,B407=Dimension!$A$9,B407=\"\"),\"\",Payment_ID2)","v":""},"",null,null,{"$f":"IF(D407=Dimension!$C$9,IF(LEFT(UPPER(E407),2)=\"MC\",TRUE,FALSE),TRUE)","v":true}]
[null,null,null,{"$f":"IF(B408=Dimension!$A$8,Dimension!$C$9,IF(B408=Dimension!$A$6,CD,\"\"))","v":""},null,{"$f":"IF(OR(B408=Dimension!$A$3,B408=Dimension!$A$4,B408=Dimension!$A$6,B408=Dimension!$A$8),CCYA,\"\")","v":""},{"$f":"IFERROR(VLOOKUP(F408,Dimension!$G$3:$H$252,2,FALSE),\"\")","v":""},{"$f":"IF(OR(B408=Dimension!$A$3,B408=Dimension!$A$4,B408=Dimension!$A$5),\"เดินทาง/ท่องเที่ยว\",\"\")","v":""},{"$f":"IF(OR(B408=Dimension!$A$6,B408=Dimension!$A$7,B408=Dimension!$A$8,B408=Dimension!$A$9),\"\",IF(OR(B408=Dimension!$A$3,B408=Dimension!$A$4,B408=Dimension!$A$5),\"สถานประกอบการ\",\"\"))","v":""},{"$f":"IF(OR(B408=Dimension!$A$3,B408=Dimension!$A$4,B408=Dimension!$A$5,B408=Dimension!$A$6,,B408=Dimension!$A$7,B408=Dimension!$A$8,B408=Dimension!$A$9),Payment_ID2,\"\")","v":""},null,{"$f":"IFERROR(VLOOKUP(K408,Dimension!$J$3:$K$179,2,FALSE),\"\")","v":""},null,null,{"$f":"IF(OR(B408=Dimension!$A$6,B408=Dimension!$A$7,B408=Dimension!$A$8,B408=Dimension!$A$9),\"\",IF(OR(B408=Dimension!$A$3,B408=Dimension!$A$4,B408=Dimension!$A$5),\"สถานประกอบการ\",\"\"))","v":""},{"$f":"IF(OR(B408=Dimension!$A$6,B408=Dimension!$A$7,B408=Dimension!$A$8,B408=Dimension!$A$9,B408=\"\"),\"\",Payment_ID2)","v":""},"",null,null,{"$f":"IF(D408=Dimension!$C$9,IF(LEFT(UPPER(E408),2)=\"MC\",TRUE,FALSE),TRUE)","v":true}]
[null,null,null,{"$f":"IF(B409=Dimension!$A$8,Dimension!$C$9,IF(B409=Dimension!$A$6,CD,\"\"))","v":""},null,{"$f":"IF(OR(B409=Dimension!$A$3,B409=Dimension!$A$4,B409=Dimension!$A$6,B409=Dimension!$A$8),CCYA,\"\")","v":""},{"$f":"IFERROR(VLOOKUP(F409,Dimension!$G$3:$H$252,2,FALSE),\"\")","v":""},{"$f":"IF(OR(B409=Dimension!$A$3,B409=Dimension!$A$4,B409=Dimension!$A$5),\"เดินทาง/ท่องเที่ยว\",\"\")","v":""},{"$f":"IF(OR(B409=Dimension!$A$6,B409=Dimension!$A$7,B409=Dimension!$A$8,B409=Dimension!$A$9),\"\",IF(OR(B409=Dimension!$A$3,B409=Dimension!$A$4,B409=Dimension!$A$5),\"สถานประกอบการ\",\"\"))","v":""},{"$f":"IF(OR(B409=Dimension!$A$3,B409=Dimension!$A$4,B409=Dimension!$A$5,B409=Dimension!$A$6,,B409=Dimension!$A$7,B409=Dimension!$A$8,B409=Dimension!$A$9),Payment_ID2,\"\")","v":""},null,{"$f":"IFERROR(VLOOKUP(K409,Dimension!$J$3:$K$179,2,FALSE),\"\")","v":""},null,null,{"$f":"IF(OR(B409=Dimension!$A$6,B409=Dimension!$A$7,B409=Dimension!$A$8,B409=Dimension!$A$9),\"\",IF(OR(B409=Dimension!$A$3,B409=Dimension!$A$4,B409=Dimension!$A$5),\"สถานประกอบการ\",\"\"))","v":""},{"$f":"IF(OR(B409=Dimension!$A$6,B409=Dimension!$A$7,B409=Dimension!$A$8,B409=Dimension!$A$9,B409=\"\"),\"\",Payment_ID2)","v":""},"",null,null,{"$f":"IF(D409=Dimension!$C$9,IF(LEFT(UPPER(E409),2)=\"MC\",TRUE,FALSE),TRUE)","v":true}]
[null,null,null,{"$f":"IF(B410=Dimension!$A$8,Dimension!$C$9,IF(B410=Dimension!$A$6,CD,\"\"))","v":""},null,{"$f":"IF(OR(B410=Dimension!$A$3,B410=Dimension!$A$4,B410=Dimension!$A$6,B410=Dimension!$A$8),CCYA,\"\")","v":""},{"$f":"IFERROR(VLOOKUP(F410,Dimension!$G$3:$H$252,2,FALSE),\"\")","v":""},{"$f":"IF(OR(B410=Dimension!$A$3,B410=Dimension!$A$4,B410=Dimension!$A$5),\"เดินทาง/ท่องเที่ยว\",\"\")","v":""},{"$f":"IF(OR(B410=Dimension!$A$6,B410=Dimension!$A$7,B410=Dimension!$A$8,B410=Dimension!$A$9),\"\",IF(OR(B410=Dimension!$A$3,B410=Dimension!$A$4,B410=Dimension!$A$5),\"สถานประกอบการ\",\"\"))","v":""},{"$f":"IF(OR(B410=Dimension!$A$3,B410=Dimension!$A$4,B410=Dimension!$A$5,B410=Dimension!$A$6,,B410=Dimension!$A$7,B410=Dimension!$A$8,B410=Dimension!$A$9),Payment_ID2,\"\")","v":""},null,{"$f":"IFERROR(VLOOKUP(K410,Dimension!$J$3:$K$179,2,FALSE),\"\")","v":""},null,null,{"$f":"IF(OR(B410=Dimension!$A$6,B410=Dimension!$A$7,B410=Dimension!$A$8,B410=Dimension!$A$9),\"\",IF(OR(B410=Dimension!$A$3,B410=Dimension!$A$4,B410=Dimension!$A$5),\"สถานประกอบการ\",\"\"))","v":""},{"$f":"IF(OR(B410=Dimension!$A$6,B410=Dimension!$A$7,B410=Dimension!$A$8,B410=Dimension!$A$9,B410=\"\"),\"\",Payment_ID2)","v":""},"",null,null,{"$f":"IF(D410=Dimension!$C$9,IF(LEFT(UPPER(E410),2)=\"MC\",TRUE,FALSE),TRUE)","v":true}]
[null,null,null,{"$f":"IF(B411=Dimension!$A$8,Dimension!$C$9,IF(B411=Dimension!$A$6,CD,\"\"))","v":""},null,{"$f":"IF(OR(B411=Dimension!$A$3,B411=Dimension!$A$4,B411=Dimension!$A$6,B411=Dimension!$A$8),CCYA,\"\")","v":""},{"$f":"IFERROR(VLOOKUP(F411,Dimension!$G$3:$H$252,2,FALSE),\"\")","v":""},{"$f":"IF(OR(B411=Dimension!$A$3,B411=Dimension!$A$4,B411=Dimension!$A$5),\"เดินทาง/ท่องเที่ยว\",\"\")","v":""},{"$f":"IF(OR(B411=Dimension!$A$6,B411=Dimension!$A$7,B411=Dimension!$A$8,B411=Dimension!$A$9),\"\",IF(OR(B411=Dimension!$A$3,B411=Dimension!$A$4,B411=Dimension!$A$5),\"สถานประกอบการ\",\"\"))","v":""},{"$f":"IF(OR(B411=Dimension!$A$3,B411=Dimension!$A$4,B411=Dimension!$A$5,B411=Dimension!$A$6,,B411=Dimension!$A$7,B411=Dimension!$A$8,B411=Dimension!$A$9),Payment_ID2,\"\")","v":""},null,{"$f":"IFERROR(VLOOKUP(K411,Dimension!$J$3:$K$179,2,FALSE),\"\")","v":""},null,null,{"$f":"IF(OR(B411=Dimension!$A$6,B411=Dimension!$A$7,B411=Dimension!$A$8,B411=Dimension!$A$9),\"\",IF(OR(B411=Dimension!$A$3,B411=Dimension!$A$4,B411=Dimension!$A$5),\"สถานประกอบการ\",\"\"))","v":""},{"$f":"IF(OR(B411=Dimension!$A$6,B411=Dimension!$A$7,B411=Dimension!$A$8,B411=Dimension!$A$9,B411=\"\"),\"\",Payment_ID2)","v":""},"",null,null,{"$f":"IF(D411=Dimension!$C$9,IF(LEFT(UPPER(E411),2)=\"MC\",TRUE,FALSE),TRUE)","v":true}]
[null,null,null,{"$f":"IF(B412=Dimension!$A$8,Dimension!$C$9,IF(B412=Dimension!$A$6,CD,\"\"))","v":""},null,{"$f":"IF(OR(B412=Dimension!$A$3,B412=Dimension!$A$4,B412=Dimension!$A$6,B412=Dimension!$A$8),CCYA,\"\")","v":""},{"$f":"IFERROR(VLOOKUP(F412,Dimension!$G$3:$H$252,2,FALSE),\"\")","v":""},{"$f":"IF(OR(B412=Dimension!$A$3,B412=Dimension!$A$4,B412=Dimension!$A$5),\"เดินทาง/ท่องเที่ยว\",\"\")","v":""},{"$f":"IF(OR(B412=Dimension!$A$6,B412=Dimension!$A$7,B412=Dimension!$A$8,B412=Dimension!$A$9),\"\",IF(OR(B412=Dimension!$A$3,B412=Dimension!$A$4,B412=Dimension!$A$5),\"สถานประกอบการ\",\"\"))","v":""},{"$f":"IF(OR(B412=Dimension!$A$3,B412=Dimension!$A$4,B412=Dimension!$A$5,B412=Dimension!$A$6,,B412=Dimension!$A$7,B412=Dimension!$A$8,B412=Dimension!$A$9),Payment_ID2,\"\")","v":""},null,{"$f":"IFERROR(VLOOKUP(K412,Dimension!$J$3:$K$179,2,FALSE),\"\")","v":""},null,null,{"$f":"IF(OR(B412=Dimension!$A$6,B412=Dimension!$A$7,B412=Dimension!$A$8,B412=Dimension!$A$9),\"\",IF(OR(B412=Dimension!$A$3,B412=Dimension!$A$4,B412=Dimension!$A$5),\"สถานประกอบการ\",\"\"))","v":""},{"$f":"IF(OR(B412=Dimension!$A$6,B412=Dimension!$A$7,B412=Dimension!$A$8,B412=Dimension!$A$9,B412=\"\"),\"\",Payment_ID2)","v":""},"",null,null,{"$f":"IF(D412=Dimension!$C$9,IF(LEFT(UPPER(E412),2)=\"MC\",TRUE,FALSE),TRUE)","v":true}]
[null,null,null,{"$f":"IF(B413=Dimension!$A$8,Dimension!$C$9,IF(B413=Dimension!$A$6,CD,\"\"))","v":""},null,{"$f":"IF(OR(B413=Dimension!$A$3,B413=Dimension!$A$4,B413=Dimension!$A$6,B413=Dimension!$A$8),CCYA,\"\")","v":""},{"$f":"IFERROR(VLOOKUP(F413,Dimension!$G$3:$H$252,2,FALSE),\"\")","v":""},{"$f":"IF(OR(B413=Dimension!$A$3,B413=Dimension!$A$4,B413=Dimension!$A$5),\"เดินทาง/ท่องเที่ยว\",\"\")","v":""},{"$f":"IF(OR(B413=Dimension!$A$6,B413=Dimension!$A$7,B413=Dimension!$A$8,B413=Dimension!$A$9),\"\",IF(OR(B413=Dimension!$A$3,B413=Dimension!$A$4,B413=Dimension!$A$5),\"สถานประกอบการ\",\"\"))","v":""},{"$f":"IF(OR(B413=Dimension!$A$3,B413=Dimension!$A$4,B413=Dimension!$A$5,B413=Dimension!$A$6,,B413=Dimension!$A$7,B413=Dimension!$A$8,B413=Dimension!$A$9),Payment_ID2,\"\")","v":""},null,{"$f":"IFERROR(VLOOKUP(K413,Dimension!$J$3:$K$179,2,FALSE),\"\")","v":""},null,null,{"$f":"IF(OR(B413=Dimension!$A$6,B413=Dimension!$A$7,B413=Dimension!$A$8,B413=Dimension!$A$9),\"\",IF(OR(B413=Dimension!$A$3,B413=Dimension!$A$4,B413=Dimension!$A$5),\"สถานประกอบการ\",\"\"))","v":""},{"$f":"IF(OR(B413=Dimension!$A$6,B413=Dimension!$A$7,B413=Dimension!$A$8,B413=Dimension!$A$9,B413=\"\"),\"\",Payment_ID2)","v":""},"",null,null,{"$f":"IF(D413=Dimension!$C$9,IF(LEFT(UPPER(E413),2)=\"MC\",TRUE,FALSE),TRUE)","v":true}]
[null,null,null,{"$f":"IF(B414=Dimension!$A$8,Dimension!$C$9,IF(B414=Dimension!$A$6,CD,\"\"))","v":""},null,{"$f":"IF(OR(B414=Dimension!$A$3,B414=Dimension!$A$4,B414=Dimension!$A$6,B414=Dimension!$A$8),CCYA,\"\")","v":""},{"$f":"IFERROR(VLOOKUP(F414,Dimension!$G$3:$H$252,2,FALSE),\"\")","v":""},{"$f":"IF(OR(B414=Dimension!$A$3,B414=Dimension!$A$4,B414=Dimension!$A$5),\"เดินทาง/ท่องเที่ยว\",\"\")","v":""},{"$f":"IF(OR(B414=Dimension!$A$6,B414=Dimension!$A$7,B414=Dimension!$A$8,B414=Dimension!$A$9),\"\",IF(OR(B414=Dimension!$A$3,B414=Dimension!$A$4,B414=Dimension!$A$5),\"สถานประกอบการ\",\"\"))","v":""},{"$f":"IF(OR(B414=Dimension!$A$3,B414=Dimension!$A$4,B414=Dimension!$A$5,B414=Dimension!$A$6,,B414=Dimension!$A$7,B414=Dimension!$A$8,B414=Dimension!$A$9),Payment_ID2,\"\")","v":""},null,{"$f":"IFERROR(VLOOKUP(K414,Dimension!$J$3:$K$179,2,FALSE),\"\")","v":""},null,null,{"$f":"IF(OR(B414=Dimension!$A$6,B414=Dimension!$A$7,B414=Dimension!$A$8,B414=Dimension!$A$9),\"\",IF(OR(B414=Dimension!$A$3,B414=Dimension!$A$4,B414=Dimension!$A$5),\"สถานประกอบการ\",\"\"))","v":""},{"$f":"IF(OR(B414=Dimension!$A$6,B414=Dimension!$A$7,B414=Dimension!$A$8,B414=Dimension!$A$9,B414=\"\"),\"\",Payment_ID2)","v":""},"",null,null,{"$f":"IF(D414=Dimension!$C$9,IF(LEFT(UPPER(E414),2)=\"MC\",TRUE,FALSE),TRUE)","v":true}]
[null,null,null,{"$f":"IF(B415=Dimension!$A$8,Dimension!$C$9,IF(B415=Dimension!$A$6,CD,\"\"))","v":""},null,{"$f":"IF(OR(B415=Dimension!$A$3,B415=Dimension!$A$4,B415=Dimension!$A$6,B415=Dimension!$A$8),CCYA,\"\")","v":""},{"$f":"IFERROR(VLOOKUP(F415,Dimension!$G$3:$H$252,2,FALSE),\"\")","v":""},{"$f":"IF(OR(B415=Dimension!$A$3,B415=Dimension!$A$4,B415=Dimension!$A$5),\"เดินทาง/ท่องเที่ยว\",\"\")","v":""},{"$f":"IF(OR(B415=Dimension!$A$6,B415=Dimension!$A$7,B415=Dimension!$A$8,B415=Dimension!$A$9),\"\",IF(OR(B415=Dimension!$A$3,B415=Dimension!$A$4,B415=Dimension!$A$5),\"สถานประกอบการ\",\"\"))","v":""},{"$f":"IF(OR(B415=Dimension!$A$3,B415=Dimension!$A$4,B415=Dimension!$A$5,B415=Dimension!$A$6,,B415=Dimension!$A$7,B415=Dimension!$A$8,B415=Dimension!$A$9),Payment_ID2,\"\")","v":""},null,{"$f":"IFERROR(VLOOKUP(K415,Dimension!$J$3:$K$179,2,FALSE),\"\")","v":""},null,null,{"$f":"IF(OR(B415=Dimension!$A$6,B415=Dimension!$A$7,B415=Dimension!$A$8,B415=Dimension!$A$9),\"\",IF(OR(B415=Dimension!$A$3,B415=Dimension!$A$4,B415=Dimension!$A$5),\"สถานประกอบการ\",\"\"))","v":""},{"$f":"IF(OR(B415=Dimension!$A$6,B415=Dimension!$A$7,B415=Dimension!$A$8,B415=Dimension!$A$9,B415=\"\"),\"\",Payment_ID2)","v":""},"",null,null,{"$f":"IF(D415=Dimension!$C$9,IF(LEFT(UPPER(E415),2)=\"MC\",TRUE,FALSE),TRUE)","v":true}]
[null,null,null,{"$f":"IF(B416=Dimension!$A$8,Dimension!$C$9,IF(B416=Dimension!$A$6,CD,\"\"))","v":""},null,{"$f":"IF(OR(B416=Dimension!$A$3,B416=Dimension!$A$4,B416=Dimension!$A$6,B416=Dimension!$A$8),CCYA,\"\")","v":""},{"$f":"IFERROR(VLOOKUP(F416,Dimension!$G$3:$H$252,2,FALSE),\"\")","v":""},{"$f":"IF(OR(B416=Dimension!$A$3,B416=Dimension!$A$4,B416=Dimension!$A$5),\"เดินทาง/ท่องเที่ยว\",\"\")","v":""},{"$f":"IF(OR(B416=Dimension!$A$6,B416=Dimension!$A$7,B416=Dimension!$A$8,B416=Dimension!$A$9),\"\",IF(OR(B416=Dimension!$A$3,B416=Dimension!$A$4,B416=Dimension!$A$5),\"สถานประกอบการ\",\"\"))","v":""},{"$f":"IF(OR(B416=Dimension!$A$3,B416=Dimension!$A$4,B416=Dimension!$A$5,B416=Dimension!$A$6,,B416=Dimension!$A$7,B416=Dimension!$A$8,B416=Dimension!$A$9),Payment_ID2,\"\")","v":""},null,{"$f":"IFERROR(VLOOKUP(K416,Dimension!$J$3:$K$179,2,FALSE),\"\")","v":""},null,null,{"$f":"IF(OR(B416=Dimension!$A$6,B416=Dimension!$A$7,B416=Dimension!$A$8,B416=Dimension!$A$9),\"\",IF(OR(B416=Dimension!$A$3,B416=Dimension!$A$4,B416=Dimension!$A$5),\"สถานประกอบการ\",\"\"))","v":""},{"$f":"IF(OR(B416=Dimension!$A$6,B416=Dimension!$A$7,B416=Dimension!$A$8,B416=Dimension!$A$9,B416=\"\"),\"\",Payment_ID2)","v":""},"",null,null,{"$f":"IF(D416=Dimension!$C$9,IF(LEFT(UPPER(E416),2)=\"MC\",TRUE,FALSE),TRUE)","v":true}]
[null,null,null,{"$f":"IF(B417=Dimension!$A$8,Dimension!$C$9,IF(B417=Dimension!$A$6,CD,\"\"))","v":""},null,{"$f":"IF(OR(B417=Dimension!$A$3,B417=Dimension!$A$4,B417=Dimension!$A$6,B417=Dimension!$A$8),CCYA,\"\")","v":""},{"$f":"IFERROR(VLOOKUP(F417,Dimension!$G$3:$H$252,2,FALSE),\"\")","v":""},{"$f":"IF(OR(B417=Dimension!$A$3,B417=Dimension!$A$4,B417=Dimension!$A$5),\"เดินทาง/ท่องเที่ยว\",\"\")","v":""},{"$f":"IF(OR(B417=Dimension!$A$6,B417=Dimension!$A$7,B417=Dimension!$A$8,B417=Dimension!$A$9),\"\",IF(OR(B417=Dimension!$A$3,B417=Dimension!$A$4,B417=Dimension!$A$5),\"สถานประกอบการ\",\"\"))","v":""},{"$f":"IF(OR(B417=Dimension!$A$3,B417=Dimension!$A$4,B417=Dimension!$A$5,B417=Dimension!$A$6,,B417=Dimension!$A$7,B417=Dimension!$A$8,B417=Dimension!$A$9),Payment_ID2,\"\")","v":""},null,{"$f":"IFERROR(VLOOKUP(K417,Dimension!$J$3:$K$179,2,FALSE),\"\")","v":""},null,null,{"$f":"IF(OR(B417=Dimension!$A$6,B417=Dimension!$A$7,B417=Dimension!$A$8,B417=Dimension!$A$9),\"\",IF(OR(B417=Dimension!$A$3,B417=Dimension!$A$4,B417=Dimension!$A$5),\"สถานประกอบการ\",\"\"))","v":""},{"$f":"IF(OR(B417=Dimension!$A$6,B417=Dimension!$A$7,B417=Dimension!$A$8,B417=Dimension!$A$9,B417=\"\"),\"\",Payment_ID2)","v":""},"",null,null,{"$f":"IF(D417=Dimension!$C$9,IF(LEFT(UPPER(E417),2)=\"MC\",TRUE,FALSE),TRUE)","v":true}]
[null,null,null,{"$f":"IF(B418=Dimension!$A$8,Dimension!$C$9,IF(B418=Dimension!$A$6,CD,\"\"))","v":""},null,{"$f":"IF(OR(B418=Dimension!$A$3,B418=Dimension!$A$4,B418=Dimension!$A$6,B418=Dimension!$A$8),CCYA,\"\")","v":""},{"$f":"IFERROR(VLOOKUP(F418,Dimension!$G$3:$H$252,2,FALSE),\"\")","v":""},{"$f":"IF(OR(B418=Dimension!$A$3,B418=Dimension!$A$4,B418=Dimension!$A$5),\"เดินทาง/ท่องเที่ยว\",\"\")","v":""},{"$f":"IF(OR(B418=Dimension!$A$6,B418=Dimension!$A$7,B418=Dimension!$A$8,B418=Dimension!$A$9),\"\",IF(OR(B418=Dimension!$A$3,B418=Dimension!$A$4,B418=Dimension!$A$5),\"สถานประกอบการ\",\"\"))","v":""},{"$f":"IF(OR(B418=Dimension!$A$3,B418=Dimension!$A$4,B418=Dimension!$A$5,B418=Dimension!$A$6,,B418=Dimension!$A$7,B418=Dimension!$A$8,B418=Dimension!$A$9),Payment_ID2,\"\")","v":""},null,{"$f":"IFERROR(VLOOKUP(K418,Dimension!$J$3:$K$179,2,FALSE),\"\")","v":""},null,null,{"$f":"IF(OR(B418=Dimension!$A$6,B418=Dimension!$A$7,B418=Dimension!$A$8,B418=Dimension!$A$9),\"\",IF(OR(B418=Dimension!$A$3,B418=Dimension!$A$4,B418=Dimension!$A$5),\"สถานประกอบการ\",\"\"))","v":""},{"$f":"IF(OR(B418=Dimension!$A$6,B418=Dimension!$A$7,B418=Dimension!$A$8,B418=Dimension!$A$9,B418=\"\"),\"\",Payment_ID2)","v":""},"",null,null,{"$f":"IF(D418=Dimension!$C$9,IF(LEFT(UPPER(E418),2)=\"MC\",TRUE,FALSE),TRUE)","v":true}]
[null,null,null,{"$f":"IF(B419=Dimension!$A$8,Dimension!$C$9,IF(B419=Dimension!$A$6,CD,\"\"))","v":""},null,{"$f":"IF(OR(B419=Dimension!$A$3,B419=Dimension!$A$4,B419=Dimension!$A$6,B419=Dimension!$A$8),CCYA,\"\")","v":""},{"$f":"IFERROR(VLOOKUP(F419,Dimension!$G$3:$H$252,2,FALSE),\"\")","v":""},{"$f":"IF(OR(B419=Dimension!$A$3,B419=Dimension!$A$4,B419=Dimension!$A$5),\"เดินทาง/ท่องเที่ยว\",\"\")","v":""},{"$f":"IF(OR(B419=Dimension!$A$6,B419=Dimension!$A$7,B419=Dimension!$A$8,B419=Dimension!$A$9),\"\",IF(OR(B419=Dimension!$A$3,B419=Dimension!$A$4,B419=Dimension!$A$5),\"สถานประกอบการ\",\"\"))","v":""},{"$f":"IF(OR(B419=Dimension!$A$3,B419=Dimension!$A$4,B419=Dimension!$A$5,B419=Dimension!$A$6,,B419=Dimension!$A$7,B419=Dimension!$A$8,B419=Dimension!$A$9),Payment_ID2,\"\")","v":""},null,{"$f":"IFERROR(VLOOKUP(K419,Dimension!$J$3:$K$179,2,FALSE),\"\")","v":""},null,null,{"$f":"IF(OR(B419=Dimension!$A$6,B419=Dimension!$A$7,B419=Dimension!$A$8,B419=Dimension!$A$9),\"\",IF(OR(B419=Dimension!$A$3,B419=Dimension!$A$4,B419=Dimension!$A$5),\"สถานประกอบการ\",\"\"))","v":""},{"$f":"IF(OR(B419=Dimension!$A$6,B419=Dimension!$A$7,B419=Dimension!$A$8,B419=Dimension!$A$9,B419=\"\"),\"\",Payment_ID2)","v":""},"",null,null,{"$f":"IF(D419=Dimension!$C$9,IF(LEFT(UPPER(E419),2)=\"MC\",TRUE,FALSE),TRUE)","v":true}]
[null,null,null,{"$f":"IF(B420=Dimension!$A$8,Dimension!$C$9,IF(B420=Dimension!$A$6,CD,\"\"))","v":""},null,{"$f":"IF(OR(B420=Dimension!$A$3,B420=Dimension!$A$4,B420=Dimension!$A$6,B420=Dimension!$A$8),CCYA,\"\")","v":""},{"$f":"IFERROR(VLOOKUP(F420,Dimension!$G$3:$H$252,2,FALSE),\"\")","v":""},{"$f":"IF(OR(B420=Dimension!$A$3,B420=Dimension!$A$4,B420=Dimension!$A$5),\"เดินทาง/ท่องเที่ยว\",\"\")","v":""},{"$f":"IF(OR(B420=Dimension!$A$6,B420=Dimension!$A$7,B420=Dimension!$A$8,B420=Dimension!$A$9),\"\",IF(OR(B420=Dimension!$A$3,B420=Dimension!$A$4,B420=Dimension!$A$5),\"สถานประกอบการ\",\"\"))","v":""},{"$f":"IF(OR(B420=Dimension!$A$3,B420=Dimension!$A$4,B420=Dimension!$A$5,B420=Dimension!$A$6,,B420=Dimension!$A$7,B420=Dimension!$A$8,B420=Dimension!$A$9),Payment_ID2,\"\")","v":""},null,{"$f":"IFERROR(VLOOKUP(K420,Dimension!$J$3:$K$179,2,FALSE),\"\")","v":""},null,null,{"$f":"IF(OR(B420=Dimension!$A$6,B420=Dimension!$A$7,B420=Dimension!$A$8,B420=Dimension!$A$9),\"\",IF(OR(B420=Dimension!$A$3,B420=Dimension!$A$4,B420=Dimension!$A$5),\"สถานประกอบการ\",\"\"))","v":""},{"$f":"IF(OR(B420=Dimension!$A$6,B420=Dimension!$A$7,B420=Dimension!$A$8,B420=Dimension!$A$9,B420=\"\"),\"\",Payment_ID2)","v":""},"",null,null,{"$f":"IF(D420=Dimension!$C$9,IF(LEFT(UPPER(E420),2)=\"MC\",TRUE,FALSE),TRUE)","v":true}]
[null,null,null,{"$f":"IF(B421=Dimension!$A$8,Dimension!$C$9,IF(B421=Dimension!$A$6,CD,\"\"))","v":""},null,{"$f":"IF(OR(B421=Dimension!$A$3,B421=Dimension!$A$4,B421=Dimension!$A$6,B421=Dimension!$A$8),CCYA,\"\")","v":""},{"$f":"IFERROR(VLOOKUP(F421,Dimension!$G$3:$H$252,2,FALSE),\"\")","v":""},{"$f":"IF(OR(B421=Dimension!$A$3,B421=Dimension!$A$4,B421=Dimension!$A$5),\"เดินทาง/ท่องเที่ยว\",\"\")","v":""},{"$f":"IF(OR(B421=Dimension!$A$6,B421=Dimension!$A$7,B421=Dimension!$A$8,B421=Dimension!$A$9),\"\",IF(OR(B421=Dimension!$A$3,B421=Dimension!$A$4,B421=Dimension!$A$5),\"สถานประกอบการ\",\"\"))","v":""},{"$f":"IF(OR(B421=Dimension!$A$3,B421=Dimension!$A$4,B421=Dimension!$A$5,B421=Dimension!$A$6,,B421=Dimension!$A$7,B421=Dimension!$A$8,B421=Dimension!$A$9),Payment_ID2,\"\")","v":""},null,{"$f":"IFERROR(VLOOKUP(K421,Dimension!$J$3:$K$179,2,FALSE),\"\")","v":""},null,null,{"$f":"IF(OR(B421=Dimension!$A$6,B421=Dimension!$A$7,B421=Dimension!$A$8,B421=Dimension!$A$9),\"\",IF(OR(B421=Dimension!$A$3,B421=Dimension!$A$4,B421=Dimension!$A$5),\"สถานประกอบการ\",\"\"))","v":""},{"$f":"IF(OR(B421=Dimension!$A$6,B421=Dimension!$A$7,B421=Dimension!$A$8,B421=Dimension!$A$9,B421=\"\"),\"\",Payment_ID2)","v":""},"",null,null,{"$f":"IF(D421=Dimension!$C$9,IF(LEFT(UPPER(E421),2)=\"MC\",TRUE,FALSE),TRUE)","v":true}]
[null,null,null,{"$f":"IF(B422=Dimension!$A$8,Dimension!$C$9,IF(B422=Dimension!$A$6,CD,\"\"))","v":""},null,{"$f":"IF(OR(B422=Dimension!$A$3,B422=Dimension!$A$4,B422=Dimension!$A$6,B422=Dimension!$A$8),CCYA,\"\")","v":""},{"$f":"IFERROR(VLOOKUP(F422,Dimension!$G$3:$H$252,2,FALSE),\"\")","v":""},{"$f":"IF(OR(B422=Dimension!$A$3,B422=Dimension!$A$4,B422=Dimension!$A$5),\"เดินทาง/ท่องเที่ยว\",\"\")","v":""},{"$f":"IF(OR(B422=Dimension!$A$6,B422=Dimension!$A$7,B422=Dimension!$A$8,B422=Dimension!$A$9),\"\",IF(OR(B422=Dimension!$A$3,B422=Dimension!$A$4,B422=Dimension!$A$5),\"สถานประกอบการ\",\"\"))","v":""},{"$f":"IF(OR(B422=Dimension!$A$3,B422=Dimension!$A$4,B422=Dimension!$A$5,B422=Dimension!$A$6,,B422=Dimension!$A$7,B422=Dimension!$A$8,B422=Dimension!$A$9),Payment_ID2,\"\")","v":""},null,{"$f":"IFERROR(VLOOKUP(K422,Dimension!$J$3:$K$179,2,FALSE),\"\")","v":""},null,null,{"$f":"IF(OR(B422=Dimension!$A$6,B422=Dimension!$A$7,B422=Dimension!$A$8,B422=Dimension!$A$9),\"\",IF(OR(B422=Dimension!$A$3,B422=Dimension!$A$4,B422=Dimension!$A$5),\"สถานประกอบการ\",\"\"))","v":""},{"$f":"IF(OR(B422=Dimension!$A$6,B422=Dimension!$A$7,B422=Dimension!$A$8,B422=Dimension!$A$9,B422=\"\"),\"\",Payment_ID2)","v":""},"",null,null,{"$f":"IF(D422=Dimension!$C$9,IF(LEFT(UPPER(E422),2)=\"MC\",TRUE,FALSE),TRUE)","v":true}]
[null,null,null,{"$f":"IF(B423=Dimension!$A$8,Dimension!$C$9,IF(B423=Dimension!$A$6,CD,\"\"))","v":""},null,{"$f":"IF(OR(B423=Dimension!$A$3,B423=Dimension!$A$4,B423=Dimension!$A$6,B423=Dimension!$A$8),CCYA,\"\")","v":""},{"$f":"IFERROR(VLOOKUP(F423,Dimension!$G$3:$H$252,2,FALSE),\"\")","v":""},{"$f":"IF(OR(B423=Dimension!$A$3,B423=Dimension!$A$4,B423=Dimension!$A$5),\"เดินทาง/ท่องเที่ยว\",\"\")","v":""},{"$f":"IF(OR(B423=Dimension!$A$6,B423=Dimension!$A$7,B423=Dimension!$A$8,B423=Dimension!$A$9),\"\",IF(OR(B423=Dimension!$A$3,B423=Dimension!$A$4,B423=Dimension!$A$5),\"สถานประกอบการ\",\"\"))","v":""},{"$f":"IF(OR(B423=Dimension!$A$3,B423=Dimension!$A$4,B423=Dimension!$A$5,B423=Dimension!$A$6,,B423=Dimension!$A$7,B423=Dimension!$A$8,B423=Dimension!$A$9),Payment_ID2,\"\")","v":""},null,{"$f":"IFERROR(VLOOKUP(K423,Dimension!$J$3:$K$179,2,FALSE),\"\")","v":""},null,null,{"$f":"IF(OR(B423=Dimension!$A$6,B423=Dimension!$A$7,B423=Dimension!$A$8,B423=Dimension!$A$9),\"\",IF(OR(B423=Dimension!$A$3,B423=Dimension!$A$4,B423=Dimension!$A$5),\"สถานประกอบการ\",\"\"))","v":""},{"$f":"IF(OR(B423=Dimension!$A$6,B423=Dimension!$A$7,B423=Dimension!$A$8,B423=Dimension!$A$9,B423=\"\"),\"\",Payment_ID2)","v":""},"",null,null,{"$f":"IF(D423=Dimension!$C$9,IF(LEFT(UPPER(E423),2)=\"MC\",TRUE,FALSE),TRUE)","v":true}]
[null,null,null,{"$f":"IF(B424=Dimension!$A$8,Dimension!$C$9,IF(B424=Dimension!$A$6,CD,\"\"))","v":""},null,{"$f":"IF(OR(B424=Dimension!$A$3,B424=Dimension!$A$4,B424=Dimension!$A$6,B424=Dimension!$A$8),CCYA,\"\")","v":""},{"$f":"IFERROR(VLOOKUP(F424,Dimension!$G$3:$H$252,2,FALSE),\"\")","v":""},{"$f":"IF(OR(B424=Dimension!$A$3,B424=Dimension!$A$4,B424=Dimension!$A$5),\"เดินทาง/ท่องเที่ยว\",\"\")","v":""},{"$f":"IF(OR(B424=Dimension!$A$6,B424=Dimension!$A$7,B424=Dimension!$A$8,B424=Dimension!$A$9),\"\",IF(OR(B424=Dimension!$A$3,B424=Dimension!$A$4,B424=Dimension!$A$5),\"สถานประกอบการ\",\"\"))","v":""},{"$f":"IF(OR(B424=Dimension!$A$3,B424=Dimension!$A$4,B424=Dimension!$A$5,B424=Dimension!$A$6,,B424=Dimension!$A$7,B424=Dimension!$A$8,B424=Dimension!$A$9),Payment_ID2,\"\")","v":""},null,{"$f":"IFERROR(VLOOKUP(K424,Dimension!$J$3:$K$179,2,FALSE),\"\")","v":""},null,null,{"$f":"IF(OR(B424=Dimension!$A$6,B424=Dimension!$A$7,B424=Dimension!$A$8,B424=Dimension!$A$9),\"\",IF(OR(B424=Dimension!$A$3,B424=Dimension!$A$4,B424=Dimension!$A$5),\"สถานประกอบการ\",\"\"))","v":""},{"$f":"IF(OR(B424=Dimension!$A$6,B424=Dimension!$A$7,B424=Dimension!$A$8,B424=Dimension!$A$9,B424=\"\"),\"\",Payment_ID2)","v":""},"",null,null,{"$f":"IF(D424=Dimension!$C$9,IF(LEFT(UPPER(E424),2)=\"MC\",TRUE,FALSE),TRUE)","v":true}]
[null,null,null,{"$f":"IF(B425=Dimension!$A$8,Dimension!$C$9,IF(B425=Dimension!$A$6,CD,\"\"))","v":""},null,{"$f":"IF(OR(B425=Dimension!$A$3,B425=Dimension!$A$4,B425=Dimension!$A$6,B425=Dimension!$A$8),CCYA,\"\")","v":""},{"$f":"IFERROR(VLOOKUP(F425,Dimension!$G$3:$H$252,2,FALSE),\"\")","v":""},{"$f":"IF(OR(B425=Dimension!$A$3,B425=Dimension!$A$4,B425=Dimension!$A$5),\"เดินทาง/ท่องเที่ยว\",\"\")","v":""},{"$f":"IF(OR(B425=Dimension!$A$6,B425=Dimension!$A$7,B425=Dimension!$A$8,B425=Dimension!$A$9),\"\",IF(OR(B425=Dimension!$A$3,B425=Dimension!$A$4,B425=Dimension!$A$5),\"สถานประกอบการ\",\"\"))","v":""},{"$f":"IF(OR(B425=Dimension!$A$3,B425=Dimension!$A$4,B425=Dimension!$A$5,B425=Dimension!$A$6,,B425=Dimension!$A$7,B425=Dimension!$A$8,B425=Dimension!$A$9),Payment_ID2,\"\")","v":""},null,{"$f":"IFERROR(VLOOKUP(K425,Dimension!$J$3:$K$179,2,FALSE),\"\")","v":""},null,null,{"$f":"IF(OR(B425=Dimension!$A$6,B425=Dimension!$A$7,B425=Dimension!$A$8,B425=Dimension!$A$9),\"\",IF(OR(B425=Dimension!$A$3,B425=Dimension!$A$4,B425=Dimension!$A$5),\"สถานประกอบการ\",\"\"))","v":""},{"$f":"IF(OR(B425=Dimension!$A$6,B425=Dimension!$A$7,B425=Dimension!$A$8,B425=Dimension!$A$9,B425=\"\"),\"\",Payment_ID2)","v":""},"",null,null,{"$f":"IF(D425=Dimension!$C$9,IF(LEFT(UPPER(E425),2)=\"MC\",TRUE,FALSE),TRUE)","v":true}]
[null,null,null,{"$f":"IF(B426=Dimension!$A$8,Dimension!$C$9,IF(B426=Dimension!$A$6,CD,\"\"))","v":""},null,{"$f":"IF(OR(B426=Dimension!$A$3,B426=Dimension!$A$4,B426=Dimension!$A$6,B426=Dimension!$A$8),CCYA,\"\")","v":""},{"$f":"IFERROR(VLOOKUP(F426,Dimension!$G$3:$H$252,2,FALSE),\"\")","v":""},{"$f":"IF(OR(B426=Dimension!$A$3,B426=Dimension!$A$4,B426=Dimension!$A$5),\"เดินทาง/ท่องเที่ยว\",\"\")","v":""},{"$f":"IF(OR(B426=Dimension!$A$6,B426=Dimension!$A$7,B426=Dimension!$A$8,B426=Dimension!$A$9),\"\",IF(OR(B426=Dimension!$A$3,B426=Dimension!$A$4,B426=Dimension!$A$5),\"สถานประกอบการ\",\"\"))","v":""},{"$f":"IF(OR(B426=Dimension!$A$3,B426=Dimension!$A$4,B426=Dimension!$A$5,B426=Dimension!$A$6,,B426=Dimension!$A$7,B426=Dimension!$A$8,B426=Dimension!$A$9),Payment_ID2,\"\")","v":""},null,{"$f":"IFERROR(VLOOKUP(K426,Dimension!$J$3:$K$179,2,FALSE),\"\")","v":""},null,null,{"$f":"IF(OR(B426=Dimension!$A$6,B426=Dimension!$A$7,B426=Dimension!$A$8,B426=Dimension!$A$9),\"\",IF(OR(B426=Dimension!$A$3,B426=Dimension!$A$4,B426=Dimension!$A$5),\"สถานประกอบการ\",\"\"))","v":""},{"$f":"IF(OR(B426=Dimension!$A$6,B426=Dimension!$A$7,B426=Dimension!$A$8,B426=Dimension!$A$9,B426=\"\"),\"\",Payment_ID2)","v":""},"",null,null,{"$f":"IF(D426=Dimension!$C$9,IF(LEFT(UPPER(E426),2)=\"MC\",TRUE,FALSE),TRUE)","v":true}]
[null,null,null,{"$f":"IF(B427=Dimension!$A$8,Dimension!$C$9,IF(B427=Dimension!$A$6,CD,\"\"))","v":""},null,{"$f":"IF(OR(B427=Dimension!$A$3,B427=Dimension!$A$4,B427=Dimension!$A$6,B427=Dimension!$A$8),CCYA,\"\")","v":""},{"$f":"IFERROR(VLOOKUP(F427,Dimension!$G$3:$H$252,2,FALSE),\"\")","v":""},{"$f":"IF(OR(B427=Dimension!$A$3,B427=Dimension!$A$4,B427=Dimension!$A$5),\"เดินทาง/ท่องเที่ยว\",\"\")","v":""},{"$f":"IF(OR(B427=Dimension!$A$6,B427=Dimension!$A$7,B427=Dimension!$A$8,B427=Dimension!$A$9),\"\",IF(OR(B427=Dimension!$A$3,B427=Dimension!$A$4,B427=Dimension!$A$5),\"สถานประกอบการ\",\"\"))","v":""},{"$f":"IF(OR(B427=Dimension!$A$3,B427=Dimension!$A$4,B427=Dimension!$A$5,B427=Dimension!$A$6,,B427=Dimension!$A$7,B427=Dimension!$A$8,B427=Dimension!$A$9),Payment_ID2,\"\")","v":""},null,{"$f":"IFERROR(VLOOKUP(K427,Dimension!$J$3:$K$179,2,FALSE),\"\")","v":""},null,null,{"$f":"IF(OR(B427=Dimension!$A$6,B427=Dimension!$A$7,B427=Dimension!$A$8,B427=Dimension!$A$9),\"\",IF(OR(B427=Dimension!$A$3,B427=Dimension!$A$4,B427=Dimension!$A$5),\"สถานประกอบการ\",\"\"))","v":""},{"$f":"IF(OR(B427=Dimension!$A$6,B427=Dimension!$A$7,B427=Dimension!$A$8,B427=Dimension!$A$9,B427=\"\"),\"\",Payment_ID2)","v":""},"",null,null,{"$f":"IF(D427=Dimension!$C$9,IF(LEFT(UPPER(E427),2)=\"MC\",TRUE,FALSE),TRUE)","v":true}]
[null,null,null,{"$f":"IF(B428=Dimension!$A$8,Dimension!$C$9,IF(B428=Dimension!$A$6,CD,\"\"))","v":""},null,{"$f":"IF(OR(B428=Dimension!$A$3,B428=Dimension!$A$4,B428=Dimension!$A$6,B428=Dimension!$A$8),CCYA,\"\")","v":""},{"$f":"IFERROR(VLOOKUP(F428,Dimension!$G$3:$H$252,2,FALSE),\"\")","v":""},{"$f":"IF(OR(B428=Dimension!$A$3,B428=Dimension!$A$4,B428=Dimension!$A$5),\"เดินทาง/ท่องเที่ยว\",\"\")","v":""},{"$f":"IF(OR(B428=Dimension!$A$6,B428=Dimension!$A$7,B428=Dimension!$A$8,B428=Dimension!$A$9),\"\",IF(OR(B428=Dimension!$A$3,B428=Dimension!$A$4,B428=Dimension!$A$5),\"สถานประกอบการ\",\"\"))","v":""},{"$f":"IF(OR(B428=Dimension!$A$3,B428=Dimension!$A$4,B428=Dimension!$A$5,B428=Dimension!$A$6,,B428=Dimension!$A$7,B428=Dimension!$A$8,B428=Dimension!$A$9),Payment_ID2,\"\")","v":""},null,{"$f":"IFERROR(VLOOKUP(K428,Dimension!$J$3:$K$179,2,FALSE),\"\")","v":""},null,null,{"$f":"IF(OR(B428=Dimension!$A$6,B428=Dimension!$A$7,B428=Dimension!$A$8,B428=Dimension!$A$9),\"\",IF(OR(B428=Dimension!$A$3,B428=Dimension!$A$4,B428=Dimension!$A$5),\"สถานประกอบการ\",\"\"))","v":""},{"$f":"IF(OR(B428=Dimension!$A$6,B428=Dimension!$A$7,B428=Dimension!$A$8,B428=Dimension!$A$9,B428=\"\"),\"\",Payment_ID2)","v":""},"",null,null,{"$f":"IF(D428=Dimension!$C$9,IF(LEFT(UPPER(E428),2)=\"MC\",TRUE,FALSE),TRUE)","v":true}]
[null,null,null,{"$f":"IF(B429=Dimension!$A$8,Dimension!$C$9,IF(B429=Dimension!$A$6,CD,\"\"))","v":""},null,{"$f":"IF(OR(B429=Dimension!$A$3,B429=Dimension!$A$4,B429=Dimension!$A$6,B429=Dimension!$A$8),CCYA,\"\")","v":""},{"$f":"IFERROR(VLOOKUP(F429,Dimension!$G$3:$H$252,2,FALSE),\"\")","v":""},{"$f":"IF(OR(B429=Dimension!$A$3,B429=Dimension!$A$4,B429=Dimension!$A$5),\"เดินทาง/ท่องเที่ยว\",\"\")","v":""},{"$f":"IF(OR(B429=Dimension!$A$6,B429=Dimension!$A$7,B429=Dimension!$A$8,B429=Dimension!$A$9),\"\",IF(OR(B429=Dimension!$A$3,B429=Dimension!$A$4,B429=Dimension!$A$5),\"สถานประกอบการ\",\"\"))","v":""},{"$f":"IF(OR(B429=Dimension!$A$3,B429=Dimension!$A$4,B429=Dimension!$A$5,B429=Dimension!$A$6,,B429=Dimension!$A$7,B429=Dimension!$A$8,B429=Dimension!$A$9),Payment_ID2,\"\")","v":""},null,{"$f":"IFERROR(VLOOKUP(K429,Dimension!$J$3:$K$179,2,FALSE),\"\")","v":""},null,null,{"$f":"IF(OR(B429=Dimension!$A$6,B429=Dimension!$A$7,B429=Dimension!$A$8,B429=Dimension!$A$9),\"\",IF(OR(B429=Dimension!$A$3,B429=Dimension!$A$4,B429=Dimension!$A$5),\"สถานประกอบการ\",\"\"))","v":""},{"$f":"IF(OR(B429=Dimension!$A$6,B429=Dimension!$A$7,B429=Dimension!$A$8,B429=Dimension!$A$9,B429=\"\"),\"\",Payment_ID2)","v":""},"",null,null,{"$f":"IF(D429=Dimension!$C$9,IF(LEFT(UPPER(E429),2)=\"MC\",TRUE,FALSE),TRUE)","v":true}]
[null,null,null,{"$f":"IF(B430=Dimension!$A$8,Dimension!$C$9,IF(B430=Dimension!$A$6,CD,\"\"))","v":""},null,{"$f":"IF(OR(B430=Dimension!$A$3,B430=Dimension!$A$4,B430=Dimension!$A$6,B430=Dimension!$A$8),CCYA,\"\")","v":""},{"$f":"IFERROR(VLOOKUP(F430,Dimension!$G$3:$H$252,2,FALSE),\"\")","v":""},{"$f":"IF(OR(B430=Dimension!$A$3,B430=Dimension!$A$4,B430=Dimension!$A$5),\"เดินทาง/ท่องเที่ยว\",\"\")","v":""},{"$f":"IF(OR(B430=Dimension!$A$6,B430=Dimension!$A$7,B430=Dimension!$A$8,B430=Dimension!$A$9),\"\",IF(OR(B430=Dimension!$A$3,B430=Dimension!$A$4,B430=Dimension!$A$5),\"สถานประกอบการ\",\"\"))","v":""},{"$f":"IF(OR(B430=Dimension!$A$3,B430=Dimension!$A$4,B430=Dimension!$A$5,B430=Dimension!$A$6,,B430=Dimension!$A$7,B430=Dimension!$A$8,B430=Dimension!$A$9),Payment_ID2,\"\")","v":""},null,{"$f":"IFERROR(VLOOKUP(K430,Dimension!$J$3:$K$179,2,FALSE),\"\")","v":""},null,null,{"$f":"IF(OR(B430=Dimension!$A$6,B430=Dimension!$A$7,B430=Dimension!$A$8,B430=Dimension!$A$9),\"\",IF(OR(B430=Dimension!$A$3,B430=Dimension!$A$4,B430=Dimension!$A$5),\"สถานประกอบการ\",\"\"))","v":""},{"$f":"IF(OR(B430=Dimension!$A$6,B430=Dimension!$A$7,B430=Dimension!$A$8,B430=Dimension!$A$9,B430=\"\"),\"\",Payment_ID2)","v":""},"",null,null,{"$f":"IF(D430=Dimension!$C$9,IF(LEFT(UPPER(E430),2)=\"MC\",TRUE,FALSE),TRUE)","v":true}]
[null,null,null,{"$f":"IF(B431=Dimension!$A$8,Dimension!$C$9,IF(B431=Dimension!$A$6,CD,\"\"))","v":""},null,{"$f":"IF(OR(B431=Dimension!$A$3,B431=Dimension!$A$4,B431=Dimension!$A$6,B431=Dimension!$A$8),CCYA,\"\")","v":""},{"$f":"IFERROR(VLOOKUP(F431,Dimension!$G$3:$H$252,2,FALSE),\"\")","v":""},{"$f":"IF(OR(B431=Dimension!$A$3,B431=Dimension!$A$4,B431=Dimension!$A$5),\"เดินทาง/ท่องเที่ยว\",\"\")","v":""},{"$f":"IF(OR(B431=Dimension!$A$6,B431=Dimension!$A$7,B431=Dimension!$A$8,B431=Dimension!$A$9),\"\",IF(OR(B431=Dimension!$A$3,B431=Dimension!$A$4,B431=Dimension!$A$5),\"สถานประกอบการ\",\"\"))","v":""},{"$f":"IF(OR(B431=Dimension!$A$3,B431=Dimension!$A$4,B431=Dimension!$A$5,B431=Dimension!$A$6,,B431=Dimension!$A$7,B431=Dimension!$A$8,B431=Dimension!$A$9),Payment_ID2,\"\")","v":""},null,{"$f":"IFERROR(VLOOKUP(K431,Dimension!$J$3:$K$179,2,FALSE),\"\")","v":""},null,null,{"$f":"IF(OR(B431=Dimension!$A$6,B431=Dimension!$A$7,B431=Dimension!$A$8,B431=Dimension!$A$9),\"\",IF(OR(B431=Dimension!$A$3,B431=Dimension!$A$4,B431=Dimension!$A$5),\"สถานประกอบการ\",\"\"))","v":""},{"$f":"IF(OR(B431=Dimension!$A$6,B431=Dimension!$A$7,B431=Dimension!$A$8,B431=Dimension!$A$9,B431=\"\"),\"\",Payment_ID2)","v":""},"",null,null,{"$f":"IF(D431=Dimension!$C$9,IF(LEFT(UPPER(E431),2)=\"MC\",TRUE,FALSE),TRUE)","v":true}]
[null,null,null,{"$f":"IF(B432=Dimension!$A$8,Dimension!$C$9,IF(B432=Dimension!$A$6,CD,\"\"))","v":""},null,{"$f":"IF(OR(B432=Dimension!$A$3,B432=Dimension!$A$4,B432=Dimension!$A$6,B432=Dimension!$A$8),CCYA,\"\")","v":""},{"$f":"IFERROR(VLOOKUP(F432,Dimension!$G$3:$H$252,2,FALSE),\"\")","v":""},{"$f":"IF(OR(B432=Dimension!$A$3,B432=Dimension!$A$4,B432=Dimension!$A$5),\"เดินทาง/ท่องเที่ยว\",\"\")","v":""},{"$f":"IF(OR(B432=Dimension!$A$6,B432=Dimension!$A$7,B432=Dimension!$A$8,B432=Dimension!$A$9),\"\",IF(OR(B432=Dimension!$A$3,B432=Dimension!$A$4,B432=Dimension!$A$5),\"สถานประกอบการ\",\"\"))","v":""},{"$f":"IF(OR(B432=Dimension!$A$3,B432=Dimension!$A$4,B432=Dimension!$A$5,B432=Dimension!$A$6,,B432=Dimension!$A$7,B432=Dimension!$A$8,B432=Dimension!$A$9),Payment_ID2,\"\")","v":""},null,{"$f":"IFERROR(VLOOKUP(K432,Dimension!$J$3:$K$179,2,FALSE),\"\")","v":""},null,null,{"$f":"IF(OR(B432=Dimension!$A$6,B432=Dimension!$A$7,B432=Dimension!$A$8,B432=Dimension!$A$9),\"\",IF(OR(B432=Dimension!$A$3,B432=Dimension!$A$4,B432=Dimension!$A$5),\"สถานประกอบการ\",\"\"))","v":""},{"$f":"IF(OR(B432=Dimension!$A$6,B432=Dimension!$A$7,B432=Dimension!$A$8,B432=Dimension!$A$9,B432=\"\"),\"\",Payment_ID2)","v":""},"",null,null,{"$f":"IF(D432=Dimension!$C$9,IF(LEFT(UPPER(E432),2)=\"MC\",TRUE,FALSE),TRUE)","v":true}]
[null,null,null,{"$f":"IF(B433=Dimension!$A$8,Dimension!$C$9,IF(B433=Dimension!$A$6,CD,\"\"))","v":""},null,{"$f":"IF(OR(B433=Dimension!$A$3,B433=Dimension!$A$4,B433=Dimension!$A$6,B433=Dimension!$A$8),CCYA,\"\")","v":""},{"$f":"IFERROR(VLOOKUP(F433,Dimension!$G$3:$H$252,2,FALSE),\"\")","v":""},{"$f":"IF(OR(B433=Dimension!$A$3,B433=Dimension!$A$4,B433=Dimension!$A$5),\"เดินทาง/ท่องเที่ยว\",\"\")","v":""},{"$f":"IF(OR(B433=Dimension!$A$6,B433=Dimension!$A$7,B433=Dimension!$A$8,B433=Dimension!$A$9),\"\",IF(OR(B433=Dimension!$A$3,B433=Dimension!$A$4,B433=Dimension!$A$5),\"สถานประกอบการ\",\"\"))","v":""},{"$f":"IF(OR(B433=Dimension!$A$3,B433=Dimension!$A$4,B433=Dimension!$A$5,B433=Dimension!$A$6,,B433=Dimension!$A$7,B433=Dimension!$A$8,B433=Dimension!$A$9),Payment_ID2,\"\")","v":""},null,{"$f":"IFERROR(VLOOKUP(K433,Dimension!$J$3:$K$179,2,FALSE),\"\")","v":""},null,null,{"$f":"IF(OR(B433=Dimension!$A$6,B433=Dimension!$A$7,B433=Dimension!$A$8,B433=Dimension!$A$9),\"\",IF(OR(B433=Dimension!$A$3,B433=Dimension!$A$4,B433=Dimension!$A$5),\"สถานประกอบการ\",\"\"))","v":""},{"$f":"IF(OR(B433=Dimension!$A$6,B433=Dimension!$A$7,B433=Dimension!$A$8,B433=Dimension!$A$9,B433=\"\"),\"\",Payment_ID2)","v":""},"",null,null,{"$f":"IF(D433=Dimension!$C$9,IF(LEFT(UPPER(E433),2)=\"MC\",TRUE,FALSE),TRUE)","v":true}]
[null,null,null,{"$f":"IF(B434=Dimension!$A$8,Dimension!$C$9,IF(B434=Dimension!$A$6,CD,\"\"))","v":""},null,{"$f":"IF(OR(B434=Dimension!$A$3,B434=Dimension!$A$4,B434=Dimension!$A$6,B434=Dimension!$A$8),CCYA,\"\")","v":""},{"$f":"IFERROR(VLOOKUP(F434,Dimension!$G$3:$H$252,2,FALSE),\"\")","v":""},{"$f":"IF(OR(B434=Dimension!$A$3,B434=Dimension!$A$4,B434=Dimension!$A$5),\"เดินทาง/ท่องเที่ยว\",\"\")","v":""},{"$f":"IF(OR(B434=Dimension!$A$6,B434=Dimension!$A$7,B434=Dimension!$A$8,B434=Dimension!$A$9),\"\",IF(OR(B434=Dimension!$A$3,B434=Dimension!$A$4,B434=Dimension!$A$5),\"สถานประกอบการ\",\"\"))","v":""},{"$f":"IF(OR(B434=Dimension!$A$3,B434=Dimension!$A$4,B434=Dimension!$A$5,B434=Dimension!$A$6,,B434=Dimension!$A$7,B434=Dimension!$A$8,B434=Dimension!$A$9),Payment_ID2,\"\")","v":""},null,{"$f":"IFERROR(VLOOKUP(K434,Dimension!$J$3:$K$179,2,FALSE),\"\")","v":""},null,null,{"$f":"IF(OR(B434=Dimension!$A$6,B434=Dimension!$A$7,B434=Dimension!$A$8,B434=Dimension!$A$9),\"\",IF(OR(B434=Dimension!$A$3,B434=Dimension!$A$4,B434=Dimension!$A$5),\"สถานประกอบการ\",\"\"))","v":""},{"$f":"IF(OR(B434=Dimension!$A$6,B434=Dimension!$A$7,B434=Dimension!$A$8,B434=Dimension!$A$9,B434=\"\"),\"\",Payment_ID2)","v":""},"",null,null,{"$f":"IF(D434=Dimension!$C$9,IF(LEFT(UPPER(E434),2)=\"MC\",TRUE,FALSE),TRUE)","v":true}]
[null,null,null,{"$f":"IF(B435=Dimension!$A$8,Dimension!$C$9,IF(B435=Dimension!$A$6,CD,\"\"))","v":""},null,{"$f":"IF(OR(B435=Dimension!$A$3,B435=Dimension!$A$4,B435=Dimension!$A$6,B435=Dimension!$A$8),CCYA,\"\")","v":""},{"$f":"IFERROR(VLOOKUP(F435,Dimension!$G$3:$H$252,2,FALSE),\"\")","v":""},{"$f":"IF(OR(B435=Dimension!$A$3,B435=Dimension!$A$4,B435=Dimension!$A$5),\"เดินทาง/ท่องเที่ยว\",\"\")","v":""},{"$f":"IF(OR(B435=Dimension!$A$6,B435=Dimension!$A$7,B435=Dimension!$A$8,B435=Dimension!$A$9),\"\",IF(OR(B435=Dimension!$A$3,B435=Dimension!$A$4,B435=Dimension!$A$5),\"สถานประกอบการ\",\"\"))","v":""},{"$f":"IF(OR(B435=Dimension!$A$3,B435=Dimension!$A$4,B435=Dimension!$A$5,B435=Dimension!$A$6,,B435=Dimension!$A$7,B435=Dimension!$A$8,B435=Dimension!$A$9),Payment_ID2,\"\")","v":""},null,{"$f":"IFERROR(VLOOKUP(K435,Dimension!$J$3:$K$179,2,FALSE),\"\")","v":""},null,null,{"$f":"IF(OR(B435=Dimension!$A$6,B435=Dimension!$A$7,B435=Dimension!$A$8,B435=Dimension!$A$9),\"\",IF(OR(B435=Dimension!$A$3,B435=Dimension!$A$4,B435=Dimension!$A$5),\"สถานประกอบการ\",\"\"))","v":""},{"$f":"IF(OR(B435=Dimension!$A$6,B435=Dimension!$A$7,B435=Dimension!$A$8,B435=Dimension!$A$9,B435=\"\"),\"\",Payment_ID2)","v":""},"",null,null,{"$f":"IF(D435=Dimension!$C$9,IF(LEFT(UPPER(E435),2)=\"MC\",TRUE,FALSE),TRUE)","v":true}]
[null,null,null,{"$f":"IF(B436=Dimension!$A$8,Dimension!$C$9,IF(B436=Dimension!$A$6,CD,\"\"))","v":""},null,{"$f":"IF(OR(B436=Dimension!$A$3,B436=Dimension!$A$4,B436=Dimension!$A$6,B436=Dimension!$A$8),CCYA,\"\")","v":""},{"$f":"IFERROR(VLOOKUP(F436,Dimension!$G$3:$H$252,2,FALSE),\"\")","v":""},{"$f":"IF(OR(B436=Dimension!$A$3,B436=Dimension!$A$4,B436=Dimension!$A$5),\"เดินทาง/ท่องเที่ยว\",\"\")","v":""},{"$f":"IF(OR(B436=Dimension!$A$6,B436=Dimension!$A$7,B436=Dimension!$A$8,B436=Dimension!$A$9),\"\",IF(OR(B436=Dimension!$A$3,B436=Dimension!$A$4,B436=Dimension!$A$5),\"สถานประกอบการ\",\"\"))","v":""},{"$f":"IF(OR(B436=Dimension!$A$3,B436=Dimension!$A$4,B436=Dimension!$A$5,B436=Dimension!$A$6,,B436=Dimension!$A$7,B436=Dimension!$A$8,B436=Dimension!$A$9),Payment_ID2,\"\")","v":""},null,{"$f":"IFERROR(VLOOKUP(K436,Dimension!$J$3:$K$179,2,FALSE),\"\")","v":""},null,null,{"$f":"IF(OR(B436=Dimension!$A$6,B436=Dimension!$A$7,B436=Dimension!$A$8,B436=Dimension!$A$9),\"\",IF(OR(B436=Dimension!$A$3,B436=Dimension!$A$4,B436=Dimension!$A$5),\"สถานประกอบการ\",\"\"))","v":""},{"$f":"IF(OR(B436=Dimension!$A$6,B436=Dimension!$A$7,B436=Dimension!$A$8,B436=Dimension!$A$9,B436=\"\"),\"\",Payment_ID2)","v":""},"",null,null,{"$f":"IF(D436=Dimension!$C$9,IF(LEFT(UPPER(E436),2)=\"MC\",TRUE,FALSE),TRUE)","v":true}]
[null,null,null,{"$f":"IF(B437=Dimension!$A$8,Dimension!$C$9,IF(B437=Dimension!$A$6,CD,\"\"))","v":""},null,{"$f":"IF(OR(B437=Dimension!$A$3,B437=Dimension!$A$4,B437=Dimension!$A$6,B437=Dimension!$A$8),CCYA,\"\")","v":""},{"$f":"IFERROR(VLOOKUP(F437,Dimension!$G$3:$H$252,2,FALSE),\"\")","v":""},{"$f":"IF(OR(B437=Dimension!$A$3,B437=Dimension!$A$4,B437=Dimension!$A$5),\"เดินทาง/ท่องเที่ยว\",\"\")","v":""},{"$f":"IF(OR(B437=Dimension!$A$6,B437=Dimension!$A$7,B437=Dimension!$A$8,B437=Dimension!$A$9),\"\",IF(OR(B437=Dimension!$A$3,B437=Dimension!$A$4,B437=Dimension!$A$5),\"สถานประกอบการ\",\"\"))","v":""},{"$f":"IF(OR(B437=Dimension!$A$3,B437=Dimension!$A$4,B437=Dimension!$A$5,B437=Dimension!$A$6,,B437=Dimension!$A$7,B437=Dimension!$A$8,B437=Dimension!$A$9),Payment_ID2,\"\")","v":""},null,{"$f":"IFERROR(VLOOKUP(K437,Dimension!$J$3:$K$179,2,FALSE),\"\")","v":""},null,null,{"$f":"IF(OR(B437=Dimension!$A$6,B437=Dimension!$A$7,B437=Dimension!$A$8,B437=Dimension!$A$9),\"\",IF(OR(B437=Dimension!$A$3,B437=Dimension!$A$4,B437=Dimension!$A$5),\"สถานประกอบการ\",\"\"))","v":""},{"$f":"IF(OR(B437=Dimension!$A$6,B437=Dimension!$A$7,B437=Dimension!$A$8,B437=Dimension!$A$9,B437=\"\"),\"\",Payment_ID2)","v":""},"",null,null,{"$f":"IF(D437=Dimension!$C$9,IF(LEFT(UPPER(E437),2)=\"MC\",TRUE,FALSE),TRUE)","v":true}]
[null,null,null,{"$f":"IF(B438=Dimension!$A$8,Dimension!$C$9,IF(B438=Dimension!$A$6,CD,\"\"))","v":""},null,{"$f":"IF(OR(B438=Dimension!$A$3,B438=Dimension!$A$4,B438=Dimension!$A$6,B438=Dimension!$A$8),CCYA,\"\")","v":""},{"$f":"IFERROR(VLOOKUP(F438,Dimension!$G$3:$H$252,2,FALSE),\"\")","v":""},{"$f":"IF(OR(B438=Dimension!$A$3,B438=Dimension!$A$4,B438=Dimension!$A$5),\"เดินทาง/ท่องเที่ยว\",\"\")","v":""},{"$f":"IF(OR(B438=Dimension!$A$6,B438=Dimension!$A$7,B438=Dimension!$A$8,B438=Dimension!$A$9),\"\",IF(OR(B438=Dimension!$A$3,B438=Dimension!$A$4,B438=Dimension!$A$5),\"สถานประกอบการ\",\"\"))","v":""},{"$f":"IF(OR(B438=Dimension!$A$3,B438=Dimension!$A$4,B438=Dimension!$A$5,B438=Dimension!$A$6,,B438=Dimension!$A$7,B438=Dimension!$A$8,B438=Dimension!$A$9),Payment_ID2,\"\")","v":""},null,{"$f":"IFERROR(VLOOKUP(K438,Dimension!$J$3:$K$179,2,FALSE),\"\")","v":""},null,null,{"$f":"IF(OR(B438=Dimension!$A$6,B438=Dimension!$A$7,B438=Dimension!$A$8,B438=Dimension!$A$9),\"\",IF(OR(B438=Dimension!$A$3,B438=Dimension!$A$4,B438=Dimension!$A$5),\"สถานประกอบการ\",\"\"))","v":""},{"$f":"IF(OR(B438=Dimension!$A$6,B438=Dimension!$A$7,B438=Dimension!$A$8,B438=Dimension!$A$9,B438=\"\"),\"\",Payment_ID2)","v":""},"",null,null,{"$f":"IF(D438=Dimension!$C$9,IF(LEFT(UPPER(E438),2)=\"MC\",TRUE,FALSE),TRUE)","v":true}]
[null,null,null,{"$f":"IF(B439=Dimension!$A$8,Dimension!$C$9,IF(B439=Dimension!$A$6,CD,\"\"))","v":""},null,{"$f":"IF(OR(B439=Dimension!$A$3,B439=Dimension!$A$4,B439=Dimension!$A$6,B439=Dimension!$A$8),CCYA,\"\")","v":""},{"$f":"IFERROR(VLOOKUP(F439,Dimension!$G$3:$H$252,2,FALSE),\"\")","v":""},{"$f":"IF(OR(B439=Dimension!$A$3,B439=Dimension!$A$4,B439=Dimension!$A$5),\"เดินทาง/ท่องเที่ยว\",\"\")","v":""},{"$f":"IF(OR(B439=Dimension!$A$6,B439=Dimension!$A$7,B439=Dimension!$A$8,B439=Dimension!$A$9),\"\",IF(OR(B439=Dimension!$A$3,B439=Dimension!$A$4,B439=Dimension!$A$5),\"สถานประกอบการ\",\"\"))","v":""},{"$f":"IF(OR(B439=Dimension!$A$3,B439=Dimension!$A$4,B439=Dimension!$A$5,B439=Dimension!$A$6,,B439=Dimension!$A$7,B439=Dimension!$A$8,B439=Dimension!$A$9),Payment_ID2,\"\")","v":""},null,{"$f":"IFERROR(VLOOKUP(K439,Dimension!$J$3:$K$179,2,FALSE),\"\")","v":""},null,null,{"$f":"IF(OR(B439=Dimension!$A$6,B439=Dimension!$A$7,B439=Dimension!$A$8,B439=Dimension!$A$9),\"\",IF(OR(B439=Dimension!$A$3,B439=Dimension!$A$4,B439=Dimension!$A$5),\"สถานประกอบการ\",\"\"))","v":""},{"$f":"IF(OR(B439=Dimension!$A$6,B439=Dimension!$A$7,B439=Dimension!$A$8,B439=Dimension!$A$9,B439=\"\"),\"\",Payment_ID2)","v":""},"",null,null,{"$f":"IF(D439=Dimension!$C$9,IF(LEFT(UPPER(E439),2)=\"MC\",TRUE,FALSE),TRUE)","v":true}]
[null,null,null,{"$f":"IF(B440=Dimension!$A$8,Dimension!$C$9,IF(B440=Dimension!$A$6,CD,\"\"))","v":""},null,{"$f":"IF(OR(B440=Dimension!$A$3,B440=Dimension!$A$4,B440=Dimension!$A$6,B440=Dimension!$A$8),CCYA,\"\")","v":""},{"$f":"IFERROR(VLOOKUP(F440,Dimension!$G$3:$H$252,2,FALSE),\"\")","v":""},{"$f":"IF(OR(B440=Dimension!$A$3,B440=Dimension!$A$4,B440=Dimension!$A$5),\"เดินทาง/ท่องเที่ยว\",\"\")","v":""},{"$f":"IF(OR(B440=Dimension!$A$6,B440=Dimension!$A$7,B440=Dimension!$A$8,B440=Dimension!$A$9),\"\",IF(OR(B440=Dimension!$A$3,B440=Dimension!$A$4,B440=Dimension!$A$5),\"สถานประกอบการ\",\"\"))","v":""},{"$f":"IF(OR(B440=Dimension!$A$3,B440=Dimension!$A$4,B440=Dimension!$A$5,B440=Dimension!$A$6,,B440=Dimension!$A$7,B440=Dimension!$A$8,B440=Dimension!$A$9),Payment_ID2,\"\")","v":""},null,{"$f":"IFERROR(VLOOKUP(K440,Dimension!$J$3:$K$179,2,FALSE),\"\")","v":""},null,null,{"$f":"IF(OR(B440=Dimension!$A$6,B440=Dimension!$A$7,B440=Dimension!$A$8,B440=Dimension!$A$9),\"\",IF(OR(B440=Dimension!$A$3,B440=Dimension!$A$4,B440=Dimension!$A$5),\"สถานประกอบการ\",\"\"))","v":""},{"$f":"IF(OR(B440=Dimension!$A$6,B440=Dimension!$A$7,B440=Dimension!$A$8,B440=Dimension!$A$9,B440=\"\"),\"\",Payment_ID2)","v":""},"",null,null,{"$f":"IF(D440=Dimension!$C$9,IF(LEFT(UPPER(E440),2)=\"MC\",TRUE,FALSE),TRUE)","v":true}]
[null,null,null,{"$f":"IF(B441=Dimension!$A$8,Dimension!$C$9,IF(B441=Dimension!$A$6,CD,\"\"))","v":""},null,{"$f":"IF(OR(B441=Dimension!$A$3,B441=Dimension!$A$4,B441=Dimension!$A$6,B441=Dimension!$A$8),CCYA,\"\")","v":""},{"$f":"IFERROR(VLOOKUP(F441,Dimension!$G$3:$H$252,2,FALSE),\"\")","v":""},{"$f":"IF(OR(B441=Dimension!$A$3,B441=Dimension!$A$4,B441=Dimension!$A$5),\"เดินทาง/ท่องเที่ยว\",\"\")","v":""},{"$f":"IF(OR(B441=Dimension!$A$6,B441=Dimension!$A$7,B441=Dimension!$A$8,B441=Dimension!$A$9),\"\",IF(OR(B441=Dimension!$A$3,B441=Dimension!$A$4,B441=Dimension!$A$5),\"สถานประกอบการ\",\"\"))","v":""},{"$f":"IF(OR(B441=Dimension!$A$3,B441=Dimension!$A$4,B441=Dimension!$A$5,B441=Dimension!$A$6,,B441=Dimension!$A$7,B441=Dimension!$A$8,B441=Dimension!$A$9),Payment_ID2,\"\")","v":""},null,{"$f":"IFERROR(VLOOKUP(K441,Dimension!$J$3:$K$179,2,FALSE),\"\")","v":""},null,null,{"$f":"IF(OR(B441=Dimension!$A$6,B441=Dimension!$A$7,B441=Dimension!$A$8,B441=Dimension!$A$9),\"\",IF(OR(B441=Dimension!$A$3,B441=Dimension!$A$4,B441=Dimension!$A$5),\"สถานประกอบการ\",\"\"))","v":""},{"$f":"IF(OR(B441=Dimension!$A$6,B441=Dimension!$A$7,B441=Dimension!$A$8,B441=Dimension!$A$9,B441=\"\"),\"\",Payment_ID2)","v":""},"",null,null,{"$f":"IF(D441=Dimension!$C$9,IF(LEFT(UPPER(E441),2)=\"MC\",TRUE,FALSE),TRUE)","v":true}]
[null,null,null,{"$f":"IF(B442=Dimension!$A$8,Dimension!$C$9,IF(B442=Dimension!$A$6,CD,\"\"))","v":""},null,{"$f":"IF(OR(B442=Dimension!$A$3,B442=Dimension!$A$4,B442=Dimension!$A$6,B442=Dimension!$A$8),CCYA,\"\")","v":""},{"$f":"IFERROR(VLOOKUP(F442,Dimension!$G$3:$H$252,2,FALSE),\"\")","v":""},{"$f":"IF(OR(B442=Dimension!$A$3,B442=Dimension!$A$4,B442=Dimension!$A$5),\"เดินทาง/ท่องเที่ยว\",\"\")","v":""},{"$f":"IF(OR(B442=Dimension!$A$6,B442=Dimension!$A$7,B442=Dimension!$A$8,B442=Dimension!$A$9),\"\",IF(OR(B442=Dimension!$A$3,B442=Dimension!$A$4,B442=Dimension!$A$5),\"สถานประกอบการ\",\"\"))","v":""},{"$f":"IF(OR(B442=Dimension!$A$3,B442=Dimension!$A$4,B442=Dimension!$A$5,B442=Dimension!$A$6,,B442=Dimension!$A$7,B442=Dimension!$A$8,B442=Dimension!$A$9),Payment_ID2,\"\")","v":""},null,{"$f":"IFERROR(VLOOKUP(K442,Dimension!$J$3:$K$179,2,FALSE),\"\")","v":""},null,null,{"$f":"IF(OR(B442=Dimension!$A$6,B442=Dimension!$A$7,B442=Dimension!$A$8,B442=Dimension!$A$9),\"\",IF(OR(B442=Dimension!$A$3,B442=Dimension!$A$4,B442=Dimension!$A$5),\"สถานประกอบการ\",\"\"))","v":""},{"$f":"IF(OR(B442=Dimension!$A$6,B442=Dimension!$A$7,B442=Dimension!$A$8,B442=Dimension!$A$9,B442=\"\"),\"\",Payment_ID2)","v":""},"",null,null,{"$f":"IF(D442=Dimension!$C$9,IF(LEFT(UPPER(E442),2)=\"MC\",TRUE,FALSE),TRUE)","v":true}]
[null,null,null,{"$f":"IF(B443=Dimension!$A$8,Dimension!$C$9,IF(B443=Dimension!$A$6,CD,\"\"))","v":""},null,{"$f":"IF(OR(B443=Dimension!$A$3,B443=Dimension!$A$4,B443=Dimension!$A$6,B443=Dimension!$A$8),CCYA,\"\")","v":""},{"$f":"IFERROR(VLOOKUP(F443,Dimension!$G$3:$H$252,2,FALSE),\"\")","v":""},{"$f":"IF(OR(B443=Dimension!$A$3,B443=Dimension!$A$4,B443=Dimension!$A$5),\"เดินทาง/ท่องเที่ยว\",\"\")","v":""},{"$f":"IF(OR(B443=Dimension!$A$6,B443=Dimension!$A$7,B443=Dimension!$A$8,B443=Dimension!$A$9),\"\",IF(OR(B443=Dimension!$A$3,B443=Dimension!$A$4,B443=Dimension!$A$5),\"สถานประกอบการ\",\"\"))","v":""},{"$f":"IF(OR(B443=Dimension!$A$3,B443=Dimension!$A$4,B443=Dimension!$A$5,B443=Dimension!$A$6,,B443=Dimension!$A$7,B443=Dimension!$A$8,B443=Dimension!$A$9),Payment_ID2,\"\")","v":""},null,{"$f":"IFERROR(VLOOKUP(K443,Dimension!$J$3:$K$179,2,FALSE),\"\")","v":""},null,null,{"$f":"IF(OR(B443=Dimension!$A$6,B443=Dimension!$A$7,B443=Dimension!$A$8,B443=Dimension!$A$9),\"\",IF(OR(B443=Dimension!$A$3,B443=Dimension!$A$4,B443=Dimension!$A$5),\"สถานประกอบการ\",\"\"))","v":""},{"$f":"IF(OR(B443=Dimension!$A$6,B443=Dimension!$A$7,B443=Dimension!$A$8,B443=Dimension!$A$9,B443=\"\"),\"\",Payment_ID2)","v":""},"",null,null,{"$f":"IF(D443=Dimension!$C$9,IF(LEFT(UPPER(E443),2)=\"MC\",TRUE,FALSE),TRUE)","v":true}]
[null,null,null,{"$f":"IF(B444=Dimension!$A$8,Dimension!$C$9,IF(B444=Dimension!$A$6,CD,\"\"))","v":""},null,{"$f":"IF(OR(B444=Dimension!$A$3,B444=Dimension!$A$4,B444=Dimension!$A$6,B444=Dimension!$A$8),CCYA,\"\")","v":""},{"$f":"IFERROR(VLOOKUP(F444,Dimension!$G$3:$H$252,2,FALSE),\"\")","v":""},{"$f":"IF(OR(B444=Dimension!$A$3,B444=Dimension!$A$4,B444=Dimension!$A$5),\"เดินทาง/ท่องเที่ยว\",\"\")","v":""},{"$f":"IF(OR(B444=Dimension!$A$6,B444=Dimension!$A$7,B444=Dimension!$A$8,B444=Dimension!$A$9),\"\",IF(OR(B444=Dimension!$A$3,B444=Dimension!$A$4,B444=Dimension!$A$5),\"สถานประกอบการ\",\"\"))","v":""},{"$f":"IF(OR(B444=Dimension!$A$3,B444=Dimension!$A$4,B444=Dimension!$A$5,B444=Dimension!$A$6,,B444=Dimension!$A$7,B444=Dimension!$A$8,B444=Dimension!$A$9),Payment_ID2,\"\")","v":""},null,{"$f":"IFERROR(VLOOKUP(K444,Dimension!$J$3:$K$179,2,FALSE),\"\")","v":""},null,null,{"$f":"IF(OR(B444=Dimension!$A$6,B444=Dimension!$A$7,B444=Dimension!$A$8,B444=Dimension!$A$9),\"\",IF(OR(B444=Dimension!$A$3,B444=Dimension!$A$4,B444=Dimension!$A$5),\"สถานประกอบการ\",\"\"))","v":""},{"$f":"IF(OR(B444=Dimension!$A$6,B444=Dimension!$A$7,B444=Dimension!$A$8,B444=Dimension!$A$9,B444=\"\"),\"\",Payment_ID2)","v":""},"",null,null,{"$f":"IF(D444=Dimension!$C$9,IF(LEFT(UPPER(E444),2)=\"MC\",TRUE,FALSE),TRUE)","v":true}]
[null,null,null,{"$f":"IF(B445=Dimension!$A$8,Dimension!$C$9,IF(B445=Dimension!$A$6,CD,\"\"))","v":""},null,{"$f":"IF(OR(B445=Dimension!$A$3,B445=Dimension!$A$4,B445=Dimension!$A$6,B445=Dimension!$A$8),CCYA,\"\")","v":""},{"$f":"IFERROR(VLOOKUP(F445,Dimension!$G$3:$H$252,2,FALSE),\"\")","v":""},{"$f":"IF(OR(B445=Dimension!$A$3,B445=Dimension!$A$4,B445=Dimension!$A$5),\"เดินทาง/ท่องเที่ยว\",\"\")","v":""},{"$f":"IF(OR(B445=Dimension!$A$6,B445=Dimension!$A$7,B445=Dimension!$A$8,B445=Dimension!$A$9),\"\",IF(OR(B445=Dimension!$A$3,B445=Dimension!$A$4,B445=Dimension!$A$5),\"สถานประกอบการ\",\"\"))","v":""},{"$f":"IF(OR(B445=Dimension!$A$3,B445=Dimension!$A$4,B445=Dimension!$A$5,B445=Dimension!$A$6,,B445=Dimension!$A$7,B445=Dimension!$A$8,B445=Dimension!$A$9),Payment_ID2,\"\")","v":""},null,{"$f":"IFERROR(VLOOKUP(K445,Dimension!$J$3:$K$179,2,FALSE),\"\")","v":""},null,null,{"$f":"IF(OR(B445=Dimension!$A$6,B445=Dimension!$A$7,B445=Dimension!$A$8,B445=Dimension!$A$9),\"\",IF(OR(B445=Dimension!$A$3,B445=Dimension!$A$4,B445=Dimension!$A$5),\"สถานประกอบการ\",\"\"))","v":""},{"$f":"IF(OR(B445=Dimension!$A$6,B445=Dimension!$A$7,B445=Dimension!$A$8,B445=Dimension!$A$9,B445=\"\"),\"\",Payment_ID2)","v":""},"",null,null,{"$f":"IF(D445=Dimension!$C$9,IF(LEFT(UPPER(E445),2)=\"MC\",TRUE,FALSE),TRUE)","v":true}]
[null,null,null,{"$f":"IF(B446=Dimension!$A$8,Dimension!$C$9,IF(B446=Dimension!$A$6,CD,\"\"))","v":""},null,{"$f":"IF(OR(B446=Dimension!$A$3,B446=Dimension!$A$4,B446=Dimension!$A$6,B446=Dimension!$A$8),CCYA,\"\")","v":""},{"$f":"IFERROR(VLOOKUP(F446,Dimension!$G$3:$H$252,2,FALSE),\"\")","v":""},{"$f":"IF(OR(B446=Dimension!$A$3,B446=Dimension!$A$4,B446=Dimension!$A$5),\"เดินทาง/ท่องเที่ยว\",\"\")","v":""},{"$f":"IF(OR(B446=Dimension!$A$6,B446=Dimension!$A$7,B446=Dimension!$A$8,B446=Dimension!$A$9),\"\",IF(OR(B446=Dimension!$A$3,B446=Dimension!$A$4,B446=Dimension!$A$5),\"สถานประกอบการ\",\"\"))","v":""},{"$f":"IF(OR(B446=Dimension!$A$3,B446=Dimension!$A$4,B446=Dimension!$A$5,B446=Dimension!$A$6,,B446=Dimension!$A$7,B446=Dimension!$A$8,B446=Dimension!$A$9),Payment_ID2,\"\")","v":""},null,{"$f":"IFERROR(VLOOKUP(K446,Dimension!$J$3:$K$179,2,FALSE),\"\")","v":""},null,null,{"$f":"IF(OR(B446=Dimension!$A$6,B446=Dimension!$A$7,B446=Dimension!$A$8,B446=Dimension!$A$9),\"\",IF(OR(B446=Dimension!$A$3,B446=Dimension!$A$4,B446=Dimension!$A$5),\"สถานประกอบการ\",\"\"))","v":""},{"$f":"IF(OR(B446=Dimension!$A$6,B446=Dimension!$A$7,B446=Dimension!$A$8,B446=Dimension!$A$9,B446=\"\"),\"\",Payment_ID2)","v":""},"",null,null,{"$f":"IF(D446=Dimension!$C$9,IF(LEFT(UPPER(E446),2)=\"MC\",TRUE,FALSE),TRUE)","v":true}]
[null,null,null,{"$f":"IF(B447=Dimension!$A$8,Dimension!$C$9,IF(B447=Dimension!$A$6,CD,\"\"))","v":""},null,{"$f":"IF(OR(B447=Dimension!$A$3,B447=Dimension!$A$4,B447=Dimension!$A$6,B447=Dimension!$A$8),CCYA,\"\")","v":""},{"$f":"IFERROR(VLOOKUP(F447,Dimension!$G$3:$H$252,2,FALSE),\"\")","v":""},{"$f":"IF(OR(B447=Dimension!$A$3,B447=Dimension!$A$4,B447=Dimension!$A$5),\"เดินทาง/ท่องเที่ยว\",\"\")","v":""},{"$f":"IF(OR(B447=Dimension!$A$6,B447=Dimension!$A$7,B447=Dimension!$A$8,B447=Dimension!$A$9),\"\",IF(OR(B447=Dimension!$A$3,B447=Dimension!$A$4,B447=Dimension!$A$5),\"สถานประกอบการ\",\"\"))","v":""},{"$f":"IF(OR(B447=Dimension!$A$3,B447=Dimension!$A$4,B447=Dimension!$A$5,B447=Dimension!$A$6,,B447=Dimension!$A$7,B447=Dimension!$A$8,B447=Dimension!$A$9),Payment_ID2,\"\")","v":""},null,{"$f":"IFERROR(VLOOKUP(K447,Dimension!$J$3:$K$179,2,FALSE),\"\")","v":""},null,null,{"$f":"IF(OR(B447=Dimension!$A$6,B447=Dimension!$A$7,B447=Dimension!$A$8,B447=Dimension!$A$9),\"\",IF(OR(B447=Dimension!$A$3,B447=Dimension!$A$4,B447=Dimension!$A$5),\"สถานประกอบการ\",\"\"))","v":""},{"$f":"IF(OR(B447=Dimension!$A$6,B447=Dimension!$A$7,B447=Dimension!$A$8,B447=Dimension!$A$9,B447=\"\"),\"\",Payment_ID2)","v":""},"",null,null,{"$f":"IF(D447=Dimension!$C$9,IF(LEFT(UPPER(E447),2)=\"MC\",TRUE,FALSE),TRUE)","v":true}]
[null,null,null,{"$f":"IF(B448=Dimension!$A$8,Dimension!$C$9,IF(B448=Dimension!$A$6,CD,\"\"))","v":""},null,{"$f":"IF(OR(B448=Dimension!$A$3,B448=Dimension!$A$4,B448=Dimension!$A$6,B448=Dimension!$A$8),CCYA,\"\")","v":""},{"$f":"IFERROR(VLOOKUP(F448,Dimension!$G$3:$H$252,2,FALSE),\"\")","v":""},{"$f":"IF(OR(B448=Dimension!$A$3,B448=Dimension!$A$4,B448=Dimension!$A$5),\"เดินทาง/ท่องเที่ยว\",\"\")","v":""},{"$f":"IF(OR(B448=Dimension!$A$6,B448=Dimension!$A$7,B448=Dimension!$A$8,B448=Dimension!$A$9),\"\",IF(OR(B448=Dimension!$A$3,B448=Dimension!$A$4,B448=Dimension!$A$5),\"สถานประกอบการ\",\"\"))","v":""},{"$f":"IF(OR(B448=Dimension!$A$3,B448=Dimension!$A$4,B448=Dimension!$A$5,B448=Dimension!$A$6,,B448=Dimension!$A$7,B448=Dimension!$A$8,B448=Dimension!$A$9),Payment_ID2,\"\")","v":""},null,{"$f":"IFERROR(VLOOKUP(K448,Dimension!$J$3:$K$179,2,FALSE),\"\")","v":""},null,null,{"$f":"IF(OR(B448=Dimension!$A$6,B448=Dimension!$A$7,B448=Dimension!$A$8,B448=Dimension!$A$9),\"\",IF(OR(B448=Dimension!$A$3,B448=Dimension!$A$4,B448=Dimension!$A$5),\"สถานประกอบการ\",\"\"))","v":""},{"$f":"IF(OR(B448=Dimension!$A$6,B448=Dimension!$A$7,B448=Dimension!$A$8,B448=Dimension!$A$9,B448=\"\"),\"\",Payment_ID2)","v":""},"",null,null,{"$f":"IF(D448=Dimension!$C$9,IF(LEFT(UPPER(E448),2)=\"MC\",TRUE,FALSE),TRUE)","v":true}]
[null,null,null,{"$f":"IF(B449=Dimension!$A$8,Dimension!$C$9,IF(B449=Dimension!$A$6,CD,\"\"))","v":""},null,{"$f":"IF(OR(B449=Dimension!$A$3,B449=Dimension!$A$4,B449=Dimension!$A$6,B449=Dimension!$A$8),CCYA,\"\")","v":""},{"$f":"IFERROR(VLOOKUP(F449,Dimension!$G$3:$H$252,2,FALSE),\"\")","v":""},{"$f":"IF(OR(B449=Dimension!$A$3,B449=Dimension!$A$4,B449=Dimension!$A$5),\"เดินทาง/ท่องเที่ยว\",\"\")","v":""},{"$f":"IF(OR(B449=Dimension!$A$6,B449=Dimension!$A$7,B449=Dimension!$A$8,B449=Dimension!$A$9),\"\",IF(OR(B449=Dimension!$A$3,B449=Dimension!$A$4,B449=Dimension!$A$5),\"สถานประกอบการ\",\"\"))","v":""},{"$f":"IF(OR(B449=Dimension!$A$3,B449=Dimension!$A$4,B449=Dimension!$A$5,B449=Dimension!$A$6,,B449=Dimension!$A$7,B449=Dimension!$A$8,B449=Dimension!$A$9),Payment_ID2,\"\")","v":""},null,{"$f":"IFERROR(VLOOKUP(K449,Dimension!$J$3:$K$179,2,FALSE),\"\")","v":""},null,null,{"$f":"IF(OR(B449=Dimension!$A$6,B449=Dimension!$A$7,B449=Dimension!$A$8,B449=Dimension!$A$9),\"\",IF(OR(B449=Dimension!$A$3,B449=Dimension!$A$4,B449=Dimension!$A$5),\"สถานประกอบการ\",\"\"))","v":""},{"$f":"IF(OR(B449=Dimension!$A$6,B449=Dimension!$A$7,B449=Dimension!$A$8,B449=Dimension!$A$9,B449=\"\"),\"\",Payment_ID2)","v":""},"",null,null,{"$f":"IF(D449=Dimension!$C$9,IF(LEFT(UPPER(E449),2)=\"MC\",TRUE,FALSE),TRUE)","v":true}]
[null,null,null,{"$f":"IF(B450=Dimension!$A$8,Dimension!$C$9,IF(B450=Dimension!$A$6,CD,\"\"))","v":""},null,{"$f":"IF(OR(B450=Dimension!$A$3,B450=Dimension!$A$4,B450=Dimension!$A$6,B450=Dimension!$A$8),CCYA,\"\")","v":""},{"$f":"IFERROR(VLOOKUP(F450,Dimension!$G$3:$H$252,2,FALSE),\"\")","v":""},{"$f":"IF(OR(B450=Dimension!$A$3,B450=Dimension!$A$4,B450=Dimension!$A$5),\"เดินทาง/ท่องเที่ยว\",\"\")","v":""},{"$f":"IF(OR(B450=Dimension!$A$6,B450=Dimension!$A$7,B450=Dimension!$A$8,B450=Dimension!$A$9),\"\",IF(OR(B450=Dimension!$A$3,B450=Dimension!$A$4,B450=Dimension!$A$5),\"สถานประกอบการ\",\"\"))","v":""},{"$f":"IF(OR(B450=Dimension!$A$3,B450=Dimension!$A$4,B450=Dimension!$A$5,B450=Dimension!$A$6,,B450=Dimension!$A$7,B450=Dimension!$A$8,B450=Dimension!$A$9),Payment_ID2,\"\")","v":""},null,{"$f":"IFERROR(VLOOKUP(K450,Dimension!$J$3:$K$179,2,FALSE),\"\")","v":""},null,null,{"$f":"IF(OR(B450=Dimension!$A$6,B450=Dimension!$A$7,B450=Dimension!$A$8,B450=Dimension!$A$9),\"\",IF(OR(B450=Dimension!$A$3,B450=Dimension!$A$4,B450=Dimension!$A$5),\"สถานประกอบการ\",\"\"))","v":""},{"$f":"IF(OR(B450=Dimension!$A$6,B450=Dimension!$A$7,B450=Dimension!$A$8,B450=Dimension!$A$9,B450=\"\"),\"\",Payment_ID2)","v":""},"",null,null,{"$f":"IF(D450=Dimension!$C$9,IF(LEFT(UPPER(E450),2)=\"MC\",TRUE,FALSE),TRUE)","v":true}]
[null,null,null,{"$f":"IF(B451=Dimension!$A$8,Dimension!$C$9,IF(B451=Dimension!$A$6,CD,\"\"))","v":""},null,{"$f":"IF(OR(B451=Dimension!$A$3,B451=Dimension!$A$4,B451=Dimension!$A$6,B451=Dimension!$A$8),CCYA,\"\")","v":""},{"$f":"IFERROR(VLOOKUP(F451,Dimension!$G$3:$H$252,2,FALSE),\"\")","v":""},{"$f":"IF(OR(B451=Dimension!$A$3,B451=Dimension!$A$4,B451=Dimension!$A$5),\"เดินทาง/ท่องเที่ยว\",\"\")","v":""},{"$f":"IF(OR(B451=Dimension!$A$6,B451=Dimension!$A$7,B451=Dimension!$A$8,B451=Dimension!$A$9),\"\",IF(OR(B451=Dimension!$A$3,B451=Dimension!$A$4,B451=Dimension!$A$5),\"สถานประกอบการ\",\"\"))","v":""},{"$f":"IF(OR(B451=Dimension!$A$3,B451=Dimension!$A$4,B451=Dimension!$A$5,B451=Dimension!$A$6,,B451=Dimension!$A$7,B451=Dimension!$A$8,B451=Dimension!$A$9),Payment_ID2,\"\")","v":""},null,{"$f":"IFERROR(VLOOKUP(K451,Dimension!$J$3:$K$179,2,FALSE),\"\")","v":""},null,null,{"$f":"IF(OR(B451=Dimension!$A$6,B451=Dimension!$A$7,B451=Dimension!$A$8,B451=Dimension!$A$9),\"\",IF(OR(B451=Dimension!$A$3,B451=Dimension!$A$4,B451=Dimension!$A$5),\"สถานประกอบการ\",\"\"))","v":""},{"$f":"IF(OR(B451=Dimension!$A$6,B451=Dimension!$A$7,B451=Dimension!$A$8,B451=Dimension!$A$9,B451=\"\"),\"\",Payment_ID2)","v":""},"",null,null,{"$f":"IF(D451=Dimension!$C$9,IF(LEFT(UPPER(E451),2)=\"MC\",TRUE,FALSE),TRUE)","v":true}]
[null,null,null,{"$f":"IF(B452=Dimension!$A$8,Dimension!$C$9,IF(B452=Dimension!$A$6,CD,\"\"))","v":""},null,{"$f":"IF(OR(B452=Dimension!$A$3,B452=Dimension!$A$4,B452=Dimension!$A$6,B452=Dimension!$A$8),CCYA,\"\")","v":""},{"$f":"IFERROR(VLOOKUP(F452,Dimension!$G$3:$H$252,2,FALSE),\"\")","v":""},{"$f":"IF(OR(B452=Dimension!$A$3,B452=Dimension!$A$4,B452=Dimension!$A$5),\"เดินทาง/ท่องเที่ยว\",\"\")","v":""},{"$f":"IF(OR(B452=Dimension!$A$6,B452=Dimension!$A$7,B452=Dimension!$A$8,B452=Dimension!$A$9),\"\",IF(OR(B452=Dimension!$A$3,B452=Dimension!$A$4,B452=Dimension!$A$5),\"สถานประกอบการ\",\"\"))","v":""},{"$f":"IF(OR(B452=Dimension!$A$3,B452=Dimension!$A$4,B452=Dimension!$A$5,B452=Dimension!$A$6,,B452=Dimension!$A$7,B452=Dimension!$A$8,B452=Dimension!$A$9),Payment_ID2,\"\")","v":""},null,{"$f":"IFERROR(VLOOKUP(K452,Dimension!$J$3:$K$179,2,FALSE),\"\")","v":""},null,null,{"$f":"IF(OR(B452=Dimension!$A$6,B452=Dimension!$A$7,B452=Dimension!$A$8,B452=Dimension!$A$9),\"\",IF(OR(B452=Dimension!$A$3,B452=Dimension!$A$4,B452=Dimension!$A$5),\"สถานประกอบการ\",\"\"))","v":""},{"$f":"IF(OR(B452=Dimension!$A$6,B452=Dimension!$A$7,B452=Dimension!$A$8,B452=Dimension!$A$9,B452=\"\"),\"\",Payment_ID2)","v":""},"",null,null,{"$f":"IF(D452=Dimension!$C$9,IF(LEFT(UPPER(E452),2)=\"MC\",TRUE,FALSE),TRUE)","v":true}]
[null,null,null,{"$f":"IF(B453=Dimension!$A$8,Dimension!$C$9,IF(B453=Dimension!$A$6,CD,\"\"))","v":""},null,{"$f":"IF(OR(B453=Dimension!$A$3,B453=Dimension!$A$4,B453=Dimension!$A$6,B453=Dimension!$A$8),CCYA,\"\")","v":""},{"$f":"IFERROR(VLOOKUP(F453,Dimension!$G$3:$H$252,2,FALSE),\"\")","v":""},{"$f":"IF(OR(B453=Dimension!$A$3,B453=Dimension!$A$4,B453=Dimension!$A$5),\"เดินทาง/ท่องเที่ยว\",\"\")","v":""},{"$f":"IF(OR(B453=Dimension!$A$6,B453=Dimension!$A$7,B453=Dimension!$A$8,B453=Dimension!$A$9),\"\",IF(OR(B453=Dimension!$A$3,B453=Dimension!$A$4,B453=Dimension!$A$5),\"สถานประกอบการ\",\"\"))","v":""},{"$f":"IF(OR(B453=Dimension!$A$3,B453=Dimension!$A$4,B453=Dimension!$A$5,B453=Dimension!$A$6,,B453=Dimension!$A$7,B453=Dimension!$A$8,B453=Dimension!$A$9),Payment_ID2,\"\")","v":""},null,{"$f":"IFERROR(VLOOKUP(K453,Dimension!$J$3:$K$179,2,FALSE),\"\")","v":""},null,null,{"$f":"IF(OR(B453=Dimension!$A$6,B453=Dimension!$A$7,B453=Dimension!$A$8,B453=Dimension!$A$9),\"\",IF(OR(B453=Dimension!$A$3,B453=Dimension!$A$4,B453=Dimension!$A$5),\"สถานประกอบการ\",\"\"))","v":""},{"$f":"IF(OR(B453=Dimension!$A$6,B453=Dimension!$A$7,B453=Dimension!$A$8,B453=Dimension!$A$9,B453=\"\"),\"\",Payment_ID2)","v":""},"",null,null,{"$f":"IF(D453=Dimension!$C$9,IF(LEFT(UPPER(E453),2)=\"MC\",TRUE,FALSE),TRUE)","v":true}]
[null,null,null,{"$f":"IF(B454=Dimension!$A$8,Dimension!$C$9,IF(B454=Dimension!$A$6,CD,\"\"))","v":""},null,{"$f":"IF(OR(B454=Dimension!$A$3,B454=Dimension!$A$4,B454=Dimension!$A$6,B454=Dimension!$A$8),CCYA,\"\")","v":""},{"$f":"IFERROR(VLOOKUP(F454,Dimension!$G$3:$H$252,2,FALSE),\"\")","v":""},{"$f":"IF(OR(B454=Dimension!$A$3,B454=Dimension!$A$4,B454=Dimension!$A$5),\"เดินทาง/ท่องเที่ยว\",\"\")","v":""},{"$f":"IF(OR(B454=Dimension!$A$6,B454=Dimension!$A$7,B454=Dimension!$A$8,B454=Dimension!$A$9),\"\",IF(OR(B454=Dimension!$A$3,B454=Dimension!$A$4,B454=Dimension!$A$5),\"สถานประกอบการ\",\"\"))","v":""},{"$f":"IF(OR(B454=Dimension!$A$3,B454=Dimension!$A$4,B454=Dimension!$A$5,B454=Dimension!$A$6,,B454=Dimension!$A$7,B454=Dimension!$A$8,B454=Dimension!$A$9),Payment_ID2,\"\")","v":""},null,{"$f":"IFERROR(VLOOKUP(K454,Dimension!$J$3:$K$179,2,FALSE),\"\")","v":""},null,null,{"$f":"IF(OR(B454=Dimension!$A$6,B454=Dimension!$A$7,B454=Dimension!$A$8,B454=Dimension!$A$9),\"\",IF(OR(B454=Dimension!$A$3,B454=Dimension!$A$4,B454=Dimension!$A$5),\"สถานประกอบการ\",\"\"))","v":""},{"$f":"IF(OR(B454=Dimension!$A$6,B454=Dimension!$A$7,B454=Dimension!$A$8,B454=Dimension!$A$9,B454=\"\"),\"\",Payment_ID2)","v":""},"",null,null,{"$f":"IF(D454=Dimension!$C$9,IF(LEFT(UPPER(E454),2)=\"MC\",TRUE,FALSE),TRUE)","v":true}]
[null,null,null,{"$f":"IF(B455=Dimension!$A$8,Dimension!$C$9,IF(B455=Dimension!$A$6,CD,\"\"))","v":""},null,{"$f":"IF(OR(B455=Dimension!$A$3,B455=Dimension!$A$4,B455=Dimension!$A$6,B455=Dimension!$A$8),CCYA,\"\")","v":""},{"$f":"IFERROR(VLOOKUP(F455,Dimension!$G$3:$H$252,2,FALSE),\"\")","v":""},{"$f":"IF(OR(B455=Dimension!$A$3,B455=Dimension!$A$4,B455=Dimension!$A$5),\"เดินทาง/ท่องเที่ยว\",\"\")","v":""},{"$f":"IF(OR(B455=Dimension!$A$6,B455=Dimension!$A$7,B455=Dimension!$A$8,B455=Dimension!$A$9),\"\",IF(OR(B455=Dimension!$A$3,B455=Dimension!$A$4,B455=Dimension!$A$5),\"สถานประกอบการ\",\"\"))","v":""},{"$f":"IF(OR(B455=Dimension!$A$3,B455=Dimension!$A$4,B455=Dimension!$A$5,B455=Dimension!$A$6,,B455=Dimension!$A$7,B455=Dimension!$A$8,B455=Dimension!$A$9),Payment_ID2,\"\")","v":""},null,{"$f":"IFERROR(VLOOKUP(K455,Dimension!$J$3:$K$179,2,FALSE),\"\")","v":""},null,null,{"$f":"IF(OR(B455=Dimension!$A$6,B455=Dimension!$A$7,B455=Dimension!$A$8,B455=Dimension!$A$9),\"\",IF(OR(B455=Dimension!$A$3,B455=Dimension!$A$4,B455=Dimension!$A$5),\"สถานประกอบการ\",\"\"))","v":""},{"$f":"IF(OR(B455=Dimension!$A$6,B455=Dimension!$A$7,B455=Dimension!$A$8,B455=Dimension!$A$9,B455=\"\"),\"\",Payment_ID2)","v":""},"",null,null,{"$f":"IF(D455=Dimension!$C$9,IF(LEFT(UPPER(E455),2)=\"MC\",TRUE,FALSE),TRUE)","v":true}]
[null,null,null,{"$f":"IF(B456=Dimension!$A$8,Dimension!$C$9,IF(B456=Dimension!$A$6,CD,\"\"))","v":""},null,{"$f":"IF(OR(B456=Dimension!$A$3,B456=Dimension!$A$4,B456=Dimension!$A$6,B456=Dimension!$A$8),CCYA,\"\")","v":""},{"$f":"IFERROR(VLOOKUP(F456,Dimension!$G$3:$H$252,2,FALSE),\"\")","v":""},{"$f":"IF(OR(B456=Dimension!$A$3,B456=Dimension!$A$4,B456=Dimension!$A$5),\"เดินทาง/ท่องเที่ยว\",\"\")","v":""},{"$f":"IF(OR(B456=Dimension!$A$6,B456=Dimension!$A$7,B456=Dimension!$A$8,B456=Dimension!$A$9),\"\",IF(OR(B456=Dimension!$A$3,B456=Dimension!$A$4,B456=Dimension!$A$5),\"สถานประกอบการ\",\"\"))","v":""},{"$f":"IF(OR(B456=Dimension!$A$3,B456=Dimension!$A$4,B456=Dimension!$A$5,B456=Dimension!$A$6,,B456=Dimension!$A$7,B456=Dimension!$A$8,B456=Dimension!$A$9),Payment_ID2,\"\")","v":""},null,{"$f":"IFERROR(VLOOKUP(K456,Dimension!$J$3:$K$179,2,FALSE),\"\")","v":""},null,null,{"$f":"IF(OR(B456=Dimension!$A$6,B456=Dimension!$A$7,B456=Dimension!$A$8,B456=Dimension!$A$9),\"\",IF(OR(B456=Dimension!$A$3,B456=Dimension!$A$4,B456=Dimension!$A$5),\"สถานประกอบการ\",\"\"))","v":""},{"$f":"IF(OR(B456=Dimension!$A$6,B456=Dimension!$A$7,B456=Dimension!$A$8,B456=Dimension!$A$9,B456=\"\"),\"\",Payment_ID2)","v":""},"",null,null,{"$f":"IF(D456=Dimension!$C$9,IF(LEFT(UPPER(E456),2)=\"MC\",TRUE,FALSE),TRUE)","v":true}]
[null,null,null,{"$f":"IF(B457=Dimension!$A$8,Dimension!$C$9,IF(B457=Dimension!$A$6,CD,\"\"))","v":""},null,{"$f":"IF(OR(B457=Dimension!$A$3,B457=Dimension!$A$4,B457=Dimension!$A$6,B457=Dimension!$A$8),CCYA,\"\")","v":""},{"$f":"IFERROR(VLOOKUP(F457,Dimension!$G$3:$H$252,2,FALSE),\"\")","v":""},{"$f":"IF(OR(B457=Dimension!$A$3,B457=Dimension!$A$4,B457=Dimension!$A$5),\"เดินทาง/ท่องเที่ยว\",\"\")","v":""},{"$f":"IF(OR(B457=Dimension!$A$6,B457=Dimension!$A$7,B457=Dimension!$A$8,B457=Dimension!$A$9),\"\",IF(OR(B457=Dimension!$A$3,B457=Dimension!$A$4,B457=Dimension!$A$5),\"สถานประกอบการ\",\"\"))","v":""},{"$f":"IF(OR(B457=Dimension!$A$3,B457=Dimension!$A$4,B457=Dimension!$A$5,B457=Dimension!$A$6,,B457=Dimension!$A$7,B457=Dimension!$A$8,B457=Dimension!$A$9),Payment_ID2,\"\")","v":""},null,{"$f":"IFERROR(VLOOKUP(K457,Dimension!$J$3:$K$179,2,FALSE),\"\")","v":""},null,null,{"$f":"IF(OR(B457=Dimension!$A$6,B457=Dimension!$A$7,B457=Dimension!$A$8,B457=Dimension!$A$9),\"\",IF(OR(B457=Dimension!$A$3,B457=Dimension!$A$4,B457=Dimension!$A$5),\"สถานประกอบการ\",\"\"))","v":""},{"$f":"IF(OR(B457=Dimension!$A$6,B457=Dimension!$A$7,B457=Dimension!$A$8,B457=Dimension!$A$9,B457=\"\"),\"\",Payment_ID2)","v":""},"",null,null,{"$f":"IF(D457=Dimension!$C$9,IF(LEFT(UPPER(E457),2)=\"MC\",TRUE,FALSE),TRUE)","v":true}]
[null,null,null,{"$f":"IF(B458=Dimension!$A$8,Dimension!$C$9,IF(B458=Dimension!$A$6,CD,\"\"))","v":""},null,{"$f":"IF(OR(B458=Dimension!$A$3,B458=Dimension!$A$4,B458=Dimension!$A$6,B458=Dimension!$A$8),CCYA,\"\")","v":""},{"$f":"IFERROR(VLOOKUP(F458,Dimension!$G$3:$H$252,2,FALSE),\"\")","v":""},{"$f":"IF(OR(B458=Dimension!$A$3,B458=Dimension!$A$4,B458=Dimension!$A$5),\"เดินทาง/ท่องเที่ยว\",\"\")","v":""},{"$f":"IF(OR(B458=Dimension!$A$6,B458=Dimension!$A$7,B458=Dimension!$A$8,B458=Dimension!$A$9),\"\",IF(OR(B458=Dimension!$A$3,B458=Dimension!$A$4,B458=Dimension!$A$5),\"สถานประกอบการ\",\"\"))","v":""},{"$f":"IF(OR(B458=Dimension!$A$3,B458=Dimension!$A$4,B458=Dimension!$A$5,B458=Dimension!$A$6,,B458=Dimension!$A$7,B458=Dimension!$A$8,B458=Dimension!$A$9),Payment_ID2,\"\")","v":""},null,{"$f":"IFERROR(VLOOKUP(K458,Dimension!$J$3:$K$179,2,FALSE),\"\")","v":""},null,null,{"$f":"IF(OR(B458=Dimension!$A$6,B458=Dimension!$A$7,B458=Dimension!$A$8,B458=Dimension!$A$9),\"\",IF(OR(B458=Dimension!$A$3,B458=Dimension!$A$4,B458=Dimension!$A$5),\"สถานประกอบการ\",\"\"))","v":""},{"$f":"IF(OR(B458=Dimension!$A$6,B458=Dimension!$A$7,B458=Dimension!$A$8,B458=Dimension!$A$9,B458=\"\"),\"\",Payment_ID2)","v":""},{"$f":"IF(OR(M458=\"\",N458=\"\"),\"\",ROUND(M458*N458,2))","v":""},null,null,{"$f":"IF(D458=Dimension!$C$9,IF(LEFT(UPPER(E458),2)=\"MC\",TRUE,FALSE),TRUE)","v":true}]
[null,null,null,{"$f":"IF(B459=Dimension!$A$8,Dimension!$C$9,IF(B459=Dimension!$A$6,CD,\"\"))","v":""},null,{"$f":"IF(OR(B459=Dimension!$A$3,B459=Dimension!$A$4,B459=Dimension!$A$6,B459=Dimension!$A$8),CCYA,\"\")","v":""},{"$f":"IFERROR(VLOOKUP(F459,Dimension!$G$3:$H$252,2,FALSE),\"\")","v":""},{"$f":"IF(OR(B459=Dimension!$A$3,B459=Dimension!$A$4,B459=Dimension!$A$5),\"เดินทาง/ท่องเที่ยว\",\"\")","v":""},{"$f":"IF(OR(B459=Dimension!$A$6,B459=Dimension!$A$7,B459=Dimension!$A$8,B459=Dimension!$A$9),\"\",IF(OR(B459=Dimension!$A$3,B459=Dimension!$A$4,B459=Dimension!$A$5),\"สถานประกอบการ\",\"\"))","v":""},{"$f":"IF(OR(B459=Dimension!$A$3,B459=Dimension!$A$4,B459=Dimension!$A$5,B459=Dimension!$A$6,,B459=Dimension!$A$7,B459=Dimension!$A$8,B459=Dimension!$A$9),Payment_ID2,\"\")","v":""},null,{"$f":"IFERROR(VLOOKUP(K459,Dimension!$J$3:$K$179,2,FALSE),\"\")","v":""},null,null,{"$f":"IF(OR(B459=Dimension!$A$6,B459=Dimension!$A$7,B459=Dimension!$A$8,B459=Dimension!$A$9),\"\",IF(OR(B459=Dimension!$A$3,B459=Dimension!$A$4,B459=Dimension!$A$5),\"สถานประกอบการ\",\"\"))","v":""},{"$f":"IF(OR(B459=Dimension!$A$6,B459=Dimension!$A$7,B459=Dimension!$A$8,B459=Dimension!$A$9,B459=\"\"),\"\",Payment_ID2)","v":""},"",null,null,{"$f":"IF(D459=Dimension!$C$9,IF(LEFT(UPPER(E459),2)=\"MC\",TRUE,FALSE),TRUE)","v":true}]
[null,null,null,{"$f":"IF(B460=Dimension!$A$8,Dimension!$C$9,IF(B460=Dimension!$A$6,CD,\"\"))","v":""},null,{"$f":"IF(OR(B460=Dimension!$A$3,B460=Dimension!$A$4,B460=Dimension!$A$6,B460=Dimension!$A$8),CCYA,\"\")","v":""},{"$f":"IFERROR(VLOOKUP(F460,Dimension!$G$3:$H$252,2,FALSE),\"\")","v":""},{"$f":"IF(OR(B460=Dimension!$A$3,B460=Dimension!$A$4,B460=Dimension!$A$5),\"เดินทาง/ท่องเที่ยว\",\"\")","v":""},{"$f":"IF(OR(B460=Dimension!$A$6,B460=Dimension!$A$7,B460=Dimension!$A$8,B460=Dimension!$A$9),\"\",IF(OR(B460=Dimension!$A$3,B460=Dimension!$A$4,B460=Dimension!$A$5),\"สถานประกอบการ\",\"\"))","v":""},{"$f":"IF(OR(B460=Dimension!$A$3,B460=Dimension!$A$4,B460=Dimension!$A$5,B460=Dimension!$A$6,,B460=Dimension!$A$7,B460=Dimension!$A$8,B460=Dimension!$A$9),Payment_ID2,\"\")","v":""},null,{"$f":"IFERROR(VLOOKUP(K460,Dimension!$J$3:$K$179,2,FALSE),\"\")","v":""},null,null,{"$f":"IF(OR(B460=Dimension!$A$6,B460=Dimension!$A$7,B460=Dimension!$A$8,B460=Dimension!$A$9),\"\",IF(OR(B460=Dimension!$A$3,B460=Dimension!$A$4,B460=Dimension!$A$5),\"สถานประกอบการ\",\"\"))","v":""},{"$f":"IF(OR(B460=Dimension!$A$6,B460=Dimension!$A$7,B460=Dimension!$A$8,B460=Dimension!$A$9,B460=\"\"),\"\",Payment_ID2)","v":""},"",null,null,{"$f":"IF(D460=Dimension!$C$9,IF(LEFT(UPPER(E460),2)=\"MC\",TRUE,FALSE),TRUE)","v":true}]
[null,null,null,{"$f":"IF(B461=Dimension!$A$8,Dimension!$C$9,IF(B461=Dimension!$A$6,CD,\"\"))","v":""},null,{"$f":"IF(OR(B461=Dimension!$A$3,B461=Dimension!$A$4,B461=Dimension!$A$6,B461=Dimension!$A$8),CCYA,\"\")","v":""},{"$f":"IFERROR(VLOOKUP(F461,Dimension!$G$3:$H$252,2,FALSE),\"\")","v":""},{"$f":"IF(OR(B461=Dimension!$A$3,B461=Dimension!$A$4,B461=Dimension!$A$5),\"เดินทาง/ท่องเที่ยว\",\"\")","v":""},{"$f":"IF(OR(B461=Dimension!$A$6,B461=Dimension!$A$7,B461=Dimension!$A$8,B461=Dimension!$A$9),\"\",IF(OR(B461=Dimension!$A$3,B461=Dimension!$A$4,B461=Dimension!$A$5),\"สถานประกอบการ\",\"\"))","v":""},{"$f":"IF(OR(B461=Dimension!$A$3,B461=Dimension!$A$4,B461=Dimension!$A$5,B461=Dimension!$A$6,,B461=Dimension!$A$7,B461=Dimension!$A$8,B461=Dimension!$A$9),Payment_ID2,\"\")","v":""},null,{"$f":"IFERROR(VLOOKUP(K461,Dimension!$J$3:$K$179,2,FALSE),\"\")","v":""},null,null,{"$f":"IF(OR(B461=Dimension!$A$6,B461=Dimension!$A$7,B461=Dimension!$A$8,B461=Dimension!$A$9),\"\",IF(OR(B461=Dimension!$A$3,B461=Dimension!$A$4,B461=Dimension!$A$5),\"สถานประกอบการ\",\"\"))","v":""},{"$f":"IF(OR(B461=Dimension!$A$6,B461=Dimension!$A$7,B461=Dimension!$A$8,B461=Dimension!$A$9,B461=\"\"),\"\",Payment_ID2)","v":""},"",null,null,{"$f":"IF(D461=Dimension!$C$9,IF(LEFT(UPPER(E461),2)=\"MC\",TRUE,FALSE),TRUE)","v":true}]
[null,null,null,{"$f":"IF(B462=Dimension!$A$8,Dimension!$C$9,IF(B462=Dimension!$A$6,CD,\"\"))","v":""},null,{"$f":"IF(OR(B462=Dimension!$A$3,B462=Dimension!$A$4,B462=Dimension!$A$6,B462=Dimension!$A$8),CCYA,\"\")","v":""},{"$f":"IFERROR(VLOOKUP(F462,Dimension!$G$3:$H$252,2,FALSE),\"\")","v":""},{"$f":"IF(OR(B462=Dimension!$A$3,B462=Dimension!$A$4,B462=Dimension!$A$5),\"เดินทาง/ท่องเที่ยว\",\"\")","v":""},{"$f":"IF(OR(B462=Dimension!$A$6,B462=Dimension!$A$7,B462=Dimension!$A$8,B462=Dimension!$A$9),\"\",IF(OR(B462=Dimension!$A$3,B462=Dimension!$A$4,B462=Dimension!$A$5),\"สถานประกอบการ\",\"\"))","v":""},{"$f":"IF(OR(B462=Dimension!$A$3,B462=Dimension!$A$4,B462=Dimension!$A$5,B462=Dimension!$A$6,,B462=Dimension!$A$7,B462=Dimension!$A$8,B462=Dimension!$A$9),Payment_ID2,\"\")","v":""},null,{"$f":"IFERROR(VLOOKUP(K462,Dimension!$J$3:$K$179,2,FALSE),\"\")","v":""},null,null,{"$f":"IF(OR(B462=Dimension!$A$6,B462=Dimension!$A$7,B462=Dimension!$A$8,B462=Dimension!$A$9),\"\",IF(OR(B462=Dimension!$A$3,B462=Dimension!$A$4,B462=Dimension!$A$5),\"สถานประกอบการ\",\"\"))","v":""},{"$f":"IF(OR(B462=Dimension!$A$6,B462=Dimension!$A$7,B462=Dimension!$A$8,B462=Dimension!$A$9,B462=\"\"),\"\",Payment_ID2)","v":""},"",null,null,{"$f":"IF(D462=Dimension!$C$9,IF(LEFT(UPPER(E462),2)=\"MC\",TRUE,FALSE),TRUE)","v":true}]
[null,null,null,{"$f":"IF(B463=Dimension!$A$8,Dimension!$C$9,IF(B463=Dimension!$A$6,CD,\"\"))","v":""},null,{"$f":"IF(OR(B463=Dimension!$A$3,B463=Dimension!$A$4,B463=Dimension!$A$6,B463=Dimension!$A$8),CCYA,\"\")","v":""},{"$f":"IFERROR(VLOOKUP(F463,Dimension!$G$3:$H$252,2,FALSE),\"\")","v":""},{"$f":"IF(OR(B463=Dimension!$A$3,B463=Dimension!$A$4,B463=Dimension!$A$5),\"เดินทาง/ท่องเที่ยว\",\"\")","v":""},{"$f":"IF(OR(B463=Dimension!$A$6,B463=Dimension!$A$7,B463=Dimension!$A$8,B463=Dimension!$A$9),\"\",IF(OR(B463=Dimension!$A$3,B463=Dimension!$A$4,B463=Dimension!$A$5),\"สถานประกอบการ\",\"\"))","v":""},{"$f":"IF(OR(B463=Dimension!$A$3,B463=Dimension!$A$4,B463=Dimension!$A$5,B463=Dimension!$A$6,,B463=Dimension!$A$7,B463=Dimension!$A$8,B463=Dimension!$A$9),Payment_ID2,\"\")","v":""},null,{"$f":"IFERROR(VLOOKUP(K463,Dimension!$J$3:$K$179,2,FALSE),\"\")","v":""},null,null,{"$f":"IF(OR(B463=Dimension!$A$6,B463=Dimension!$A$7,B463=Dimension!$A$8,B463=Dimension!$A$9),\"\",IF(OR(B463=Dimension!$A$3,B463=Dimension!$A$4,B463=Dimension!$A$5),\"สถานประกอบการ\",\"\"))","v":""},{"$f":"IF(OR(B463=Dimension!$A$6,B463=Dimension!$A$7,B463=Dimension!$A$8,B463=Dimension!$A$9,B463=\"\"),\"\",Payment_ID2)","v":""},"",null,null,{"$f":"IF(D463=Dimension!$C$9,IF(LEFT(UPPER(E463),2)=\"MC\",TRUE,FALSE),TRUE)","v":true}]
[null,null,null,{"$f":"IF(B464=Dimension!$A$8,Dimension!$C$9,IF(B464=Dimension!$A$6,CD,\"\"))","v":""},null,{"$f":"IF(OR(B464=Dimension!$A$3,B464=Dimension!$A$4,B464=Dimension!$A$6,B464=Dimension!$A$8),CCYA,\"\")","v":""},{"$f":"IFERROR(VLOOKUP(F464,Dimension!$G$3:$H$252,2,FALSE),\"\")","v":""},{"$f":"IF(OR(B464=Dimension!$A$3,B464=Dimension!$A$4,B464=Dimension!$A$5),\"เดินทาง/ท่องเที่ยว\",\"\")","v":""},{"$f":"IF(OR(B464=Dimension!$A$6,B464=Dimension!$A$7,B464=Dimension!$A$8,B464=Dimension!$A$9),\"\",IF(OR(B464=Dimension!$A$3,B464=Dimension!$A$4,B464=Dimension!$A$5),\"สถานประกอบการ\",\"\"))","v":""},{"$f":"IF(OR(B464=Dimension!$A$3,B464=Dimension!$A$4,B464=Dimension!$A$5,B464=Dimension!$A$6,,B464=Dimension!$A$7,B464=Dimension!$A$8,B464=Dimension!$A$9),Payment_ID2,\"\")","v":""},null,{"$f":"IFERROR(VLOOKUP(K464,Dimension!$J$3:$K$179,2,FALSE),\"\")","v":""},null,null,{"$f":"IF(OR(B464=Dimension!$A$6,B464=Dimension!$A$7,B464=Dimension!$A$8,B464=Dimension!$A$9),\"\",IF(OR(B464=Dimension!$A$3,B464=Dimension!$A$4,B464=Dimension!$A$5),\"สถานประกอบการ\",\"\"))","v":""},{"$f":"IF(OR(B464=Dimension!$A$6,B464=Dimension!$A$7,B464=Dimension!$A$8,B464=Dimension!$A$9,B464=\"\"),\"\",Payment_ID2)","v":""},"",null,null,{"$f":"IF(D464=Dimension!$C$9,IF(LEFT(UPPER(E464),2)=\"MC\",TRUE,FALSE),TRUE)","v":true}]
[null,null,null,{"$f":"IF(B465=Dimension!$A$8,Dimension!$C$9,IF(B465=Dimension!$A$6,CD,\"\"))","v":""},null,{"$f":"IF(OR(B465=Dimension!$A$3,B465=Dimension!$A$4,B465=Dimension!$A$6,B465=Dimension!$A$8),CCYA,\"\")","v":""},{"$f":"IFERROR(VLOOKUP(F465,Dimension!$G$3:$H$252,2,FALSE),\"\")","v":""},{"$f":"IF(OR(B465=Dimension!$A$3,B465=Dimension!$A$4,B465=Dimension!$A$5),\"เดินทาง/ท่องเที่ยว\",\"\")","v":""},{"$f":"IF(OR(B465=Dimension!$A$6,B465=Dimension!$A$7,B465=Dimension!$A$8,B465=Dimension!$A$9),\"\",IF(OR(B465=Dimension!$A$3,B465=Dimension!$A$4,B465=Dimension!$A$5),\"สถานประกอบการ\",\"\"))","v":""},{"$f":"IF(OR(B465=Dimension!$A$3,B465=Dimension!$A$4,B465=Dimension!$A$5,B465=Dimension!$A$6,,B465=Dimension!$A$7,B465=Dimension!$A$8,B465=Dimension!$A$9),Payment_ID2,\"\")","v":""},null,{"$f":"IFERROR(VLOOKUP(K465,Dimension!$J$3:$K$179,2,FALSE),\"\")","v":""},null,null,{"$f":"IF(OR(B465=Dimension!$A$6,B465=Dimension!$A$7,B465=Dimension!$A$8,B465=Dimension!$A$9),\"\",IF(OR(B465=Dimension!$A$3,B465=Dimension!$A$4,B465=Dimension!$A$5),\"สถานประกอบการ\",\"\"))","v":""},{"$f":"IF(OR(B465=Dimension!$A$6,B465=Dimension!$A$7,B465=Dimension!$A$8,B465=Dimension!$A$9,B465=\"\"),\"\",Payment_ID2)","v":""},"",null,null,{"$f":"IF(D465=Dimension!$C$9,IF(LEFT(UPPER(E465),2)=\"MC\",TRUE,FALSE),TRUE)","v":true}]
[null,null,null,{"$f":"IF(B466=Dimension!$A$8,Dimension!$C$9,IF(B466=Dimension!$A$6,CD,\"\"))","v":""},null,{"$f":"IF(OR(B466=Dimension!$A$3,B466=Dimension!$A$4,B466=Dimension!$A$6,B466=Dimension!$A$8),CCYA,\"\")","v":""},{"$f":"IFERROR(VLOOKUP(F466,Dimension!$G$3:$H$252,2,FALSE),\"\")","v":""},{"$f":"IF(OR(B466=Dimension!$A$3,B466=Dimension!$A$4,B466=Dimension!$A$5),\"เดินทาง/ท่องเที่ยว\",\"\")","v":""},{"$f":"IF(OR(B466=Dimension!$A$6,B466=Dimension!$A$7,B466=Dimension!$A$8,B466=Dimension!$A$9),\"\",IF(OR(B466=Dimension!$A$3,B466=Dimension!$A$4,B466=Dimension!$A$5),\"สถานประกอบการ\",\"\"))","v":""},{"$f":"IF(OR(B466=Dimension!$A$3,B466=Dimension!$A$4,B466=Dimension!$A$5,B466=Dimension!$A$6,,B466=Dimension!$A$7,B466=Dimension!$A$8,B466=Dimension!$A$9),Payment_ID2,\"\")","v":""},null,{"$f":"IFERROR(VLOOKUP(K466,Dimension!$J$3:$K$179,2,FALSE),\"\")","v":""},null,null,{"$f":"IF(OR(B466=Dimension!$A$6,B466=Dimension!$A$7,B466=Dimension!$A$8,B466=Dimension!$A$9),\"\",IF(OR(B466=Dimension!$A$3,B466=Dimension!$A$4,B466=Dimension!$A$5),\"สถานประกอบการ\",\"\"))","v":""},{"$f":"IF(OR(B466=Dimension!$A$6,B466=Dimension!$A$7,B466=Dimension!$A$8,B466=Dimension!$A$9,B466=\"\"),\"\",Payment_ID2)","v":""},"",null,null,{"$f":"IF(D466=Dimension!$C$9,IF(LEFT(UPPER(E466),2)=\"MC\",TRUE,FALSE),TRUE)","v":true}]
[null,null,null,{"$f":"IF(B467=Dimension!$A$8,Dimension!$C$9,IF(B467=Dimension!$A$6,CD,\"\"))","v":""},null,{"$f":"IF(OR(B467=Dimension!$A$3,B467=Dimension!$A$4,B467=Dimension!$A$6,B467=Dimension!$A$8),CCYA,\"\")","v":""},{"$f":"IFERROR(VLOOKUP(F467,Dimension!$G$3:$H$252,2,FALSE),\"\")","v":""},{"$f":"IF(OR(B467=Dimension!$A$3,B467=Dimension!$A$4,B467=Dimension!$A$5),\"เดินทาง/ท่องเที่ยว\",\"\")","v":""},{"$f":"IF(OR(B467=Dimension!$A$6,B467=Dimension!$A$7,B467=Dimension!$A$8,B467=Dimension!$A$9),\"\",IF(OR(B467=Dimension!$A$3,B467=Dimension!$A$4,B467=Dimension!$A$5),\"สถานประกอบการ\",\"\"))","v":""},{"$f":"IF(OR(B467=Dimension!$A$3,B467=Dimension!$A$4,B467=Dimension!$A$5,B467=Dimension!$A$6,,B467=Dimension!$A$7,B467=Dimension!$A$8,B467=Dimension!$A$9),Payment_ID2,\"\")","v":""},null,{"$f":"IFERROR(VLOOKUP(K467,Dimension!$J$3:$K$179,2,FALSE),\"\")","v":""},null,null,{"$f":"IF(OR(B467=Dimension!$A$6,B467=Dimension!$A$7,B467=Dimension!$A$8,B467=Dimension!$A$9),\"\",IF(OR(B467=Dimension!$A$3,B467=Dimension!$A$4,B467=Dimension!$A$5),\"สถานประกอบการ\",\"\"))","v":""},{"$f":"IF(OR(B467=Dimension!$A$6,B467=Dimension!$A$7,B467=Dimension!$A$8,B467=Dimension!$A$9,B467=\"\"),\"\",Payment_ID2)","v":""},"",null,null,{"$f":"IF(D467=Dimension!$C$9,IF(LEFT(UPPER(E467),2)=\"MC\",TRUE,FALSE),TRUE)","v":true}]
[null,null,null,{"$f":"IF(B468=Dimension!$A$8,Dimension!$C$9,IF(B468=Dimension!$A$6,CD,\"\"))","v":""},null,{"$f":"IF(OR(B468=Dimension!$A$3,B468=Dimension!$A$4,B468=Dimension!$A$6,B468=Dimension!$A$8),CCYA,\"\")","v":""},{"$f":"IFERROR(VLOOKUP(F468,Dimension!$G$3:$H$252,2,FALSE),\"\")","v":""},{"$f":"IF(OR(B468=Dimension!$A$3,B468=Dimension!$A$4,B468=Dimension!$A$5),\"เดินทาง/ท่องเที่ยว\",\"\")","v":""},{"$f":"IF(OR(B468=Dimension!$A$6,B468=Dimension!$A$7,B468=Dimension!$A$8,B468=Dimension!$A$9),\"\",IF(OR(B468=Dimension!$A$3,B468=Dimension!$A$4,B468=Dimension!$A$5),\"สถานประกอบการ\",\"\"))","v":""},{"$f":"IF(OR(B468=Dimension!$A$3,B468=Dimension!$A$4,B468=Dimension!$A$5,B468=Dimension!$A$6,,B468=Dimension!$A$7,B468=Dimension!$A$8,B468=Dimension!$A$9),Payment_ID2,\"\")","v":""},null,{"$f":"IFERROR(VLOOKUP(K468,Dimension!$J$3:$K$179,2,FALSE),\"\")","v":""},null,null,{"$f":"IF(OR(B468=Dimension!$A$6,B468=Dimension!$A$7,B468=Dimension!$A$8,B468=Dimension!$A$9),\"\",IF(OR(B468=Dimension!$A$3,B468=Dimension!$A$4,B468=Dimension!$A$5),\"สถานประกอบการ\",\"\"))","v":""},{"$f":"IF(OR(B468=Dimension!$A$6,B468=Dimension!$A$7,B468=Dimension!$A$8,B468=Dimension!$A$9,B468=\"\"),\"\",Payment_ID2)","v":""},"",null,null,{"$f":"IF(D468=Dimension!$C$9,IF(LEFT(UPPER(E468),2)=\"MC\",TRUE,FALSE),TRUE)","v":true}]
[null,null,null,{"$f":"IF(B469=Dimension!$A$8,Dimension!$C$9,IF(B469=Dimension!$A$6,CD,\"\"))","v":""},null,{"$f":"IF(OR(B469=Dimension!$A$3,B469=Dimension!$A$4,B469=Dimension!$A$6,B469=Dimension!$A$8),CCYA,\"\")","v":""},{"$f":"IFERROR(VLOOKUP(F469,Dimension!$G$3:$H$252,2,FALSE),\"\")","v":""},{"$f":"IF(OR(B469=Dimension!$A$3,B469=Dimension!$A$4,B469=Dimension!$A$5),\"เดินทาง/ท่องเที่ยว\",\"\")","v":""},{"$f":"IF(OR(B469=Dimension!$A$6,B469=Dimension!$A$7,B469=Dimension!$A$8,B469=Dimension!$A$9),\"\",IF(OR(B469=Dimension!$A$3,B469=Dimension!$A$4,B469=Dimension!$A$5),\"สถานประกอบการ\",\"\"))","v":""},{"$f":"IF(OR(B469=Dimension!$A$3,B469=Dimension!$A$4,B469=Dimension!$A$5,B469=Dimension!$A$6,,B469=Dimension!$A$7,B469=Dimension!$A$8,B469=Dimension!$A$9),Payment_ID2,\"\")","v":""},null,{"$f":"IFERROR(VLOOKUP(K469,Dimension!$J$3:$K$179,2,FALSE),\"\")","v":""},null,null,{"$f":"IF(OR(B469=Dimension!$A$6,B469=Dimension!$A$7,B469=Dimension!$A$8,B469=Dimension!$A$9),\"\",IF(OR(B469=Dimension!$A$3,B469=Dimension!$A$4,B469=Dimension!$A$5),\"สถานประกอบการ\",\"\"))","v":""},{"$f":"IF(OR(B469=Dimension!$A$6,B469=Dimension!$A$7,B469=Dimension!$A$8,B469=Dimension!$A$9,B469=\"\"),\"\",Payment_ID2)","v":""},"",null,null,{"$f":"IF(D469=Dimension!$C$9,IF(LEFT(UPPER(E469),2)=\"MC\",TRUE,FALSE),TRUE)","v":true}]
[null,null,null,{"$f":"IF(B470=Dimension!$A$8,Dimension!$C$9,IF(B470=Dimension!$A$6,CD,\"\"))","v":""},null,{"$f":"IF(OR(B470=Dimension!$A$3,B470=Dimension!$A$4,B470=Dimension!$A$6,B470=Dimension!$A$8),CCYA,\"\")","v":""},{"$f":"IFERROR(VLOOKUP(F470,Dimension!$G$3:$H$252,2,FALSE),\"\")","v":""},{"$f":"IF(OR(B470=Dimension!$A$3,B470=Dimension!$A$4,B470=Dimension!$A$5),\"เดินทาง/ท่องเที่ยว\",\"\")","v":""},{"$f":"IF(OR(B470=Dimension!$A$6,B470=Dimension!$A$7,B470=Dimension!$A$8,B470=Dimension!$A$9),\"\",IF(OR(B470=Dimension!$A$3,B470=Dimension!$A$4,B470=Dimension!$A$5),\"สถานประกอบการ\",\"\"))","v":""},{"$f":"IF(OR(B470=Dimension!$A$3,B470=Dimension!$A$4,B470=Dimension!$A$5,B470=Dimension!$A$6,,B470=Dimension!$A$7,B470=Dimension!$A$8,B470=Dimension!$A$9),Payment_ID2,\"\")","v":""},null,{"$f":"IFERROR(VLOOKUP(K470,Dimension!$J$3:$K$179,2,FALSE),\"\")","v":""},null,null,{"$f":"IF(OR(B470=Dimension!$A$6,B470=Dimension!$A$7,B470=Dimension!$A$8,B470=Dimension!$A$9),\"\",IF(OR(B470=Dimension!$A$3,B470=Dimension!$A$4,B470=Dimension!$A$5),\"สถานประกอบการ\",\"\"))","v":""},{"$f":"IF(OR(B470=Dimension!$A$6,B470=Dimension!$A$7,B470=Dimension!$A$8,B470=Dimension!$A$9,B470=\"\"),\"\",Payment_ID2)","v":""},"",null,null,{"$f":"IF(D470=Dimension!$C$9,IF(LEFT(UPPER(E470),2)=\"MC\",TRUE,FALSE),TRUE)","v":true}]
[null,null,null,{"$f":"IF(B471=Dimension!$A$8,Dimension!$C$9,IF(B471=Dimension!$A$6,CD,\"\"))","v":""},null,{"$f":"IF(OR(B471=Dimension!$A$3,B471=Dimension!$A$4,B471=Dimension!$A$6,B471=Dimension!$A$8),CCYA,\"\")","v":""},{"$f":"IFERROR(VLOOKUP(F471,Dimension!$G$3:$H$252,2,FALSE),\"\")","v":""},{"$f":"IF(OR(B471=Dimension!$A$3,B471=Dimension!$A$4,B471=Dimension!$A$5),\"เดินทาง/ท่องเที่ยว\",\"\")","v":""},{"$f":"IF(OR(B471=Dimension!$A$6,B471=Dimension!$A$7,B471=Dimension!$A$8,B471=Dimension!$A$9),\"\",IF(OR(B471=Dimension!$A$3,B471=Dimension!$A$4,B471=Dimension!$A$5),\"สถานประกอบการ\",\"\"))","v":""},{"$f":"IF(OR(B471=Dimension!$A$3,B471=Dimension!$A$4,B471=Dimension!$A$5,B471=Dimension!$A$6,,B471=Dimension!$A$7,B471=Dimension!$A$8,B471=Dimension!$A$9),Payment_ID2,\"\")","v":""},null,{"$f":"IFERROR(VLOOKUP(K471,Dimension!$J$3:$K$179,2,FALSE),\"\")","v":""},null,null,{"$f":"IF(OR(B471=Dimension!$A$6,B471=Dimension!$A$7,B471=Dimension!$A$8,B471=Dimension!$A$9),\"\",IF(OR(B471=Dimension!$A$3,B471=Dimension!$A$4,B471=Dimension!$A$5),\"สถานประกอบการ\",\"\"))","v":""},{"$f":"IF(OR(B471=Dimension!$A$6,B471=Dimension!$A$7,B471=Dimension!$A$8,B471=Dimension!$A$9,B471=\"\"),\"\",Payment_ID2)","v":""},"",null,null,{"$f":"IF(D471=Dimension!$C$9,IF(LEFT(UPPER(E471),2)=\"MC\",TRUE,FALSE),TRUE)","v":true}]
[null,null,null,{"$f":"IF(B472=Dimension!$A$8,Dimension!$C$9,IF(B472=Dimension!$A$6,CD,\"\"))","v":""},null,{"$f":"IF(OR(B472=Dimension!$A$3,B472=Dimension!$A$4,B472=Dimension!$A$6,B472=Dimension!$A$8),CCYA,\"\")","v":""},{"$f":"IFERROR(VLOOKUP(F472,Dimension!$G$3:$H$252,2,FALSE),\"\")","v":""},{"$f":"IF(OR(B472=Dimension!$A$3,B472=Dimension!$A$4,B472=Dimension!$A$5),\"เดินทาง/ท่องเที่ยว\",\"\")","v":""},{"$f":"IF(OR(B472=Dimension!$A$6,B472=Dimension!$A$7,B472=Dimension!$A$8,B472=Dimension!$A$9),\"\",IF(OR(B472=Dimension!$A$3,B472=Dimension!$A$4,B472=Dimension!$A$5),\"สถานประกอบการ\",\"\"))","v":""},{"$f":"IF(OR(B472=Dimension!$A$3,B472=Dimension!$A$4,B472=Dimension!$A$5,B472=Dimension!$A$6,,B472=Dimension!$A$7,B472=Dimension!$A$8,B472=Dimension!$A$9),Payment_ID2,\"\")","v":""},null,{"$f":"IFERROR(VLOOKUP(K472,Dimension!$J$3:$K$179,2,FALSE),\"\")","v":""},null,null,{"$f":"IF(OR(B472=Dimension!$A$6,B472=Dimension!$A$7,B472=Dimension!$A$8,B472=Dimension!$A$9),\"\",IF(OR(B472=Dimension!$A$3,B472=Dimension!$A$4,B472=Dimension!$A$5),\"สถานประกอบการ\",\"\"))","v":""},{"$f":"IF(OR(B472=Dimension!$A$6,B472=Dimension!$A$7,B472=Dimension!$A$8,B472=Dimension!$A$9,B472=\"\"),\"\",Payment_ID2)","v":""},"",null,null,{"$f":"IF(D472=Dimension!$C$9,IF(LEFT(UPPER(E472),2)=\"MC\",TRUE,FALSE),TRUE)","v":true}]
[null,null,null,{"$f":"IF(B473=Dimension!$A$8,Dimension!$C$9,IF(B473=Dimension!$A$6,CD,\"\"))","v":""},null,{"$f":"IF(OR(B473=Dimension!$A$3,B473=Dimension!$A$4,B473=Dimension!$A$6,B473=Dimension!$A$8),CCYA,\"\")","v":""},{"$f":"IFERROR(VLOOKUP(F473,Dimension!$G$3:$H$252,2,FALSE),\"\")","v":""},{"$f":"IF(OR(B473=Dimension!$A$3,B473=Dimension!$A$4,B473=Dimension!$A$5),\"เดินทาง/ท่องเที่ยว\",\"\")","v":""},{"$f":"IF(OR(B473=Dimension!$A$6,B473=Dimension!$A$7,B473=Dimension!$A$8,B473=Dimension!$A$9),\"\",IF(OR(B473=Dimension!$A$3,B473=Dimension!$A$4,B473=Dimension!$A$5),\"สถานประกอบการ\",\"\"))","v":""},{"$f":"IF(OR(B473=Dimension!$A$3,B473=Dimension!$A$4,B473=Dimension!$A$5,B473=Dimension!$A$6,,B473=Dimension!$A$7,B473=Dimension!$A$8,B473=Dimension!$A$9),Payment_ID2,\"\")","v":""},null,{"$f":"IFERROR(VLOOKUP(K473,Dimension!$J$3:$K$179,2,FALSE),\"\")","v":""},null,null,{"$f":"IF(OR(B473=Dimension!$A$6,B473=Dimension!$A$7,B473=Dimension!$A$8,B473=Dimension!$A$9),\"\",IF(OR(B473=Dimension!$A$3,B473=Dimension!$A$4,B473=Dimension!$A$5),\"สถานประกอบการ\",\"\"))","v":""},{"$f":"IF(OR(B473=Dimension!$A$6,B473=Dimension!$A$7,B473=Dimension!$A$8,B473=Dimension!$A$9,B473=\"\"),\"\",Payment_ID2)","v":""},"",null,null,{"$f":"IF(D473=Dimension!$C$9,IF(LEFT(UPPER(E473),2)=\"MC\",TRUE,FALSE),TRUE)","v":true}]
[null,null,null,{"$f":"IF(B474=Dimension!$A$8,Dimension!$C$9,IF(B474=Dimension!$A$6,CD,\"\"))","v":""},null,{"$f":"IF(OR(B474=Dimension!$A$3,B474=Dimension!$A$4,B474=Dimension!$A$6,B474=Dimension!$A$8),CCYA,\"\")","v":""},{"$f":"IFERROR(VLOOKUP(F474,Dimension!$G$3:$H$252,2,FALSE),\"\")","v":""},{"$f":"IF(OR(B474=Dimension!$A$3,B474=Dimension!$A$4,B474=Dimension!$A$5),\"เดินทาง/ท่องเที่ยว\",\"\")","v":""},{"$f":"IF(OR(B474=Dimension!$A$6,B474=Dimension!$A$7,B474=Dimension!$A$8,B474=Dimension!$A$9),\"\",IF(OR(B474=Dimension!$A$3,B474=Dimension!$A$4,B474=Dimension!$A$5),\"สถานประกอบการ\",\"\"))","v":""},{"$f":"IF(OR(B474=Dimension!$A$3,B474=Dimension!$A$4,B474=Dimension!$A$5,B474=Dimension!$A$6,,B474=Dimension!$A$7,B474=Dimension!$A$8,B474=Dimension!$A$9),Payment_ID2,\"\")","v":""},null,{"$f":"IFERROR(VLOOKUP(K474,Dimension!$J$3:$K$179,2,FALSE),\"\")","v":""},null,null,{"$f":"IF(OR(B474=Dimension!$A$6,B474=Dimension!$A$7,B474=Dimension!$A$8,B474=Dimension!$A$9),\"\",IF(OR(B474=Dimension!$A$3,B474=Dimension!$A$4,B474=Dimension!$A$5),\"สถานประกอบการ\",\"\"))","v":""},{"$f":"IF(OR(B474=Dimension!$A$6,B474=Dimension!$A$7,B474=Dimension!$A$8,B474=Dimension!$A$9,B474=\"\"),\"\",Payment_ID2)","v":""},"",null,null,{"$f":"IF(D474=Dimension!$C$9,IF(LEFT(UPPER(E474),2)=\"MC\",TRUE,FALSE),TRUE)","v":true}]
[null,null,null,{"$f":"IF(B475=Dimension!$A$8,Dimension!$C$9,IF(B475=Dimension!$A$6,CD,\"\"))","v":""},null,{"$f":"IF(OR(B475=Dimension!$A$3,B475=Dimension!$A$4,B475=Dimension!$A$6,B475=Dimension!$A$8),CCYA,\"\")","v":""},{"$f":"IFERROR(VLOOKUP(F475,Dimension!$G$3:$H$252,2,FALSE),\"\")","v":""},{"$f":"IF(OR(B475=Dimension!$A$3,B475=Dimension!$A$4,B475=Dimension!$A$5),\"เดินทาง/ท่องเที่ยว\",\"\")","v":""},{"$f":"IF(OR(B475=Dimension!$A$6,B475=Dimension!$A$7,B475=Dimension!$A$8,B475=Dimension!$A$9),\"\",IF(OR(B475=Dimension!$A$3,B475=Dimension!$A$4,B475=Dimension!$A$5),\"สถานประกอบการ\",\"\"))","v":""},{"$f":"IF(OR(B475=Dimension!$A$3,B475=Dimension!$A$4,B475=Dimension!$A$5,B475=Dimension!$A$6,,B475=Dimension!$A$7,B475=Dimension!$A$8,B475=Dimension!$A$9),Payment_ID2,\"\")","v":""},null,{"$f":"IFERROR(VLOOKUP(K475,Dimension!$J$3:$K$179,2,FALSE),\"\")","v":""},null,null,{"$f":"IF(OR(B475=Dimension!$A$6,B475=Dimension!$A$7,B475=Dimension!$A$8,B475=Dimension!$A$9),\"\",IF(OR(B475=Dimension!$A$3,B475=Dimension!$A$4,B475=Dimension!$A$5),\"สถานประกอบการ\",\"\"))","v":""},{"$f":"IF(OR(B475=Dimension!$A$6,B475=Dimension!$A$7,B475=Dimension!$A$8,B475=Dimension!$A$9,B475=\"\"),\"\",Payment_ID2)","v":""},"",null,null,{"$f":"IF(D475=Dimension!$C$9,IF(LEFT(UPPER(E475),2)=\"MC\",TRUE,FALSE),TRUE)","v":true}]
[null,null,null,{"$f":"IF(B476=Dimension!$A$8,Dimension!$C$9,IF(B476=Dimension!$A$6,CD,\"\"))","v":""},null,{"$f":"IF(OR(B476=Dimension!$A$3,B476=Dimension!$A$4,B476=Dimension!$A$6,B476=Dimension!$A$8),CCYA,\"\")","v":""},{"$f":"IFERROR(VLOOKUP(F476,Dimension!$G$3:$H$252,2,FALSE),\"\")","v":""},{"$f":"IF(OR(B476=Dimension!$A$3,B476=Dimension!$A$4,B476=Dimension!$A$5),\"เดินทาง/ท่องเที่ยว\",\"\")","v":""},{"$f":"IF(OR(B476=Dimension!$A$6,B476=Dimension!$A$7,B476=Dimension!$A$8,B476=Dimension!$A$9),\"\",IF(OR(B476=Dimension!$A$3,B476=Dimension!$A$4,B476=Dimension!$A$5),\"สถานประกอบการ\",\"\"))","v":""},{"$f":"IF(OR(B476=Dimension!$A$3,B476=Dimension!$A$4,B476=Dimension!$A$5,B476=Dimension!$A$6,,B476=Dimension!$A$7,B476=Dimension!$A$8,B476=Dimension!$A$9),Payment_ID2,\"\")","v":""},null,{"$f":"IFERROR(VLOOKUP(K476,Dimension!$J$3:$K$179,2,FALSE),\"\")","v":""},null,null,{"$f":"IF(OR(B476=Dimension!$A$6,B476=Dimension!$A$7,B476=Dimension!$A$8,B476=Dimension!$A$9),\"\",IF(OR(B476=Dimension!$A$3,B476=Dimension!$A$4,B476=Dimension!$A$5),\"สถานประกอบการ\",\"\"))","v":""},{"$f":"IF(OR(B476=Dimension!$A$6,B476=Dimension!$A$7,B476=Dimension!$A$8,B476=Dimension!$A$9,B476=\"\"),\"\",Payment_ID2)","v":""},"",null,null,{"$f":"IF(D476=Dimension!$C$9,IF(LEFT(UPPER(E476),2)=\"MC\",TRUE,FALSE),TRUE)","v":true}]
[null,null,null,{"$f":"IF(B477=Dimension!$A$8,Dimension!$C$9,IF(B477=Dimension!$A$6,CD,\"\"))","v":""},null,{"$f":"IF(OR(B477=Dimension!$A$3,B477=Dimension!$A$4,B477=Dimension!$A$6,B477=Dimension!$A$8),CCYA,\"\")","v":""},{"$f":"IFERROR(VLOOKUP(F477,Dimension!$G$3:$H$252,2,FALSE),\"\")","v":""},{"$f":"IF(OR(B477=Dimension!$A$3,B477=Dimension!$A$4,B477=Dimension!$A$5),\"เดินทาง/ท่องเที่ยว\",\"\")","v":""},{"$f":"IF(OR(B477=Dimension!$A$6,B477=Dimension!$A$7,B477=Dimension!$A$8,B477=Dimension!$A$9),\"\",IF(OR(B477=Dimension!$A$3,B477=Dimension!$A$4,B477=Dimension!$A$5),\"สถานประกอบการ\",\"\"))","v":""},{"$f":"IF(OR(B477=Dimension!$A$3,B477=Dimension!$A$4,B477=Dimension!$A$5,B477=Dimension!$A$6,,B477=Dimension!$A$7,B477=Dimension!$A$8,B477=Dimension!$A$9),Payment_ID2,\"\")","v":""},null,{"$f":"IFERROR(VLOOKUP(K477,Dimension!$J$3:$K$179,2,FALSE),\"\")","v":""},null,null,{"$f":"IF(OR(B477=Dimension!$A$6,B477=Dimension!$A$7,B477=Dimension!$A$8,B477=Dimension!$A$9),\"\",IF(OR(B477=Dimension!$A$3,B477=Dimension!$A$4,B477=Dimension!$A$5),\"สถานประกอบการ\",\"\"))","v":""},{"$f":"IF(OR(B477=Dimension!$A$6,B477=Dimension!$A$7,B477=Dimension!$A$8,B477=Dimension!$A$9,B477=\"\"),\"\",Payment_ID2)","v":""},"",null,null,{"$f":"IF(D477=Dimension!$C$9,IF(LEFT(UPPER(E477),2)=\"MC\",TRUE,FALSE),TRUE)","v":true}]
[null,null,null,{"$f":"IF(B478=Dimension!$A$8,Dimension!$C$9,IF(B478=Dimension!$A$6,CD,\"\"))","v":""},null,{"$f":"IF(OR(B478=Dimension!$A$3,B478=Dimension!$A$4,B478=Dimension!$A$6,B478=Dimension!$A$8),CCYA,\"\")","v":""},{"$f":"IFERROR(VLOOKUP(F478,Dimension!$G$3:$H$252,2,FALSE),\"\")","v":""},{"$f":"IF(OR(B478=Dimension!$A$3,B478=Dimension!$A$4,B478=Dimension!$A$5),\"เดินทาง/ท่องเที่ยว\",\"\")","v":""},{"$f":"IF(OR(B478=Dimension!$A$6,B478=Dimension!$A$7,B478=Dimension!$A$8,B478=Dimension!$A$9),\"\",IF(OR(B478=Dimension!$A$3,B478=Dimension!$A$4,B478=Dimension!$A$5),\"สถานประกอบการ\",\"\"))","v":""},{"$f":"IF(OR(B478=Dimension!$A$3,B478=Dimension!$A$4,B478=Dimension!$A$5,B478=Dimension!$A$6,,B478=Dimension!$A$7,B478=Dimension!$A$8,B478=Dimension!$A$9),Payment_ID2,\"\")","v":""},null,{"$f":"IFERROR(VLOOKUP(K478,Dimension!$J$3:$K$179,2,FALSE),\"\")","v":""},null,null,{"$f":"IF(OR(B478=Dimension!$A$6,B478=Dimension!$A$7,B478=Dimension!$A$8,B478=Dimension!$A$9),\"\",IF(OR(B478=Dimension!$A$3,B478=Dimension!$A$4,B478=Dimension!$A$5),\"สถานประกอบการ\",\"\"))","v":""},{"$f":"IF(OR(B478=Dimension!$A$6,B478=Dimension!$A$7,B478=Dimension!$A$8,B478=Dimension!$A$9,B478=\"\"),\"\",Payment_ID2)","v":""},"",null,null,{"$f":"IF(D478=Dimension!$C$9,IF(LEFT(UPPER(E478),2)=\"MC\",TRUE,FALSE),TRUE)","v":true}]
[null,null,null,{"$f":"IF(B479=Dimension!$A$8,Dimension!$C$9,IF(B479=Dimension!$A$6,CD,\"\"))","v":""},null,{"$f":"IF(OR(B479=Dimension!$A$3,B479=Dimension!$A$4,B479=Dimension!$A$6,B479=Dimension!$A$8),CCYA,\"\")","v":""},{"$f":"IFERROR(VLOOKUP(F479,Dimension!$G$3:$H$252,2,FALSE),\"\")","v":""},{"$f":"IF(OR(B479=Dimension!$A$3,B479=Dimension!$A$4,B479=Dimension!$A$5),\"เดินทาง/ท่องเที่ยว\",\"\")","v":""},{"$f":"IF(OR(B479=Dimension!$A$6,B479=Dimension!$A$7,B479=Dimension!$A$8,B479=Dimension!$A$9),\"\",IF(OR(B479=Dimension!$A$3,B479=Dimension!$A$4,B479=Dimension!$A$5),\"สถานประกอบการ\",\"\"))","v":""},{"$f":"IF(OR(B479=Dimension!$A$3,B479=Dimension!$A$4,B479=Dimension!$A$5,B479=Dimension!$A$6,,B479=Dimension!$A$7,B479=Dimension!$A$8,B479=Dimension!$A$9),Payment_ID2,\"\")","v":""},null,{"$f":"IFERROR(VLOOKUP(K479,Dimension!$J$3:$K$179,2,FALSE),\"\")","v":""},null,null,{"$f":"IF(OR(B479=Dimension!$A$6,B479=Dimension!$A$7,B479=Dimension!$A$8,B479=Dimension!$A$9),\"\",IF(OR(B479=Dimension!$A$3,B479=Dimension!$A$4,B479=Dimension!$A$5),\"สถานประกอบการ\",\"\"))","v":""},{"$f":"IF(OR(B479=Dimension!$A$6,B479=Dimension!$A$7,B479=Dimension!$A$8,B479=Dimension!$A$9,B479=\"\"),\"\",Payment_ID2)","v":""},"",null,null,{"$f":"IF(D479=Dimension!$C$9,IF(LEFT(UPPER(E479),2)=\"MC\",TRUE,FALSE),TRUE)","v":true}]
[null,null,null,{"$f":"IF(B480=Dimension!$A$8,Dimension!$C$9,IF(B480=Dimension!$A$6,CD,\"\"))","v":""},null,{"$f":"IF(OR(B480=Dimension!$A$3,B480=Dimension!$A$4,B480=Dimension!$A$6,B480=Dimension!$A$8),CCYA,\"\")","v":""},{"$f":"IFERROR(VLOOKUP(F480,Dimension!$G$3:$H$252,2,FALSE),\"\")","v":""},{"$f":"IF(OR(B480=Dimension!$A$3,B480=Dimension!$A$4,B480=Dimension!$A$5),\"เดินทาง/ท่องเที่ยว\",\"\")","v":""},{"$f":"IF(OR(B480=Dimension!$A$6,B480=Dimension!$A$7,B480=Dimension!$A$8,B480=Dimension!$A$9),\"\",IF(OR(B480=Dimension!$A$3,B480=Dimension!$A$4,B480=Dimension!$A$5),\"สถานประกอบการ\",\"\"))","v":""},{"$f":"IF(OR(B480=Dimension!$A$3,B480=Dimension!$A$4,B480=Dimension!$A$5,B480=Dimension!$A$6,,B480=Dimension!$A$7,B480=Dimension!$A$8,B480=Dimension!$A$9),Payment_ID2,\"\")","v":""},null,{"$f":"IFERROR(VLOOKUP(K480,Dimension!$J$3:$K$179,2,FALSE),\"\")","v":""},null,null,{"$f":"IF(OR(B480=Dimension!$A$6,B480=Dimension!$A$7,B480=Dimension!$A$8,B480=Dimension!$A$9),\"\",IF(OR(B480=Dimension!$A$3,B480=Dimension!$A$4,B480=Dimension!$A$5),\"สถานประกอบการ\",\"\"))","v":""},{"$f":"IF(OR(B480=Dimension!$A$6,B480=Dimension!$A$7,B480=Dimension!$A$8,B480=Dimension!$A$9,B480=\"\"),\"\",Payment_ID2)","v":""},"",null,null,{"$f":"IF(D480=Dimension!$C$9,IF(LEFT(UPPER(E480),2)=\"MC\",TRUE,FALSE),TRUE)","v":true}]
[null,null,null,{"$f":"IF(B481=Dimension!$A$8,Dimension!$C$9,IF(B481=Dimension!$A$6,CD,\"\"))","v":""},null,{"$f":"IF(OR(B481=Dimension!$A$3,B481=Dimension!$A$4,B481=Dimension!$A$6,B481=Dimension!$A$8),CCYA,\"\")","v":""},{"$f":"IFERROR(VLOOKUP(F481,Dimension!$G$3:$H$252,2,FALSE),\"\")","v":""},{"$f":"IF(OR(B481=Dimension!$A$3,B481=Dimension!$A$4,B481=Dimension!$A$5),\"เดินทาง/ท่องเที่ยว\",\"\")","v":""},{"$f":"IF(OR(B481=Dimension!$A$6,B481=Dimension!$A$7,B481=Dimension!$A$8,B481=Dimension!$A$9),\"\",IF(OR(B481=Dimension!$A$3,B481=Dimension!$A$4,B481=Dimension!$A$5),\"สถานประกอบการ\",\"\"))","v":""},{"$f":"IF(OR(B481=Dimension!$A$3,B481=Dimension!$A$4,B481=Dimension!$A$5,B481=Dimension!$A$6,,B481=Dimension!$A$7,B481=Dimension!$A$8,B481=Dimension!$A$9),Payment_ID2,\"\")","v":""},null,{"$f":"IFERROR(VLOOKUP(K481,Dimension!$J$3:$K$179,2,FALSE),\"\")","v":""},null,null,{"$f":"IF(OR(B481=Dimension!$A$6,B481=Dimension!$A$7,B481=Dimension!$A$8,B481=Dimension!$A$9),\"\",IF(OR(B481=Dimension!$A$3,B481=Dimension!$A$4,B481=Dimension!$A$5),\"สถานประกอบการ\",\"\"))","v":""},{"$f":"IF(OR(B481=Dimension!$A$6,B481=Dimension!$A$7,B481=Dimension!$A$8,B481=Dimension!$A$9,B481=\"\"),\"\",Payment_ID2)","v":""},"",null,null,{"$f":"IF(D481=Dimension!$C$9,IF(LEFT(UPPER(E481),2)=\"MC\",TRUE,FALSE),TRUE)","v":true}]
[null,null,null,{"$f":"IF(B482=Dimension!$A$8,Dimension!$C$9,IF(B482=Dimension!$A$6,CD,\"\"))","v":""},null,{"$f":"IF(OR(B482=Dimension!$A$3,B482=Dimension!$A$4,B482=Dimension!$A$6,B482=Dimension!$A$8),CCYA,\"\")","v":""},{"$f":"IFERROR(VLOOKUP(F482,Dimension!$G$3:$H$252,2,FALSE),\"\")","v":""},{"$f":"IF(OR(B482=Dimension!$A$3,B482=Dimension!$A$4,B482=Dimension!$A$5),\"เดินทาง/ท่องเที่ยว\",\"\")","v":""},{"$f":"IF(OR(B482=Dimension!$A$6,B482=Dimension!$A$7,B482=Dimension!$A$8,B482=Dimension!$A$9),\"\",IF(OR(B482=Dimension!$A$3,B482=Dimension!$A$4,B482=Dimension!$A$5),\"สถานประกอบการ\",\"\"))","v":""},{"$f":"IF(OR(B482=Dimension!$A$3,B482=Dimension!$A$4,B482=Dimension!$A$5,B482=Dimension!$A$6,,B482=Dimension!$A$7,B482=Dimension!$A$8,B482=Dimension!$A$9),Payment_ID2,\"\")","v":""},null,{"$f":"IFERROR(VLOOKUP(K482,Dimension!$J$3:$K$179,2,FALSE),\"\")","v":""},null,null,{"$f":"IF(OR(B482=Dimension!$A$6,B482=Dimension!$A$7,B482=Dimension!$A$8,B482=Dimension!$A$9),\"\",IF(OR(B482=Dimension!$A$3,B482=Dimension!$A$4,B482=Dimension!$A$5),\"สถานประกอบการ\",\"\"))","v":""},{"$f":"IF(OR(B482=Dimension!$A$6,B482=Dimension!$A$7,B482=Dimension!$A$8,B482=Dimension!$A$9,B482=\"\"),\"\",Payment_ID2)","v":""},"",null,null,{"$f":"IF(D482=Dimension!$C$9,IF(LEFT(UPPER(E482),2)=\"MC\",TRUE,FALSE),TRUE)","v":true}]
[null,null,null,{"$f":"IF(B483=Dimension!$A$8,Dimension!$C$9,IF(B483=Dimension!$A$6,CD,\"\"))","v":""},null,{"$f":"IF(OR(B483=Dimension!$A$3,B483=Dimension!$A$4,B483=Dimension!$A$6,B483=Dimension!$A$8),CCYA,\"\")","v":""},{"$f":"IFERROR(VLOOKUP(F483,Dimension!$G$3:$H$252,2,FALSE),\"\")","v":""},{"$f":"IF(OR(B483=Dimension!$A$3,B483=Dimension!$A$4,B483=Dimension!$A$5),\"เดินทาง/ท่องเที่ยว\",\"\")","v":""},{"$f":"IF(OR(B483=Dimension!$A$6,B483=Dimension!$A$7,B483=Dimension!$A$8,B483=Dimension!$A$9),\"\",IF(OR(B483=Dimension!$A$3,B483=Dimension!$A$4,B483=Dimension!$A$5),\"สถานประกอบการ\",\"\"))","v":""},{"$f":"IF(OR(B483=Dimension!$A$3,B483=Dimension!$A$4,B483=Dimension!$A$5,B483=Dimension!$A$6,,B483=Dimension!$A$7,B483=Dimension!$A$8,B483=Dimension!$A$9),Payment_ID2,\"\")","v":""},null,{"$f":"IFERROR(VLOOKUP(K483,Dimension!$J$3:$K$179,2,FALSE),\"\")","v":""},null,null,{"$f":"IF(OR(B483=Dimension!$A$6,B483=Dimension!$A$7,B483=Dimension!$A$8,B483=Dimension!$A$9),\"\",IF(OR(B483=Dimension!$A$3,B483=Dimension!$A$4,B483=Dimension!$A$5),\"สถานประกอบการ\",\"\"))","v":""},{"$f":"IF(OR(B483=Dimension!$A$6,B483=Dimension!$A$7,B483=Dimension!$A$8,B483=Dimension!$A$9,B483=\"\"),\"\",Payment_ID2)","v":""},"",null,null,{"$f":"IF(D483=Dimension!$C$9,IF(LEFT(UPPER(E483),2)=\"MC\",TRUE,FALSE),TRUE)","v":true}]
[null,null,null,{"$f":"IF(B484=Dimension!$A$8,Dimension!$C$9,IF(B484=Dimension!$A$6,CD,\"\"))","v":""},null,{"$f":"IF(OR(B484=Dimension!$A$3,B484=Dimension!$A$4,B484=Dimension!$A$6,B484=Dimension!$A$8),CCYA,\"\")","v":""},{"$f":"IFERROR(VLOOKUP(F484,Dimension!$G$3:$H$252,2,FALSE),\"\")","v":""},{"$f":"IF(OR(B484=Dimension!$A$3,B484=Dimension!$A$4,B484=Dimension!$A$5),\"เดินทาง/ท่องเที่ยว\",\"\")","v":""},{"$f":"IF(OR(B484=Dimension!$A$6,B484=Dimension!$A$7,B484=Dimension!$A$8,B484=Dimension!$A$9),\"\",IF(OR(B484=Dimension!$A$3,B484=Dimension!$A$4,B484=Dimension!$A$5),\"สถานประกอบการ\",\"\"))","v":""},{"$f":"IF(OR(B484=Dimension!$A$3,B484=Dimension!$A$4,B484=Dimension!$A$5,B484=Dimension!$A$6,,B484=Dimension!$A$7,B484=Dimension!$A$8,B484=Dimension!$A$9),Payment_ID2,\"\")","v":""},null,{"$f":"IFERROR(VLOOKUP(K484,Dimension!$J$3:$K$179,2,FALSE),\"\")","v":""},null,null,{"$f":"IF(OR(B484=Dimension!$A$6,B484=Dimension!$A$7,B484=Dimension!$A$8,B484=Dimension!$A$9),\"\",IF(OR(B484=Dimension!$A$3,B484=Dimension!$A$4,B484=Dimension!$A$5),\"สถานประกอบการ\",\"\"))","v":""},{"$f":"IF(OR(B484=Dimension!$A$6,B484=Dimension!$A$7,B484=Dimension!$A$8,B484=Dimension!$A$9,B484=\"\"),\"\",Payment_ID2)","v":""},"",null,null,{"$f":"IF(D484=Dimension!$C$9,IF(LEFT(UPPER(E484),2)=\"MC\",TRUE,FALSE),TRUE)","v":true}]
[null,null,null,{"$f":"IF(B485=Dimension!$A$8,Dimension!$C$9,IF(B485=Dimension!$A$6,CD,\"\"))","v":""},null,{"$f":"IF(OR(B485=Dimension!$A$3,B485=Dimension!$A$4,B485=Dimension!$A$6,B485=Dimension!$A$8),CCYA,\"\")","v":""},{"$f":"IFERROR(VLOOKUP(F485,Dimension!$G$3:$H$252,2,FALSE),\"\")","v":""},{"$f":"IF(OR(B485=Dimension!$A$3,B485=Dimension!$A$4,B485=Dimension!$A$5),\"เดินทาง/ท่องเที่ยว\",\"\")","v":""},{"$f":"IF(OR(B485=Dimension!$A$6,B485=Dimension!$A$7,B485=Dimension!$A$8,B485=Dimension!$A$9),\"\",IF(OR(B485=Dimension!$A$3,B485=Dimension!$A$4,B485=Dimension!$A$5),\"สถานประกอบการ\",\"\"))","v":""},{"$f":"IF(OR(B485=Dimension!$A$3,B485=Dimension!$A$4,B485=Dimension!$A$5,B485=Dimension!$A$6,,B485=Dimension!$A$7,B485=Dimension!$A$8,B485=Dimension!$A$9),Payment_ID2,\"\")","v":""},null,{"$f":"IFERROR(VLOOKUP(K485,Dimension!$J$3:$K$179,2,FALSE),\"\")","v":""},null,null,{"$f":"IF(OR(B485=Dimension!$A$6,B485=Dimension!$A$7,B485=Dimension!$A$8,B485=Dimension!$A$9),\"\",IF(OR(B485=Dimension!$A$3,B485=Dimension!$A$4,B485=Dimension!$A$5),\"สถานประกอบการ\",\"\"))","v":""},{"$f":"IF(OR(B485=Dimension!$A$6,B485=Dimension!$A$7,B485=Dimension!$A$8,B485=Dimension!$A$9,B485=\"\"),\"\",Payment_ID2)","v":""},"",null,null,{"$f":"IF(D485=Dimension!$C$9,IF(LEFT(UPPER(E485),2)=\"MC\",TRUE,FALSE),TRUE)","v":true}]
[null,null,null,{"$f":"IF(B486=Dimension!$A$8,Dimension!$C$9,IF(B486=Dimension!$A$6,CD,\"\"))","v":""},null,{"$f":"IF(OR(B486=Dimension!$A$3,B486=Dimension!$A$4,B486=Dimension!$A$6,B486=Dimension!$A$8),CCYA,\"\")","v":""},{"$f":"IFERROR(VLOOKUP(F486,Dimension!$G$3:$H$252,2,FALSE),\"\")","v":""},{"$f":"IF(OR(B486=Dimension!$A$3,B486=Dimension!$A$4,B486=Dimension!$A$5),\"เดินทาง/ท่องเที่ยว\",\"\")","v":""},{"$f":"IF(OR(B486=Dimension!$A$6,B486=Dimension!$A$7,B486=Dimension!$A$8,B486=Dimension!$A$9),\"\",IF(OR(B486=Dimension!$A$3,B486=Dimension!$A$4,B486=Dimension!$A$5),\"สถานประกอบการ\",\"\"))","v":""},{"$f":"IF(OR(B486=Dimension!$A$3,B486=Dimension!$A$4,B486=Dimension!$A$5,B486=Dimension!$A$6,,B486=Dimension!$A$7,B486=Dimension!$A$8,B486=Dimension!$A$9),Payment_ID2,\"\")","v":""},null,{"$f":"IFERROR(VLOOKUP(K486,Dimension!$J$3:$K$179,2,FALSE),\"\")","v":""},null,null,{"$f":"IF(OR(B486=Dimension!$A$6,B486=Dimension!$A$7,B486=Dimension!$A$8,B486=Dimension!$A$9),\"\",IF(OR(B486=Dimension!$A$3,B486=Dimension!$A$4,B486=Dimension!$A$5),\"สถานประกอบการ\",\"\"))","v":""},{"$f":"IF(OR(B486=Dimension!$A$6,B486=Dimension!$A$7,B486=Dimension!$A$8,B486=Dimension!$A$9,B486=\"\"),\"\",Payment_ID2)","v":""},"",null,null,{"$f":"IF(D486=Dimension!$C$9,IF(LEFT(UPPER(E486),2)=\"MC\",TRUE,FALSE),TRUE)","v":true}]
[null,null,null,{"$f":"IF(B487=Dimension!$A$8,Dimension!$C$9,IF(B487=Dimension!$A$6,CD,\"\"))","v":""},null,{"$f":"IF(OR(B487=Dimension!$A$3,B487=Dimension!$A$4,B487=Dimension!$A$6,B487=Dimension!$A$8),CCYA,\"\")","v":""},{"$f":"IFERROR(VLOOKUP(F487,Dimension!$G$3:$H$252,2,FALSE),\"\")","v":""},{"$f":"IF(OR(B487=Dimension!$A$3,B487=Dimension!$A$4,B487=Dimension!$A$5),\"เดินทาง/ท่องเที่ยว\",\"\")","v":""},{"$f":"IF(OR(B487=Dimension!$A$6,B487=Dimension!$A$7,B487=Dimension!$A$8,B487=Dimension!$A$9),\"\",IF(OR(B487=Dimension!$A$3,B487=Dimension!$A$4,B487=Dimension!$A$5),\"สถานประกอบการ\",\"\"))","v":""},{"$f":"IF(OR(B487=Dimension!$A$3,B487=Dimension!$A$4,B487=Dimension!$A$5,B487=Dimension!$A$6,,B487=Dimension!$A$7,B487=Dimension!$A$8,B487=Dimension!$A$9),Payment_ID2,\"\")","v":""},null,{"$f":"IFERROR(VLOOKUP(K487,Dimension!$J$3:$K$179,2,FALSE),\"\")","v":""},null,null,{"$f":"IF(OR(B487=Dimension!$A$6,B487=Dimension!$A$7,B487=Dimension!$A$8,B487=Dimension!$A$9),\"\",IF(OR(B487=Dimension!$A$3,B487=Dimension!$A$4,B487=Dimension!$A$5),\"สถานประกอบการ\",\"\"))","v":""},{"$f":"IF(OR(B487=Dimension!$A$6,B487=Dimension!$A$7,B487=Dimension!$A$8,B487=Dimension!$A$9,B487=\"\"),\"\",Payment_ID2)","v":""},"",null,null,{"$f":"IF(D487=Dimension!$C$9,IF(LEFT(UPPER(E487),2)=\"MC\",TRUE,FALSE),TRUE)","v":true}]
[null,null,null,{"$f":"IF(B488=Dimension!$A$8,Dimension!$C$9,IF(B488=Dimension!$A$6,CD,\"\"))","v":""},null,{"$f":"IF(OR(B488=Dimension!$A$3,B488=Dimension!$A$4,B488=Dimension!$A$6,B488=Dimension!$A$8),CCYA,\"\")","v":""},{"$f":"IFERROR(VLOOKUP(F488,Dimension!$G$3:$H$252,2,FALSE),\"\")","v":""},{"$f":"IF(OR(B488=Dimension!$A$3,B488=Dimension!$A$4,B488=Dimension!$A$5),\"เดินทาง/ท่องเที่ยว\",\"\")","v":""},{"$f":"IF(OR(B488=Dimension!$A$6,B488=Dimension!$A$7,B488=Dimension!$A$8,B488=Dimension!$A$9),\"\",IF(OR(B488=Dimension!$A$3,B488=Dimension!$A$4,B488=Dimension!$A$5),\"สถานประกอบการ\",\"\"))","v":""},{"$f":"IF(OR(B488=Dimension!$A$3,B488=Dimension!$A$4,B488=Dimension!$A$5,B488=Dimension!$A$6,,B488=Dimension!$A$7,B488=Dimension!$A$8,B488=Dimension!$A$9),Payment_ID2,\"\")","v":""},null,{"$f":"IFERROR(VLOOKUP(K488,Dimension!$J$3:$K$179,2,FALSE),\"\")","v":""},null,null,{"$f":"IF(OR(B488=Dimension!$A$6,B488=Dimension!$A$7,B488=Dimension!$A$8,B488=Dimension!$A$9),\"\",IF(OR(B488=Dimension!$A$3,B488=Dimension!$A$4,B488=Dimension!$A$5),\"สถานประกอบการ\",\"\"))","v":""},{"$f":"IF(OR(B488=Dimension!$A$6,B488=Dimension!$A$7,B488=Dimension!$A$8,B488=Dimension!$A$9,B488=\"\"),\"\",Payment_ID2)","v":""},"",null,null,{"$f":"IF(D488=Dimension!$C$9,IF(LEFT(UPPER(E488),2)=\"MC\",TRUE,FALSE),TRUE)","v":true}]
[null,null,null,{"$f":"IF(B489=Dimension!$A$8,Dimension!$C$9,IF(B489=Dimension!$A$6,CD,\"\"))","v":""},null,{"$f":"IF(OR(B489=Dimension!$A$3,B489=Dimension!$A$4,B489=Dimension!$A$6,B489=Dimension!$A$8),CCYA,\"\")","v":""},{"$f":"IFERROR(VLOOKUP(F489,Dimension!$G$3:$H$252,2,FALSE),\"\")","v":""},{"$f":"IF(OR(B489=Dimension!$A$3,B489=Dimension!$A$4,B489=Dimension!$A$5),\"เดินทาง/ท่องเที่ยว\",\"\")","v":""},{"$f":"IF(OR(B489=Dimension!$A$6,B489=Dimension!$A$7,B489=Dimension!$A$8,B489=Dimension!$A$9),\"\",IF(OR(B489=Dimension!$A$3,B489=Dimension!$A$4,B489=Dimension!$A$5),\"สถานประกอบการ\",\"\"))","v":""},{"$f":"IF(OR(B489=Dimension!$A$3,B489=Dimension!$A$4,B489=Dimension!$A$5,B489=Dimension!$A$6,,B489=Dimension!$A$7,B489=Dimension!$A$8,B489=Dimension!$A$9),Payment_ID2,\"\")","v":""},null,{"$f":"IFERROR(VLOOKUP(K489,Dimension!$J$3:$K$179,2,FALSE),\"\")","v":""},null,null,{"$f":"IF(OR(B489=Dimension!$A$6,B489=Dimension!$A$7,B489=Dimension!$A$8,B489=Dimension!$A$9),\"\",IF(OR(B489=Dimension!$A$3,B489=Dimension!$A$4,B489=Dimension!$A$5),\"สถานประกอบการ\",\"\"))","v":""},{"$f":"IF(OR(B489=Dimension!$A$6,B489=Dimension!$A$7,B489=Dimension!$A$8,B489=Dimension!$A$9,B489=\"\"),\"\",Payment_ID2)","v":""},"",null,null,{"$f":"IF(D489=Dimension!$C$9,IF(LEFT(UPPER(E489),2)=\"MC\",TRUE,FALSE),TRUE)","v":true}]
[null,null,null,{"$f":"IF(B490=Dimension!$A$8,Dimension!$C$9,IF(B490=Dimension!$A$6,CD,\"\"))","v":""},null,{"$f":"IF(OR(B490=Dimension!$A$3,B490=Dimension!$A$4,B490=Dimension!$A$6,B490=Dimension!$A$8),CCYA,\"\")","v":""},{"$f":"IFERROR(VLOOKUP(F490,Dimension!$G$3:$H$252,2,FALSE),\"\")","v":""},{"$f":"IF(OR(B490=Dimension!$A$3,B490=Dimension!$A$4,B490=Dimension!$A$5),\"เดินทาง/ท่องเที่ยว\",\"\")","v":""},{"$f":"IF(OR(B490=Dimension!$A$6,B490=Dimension!$A$7,B490=Dimension!$A$8,B490=Dimension!$A$9),\"\",IF(OR(B490=Dimension!$A$3,B490=Dimension!$A$4,B490=Dimension!$A$5),\"สถานประกอบการ\",\"\"))","v":""},{"$f":"IF(OR(B490=Dimension!$A$3,B490=Dimension!$A$4,B490=Dimension!$A$5,B490=Dimension!$A$6,,B490=Dimension!$A$7,B490=Dimension!$A$8,B490=Dimension!$A$9),Payment_ID2,\"\")","v":""},null,{"$f":"IFERROR(VLOOKUP(K490,Dimension!$J$3:$K$179,2,FALSE),\"\")","v":""},null,null,{"$f":"IF(OR(B490=Dimension!$A$6,B490=Dimension!$A$7,B490=Dimension!$A$8,B490=Dimension!$A$9),\"\",IF(OR(B490=Dimension!$A$3,B490=Dimension!$A$4,B490=Dimension!$A$5),\"สถานประกอบการ\",\"\"))","v":""},{"$f":"IF(OR(B490=Dimension!$A$6,B490=Dimension!$A$7,B490=Dimension!$A$8,B490=Dimension!$A$9,B490=\"\"),\"\",Payment_ID2)","v":""},"",null,null,{"$f":"IF(D490=Dimension!$C$9,IF(LEFT(UPPER(E490),2)=\"MC\",TRUE,FALSE),TRUE)","v":true}]
[null,null,null,{"$f":"IF(B491=Dimension!$A$8,Dimension!$C$9,IF(B491=Dimension!$A$6,CD,\"\"))","v":""},null,{"$f":"IF(OR(B491=Dimension!$A$3,B491=Dimension!$A$4,B491=Dimension!$A$6,B491=Dimension!$A$8),CCYA,\"\")","v":""},{"$f":"IFERROR(VLOOKUP(F491,Dimension!$G$3:$H$252,2,FALSE),\"\")","v":""},{"$f":"IF(OR(B491=Dimension!$A$3,B491=Dimension!$A$4,B491=Dimension!$A$5),\"เดินทาง/ท่องเที่ยว\",\"\")","v":""},{"$f":"IF(OR(B491=Dimension!$A$6,B491=Dimension!$A$7,B491=Dimension!$A$8,B491=Dimension!$A$9),\"\",IF(OR(B491=Dimension!$A$3,B491=Dimension!$A$4,B491=Dimension!$A$5),\"สถานประกอบการ\",\"\"))","v":""},{"$f":"IF(OR(B491=Dimension!$A$3,B491=Dimension!$A$4,B491=Dimension!$A$5,B491=Dimension!$A$6,,B491=Dimension!$A$7,B491=Dimension!$A$8,B491=Dimension!$A$9),Payment_ID2,\"\")","v":""},null,{"$f":"IFERROR(VLOOKUP(K491,Dimension!$J$3:$K$179,2,FALSE),\"\")","v":""},null,null,{"$f":"IF(OR(B491=Dimension!$A$6,B491=Dimension!$A$7,B491=Dimension!$A$8,B491=Dimension!$A$9),\"\",IF(OR(B491=Dimension!$A$3,B491=Dimension!$A$4,B491=Dimension!$A$5),\"สถานประกอบการ\",\"\"))","v":""},{"$f":"IF(OR(B491=Dimension!$A$6,B491=Dimension!$A$7,B491=Dimension!$A$8,B491=Dimension!$A$9,B491=\"\"),\"\",Payment_ID2)","v":""},"",null,null,{"$f":"IF(D491=Dimension!$C$9,IF(LEFT(UPPER(E491),2)=\"MC\",TRUE,FALSE),TRUE)","v":true}]
[null,null,null,{"$f":"IF(B492=Dimension!$A$8,Dimension!$C$9,IF(B492=Dimension!$A$6,CD,\"\"))","v":""},null,{"$f":"IF(OR(B492=Dimension!$A$3,B492=Dimension!$A$4,B492=Dimension!$A$6,B492=Dimension!$A$8),CCYA,\"\")","v":""},{"$f":"IFERROR(VLOOKUP(F492,Dimension!$G$3:$H$252,2,FALSE),\"\")","v":""},{"$f":"IF(OR(B492=Dimension!$A$3,B492=Dimension!$A$4,B492=Dimension!$A$5),\"เดินทาง/ท่องเที่ยว\",\"\")","v":""},{"$f":"IF(OR(B492=Dimension!$A$6,B492=Dimension!$A$7,B492=Dimension!$A$8,B492=Dimension!$A$9),\"\",IF(OR(B492=Dimension!$A$3,B492=Dimension!$A$4,B492=Dimension!$A$5),\"สถานประกอบการ\",\"\"))","v":""},{"$f":"IF(OR(B492=Dimension!$A$3,B492=Dimension!$A$4,B492=Dimension!$A$5,B492=Dimension!$A$6,,B492=Dimension!$A$7,B492=Dimension!$A$8,B492=Dimension!$A$9),Payment_ID2,\"\")","v":""},null,{"$f":"IFERROR(VLOOKUP(K492,Dimension!$J$3:$K$179,2,FALSE),\"\")","v":""},null,null,{"$f":"IF(OR(B492=Dimension!$A$6,B492=Dimension!$A$7,B492=Dimension!$A$8,B492=Dimension!$A$9),\"\",IF(OR(B492=Dimension!$A$3,B492=Dimension!$A$4,B492=Dimension!$A$5),\"สถานประกอบการ\",\"\"))","v":""},{"$f":"IF(OR(B492=Dimension!$A$6,B492=Dimension!$A$7,B492=Dimension!$A$8,B492=Dimension!$A$9,B492=\"\"),\"\",Payment_ID2)","v":""},"",null,null,{"$f":"IF(D492=Dimension!$C$9,IF(LEFT(UPPER(E492),2)=\"MC\",TRUE,FALSE),TRUE)","v":true}]
[null,null,null,{"$f":"IF(B493=Dimension!$A$8,Dimension!$C$9,IF(B493=Dimension!$A$6,CD,\"\"))","v":""},null,{"$f":"IF(OR(B493=Dimension!$A$3,B493=Dimension!$A$4,B493=Dimension!$A$6,B493=Dimension!$A$8),CCYA,\"\")","v":""},{"$f":"IFERROR(VLOOKUP(F493,Dimension!$G$3:$H$252,2,FALSE),\"\")","v":""},{"$f":"IF(OR(B493=Dimension!$A$3,B493=Dimension!$A$4,B493=Dimension!$A$5),\"เดินทาง/ท่องเที่ยว\",\"\")","v":""},{"$f":"IF(OR(B493=Dimension!$A$6,B493=Dimension!$A$7,B493=Dimension!$A$8,B493=Dimension!$A$9),\"\",IF(OR(B493=Dimension!$A$3,B493=Dimension!$A$4,B493=Dimension!$A$5),\"สถานประกอบการ\",\"\"))","v":""},{"$f":"IF(OR(B493=Dimension!$A$3,B493=Dimension!$A$4,B493=Dimension!$A$5,B493=Dimension!$A$6,,B493=Dimension!$A$7,B493=Dimension!$A$8,B493=Dimension!$A$9),Payment_ID2,\"\")","v":""},null,{"$f":"IFERROR(VLOOKUP(K493,Dimension!$J$3:$K$179,2,FALSE),\"\")","v":""},null,null,{"$f":"IF(OR(B493=Dimension!$A$6,B493=Dimension!$A$7,B493=Dimension!$A$8,B493=Dimension!$A$9),\"\",IF(OR(B493=Dimension!$A$3,B493=Dimension!$A$4,B493=Dimension!$A$5),\"สถานประกอบการ\",\"\"))","v":""},{"$f":"IF(OR(B493=Dimension!$A$6,B493=Dimension!$A$7,B493=Dimension!$A$8,B493=Dimension!$A$9,B493=\"\"),\"\",Payment_ID2)","v":""},"",null,null,{"$f":"IF(D493=Dimension!$C$9,IF(LEFT(UPPER(E493),2)=\"MC\",TRUE,FALSE),TRUE)","v":true}]
[null,null,null,{"$f":"IF(B494=Dimension!$A$8,Dimension!$C$9,IF(B494=Dimension!$A$6,CD,\"\"))","v":""},null,{"$f":"IF(OR(B494=Dimension!$A$3,B494=Dimension!$A$4,B494=Dimension!$A$6,B494=Dimension!$A$8),CCYA,\"\")","v":""},{"$f":"IFERROR(VLOOKUP(F494,Dimension!$G$3:$H$252,2,FALSE),\"\")","v":""},{"$f":"IF(OR(B494=Dimension!$A$3,B494=Dimension!$A$4,B494=Dimension!$A$5),\"เดินทาง/ท่องเที่ยว\",\"\")","v":""},{"$f":"IF(OR(B494=Dimension!$A$6,B494=Dimension!$A$7,B494=Dimension!$A$8,B494=Dimension!$A$9),\"\",IF(OR(B494=Dimension!$A$3,B494=Dimension!$A$4,B494=Dimension!$A$5),\"สถานประกอบการ\",\"\"))","v":""},{"$f":"IF(OR(B494=Dimension!$A$3,B494=Dimension!$A$4,B494=Dimension!$A$5,B494=Dimension!$A$6,,B494=Dimension!$A$7,B494=Dimension!$A$8,B494=Dimension!$A$9),Payment_ID2,\"\")","v":""},null,{"$f":"IFERROR(VLOOKUP(K494,Dimension!$J$3:$K$179,2,FALSE),\"\")","v":""},null,null,{"$f":"IF(OR(B494=Dimension!$A$6,B494=Dimension!$A$7,B494=Dimension!$A$8,B494=Dimension!$A$9),\"\",IF(OR(B494=Dimension!$A$3,B494=Dimension!$A$4,B494=Dimension!$A$5),\"สถานประกอบการ\",\"\"))","v":""},{"$f":"IF(OR(B494=Dimension!$A$6,B494=Dimension!$A$7,B494=Dimension!$A$8,B494=Dimension!$A$9,B494=\"\"),\"\",Payment_ID2)","v":""},"",null,null,{"$f":"IF(D494=Dimension!$C$9,IF(LEFT(UPPER(E494),2)=\"MC\",TRUE,FALSE),TRUE)","v":true}]
[null,null,null,{"$f":"IF(B495=Dimension!$A$8,Dimension!$C$9,IF(B495=Dimension!$A$6,CD,\"\"))","v":""},null,{"$f":"IF(OR(B495=Dimension!$A$3,B495=Dimension!$A$4,B495=Dimension!$A$6,B495=Dimension!$A$8),CCYA,\"\")","v":""},{"$f":"IFERROR(VLOOKUP(F495,Dimension!$G$3:$H$252,2,FALSE),\"\")","v":""},{"$f":"IF(OR(B495=Dimension!$A$3,B495=Dimension!$A$4,B495=Dimension!$A$5),\"เดินทาง/ท่องเที่ยว\",\"\")","v":""},{"$f":"IF(OR(B495=Dimension!$A$6,B495=Dimension!$A$7,B495=Dimension!$A$8,B495=Dimension!$A$9),\"\",IF(OR(B495=Dimension!$A$3,B495=Dimension!$A$4,B495=Dimension!$A$5),\"สถานประกอบการ\",\"\"))","v":""},{"$f":"IF(OR(B495=Dimension!$A$3,B495=Dimension!$A$4,B495=Dimension!$A$5,B495=Dimension!$A$6,,B495=Dimension!$A$7,B495=Dimension!$A$8,B495=Dimension!$A$9),Payment_ID2,\"\")","v":""},null,{"$f":"IFERROR(VLOOKUP(K495,Dimension!$J$3:$K$179,2,FALSE),\"\")","v":""},null,null,{"$f":"IF(OR(B495=Dimension!$A$6,B495=Dimension!$A$7,B495=Dimension!$A$8,B495=Dimension!$A$9),\"\",IF(OR(B495=Dimension!$A$3,B495=Dimension!$A$4,B495=Dimension!$A$5),\"สถานประกอบการ\",\"\"))","v":""},{"$f":"IF(OR(B495=Dimension!$A$6,B495=Dimension!$A$7,B495=Dimension!$A$8,B495=Dimension!$A$9,B495=\"\"),\"\",Payment_ID2)","v":""},"",null,null,{"$f":"IF(D495=Dimension!$C$9,IF(LEFT(UPPER(E495),2)=\"MC\",TRUE,FALSE),TRUE)","v":true}]
[null,null,null,{"$f":"IF(B496=Dimension!$A$8,Dimension!$C$9,IF(B496=Dimension!$A$6,CD,\"\"))","v":""},null,{"$f":"IF(OR(B496=Dimension!$A$3,B496=Dimension!$A$4,B496=Dimension!$A$6,B496=Dimension!$A$8),CCYA,\"\")","v":""},{"$f":"IFERROR(VLOOKUP(F496,Dimension!$G$3:$H$252,2,FALSE),\"\")","v":""},{"$f":"IF(OR(B496=Dimension!$A$3,B496=Dimension!$A$4,B496=Dimension!$A$5),\"เดินทาง/ท่องเที่ยว\",\"\")","v":""},{"$f":"IF(OR(B496=Dimension!$A$6,B496=Dimension!$A$7,B496=Dimension!$A$8,B496=Dimension!$A$9),\"\",IF(OR(B496=Dimension!$A$3,B496=Dimension!$A$4,B496=Dimension!$A$5),\"สถานประกอบการ\",\"\"))","v":""},{"$f":"IF(OR(B496=Dimension!$A$3,B496=Dimension!$A$4,B496=Dimension!$A$5,B496=Dimension!$A$6,,B496=Dimension!$A$7,B496=Dimension!$A$8,B496=Dimension!$A$9),Payment_ID2,\"\")","v":""},null,{"$f":"IFERROR(VLOOKUP(K496,Dimension!$J$3:$K$179,2,FALSE),\"\")","v":""},null,null,{"$f":"IF(OR(B496=Dimension!$A$6,B496=Dimension!$A$7,B496=Dimension!$A$8,B496=Dimension!$A$9),\"\",IF(OR(B496=Dimension!$A$3,B496=Dimension!$A$4,B496=Dimension!$A$5),\"สถานประกอบการ\",\"\"))","v":""},{"$f":"IF(OR(B496=Dimension!$A$6,B496=Dimension!$A$7,B496=Dimension!$A$8,B496=Dimension!$A$9,B496=\"\"),\"\",Payment_ID2)","v":""},"",null,null,{"$f":"IF(D496=Dimension!$C$9,IF(LEFT(UPPER(E496),2)=\"MC\",TRUE,FALSE),TRUE)","v":true}]
[null,null,null,{"$f":"IF(B497=Dimension!$A$8,Dimension!$C$9,IF(B497=Dimension!$A$6,CD,\"\"))","v":""},null,{"$f":"IF(OR(B497=Dimension!$A$3,B497=Dimension!$A$4,B497=Dimension!$A$6,B497=Dimension!$A$8),CCYA,\"\")","v":""},{"$f":"IFERROR(VLOOKUP(F497,Dimension!$G$3:$H$252,2,FALSE),\"\")","v":""},{"$f":"IF(OR(B497=Dimension!$A$3,B497=Dimension!$A$4,B497=Dimension!$A$5),\"เดินทาง/ท่องเที่ยว\",\"\")","v":""},{"$f":"IF(OR(B497=Dimension!$A$6,B497=Dimension!$A$7,B497=Dimension!$A$8,B497=Dimension!$A$9),\"\",IF(OR(B497=Dimension!$A$3,B497=Dimension!$A$4,B497=Dimension!$A$5),\"สถานประกอบการ\",\"\"))","v":""},{"$f":"IF(OR(B497=Dimension!$A$3,B497=Dimension!$A$4,B497=Dimension!$A$5,B497=Dimension!$A$6,,B497=Dimension!$A$7,B497=Dimension!$A$8,B497=Dimension!$A$9),Payment_ID2,\"\")","v":""},null,{"$f":"IFERROR(VLOOKUP(K497,Dimension!$J$3:$K$179,2,FALSE),\"\")","v":""},null,null,{"$f":"IF(OR(B497=Dimension!$A$6,B497=Dimension!$A$7,B497=Dimension!$A$8,B497=Dimension!$A$9),\"\",IF(OR(B497=Dimension!$A$3,B497=Dimension!$A$4,B497=Dimension!$A$5),\"สถานประกอบการ\",\"\"))","v":""},{"$f":"IF(OR(B497=Dimension!$A$6,B497=Dimension!$A$7,B497=Dimension!$A$8,B497=Dimension!$A$9,B497=\"\"),\"\",Payment_ID2)","v":""},"",null,null,{"$f":"IF(D497=Dimension!$C$9,IF(LEFT(UPPER(E497),2)=\"MC\",TRUE,FALSE),TRUE)","v":true}]
[null,null,null,{"$f":"IF(B498=Dimension!$A$8,Dimension!$C$9,IF(B498=Dimension!$A$6,CD,\"\"))","v":""},null,{"$f":"IF(OR(B498=Dimension!$A$3,B498=Dimension!$A$4,B498=Dimension!$A$6,B498=Dimension!$A$8),CCYA,\"\")","v":""},{"$f":"IFERROR(VLOOKUP(F498,Dimension!$G$3:$H$252,2,FALSE),\"\")","v":""},{"$f":"IF(OR(B498=Dimension!$A$3,B498=Dimension!$A$4,B498=Dimension!$A$5),\"เดินทาง/ท่องเที่ยว\",\"\")","v":""},{"$f":"IF(OR(B498=Dimension!$A$6,B498=Dimension!$A$7,B498=Dimension!$A$8,B498=Dimension!$A$9),\"\",IF(OR(B498=Dimension!$A$3,B498=Dimension!$A$4,B498=Dimension!$A$5),\"สถานประกอบการ\",\"\"))","v":""},{"$f":"IF(OR(B498=Dimension!$A$3,B498=Dimension!$A$4,B498=Dimension!$A$5,B498=Dimension!$A$6,,B498=Dimension!$A$7,B498=Dimension!$A$8,B498=Dimension!$A$9),Payment_ID2,\"\")","v":""},null,{"$f":"IFERROR(VLOOKUP(K498,Dimension!$J$3:$K$179,2,FALSE),\"\")","v":""},null,null,{"$f":"IF(OR(B498=Dimension!$A$6,B498=Dimension!$A$7,B498=Dimension!$A$8,B498=Dimension!$A$9),\"\",IF(OR(B498=Dimension!$A$3,B498=Dimension!$A$4,B498=Dimension!$A$5),\"สถานประกอบการ\",\"\"))","v":""},{"$f":"IF(OR(B498=Dimension!$A$6,B498=Dimension!$A$7,B498=Dimension!$A$8,B498=Dimension!$A$9,B498=\"\"),\"\",Payment_ID2)","v":""},"",null,null,{"$f":"IF(D498=Dimension!$C$9,IF(LEFT(UPPER(E498),2)=\"MC\",TRUE,FALSE),TRUE)","v":true}]
[null,null,null,{"$f":"IF(B499=Dimension!$A$8,Dimension!$C$9,IF(B499=Dimension!$A$6,CD,\"\"))","v":""},null,{"$f":"IF(OR(B499=Dimension!$A$3,B499=Dimension!$A$4,B499=Dimension!$A$6,B499=Dimension!$A$8),CCYA,\"\")","v":""},{"$f":"IFERROR(VLOOKUP(F499,Dimension!$G$3:$H$252,2,FALSE),\"\")","v":""},{"$f":"IF(OR(B499=Dimension!$A$3,B499=Dimension!$A$4,B499=Dimension!$A$5),\"เดินทาง/ท่องเที่ยว\",\"\")","v":""},{"$f":"IF(OR(B499=Dimension!$A$6,B499=Dimension!$A$7,B499=Dimension!$A$8,B499=Dimension!$A$9),\"\",IF(OR(B499=Dimension!$A$3,B499=Dimension!$A$4,B499=Dimension!$A$5),\"สถานประกอบการ\",\"\"))","v":""},{"$f":"IF(OR(B499=Dimension!$A$3,B499=Dimension!$A$4,B499=Dimension!$A$5,B499=Dimension!$A$6,,B499=Dimension!$A$7,B499=Dimension!$A$8,B499=Dimension!$A$9),Payment_ID2,\"\")","v":""},null,{"$f":"IFERROR(VLOOKUP(K499,Dimension!$J$3:$K$179,2,FALSE),\"\")","v":""},null,null,{"$f":"IF(OR(B499=Dimension!$A$6,B499=Dimension!$A$7,B499=Dimension!$A$8,B499=Dimension!$A$9),\"\",IF(OR(B499=Dimension!$A$3,B499=Dimension!$A$4,B499=Dimension!$A$5),\"สถานประกอบการ\",\"\"))","v":""},{"$f":"IF(OR(B499=Dimension!$A$6,B499=Dimension!$A$7,B499=Dimension!$A$8,B499=Dimension!$A$9,B499=\"\"),\"\",Payment_ID2)","v":""},"",null,null,{"$f":"IF(D499=Dimension!$C$9,IF(LEFT(UPPER(E499),2)=\"MC\",TRUE,FALSE),TRUE)","v":true}]
[null,null,null,{"$f":"IF(B500=Dimension!$A$8,Dimension!$C$9,IF(B500=Dimension!$A$6,CD,\"\"))","v":""},null,{"$f":"IF(OR(B500=Dimension!$A$3,B500=Dimension!$A$4,B500=Dimension!$A$6,B500=Dimension!$A$8),CCYA,\"\")","v":""},{"$f":"IFERROR(VLOOKUP(F500,Dimension!$G$3:$H$252,2,FALSE),\"\")","v":""},{"$f":"IF(OR(B500=Dimension!$A$3,B500=Dimension!$A$4,B500=Dimension!$A$5),\"เดินทาง/ท่องเที่ยว\",\"\")","v":""},{"$f":"IF(OR(B500=Dimension!$A$6,B500=Dimension!$A$7,B500=Dimension!$A$8,B500=Dimension!$A$9),\"\",IF(OR(B500=Dimension!$A$3,B500=Dimension!$A$4,B500=Dimension!$A$5),\"สถานประกอบการ\",\"\"))","v":""},{"$f":"IF(OR(B500=Dimension!$A$3,B500=Dimension!$A$4,B500=Dimension!$A$5,B500=Dimension!$A$6,,B500=Dimension!$A$7,B500=Dimension!$A$8,B500=Dimension!$A$9),Payment_ID2,\"\")","v":""},null,{"$f":"IFERROR(VLOOKUP(K500,Dimension!$J$3:$K$179,2,FALSE),\"\")","v":""},null,null,{"$f":"IF(OR(B500=Dimension!$A$6,B500=Dimension!$A$7,B500=Dimension!$A$8,B500=Dimension!$A$9),\"\",IF(OR(B500=Dimension!$A$3,B500=Dimension!$A$4,B500=Dimension!$A$5),\"สถานประกอบการ\",\"\"))","v":""},{"$f":"IF(OR(B500=Dimension!$A$6,B500=Dimension!$A$7,B500=Dimension!$A$8,B500=Dimension!$A$9,B500=\"\"),\"\",Payment_ID2)","v":""},"",null,null,{"$f":"IF(D500=Dimension!$C$9,IF(LEFT(UPPER(E500),2)=\"MC\",TRUE,FALSE),TRUE)","v":true}]

{"sheet":"Sell FX","index":3,"n_rows":500,"n_cols":20,"rows_kept":500,"cut":false,"hidden":true,"merged":[[6,17,7,17],[7,5,7,6],[0,0,0,17],[6,0,7,0],[6,1,6,6],[6,7,7,7],[6,8,6,9],[6,10,7,11],[6,12,7,12],[6,13,7,13],[6,14,6,15],[6,16,7,16]]}
["รายงานการขายเงินตราต่างประเทศของบุคคลรับอนุญาต "]
["รหัสสถาบันผู้ส่งข้อมูล :",{"$f":"'Provider Info'!B2","v":0},"วันที่ชุดข้อมูล :",{"$f":"'Provider Info'!B9","v":"2020-03-31"}]
["ชื่อบุคคลรับอนุญาต :",{"$f":"'Provider Info'!B3","v":0},"ชื่อสถานประกอบการ หรือ ชื่อสาขา :",{"$f":"'Provider Info'!B5","v":0}]
["License No :",{"$f":"'Provider Info'!B4","v":0},"เลขที่ หรือรหัสพื้นที่ของสถานประกอบการ :",{"$f":"'Provider Info'!B6","v":0},null,{"$f":"IF(OR(B5=1,B5=3,B5=5,B5=7,B5=8,B5=10,B5=12),31,IF(OR(B5=4,B5=6,B5=9,B5=11),30,IF(MOD(V6,4)=0,29,28)))","v":31}]
["ประจำงวด (เดือน) :",{"$f":"VLOOKUP('Provider Info'!B7,Dimension!S3:T14,2,FALSE)","v":3},"ประจำงวด (ปี) :",{"$f":"'Provider Info'!B8","v":2020},null,null,null,null,null,null,null,null,null,null,null,null,null,"Column สีนี้ไม่ต้องกรอก"]
[]
["วันที่เกิดธุรกรรม","ข้อมูลลูกค้า",null,null,null,null,null,"วัตถุประสงค์","ขายเงินตราต่างประเทศ",null,"รหัสสกุลเงิน",null,"อัตราแลกเปลี่ยน","จำนวนเงินขาย\n(ตามสกุลเงินตราต่างประเทศ)","รับเงินบาท",null,"จำนวนเงิน\n(บาท)","หมายเหตุ"]
[null,"ประเภทของลูกค้า ","ชื่อลูกค้า","ประเภทรหัสลูกค้า","รหัสลูกค้า","สัญชาติ",null,null,"จุดขายเงินตราต่างประเทศ","ช่องทางขาย\nเงินตราต่างประเทศ",null,null,null,null,"จุดรับ\nเงินบาท","ช่องทางรับ\nเงินบาท"]
[null,null,null,{"$f":"IF(B9=Dimension!$A$8,Dimension!$C$9,IF(B9=Dimension!$A$6,CD,\"\"))","v":""},null,{"$f":"IF(OR(B9=Dimension!$A$3,B9=Dimension!$A$4,B9=Dimension!$A$6,B9=Dimension!$A$8),CCYA,\"\")","v":""},{"$f":"IFERROR(VLOOKUP(F9,Dimension!$G$3:$H$252,2,FALSE),\"\")","v":""},{"$f":"IF(OR(B9=Dimension!$A$3,B9=Dimension!$A$4,B9=Dimension!$A$5),\"เดินทาง/ท่องเที่ยว\",\"\")","v":""},{"$f":"IF(OR(B9=Dimension!$A$6,B9=Dimension!$A$7,B9=Dimension!$A$8,B9=Dimension!$A$9),\"\",IF(OR(B9=Dimension!$A$3,B9=Dimension!$A$4,B9=Dimension!$A$5),\"สถานประกอบการ\",\"\"))","v":""},{"$f":"IF(OR(B9=Dimension!$A$3,B9=Dimension!$A$4,B9=Dimension!$A$5,B9=Dimension!$A$6,,B9=Dimension!$A$7,B9=Dimension!$A$8,B9=Dimension!$A$9),Payment_ID2,\"\")","v":""},null,{"$f":"IFERROR(VLOOKUP(K9,Dimension!$J$3:$K$179,2,FALSE),\"\")","v":""},null,null,{"$f":"IF(OR(B9=Dimension!$A$6,B9=Dimension!$A$7,B9=Dimension!$A$8,B9=Dimension!$A$9),\"\",IF(OR(B9=Dimension!$A$3,B9=Dimension!$A$4,B9=Dimension!$A$5),\"สถานประกอบการ\",\"\"))","v":""},{"$f":"IF(OR(B9=Dimension!$A$6,B9=Dimension!$A$7,B9=Dimension!$A$8,B9=Dimension!$A$9,B9=\"\"),\"\",Payment_ID2)","v":""},{"$f":"IF(OR(M9=\"\",N9=\"\"),\"\",ROUND(M9*N9,2))","v":""},null,null,{"$f":"IF(D9=Dimension!$C$9,IF(LEFT(UPPER(E9),2)=\"MC\",TRUE,FALSE),TRUE)","v":true}]
[null,null,null,{"$f":"IF(B10=Dimension!$A$8,Dimension!$C$9,IF(B10=Dimension!$A$6,CD,\"\"))","v":""},null,{"$f":"IF(OR(B10=Dimension!$A$3,B10=Dimension!$A$4,B10=Dimension!$A$6,B10=Dimension!$A$8),CCYA,\"\")","v":""},{"$f":"IFERROR(VLOOKUP(F10,Dimension!$G$3:$H$252,2,FALSE),\"\")","v":""},{"$f":"IF(OR(B10=Dimension!$A$3,B10=Dimension!$A$4,B10=Dimension!$A$5),\"เดินทาง/ท่องเที่ยว\",\"\")","v":""},{"$f":"IF(OR(B10=Dimension!$A$6,B10=Dimension!$A$7,B10=Dimension!$A$8,B10=Dimension!$A$9),\"\",IF(OR(B10=Dimension!$A$3,B10=Dimension!$A$4,B10=Dimension!$A$5),\"สถานประกอบการ\",\"\"))","v":""},{"$f":"IF(OR(B10=Dimension!$A$3,B10=Dimension!$A$4,B10=Dimension!$A$5,B10=Dimension!$A$6,,B10=Dimension!$A$7,B10=Dimension!$A$8,B10=Dimension!$A$9),Payment_ID2,\"\")","v":""},null,{"$f":"IFERROR(VLOOKUP(K10,Dimension!$J$3:$K$179,2,FALSE),\"\")","v":""},null,null,{"$f":"IF(OR(B10=Dimension!$A$6,B10=Dimension!$A$7,B10=Dimension!$A$8,B10=Dimension!$A$9),\"\",IF(OR(B10=Dimension!$A$3,B10=Dimension!$A$4,B10=Dimension!$A$5),\"สถานประกอบการ\",\"\"))","v":""},{"$f":"IF(OR(B10=Dimension!$A$6,B10=Dimension!$A$7,B10=Dimension!$A$8,B10=Dimension!$A$9,B10=\"\"),\"\",Payment_ID2)","v":""},{"$f":"IF(OR(M10=\"\",N10=\"\"),\"\",ROUND(M10*N10,2))","v":""},null,null,{"$f":"IF(D10=Dimension!$C$9,IF(LEFT(UPPER(E10),2)=\"MC\",TRUE,FALSE),TRUE)","v":true}]
[null,null,null,{"$f":"IF(B11=Dimension!$A$8,Dimension!$C$9,IF(B11=Dimension!$A$6,CD,\"\"))","v":""},null,{"$f":"IF(OR(B11=Dimension!$A$3,B11=Dimension!$A$4,B11=Dimension!$A$6,B11=Dimension!$A$8),CCYA,\"\")","v":""},{"$f":"IFERROR(VLOOKUP(F11,Dimension!$G$3:$H$252,2,FALSE),\"\")","v":""},{"$f":"IF(OR(B11=Dimension!$A$3,B11=Dimension!$A$4,B11=Dimension!$A$5),\"เดินทาง/ท่องเที่ยว\",\"\")","v":""},{"$f":"IF(OR(B11=Dimension!$A$6,B11=Dimension!$A$7,B11=Dimension!$A$8,B11=Dimension!$A$9),\"\",IF(OR(B11=Dimension!$A$3,B11=Dimension!$A$4,B11=Dimension!$A$5),\"สถานประกอบการ\",\"\"))","v":""},{"$f":"IF(OR(B11=Dimension!$A$3,B11=Dimension!$A$4,B11=Dimension!$A$5,B11=Dimension!$A$6,,B11=Dimension!$A$7,B11=Dimension!$A$8,B11=Dimension!$A$9),Payment_ID2,\"\")","v":""},null,{"$f":"IFERROR(VLOOKUP(K11,Dimension!$J$3:$K$179,2,FALSE),\"\")","v":""},null,null,{"$f":"IF(OR(B11=Dimension!$A$6,B11=Dimension!$A$7,B11=Dimension!$A$8,B11=Dimension!$A$9),\"\",IF(OR(B11=Dimension!$A$3,B11=Dimension!$A$4,B11=Dimension!$A$5),\"สถานประกอบการ\",\"\"))","v":""},{"$f":"IF(OR(B11=Dimension!$A$6,B11=Dimension!$A$7,B11=Dimension!$A$8,B11=Dimension!$A$9,B11=\"\"),\"\",Payment_ID2)","v":""},"",null,null,{"$f":"IF(D11=Dimension!$C$9,IF(LEFT(UPPER(E11),2)=\"MC\",TRUE,FALSE),TRUE)","v":true}]
[null,null,null,{"$f":"IF(B12=Dimension!$A$8,Dimension!$C$9,IF(B12=Dimension!$A$6,CD,\"\"))","v":""},null,{"$f":"IF(OR(B12=Dimension!$A$3,B12=Dimension!$A$4,B12=Dimension!$A$6,B12=Dimension!$A$8),CCYA,\"\")","v":""},{"$f":"IFERROR(VLOOKUP(F12,Dimension!$G$3:$H$252,2,FALSE),\"\")","v":""},{"$f":"IF(OR(B12=Dimension!$A$3,B12=Dimension!$A$4,B12=Dimension!$A$5),\"เดินทาง/ท่องเที่ยว\",\"\")","v":""},{"$f":"IF(OR(B12=Dimension!$A$6,B12=Dimension!$A$7,B12=Dimension!$A$8,B12=Dimension!$A$9),\"\",IF(OR(B12=Dimension!$A$3,B12=Dimension!$A$4,B12=Dimension!$A$5),\"สถานประกอบการ\",\"\"))","v":""},{"$f":"IF(OR(B12=Dimension!$A$3,B12=Dimension!$A$4,B12=Dimension!$A$5,B12=Dimension!$A$6,,B12=Dimension!$A$7,B12=Dimension!$A$8,B12=Dimension!$A$9),Payment_ID2,\"\")","v":""},null,{"$f":"IFERROR(VLOOKUP(K12,Dimension!$J$3:$K$179,2,FALSE),\"\")","v":""},null,null,{"$f":"IF(OR(B12=Dimension!$A$6,B12=Dimension!$A$7,B12=Dimension!$A$8,B12=Dimension!$A$9),\"\",IF(OR(B12=Dimension!$A$3,B12=Dimension!$A$4,B12=Dimension!$A$5),\"สถานประกอบการ\",\"\"))","v":""},{"$f":"IF(OR(B12=Dimension!$A$6,B12=Dimension!$A$7,B12=Dimension!$A$8,B12=Dimension!$A$9,B12=\"\"),\"\",Payment_ID2)","v":""},"",null,null,{"$f":"IF(D12=Dimension!$C$9,IF(LEFT(UPPER(E12),2)=\"MC\",TRUE,FALSE),TRUE)","v":true}]
[null,null,null,{"$f":"IF(B13=Dimension!$A$8,Dimension!$C$9,IF(B13=Dimension!$A$6,CD,\"\"))","v":""},null,{"$f":"IF(OR(B13=Dimension!$A$3,B13=Dimension!$A$4,B13=Dimension!$A$6,B13=Dimension!$A$8),CCYA,\"\")","v":""},{"$f":"IFERROR(VLOOKUP(F13,Dimension!$G$3:$H$252,2,FALSE),\"\")","v":""},{"$f":"IF(OR(B13=Dimension!$A$3,B13=Dimension!$A$4,B13=Dimension!$A$5),\"เดินทาง/ท่องเที่ยว\",\"\")","v":""},{"$f":"IF(OR(B13=Dimension!$A$6,B13=Dimension!$A$7,B13=Dimension!$A$8,B13=Dimension!$A$9),\"\",IF(OR(B13=Dimension!$A$3,B13=Dimension!$A$4,B13=Dimension!$A$5),\"สถานประกอบการ\",\"\"))","v":""},{"$f":"IF(OR(B13=Dimension!$A$3,B13=Dimension!$A$4,B13=Dimension!$A$5,B13=Dimension!$A$6,,B13=Dimension!$A$7,B13=Dimension!$A$8,B13=Dimension!$A$9),Payment_ID2,\"\")","v":""},null,{"$f":"IFERROR(VLOOKUP(K13,Dimension!$J$3:$K$179,2,FALSE),\"\")","v":""},null,null,{"$f":"IF(OR(B13=Dimension!$A$6,B13=Dimension!$A$7,B13=Dimension!$A$8,B13=Dimension!$A$9),\"\",IF(OR(B13=Dimension!$A$3,B13=Dimension!$A$4,B13=Dimension!$A$5),\"สถานประกอบการ\",\"\"))","v":""},{"$f":"IF(OR(B13=Dimension!$A$6,B13=Dimension!$A$7,B13=Dimension!$A$8,B13=Dimension!$A$9,B13=\"\"),\"\",Payment_ID2)","v":""},"",null,null,{"$f":"IF(D13=Dimension!$C$9,IF(LEFT(UPPER(E13),2)=\"MC\",TRUE,FALSE),TRUE)","v":true}]
[null,null,null,{"$f":"IF(B14=Dimension!$A$8,Dimension!$C$9,IF(B14=Dimension!$A$6,CD,\"\"))","v":""},null,{"$f":"IF(OR(B14=Dimension!$A$3,B14=Dimension!$A$4,B14=Dimension!$A$6,B14=Dimension!$A$8),CCYA,\"\")","v":""},{"$f":"IFERROR(VLOOKUP(F14,Dimension!$G$3:$H$252,2,FALSE),\"\")","v":""},{"$f":"IF(OR(B14=Dimension!$A$3,B14=Dimension!$A$4,B14=Dimension!$A$5),\"เดินทาง/ท่องเที่ยว\",\"\")","v":""},{"$f":"IF(OR(B14=Dimension!$A$6,B14=Dimension!$A$7,B14=Dimension!$A$8,B14=Dimension!$A$9),\"\",IF(OR(B14=Dimension!$A$3,B14=Dimension!$A$4,B14=Dimension!$A$5),\"สถานประกอบการ\",\"\"))","v":""},{"$f":"IF(OR(B14=Dimension!$A$3,B14=Dimension!$A$4,B14=Dimension!$A$5,B14=Dimension!$A$6,,B14=Dimension!$A$7,B14=Dimension!$A$8,B14=Dimension!$A$9),Payment_ID2,\"\")","v":""},null,{"$f":"IFERROR(VLOOKUP(K14,Dimension!$J$3:$K$179,2,FALSE),\"\")","v":""},null,null,{"$f":"IF(OR(B14=Dimension!$A$6,B14=Dimension!$A$7,B14=Dimension!$A$8,B14=Dimension!$A$9),\"\",IF(OR(B14=Dimension!$A$3,B14=Dimension!$A$4,B14=Dimension!$A$5),\"สถานประกอบการ\",\"\"))","v":""},{"$f":"IF(OR(B14=Dimension!$A$6,B14=Dimension!$A$7,B14=Dimension!$A$8,B14=Dimension!$A$9,B14=\"\"),\"\",Payment_ID2)","v":""},"",null,null,{"$f":"IF(D14=Dimension!$C$9,IF(LEFT(UPPER(E14),2)=\"MC\",TRUE,FALSE),TRUE)","v":true}]
[null,null,null,{"$f":"IF(B15=Dimension!$A$8,Dimension!$C$9,IF(B15=Dimension!$A$6,CD,\"\"))","v":""},null,{"$f":"IF(OR(B15=Dimension!$A$3,B15=Dimension!$A$4,B15=Dimension!$A$6,B15=Dimension!$A$8),CCYA,\"\")","v":""},{"$f":"IFERROR(VLOOKUP(F15,Dimension!$G$3:$H$252,2,FALSE),\"\")","v":""},{"$f":"IF(OR(B15=Dimension!$A$3,B15=Dimension!$A$4,B15=Dimension!$A$5),\"เดินทาง/ท่องเที่ยว\",\"\")","v":""},{"$f":"IF(OR(B15=Dimension!$A$6,B15=Dimension!$A$7,B15=Dimension!$A$8,B15=Dimension!$A$9),\"\",IF(OR(B15=Dimension!$A$3,B15=Dimension!$A$4,B15=Dimension!$A$5),\"สถานประกอบการ\",\"\"))","v":""},{"$f":"IF(OR(B15=Dimension!$A$3,B15=Dimension!$A$4,B15=Dimension!$A$5,B15=Dimension!$A$6,,B15=Dimension!$A$7,B15=Dimension!$A$8,B15=Dimension!$A$9),Payment_ID2,\"\")","v":""},null,{"$f":"IFERROR(VLOOKUP(K15,Dimension!$J$3:$K$179,2,FALSE),\"\")","v":""},null,null,{"$f":"IF(OR(B15=Dimension!$A$6,B15=Dimension!$A$7,B15=Dimension!$A$8,B15=Dimension!$A$9),\"\",IF(OR(B15=Dimension!$A$3,B15=Dimension!$A$4,B15=Dimension!$A$5),\"สถานประกอบการ\",\"\"))","v":""},{"$f":"IF(OR(B15=Dimension!$A$6,B15=Dimension!$A$7,B15=Dimension!$A$8,B15=Dimension!$A$9,B15=\"\"),\"\",Payment_ID2)","v":""},"",null,null,{"$f":"IF(D15=Dimension!$C$9,IF(LEFT(UPPER(E15),2)=\"MC\",TRUE,FALSE),TRUE)","v":true}]
[null,null,null,{"$f":"IF(B16=Dimension!$A$8,Dimension!$C$9,IF(B16=Dimension!$A$6,CD,\"\"))","v":""},null,{"$f":"IF(OR(B16=Dimension!$A$3,B16=Dimension!$A$4,B16=Dimension!$A$6,B16=Dimension!$A$8),CCYA,\"\")","v":""},{"$f":"IFERROR(VLOOKUP(F16,Dimension!$G$3:$H$252,2,FALSE),\"\")","v":""},{"$f":"IF(OR(B16=Dimension!$A$3,B16=Dimension!$A$4,B16=Dimension!$A$5),\"เดินทาง/ท่องเที่ยว\",\"\")","v":""},{"$f":"IF(OR(B16=Dimension!$A$6,B16=Dimension!$A$7,B16=Dimension!$A$8,B16=Dimension!$A$9),\"\",IF(OR(B16=Dimension!$A$3,B16=Dimension!$A$4,B16=Dimension!$A$5),\"สถานประกอบการ\",\"\"))","v":""},{"$f":"IF(OR(B16=Dimension!$A$3,B16=Dimension!$A$4,B16=Dimension!$A$5,B16=Dimension!$A$6,,B16=Dimension!$A$7,B16=Dimension!$A$8,B16=Dimension!$A$9),Payment_ID2,\"\")","v":""},null,{"$f":"IFERROR(VLOOKUP(K16,Dimension!$J$3:$K$179,2,FALSE),\"\")","v":""},null,null,{"$f":"IF(OR(B16=Dimension!$A$6,B16=Dimension!$A$7,B16=Dimension!$A$8,B16=Dimension!$A$9),\"\",IF(OR(B16=Dimension!$A$3,B16=Dimension!$A$4,B16=Dimension!$A$5),\"สถานประกอบการ\",\"\"))","v":""},{"$f":"IF(OR(B16=Dimension!$A$6,B16=Dimension!$A$7,B16=Dimension!$A$8,B16=Dimension!$A$9,B16=\"\"),\"\",Payment_ID2)","v":""},"",null,null,{"$f":"IF(D16=Dimension!$C$9,IF(LEFT(UPPER(E16),2)=\"MC\",TRUE,FALSE),TRUE)","v":true}]
[null,null,null,{"$f":"IF(B17=Dimension!$A$8,Dimension!$C$9,IF(B17=Dimension!$A$6,CD,\"\"))","v":""},null,{"$f":"IF(OR(B17=Dimension!$A$3,B17=Dimension!$A$4,B17=Dimension!$A$6,B17=Dimension!$A$8),CCYA,\"\")","v":""},{"$f":"IFERROR(VLOOKUP(F17,Dimension!$G$3:$H$252,2,FALSE),\"\")","v":""},{"$f":"IF(OR(B17=Dimension!$A$3,B17=Dimension!$A$4,B17=Dimension!$A$5),\"เดินทาง/ท่องเที่ยว\",\"\")","v":""},{"$f":"IF(OR(B17=Dimension!$A$6,B17=Dimension!$A$7,B17=Dimension!$A$8,B17=Dimension!$A$9),\"\",IF(OR(B17=Dimension!$A$3,B17=Dimension!$A$4,B17=Dimension!$A$5),\"สถานประกอบการ\",\"\"))","v":""},{"$f":"IF(OR(B17=Dimension!$A$3,B17=Dimension!$A$4,B17=Dimension!$A$5,B17=Dimension!$A$6,,B17=Dimension!$A$7,B17=Dimension!$A$8,B17=Dimension!$A$9),Payment_ID2,\"\")","v":""},null,{"$f":"IFERROR(VLOOKUP(K17,Dimension!$J$3:$K$179,2,FALSE),\"\")","v":""},null,null,{"$f":"IF(OR(B17=Dimension!$A$6,B17=Dimension!$A$7,B17=Dimension!$A$8,B17=Dimension!$A$9),\"\",IF(OR(B17=Dimension!$A$3,B17=Dimension!$A$4,B17=Dimension!$A$5),\"สถานประกอบการ\",\"\"))","v":""},{"$f":"IF(OR(B17=Dimension!$A$6,B17=Dimension!$A$7,B17=Dimension!$A$8,B17=Dimension!$A$9,B17=\"\"),\"\",Payment_ID2)","v":""},"",null,null,{"$f":"IF(D17=Dimension!$C$9,IF(LEFT(UPPER(E17),2)=\"MC\",TRUE,FALSE),TRUE)","v":true}]
[null,null,null,{"$f":"IF(B18=Dimension!$A$8,Dimension!$C$9,IF(B18=Dimension!$A$6,CD,\"\"))","v":""},null,{"$f":"IF(OR(B18=Dimension!$A$3,B18=Dimension!$A$4,B18=Dimension!$A$6,B18=Dimension!$A$8),CCYA,\"\")","v":""},{"$f":"IFERROR(VLOOKUP(F18,Dimension!$G$3:$H$252,2,FALSE),\"\")","v":""},{"$f":"IF(OR(B18=Dimension!$A$3,B18=Dimension!$A$4,B18=Dimension!$A$5),\"เดินทาง/ท่องเที่ยว\",\"\")","v":""},{"$f":"IF(OR(B18=Dimension!$A$6,B18=Dimension!$A$7,B18=Dimension!$A$8,B18=Dimension!$A$9),\"\",IF(OR(B18=Dimension!$A$3,B18=Dimension!$A$4,B18=Dimension!$A$5),\"สถานประกอบการ\",\"\"))","v":""},{"$f":"IF(OR(B18=Dimension!$A$3,B18=Dimension!$A$4,B18=Dimension!$A$5,B18=Dimension!$A$6,,B18=Dimension!$A$7,B18=Dimension!$A$8,B18=Dimension!$A$9),Payment_ID2,\"\")","v":""},null,{"$f":"IFERROR(VLOOKUP(K18,Dimension!$J$3:$K$179,2,FALSE),\"\")","v":""},null,null,{"$f":"IF(OR(B18=Dimension!$A$6,B18=Dimension!$A$7,B18=Dimension!$A$8,B18=Dimension!$A$9),\"\",IF(OR(B18=Dimension!$A$3,B18=Dimension!$A$4,B18=Dimension!$A$5),\"สถานประกอบการ\",\"\"))","v":""},{"$f":"IF(OR(B18=Dimension!$A$6,B18=Dimension!$A$7,B18=Dimension!$A$8,B18=Dimension!$A$9,B18=\"\"),\"\",Payment_ID2)","v":""},"",null,null,{"$f":"IF(D18=Dimension!$C$9,IF(LEFT(UPPER(E18),2)=\"MC\",TRUE,FALSE),TRUE)","v":true}]
[null,null,null,{"$f":"IF(B19=Dimension!$A$8,Dimension!$C$9,IF(B19=Dimension!$A$6,CD,\"\"))","v":""},null,{"$f":"IF(OR(B19=Dimension!$A$3,B19=Dimension!$A$4,B19=Dimension!$A$6,B19=Dimension!$A$8),CCYA,\"\")","v":""},{"$f":"IFERROR(VLOOKUP(F19,Dimension!$G$3:$H$252,2,FALSE),\"\")","v":""},{"$f":"IF(OR(B19=Dimension!$A$3,B19=Dimension!$A$4,B19=Dimension!$A$5),\"เดินทาง/ท่องเที่ยว\",\"\")","v":""},{"$f":"IF(OR(B19=Dimension!$A$6,B19=Dimension!$A$7,B19=Dimension!$A$8,B19=Dimension!$A$9),\"\",IF(OR(B19=Dimension!$A$3,B19=Dimension!$A$4,B19=Dimension!$A$5),\"สถานประกอบการ\",\"\"))","v":""},{"$f":"IF(OR(B19=Dimension!$A$3,B19=Dimension!$A$4,B19=Dimension!$A$5,B19=Dimension!$A$6,,B19=Dimension!$A$7,B19=Dimension!$A$8,B19=Dimension!$A$9),Payment_ID2,\"\")","v":""},null,{"$f":"IFERROR(VLOOKUP(K19,Dimension!$J$3:$K$179,2,FALSE),\"\")","v":""},null,null,{"$f":"IF(OR(B19=Dimension!$A$6,B19=Dimension!$A$7,B19=Dimension!$A$8,B19=Dimension!$A$9),\"\",IF(OR(B19=Dimension!$A$3,B19=Dimension!$A$4,B19=Dimension!$A$5),\"สถานประกอบการ\",\"\"))","v":""},{"$f":"IF(OR(B19=Dimension!$A$6,B19=Dimension!$A$7,B19=Dimension!$A$8,B19=Dimension!$A$9,B19=\"\"),\"\",Payment_ID2)","v":""},"",null,null,{"$f":"IF(D19=Dimension!$C$9,IF(LEFT(UPPER(E19),2)=\"MC\",TRUE,FALSE),TRUE)","v":true}]
[null,null,null,{"$f":"IF(B20=Dimension!$A$8,Dimension!$C$9,IF(B20=Dimension!$A$6,CD,\"\"))","v":""},null,{"$f":"IF(OR(B20=Dimension!$A$3,B20=Dimension!$A$4,B20=Dimension!$A$6,B20=Dimension!$A$8),CCYA,\"\")","v":""},{"$f":"IFERROR(VLOOKUP(F20,Dimension!$G$3:$H$252,2,FALSE),\"\")","v":""},{"$f":"IF(OR(B20=Dimension!$A$3,B20=Dimension!$A$4,B20=Dimension!$A$5),\"เดินทาง/ท่องเที่ยว\",\"\")","v":""},{"$f":"IF(OR(B20=Dimension!$A$6,B20=Dimension!$A$7,B20=Dimension!$A$8,B20=Dimension!$A$9),\"\",IF(OR(B20=Dimension!$A$3,B20=Dimension!$A$4,B20=Dimension!$A$5),\"สถานประกอบการ\",\"\"))","v":""},{"$f":"IF(OR(B20=Dimension!$A$3,B20=Dimension!$A$4,B20=Dimension!$A$5,B20=Dimension!$A$6,,B20=Dimension!$A$7,B20=Dimension!$A$8,B20=Dimension!$A$9),Payment_ID2,\"\")","v":""},null,{"$f":"IFERROR(VLOOKUP(K20,Dimension!$J$3:$K$179,2,FALSE),\"\")","v":""},null,null,{"$f":"IF(OR(B20=Dimension!$A$6,B20=Dimension!$A$7,B20=Dimension!$A$8,B20=Dimension!$A$9),\"\",IF(OR(B20=Dimension!$A$3,B20=Dimension!$A$4,B20=Dimension!$A$5),\"สถานประกอบการ\",\"\"))","v":""},{"$f":"IF(OR(B20=Dimension!$A$6,B20=Dimension!$A$7,B20=Dimension!$A$8,B20=Dimension!$A$9,B20=\"\"),\"\",Payment_ID2)","v":""},"",null,null,{"$f":"IF(D20=Dimension!$C$9,IF(LEFT(UPPER(E20),2)=\"MC\",TRUE,FALSE),TRUE)","v":true}]
[null,null,null,{"$f":"IF(B21=Dimension!$A$8,Dimension!$C$9,IF(B21=Dimension!$A$6,CD,\"\"))","v":""},null,{"$f":"IF(OR(B21=Dimension!$A$3,B21=Dimension!$A$4,B21=Dimension!$A$6,B21=Dimension!$A$8),CCYA,\"\")","v":""},{"$f":"IFERROR(VLOOKUP(F21,Dimension!$G$3:$H$252,2,FALSE),\"\")","v":""},{"$f":"IF(OR(B21=Dimension!$A$3,B21=Dimension!$A$4,B21=Dimension!$A$5),\"เดินทาง/ท่องเที่ยว\",\"\")","v":""},{"$f":"IF(OR(B21=Dimension!$A$6,B21=Dimension!$A$7,B21=Dimension!$A$8,B21=Dimension!$A$9),\"\",IF(OR(B21=Dimension!$A$3,B21=Dimension!$A$4,B21=Dimension!$A$5),\"สถานประกอบการ\",\"\"))","v":""},{"$f":"IF(OR(B21=Dimension!$A$3,B21=Dimension!$A$4,B21=Dimension!$A$5,B21=Dimension!$A$6,,B21=Dimension!$A$7,B21=Dimension!$A$8,B21=Dimension!$A$9),Payment_ID2,\"\")","v":""},null,{"$f":"IFERROR(VLOOKUP(K21,Dimension!$J$3:$K$179,2,FALSE),\"\")","v":""},null,null,{"$f":"IF(OR(B21=Dimension!$A$6,B21=Dimension!$A$7,B21=Dimension!$A$8,B21=Dimension!$A$9),\"\",IF(OR(B21=Dimension!$A$3,B21=Dimension!$A$4,B21=Dimension!$A$5),\"สถานประกอบการ\",\"\"))","v":""},{"$f":"IF(OR(B21=Dimension!$A$6,B21=Dimension!$A$7,B21=Dimension!$A$8,B21=Dimension!$A$9,B21=\"\"),\"\",Payment_ID2)","v":""},"",null,null,{"$f":"IF(D21=Dimension!$C$9,IF(LEFT(UPPER(E21),2)=\"MC\",TRUE,FALSE),TRUE)","v":true}]
[null,null,null,{"$f":"IF(B22=Dimension!$A$8,Dimension!$C$9,IF(B22=Dimension!$A$6,CD,\"\"))","v":""},null,{"$f":"IF(OR(B22=Dimension!$A$3,B22=Dimension!$A$4,B22=Dimension!$A$6,B22=Dimension!$A$8),CCYA,\"\")","v":""},{"$f":"IFERROR(VLOOKUP(F22,Dimension!$G$3:$H$252,2,FALSE),\"\")","v":""},{"$f":"IF(OR(B22=Dimension!$A$3,B22=Dimension!$A$4,B22=Dimension!$A$5),\"เดินทาง/ท่องเที่ยว\",\"\")","v":""},{"$f":"IF(OR(B22=Dimension!$A$6,B22=Dimension!$A$7,B22=Dimension!$A$8,B22=Dimension!$A$9),\"\",IF(OR(B22=Dimension!$A$3,B22=Dimension!$A$4,B22=Dimension!$A$5),\"สถานประกอบการ\",\"\"))","v":""},{"$f":"IF(OR(B22=Dimension!$A$3,B22=Dimension!$A$4,B22=Dimension!$A$5,B22=Dimension!$A$6,,B22=Dimension!$A$7,B22=Dimension!$A$8,B22=Dimension!$A$9),Payment_ID2,\"\")","v":""},null,{"$f":"IFERROR(VLOOKUP(K22,Dimension!$J$3:$K$179,2,FALSE),\"\")","v":""},null,null,{"$f":"IF(OR(B22=Dimension!$A$6,B22=Dimension!$A$7,B22=Dimension!$A$8,B22=Dimension!$A$9),\"\",IF(OR(B22=Dimension!$A$3,B22=Dimension!$A$4,B22=Dimension!$A$5),\"สถานประกอบการ\",\"\"))","v":""},{"$f":"IF(OR(B22=Dimension!$A$6,B22=Dimension!$A$7,B22=Dimension!$A$8,B22=Dimension!$A$9,B22=\"\"),\"\",Payment_ID2)","v":""},"",null,null,{"$f":"IF(D22=Dimension!$C$9,IF(LEFT(UPPER(E22),2)=\"MC\",TRUE,FALSE),TRUE)","v":true}]
[null,null,null,{"$f":"IF(B23=Dimension!$A$8,Dimension!$C$9,IF(B23=Dimension!$A$6,CD,\"\"))","v":""},null,{"$f":"IF(OR(B23=Dimension!$A$3,B23=Dimension!$A$4,B23=Dimension!$A$6,B23=Dimension!$A$8),CCYA,\"\")","v":""},{"$f":"IFERROR(VLOOKUP(F23,Dimension!$G$3:$H$252,2,FALSE),\"\")","v":""},{"$f":"IF(OR(B23=Dimension!$A$3,B23=Dimension!$A$4,B23=Dimension!$A$5),\"เดินทาง/ท่องเที่ยว\",\"\")","v":""},{"$f":"IF(OR(B23=Dimension!$A$6,B23=Dimension!$A$7,B23=Dimension!$A$8,B23=Dimension!$A$9),\"\",IF(OR(B23=Dimension!$A$3,B23=Dimension!$A$4,B23=Dimension!$A$5),\"สถานประกอบการ\",\"\"))","v":""},{"$f":"IF(OR(B23=Dimension!$A$3,B23=Dimension!$A$4,B23=Dimension!$A$5,B23=Dimension!$A$6,,B23=Dimension!$A$7,B23=Dimension!$A$8,B23=Dimension!$A$9),Payment_ID2,\"\")","v":""},null,{"$f":"IFERROR(VLOOKUP(K23,Dimension!$J$3:$K$179,2,FALSE),\"\")","v":""},null,null,{"$f":"IF(OR(B23=Dimension!$A$6,B23=Dimension!$A$7,B23=Dimension!$A$8,B23=Dimension!$A$9),\"\",IF(OR(B23=Dimension!$A$3,B23=Dimension!$A$4,B23=Dimension!$A$5),\"สถานประกอบการ\",\"\"))","v":""},{"$f":"IF(OR(B23=Dimension!$A$6,B23=Dimension!$A$7,B23=Dimension!$A$8,B23=Dimension!$A$9,B23=\"\"),\"\",Payment_ID2)","v":""},"",null,null,{"$f":"IF(D23=Dimension!$C$9,IF(LEFT(UPPER(E23),2)=\"MC\",TRUE,FALSE),TRUE)","v":true}]
[null,null,null,{"$f":"IF(B24=Dimension!$A$8,Dimension!$C$9,IF(B24=Dimension!$A$6,CD,\"\"))","v":""},null,{"$f":"IF(OR(B24=Dimension!$A$3,B24=Dimension!$A$4,B24=Dimension!$A$6,B24=Dimension!$A$8),CCYA,\"\")","v":""},{"$f":"IFERROR(VLOOKUP(F24,Dimension!$G$3:$H$252,2,FALSE),\"\")","v":""},{"$f":"IF(OR(B24=Dimension!$A$3,B24=Dimension!$A$4,B24=Dimension!$A$5),\"เดินทาง/ท่องเที่ยว\",\"\")","v":""},{"$f":"IF(OR(B24=Dimension!$A$6,B24=Dimension!$A$7,B24=Dimension!$A$8,B24=Dimension!$A$9),\"\",IF(OR(B24=Dimension!$A$3,B24=Dimension!$A$4,B24=Dimension!$A$5),\"สถานประกอบการ\",\"\"))","v":""},{"$f":"IF(OR(B24=Dimension!$A$3,B24=Dimension!$A$4,B24=Dimension!$A$5,B24=Dimension!$A$6,,B24=Dimension!$A$7,B24=Dimension!$A$8,B24=Dimension!$A$9),Payment_ID2,\"\")","v":""},null,{"$f":"IFERROR(VLOOKUP(K24,Dimension!$J$3:$K$179,2,FALSE),\"\")","v":""},null,null,{"$f":"IF(OR(B24=Dimension!$A$6,B24=Dimension!$A$7,B24=Dimension!$A$8,B24=Dimension!$A$9),\"\",IF(OR(B24=Dimension!$A$3,B24=Dimension!$A$4,B24=Dimension!$A$5),\"สถานประกอบการ\",\"\"))","v":""},{"$f":"IF(OR(B24=Dimension!$A$6,B24=Dimension!$A$7,B24=Dimension!$A$8,B24=Dimension!$A$9,B24=\"\"),\"\",Payment_ID2)","v":""},"",null,null,{"$f":"IF(D24=Dimension!$C$9,IF(LEFT(UPPER(E24),2)=\"MC\",TRUE,FALSE),TRUE)","v":true}]
[null,null,null,{"$f":"IF(B25=Dimension!$A$8,Dimension!$C$9,IF(B25=Dimension!$A$6,CD,\"\"))","v":""},null,{"$f":"IF(OR(B25=Dimension!$A$3,B25=Dimension!$A$4,B25=Dimension!$A$6,B25=Dimension!$A$8),CCYA,\"\")","v":""},{"$f":"IFERROR(VLOOKUP(F25,Dimension!$G$3:$H$252,2,FALSE),\"\")","v":""},{"$f":"IF(OR(B25=Dimension!$A$3,B25=Dimension!$A$4,B25=Dimension!$A$5),\"เดินทาง/ท่องเที่ยว\",\"\")","v":""},{"$f":"IF(OR(B25=Dimension!$A$6,B25=Dimension!$A$7,B25=Dimension!$A$8,B25=Dimension!$A$9),\"\",IF(OR(B25=Dimension!$A$3,B25=Dimension!$A$4,B25=Dimension!$A$5),\"สถานประกอบการ\",\"\"))","v":""},{"$f":"IF(OR(B25=Dimension!$A$3,B25=Dimension!$A$4,B25=Dimension!$A$5,B25=Dimension!$A$6,,B25=Dimension!$A$7,B25=Dimension!$A$8,B25=Dimension!$A$9),Payment_ID2,\"\")","v":""},null,{"$f":"IFERROR(VLOOKUP(K25,Dimension!$J$3:$K$179,2,FALSE),\"\")","v":""},null,null,{"$f":"IF(OR(B25=Dimension!$A$6,B25=Dimension!$A$7,B25=Dimension!$A$8,B25=Dimension!$A$9),\"\",IF(OR(B25=Dimension!$A$3,B25=Dimension!$A$4,B25=Dimension!$A$5),\"สถานประกอบการ\",\"\"))","v":""},{"$f":"IF(OR(B25=Dimension!$A$6,B25=Dimension!$A$7,B25=Dimension!$A$8,B25=Dimension!$A$9,B25=\"\"),\"\",Payment_ID2)","v":""},"",null,null,{"$f":"IF(D25=Dimension!$C$9,IF(LEFT(UPPER(E25),2)=\"MC\",TRUE,FALSE),TRUE)","v":true}]
[null,null,null,{"$f":"IF(B26=Dimension!$A$8,Dimension!$C$9,IF(B26=Dimension!$A$6,CD,\"\"))","v":""},null,{"$f":"IF(OR(B26=Dimension!$A$3,B26=Dimension!$A$4,B26=Dimension!$A$6,B26=Dimension!$A$8),CCYA,\"\")","v":""},{"$f":"IFERROR(VLOOKUP(F26,Dimension!$G$3:$H$252,2,FALSE),\"\")","v":""},{"$f":"IF(OR(B26=Dimension!$A$3,B26=Dimension!$A$4,B26=Dimension!$A$5),\"เดินทาง/ท่องเที่ยว\",\"\")","v":""},{"$f":"IF(OR(B26=Dimension!$A$6,B26=Dimension!$A$7,B26=Dimension!$A$8,B26=Dimension!$A$9),\"\",IF(OR(B26=Dimension!$A$3,B26=Dimension!$A$4,B26=Dimension!$A$5),\"สถานประกอบการ\",\"\"))","v":""},{"$f":"IF(OR(B26=Dimension!$A$3,B26=Dimension!$A$4,B26=Dimension!$A$5,B26=Dimension!$A$6,,B26=Dimension!$A$7,B26=Dimension!$A$8,B26=Dimension!$A$9),Payment_ID2,\"\")","v":""},null,{"$f":"IFERROR(VLOOKUP(K26,Dimension!$J$3:$K$179,2,FALSE),\"\")","v":""},null,null,{"$f":"IF(OR(B26=Dimension!$A$6,B26=Dimension!$A$7,B26=Dimension!$A$8,B26=Dimension!$A$9),\"\",IF(OR(B26=Dimension!$A$3,B26=Dimension!$A$4,B26=Dimension!$A$5),\"สถานประกอบการ\",\"\"))","v":""},{"$f":"IF(OR(B26=Dimension!$A$6,B26=Dimension!$A$7,B26=Dimension!$A$8,B26=Dimension!$A$9,B26=\"\"),\"\",Payment_ID2)","v":""},"",null,null,{"$f":"IF(D26=Dimension!$C$9,IF(LEFT(UPPER(E26),2)=\"MC\",TRUE,FALSE),TRUE)","v":true}]
[null,null,null,{"$f":"IF(B27=Dimension!$A$8,Dimension!$C$9,IF(B27=Dimension!$A$6,CD,\"\"))","v":""},null,{"$f":"IF(OR(B27=Dimension!$A$3,B27=Dimension!$A$4,B27=Dimension!$A$6,B27=Dimension!$A$8),CCYA,\"\")","v":""},{"$f":"IFERROR(VLOOKUP(F27,Dimension!$G$3:$H$252,2,FALSE),\"\")","v":""},{"$f":"IF(OR(B27=Dimension!$A$3,B27=Dimension!$A$4,B27=Dimension!$A$5),\"เดินทาง/ท่องเที่ยว\",\"\")","v":""},{"$f":"IF(OR(B27=Dimension!$A$6,B27=Dimension!$A$7,B27=Dimension!$A$8,B27=Dimension!$A$9),\"\",IF(OR(B27=Dimension!$A$3,B27=Dimension!$A$4,B27=Dimension!$A$5),\"สถานประกอบการ\",\"\"))","v":""},{"$f":"IF(OR(B27=Dimension!$A$3,B27=Dimension!$A$4,B27=Dimension!$A$5,B27=Dimension!$A$6,,B27=Dimension!$A$7,B27=Dimension!$A$8,B27=Dimension!$A$9),Payment_ID2,\"\")","v":""},null,{"$f":"IFERROR(VLOOKUP(K27,Dimension!$J$3:$K$179,2,FALSE),\"\")","v":""},null,null,{"$f":"IF(OR(B27=Dimension!$A$6,B27=Dimension!$A$7,B27=Dimension!$A$8,B27=Dimension!$A$9),\"\",IF(OR(B27=Dimension!$A$3,B27=Dimension!$A$4,B27=Dimension!$A$5),\"สถานประกอบการ\",\"\"))","v":""},{"$f":"IF(OR(B27=Dimension!$A$6,B27=Dimension!$A$7,B27=Dimension!$A$8,B27=Dimension!$A$9,B27=\"\"),\"\",Payment_ID2)","v":""},"",null,null,{"$f":"IF(D27=Dimension!$C$9,IF(LEFT(UPPER(E27),2)=\"MC\",TRUE,FALSE),TRUE)","v":true}]
[null,null,null,{"$f":"IF(B28=Dimension!$A$8,Dimension!$C$9,IF(B28=Dimension!$A$6,CD,\"\"))","v":""},null,{"$f":"IF(OR(B28=Dimension!$A$3,B28=Dimension!$A$4,B28=Dimension!$A$6,B28=Dimension!$A$8),CCYA,\"\")","v":""},{"$f":"IFERROR(VLOOKUP(F28,Dimension!$G$3:$H$252,2,FALSE),\"\")","v":""},{"$f":"IF(OR(B28=Dimension!$A$3,B28=Dimension!$A$4,B28=Dimension!$A$5),\"เดินทาง/ท่องเที่ยว\",\"\")","v":""},{"$f":"IF(OR(B28=Dimension!$A$6,B28=Dimension!$A$7,B28=Dimension!$A$8,B28=Dimension!$A$9),\"\",IF(OR(B28=Dimension!$A$3,B28=Dimension!$A$4,B28=Dimension!$A$5),\"สถานประกอบการ\",\"\"))","v":""},{"$f":"IF(OR(B28=Dimension!$A$3,B28=Dimension!$A$4,B28=Dimension!$A$5,B28=Dimension!$A$6,,B28=Dimension!$A$7,B28=Dimension!$A$8,B28=Dimension!$A$9),Payment_ID2,\"\")","v":""},null,{"$f":"IFERROR(VLOOKUP(K28,Dimension!$J$3:$K$179,2,FALSE),\"\")","v":""},null,null,{"$f":"IF(OR(B28=Dimension!$A$6,B28=Dimension!$A$7,B28=Dimension!$A$8,B28=Dimension!$A$9),\"\",IF(OR(B28=Dimension!$A$3,B28=Dimension!$A$4,B28=Dimension!$A$5),\"สถานประกอบการ\",\"\"))","v":""},{"$f":"IF(OR(B28=Dimension!$A$6,B28=Dimension!$A$7,B28=Dimension!$A$8,B28=Dimension!$A$9,B28=\"\"),\"\",Payment_ID2)","v":""},"",null,null,{"$f":"IF(D28=Dimension!$C$9,IF(LEFT(UPPER(E28),2)=\"MC\",TRUE,FALSE),TRUE)","v":true}]
[null,null,null,{"$f":"IF(B29=Dimension!$A$8,Dimension!$C$9,IF(B29=Dimension!$A$6,CD,\"\"))","v":""},null,{"$f":"IF(OR(B29=Dimension!$A$3,B29=Dimension!$A$4,B29=Dimension!$A$6,B29=Dimension!$A$8),CCYA,\"\")","v":""},{"$f":"IFERROR(VLOOKUP(F29,Dimension!$G$3:$H$252,2,FALSE),\"\")","v":""},{"$f":"IF(OR(B29=Dimension!$A$3,B29=Dimension!$A$4,B29=Dimension!$A$5),\"เดินทาง/ท่องเที่ยว\",\"\")","v":""},{"$f":"IF(OR(B29=Dimension!$A$6,B29=Dimension!$A$7,B29=Dimension!$A$8,B29=Dimension!$A$9),\"\",IF(OR(B29=Dimension!$A$3,B29=Dimension!$A$4,B29=Dimension!$A$5),\"สถานประกอบการ\",\"\"))","v":""},{"$f":"IF(OR(B29=Dimension!$A$3,B29=Dimension!$A$4,B29=Dimension!$A$5,B29=Dimension!$A$6,,B29=Dimension!$A$7,B29=Dimension!$A$8,B29=Dimension!$A$9),Payment_ID2,\"\")","v":""},null,{"$f":"IFERROR(VLOOKUP(K29,Dimension!$J$3:$K$179,2,FALSE),\"\")","v":""},null,null,{"$f":"IF(OR(B29=Dimension!$A$6,B29=Dimension!$A$7,B29=Dimension!$A$8,B29=Dimension!$A$9),\"\",IF(OR(B29=Dimension!$A$3,B29=Dimension!$A$4,B29=Dimension!$A$5),\"สถานประกอบการ\",\"\"))","v":""},{"$f":"IF(OR(B29=Dimension!$A$6,B29=Dimension!$A$7,B29=Dimension!$A$8,B29=Dimension!$A$9,B29=\"\"),\"\",Payment_ID2)","v":""},"",null,null,{"$f":"IF(D29=Dimension!$C$9,IF(LEFT(UPPER(E29),2)=\"MC\",TRUE,FALSE),TRUE)","v":true}]
[null,null,null,{"$f":"IF(B30=Dimension!$A$8,Dimension!$C$9,IF(B30=Dimension!$A$6,CD,\"\"))","v":""},null,{"$f":"IF(OR(B30=Dimension!$A$3,B30=Dimension!$A$4,B30=Dimension!$A$6,B30=Dimension!$A$8),CCYA,\"\")","v":""},{"$f":"IFERROR(VLOOKUP(F30,Dimension!$G$3:$H$252,2,FALSE),\"\")","v":""},{"$f":"IF(OR(B30=Dimension!$A$3,B30=Dimension!$A$4,B30=Dimension!$A$5),\"เดินทาง/ท่องเที่ยว\",\"\")","v":""},{"$f":"IF(OR(B30=Dimension!$A$6,B30=Dimension!$A$7,B30=Dimension!$A$8,B30=Dimension!$A$9),\"\",IF(OR(B30=Dimension!$A$3,B30=Dimension!$A$4,B30=Dimension!$A$5),\"สถานประกอบการ\",\"\"))","v":""},{"$f":"IF(OR(B30=Dimension!$A$3,B30=Dimension!$A$4,B30=Dimension!$A$5,B30=Dimension!$A$6,,B30=Dimension!$A$7,B30=Dimension!$A$8,B30=Dimension!$A$9),Payment_ID2,\"\")","v":""},null,{"$f":"IFERROR(VLOOKUP(K30,Dimension!$J$3:$K$179,2,FALSE),\"\")","v":""},null,null,{"$f":"IF(OR(B30=Dimension!$A$6,B30=Dimension!$A$7,B30=Dimension!$A$8,B30=Dimension!$A$9),\"\",IF(OR(B30=Dimension!$A$3,B30=Dimension!$A$4,B30=Dimension!$A$5),\"สถานประกอบการ\",\"\"))","v":""},{"$f":"IF(OR(B30=Dimension!$A$6,B30=Dimension!$A$7,B30=Dimension!$A$8,B30=Dimension!$A$9,B30=\"\"),\"\",Payment_ID2)","v":""},"",null,null,{"$f":"IF(D30=Dimension!$C$9,IF(LEFT(UPPER(E30),2)=\"MC\",TRUE,FALSE),TRUE)","v":true}]
[null,null,null,{"$f":"IF(B31=Dimension!$A$8,Dimension!$C$9,IF(B31=Dimension!$A$6,CD,\"\"))","v":""},null,{"$f":"IF(OR(B31=Dimension!$A$3,B31=Dimension!$A$4,B31=Dimension!$A$6,B31=Dimension!$A$8),CCYA,\"\")","v":""},{"$f":"IFERROR(VLOOKUP(F31,Dimension!$G$3:$H$252,2,FALSE),\"\")","v":""},{"$f":"IF(OR(B31=Dimension!$A$3,B31=Dimension!$A$4,B31=Dimension!$A$5),\"เดินทาง/ท่องเที่ยว\",\"\")","v":""},{"$f":"IF(OR(B31=Dimension!$A$6,B31=Dimension!$A$7,B31=Dimension!$A$8,B31=Dimension!$A$9),\"\",IF(OR(B31=Dimension!$A$3,B31=Dimension!$A$4,B31=Dimension!$A$5),\"สถานประกอบการ\",\"\"))","v":""},{"$f":"IF(OR(B31=Dimension!$A$3,B31=Dimension!$A$4,B31=Dimension!$A$5,B31=Dimension!$A$6,,B31=Dimension!$A$7,B31=Dimension!$A$8,B31=Dimension!$A$9),Payment_ID2,\"\")","v":""},null,{"$f":"IFERROR(VLOOKUP(K31,Dimension!$J$3:$K$179,2,FALSE),\"\")","v":""},null,null,{"$f":"IF(OR(B31=Dimension!$A$6,B31=Dimension!$A$7,B31=Dimension!$A$8,B31=Dimension!$A$9),\"\",IF(OR(B31=Dimension!$A$3,B31=Dimension!$A$4,B31=Dimension!$A$5),\"สถานประกอบการ\",\"\"))","v":""},{"$f":"IF(OR(B31=Dimension!$A$6,B31=Dimension!$A$7,B31=Dimension!$A$8,B31=Dimension!$A$9,B31=\"\"),\"\",Payment_ID2)","v":""},"",null,null,{"$f":"IF(D31=Dimension!$C$9,IF(LEFT(UPPER(E31),2)=\"MC\",TRUE,FALSE),TRUE)","v":true}]
[null,null,null,{"$f":"IF(B32=Dimension!$A$8,Dimension!$C$9,IF(B32=Dimension!$A$6,CD,\"\"))","v":""},null,{"$f":"IF(OR(B32=Dimension!$A$3,B32=Dimension!$A$4,B32=Dimension!$A$6,B32=Dimension!$A$8),CCYA,\"\")","v":""},{"$f":"IFERROR(VLOOKUP(F32,Dimension!$G$3:$H$252,2,FALSE),\"\")","v":""},{"$f":"IF(OR(B32=Dimension!$A$3,B32=Dimension!$A$4,B32=Dimension!$A$5),\"เดินทาง/ท่องเที่ยว\",\"\")","v":""},{"$f":"IF(OR(B32=Dimension!$A$6,B32=Dimension!$A$7,B32=Dimension!$A$8,B32=Dimension!$A$9),\"\",IF(OR(B32=Dimension!$A$3,B32=Dimension!$A$4,B32=Dimension!$A$5),\"สถานประกอบการ\",\"\"))","v":""},{"$f":"IF(OR(B32=Dimension!$A$3,B32=Dimension!$A$4,B32=Dimension!$A$5,B32=Dimension!$A$6,,B32=Dimension!$A$7,B32=Dimension!$A$8,B32=Dimension!$A$9),Payment_ID2,\"\")","v":""},null,{"$f":"IFERROR(VLOOKUP(K32,Dimension!$J$3:$K$179,2,FALSE),\"\")","v":""},null,null,{"$f":"IF(OR(B32=Dimension!$A$6,B32=Dimension!$A$7,B32=Dimension!$A$8,B32=Dimension!$A$9),\"\",IF(OR(B32=Dimension!$A$3,B32=Dimension!$A$4,B32=Dimension!$A$5),\"สถานประกอบการ\",\"\"))","v":""},{"$f":"IF(OR(B32=Dimension!$A$6,B32=Dimension!$A$7,B32=Dimension!$A$8,B32=Dimension!$A$9,B32=\"\"),\"\",Payment_ID2)","v":""},"",null,null,{"$f":"IF(D32=Dimension!$C$9,IF(LEFT(UPPER(E32),2)=\"MC\",TRUE,FALSE),TRUE)","v":true}]
[null,null,null,{"$f":"IF(B33=Dimension!$A$8,Dimension!$C$9,IF(B33=Dimension!$A$6,CD,\"\"))","v":""},null,{"$f":"IF(OR(B33=Dimension!$A$3,B33=Dimension!$A$4,B33=Dimension!$A$6,B33=Dimension!$A$8),CCYA,\"\")","v":""},{"$f":"IFERROR(VLOOKUP(F33,Dimension!$G$3:$H$252,2,FALSE),\"\")","v":""},{"$f":"IF(OR(B33=Dimension!$A$3,B33=Dimension!$A$4,B33=Dimension!$A$5),\"เดินทาง/ท่องเที่ยว\",\"\")","v":""},{"$f":"IF(OR(B33=Dimension!$A$6,B33=Dimension!$A$7,B33=Dimension!$A$8,B33=Dimension!$A$9),\"\",IF(OR(B33=Dimension!$A$3,B33=Dimension!$A$4,B33=Dimension!$A$5),\"สถานประกอบการ\",\"\"))","v":""},{"$f":"IF(OR(B33=Dimension!$A$3,B33=Dimension!$A$4,B33=Dimension!$A$5,B33=Dimension!$A$6,,B33=Dimension!$A$7,B33=Dimension!$A$8,B33=Dimension!$A$9),Payment_ID2,\"\")","v":""},null,{"$f":"IFERROR(VLOOKUP(K33,Dimension!$J$3:$K$179,2,FALSE),\"\")","v":""},null,null,{"$f":"IF(OR(B33=Dimension!$A$6,B33=Dimension!$A$7,B33=Dimension!$A$8,B33=Dimension!$A$9),\"\",IF(OR(B33=Dimension!$A$3,B33=Dimension!$A$4,B33=Dimension!$A$5),\"สถานประกอบการ\",\"\"))","v":""},{"$f":"IF(OR(B33=Dimension!$A$6,B33=Dimension!$A$7,B33=Dimension!$A$8,B33=Dimension!$A$9,B33=\"\"),\"\",Payment_ID2)","v":""},"",null,null,{"$f":"IF(D33=Dimension!$C$9,IF(LEFT(UPPER(E33),2)=\"MC\",TRUE,FALSE),TRUE)","v":true}]
[null,null,null,{"$f":"IF(B34=Dimension!$A$8,Dimension!$C$9,IF(B34=Dimension!$A$6,CD,\"\"))","v":""},null,{"$f":"IF(OR(B34=Dimension!$A$3,B34=Dimension!$A$4,B34=Dimension!$A$6,B34=Dimension!$A$8),CCYA,\"\")","v":""},{"$f":"IFERROR(VLOOKUP(F34,Dimension!$G$3:$H$252,2,FALSE),\"\")","v":""},{"$f":"IF(OR(B34=Dimension!$A$3,B34=Dimension!$A$4,B34=Dimension!$A$5),\"เดินทาง/ท่องเที่ยว\",\"\")","v":""},{"$f":"IF(OR(B34=Dimension!$A$6,B34=Dimension!$A$7,B34=Dimension!$A$8,B34=Dimension!$A$9),\"\",IF(OR(B34=Dimension!$A$3,B34=Dimension!$A$4,B34=Dimension!$A$5),\"สถานประกอบการ\",\"\"))","v":""},{"$f":"IF(OR(B34=Dimension!$A$3,B34=Dimension!$A$4,B34=Dimension!$A$5,B34=Dimension!$A$6,,B34=Dimension!$A$7,B34=Dimension!$A$8,B34=Dimension!$A$9),Payment_ID2,\"\")","v":""},null,{"$f":"IFERROR(VLOOKUP(K34,Dimension!$J$3:$K$179,2,FALSE),\"\")","v":""},null,null,{"$f":"IF(OR(B34=Dimension!$A$6,B34=Dimension!$A$7,B34=Dimension!$A$8,B34=Dimension!$A$9),\"\",IF(OR(B34=Dimension!$A$3,B34=Dimension!$A$4,B34=Dimension!$A$5),\"สถานประกอบการ\",\"\"))","v":""},{"$f":"IF(OR(B34=Dimension!$A$6,B34=Dimension!$A$7,B34=Dimension!$A$8,B34=Dimension!$A$9,B34=\"\"),\"\",Payment_ID2)","v":""},"",null,null,{"$f":"IF(D34=Dimension!$C$9,IF(LEFT(UPPER(E34),2)=\"MC\",TRUE,FALSE),TRUE)","v":true}]
[null,null,null,{"$f":"IF(B35=Dimension!$A$8,Dimension!$C$9,IF(B35=Dimension!$A$6,CD,\"\"))","v":""},null,{"$f":"IF(OR(B35=Dimension!$A$3,B35=Dimension!$A$4,B35=Dimension!$A$6,B35=Dimension!$A$8),CCYA,\"\")","v":""},{"$f":"IFERROR(VLOOKUP(F35,Dimension!$G$3:$H$252,2,FALSE),\"\")","v":""},{"$f":"IF(OR(B35=Dimension!$A$3,B35=Dimension!$A$4,B35=Dimension!$A$5),\"เดินทาง/ท่องเที่ยว\",\"\")","v":""},{"$f":"IF(OR(B35=Dimension!$A$6,B35=Dimension!$A$7,B35=Dimension!$A$8,B35=Dimension!$A$9),\"\",IF(OR(B35=Dimension!$A$3,B35=Dimension!$A$4,B35=Dimension!$A$5),\"สถานประกอบการ\",\"\"))","v":""},{"$f":"IF(OR(B35=Dimension!$A$3,B35=Dimension!$A$4,B35=Dimension!$A$5,B35=Dimension!$A$6,,B35=Dimension!$A$7,B35=Dimension!$A$8,B35=Dimension!$A$9),Payment_ID2,\"\")","v":""},null,{"$f":"IFERROR(VLOOKUP(K35,Dimension!$J$3:$K$179,2,FALSE),\"\")","v":""},null,null,{"$f":"IF(OR(B35=Dimension!$A$6,B35=Dimension!$A$7,B35=Dimension!$A$8,B35=Dimension!$A$9),\"\",IF(OR(B35=Dimension!$A$3,B35=Dimension!$A$4,B35=Dimension!$A$5),\"สถานประกอบการ\",\"\"))","v":""},{"$f":"IF(OR(B35=Dimension!$A$6,B35=Dimension!$A$7,B35=Dimension!$A$8,B35=Dimension!$A$9,B35=\"\"),\"\",Payment_ID2)","v":""},"",null,null,{"$f":"IF(D35=Dimension!$C$9,IF(LEFT(UPPER(E35),2)=\"MC\",TRUE,FALSE),TRUE)","v":true}]
[null,null,null,{"$f":"IF(B36=Dimension!$A$8,Dimension!$C$9,IF(B36=Dimension!$A$6,CD,\"\"))","v":""},null,{"$f":"IF(OR(B36=Dimension!$A$3,B36=Dimension!$A$4,B36=Dimension!$A$6,B36=Dimension!$A$8),CCYA,\"\")","v":""},{"$f":"IFERROR(VLOOKUP(F36,Dimension!$G$3:$H$252,2,FALSE),\"\")","v":""},{"$f":"IF(OR(B36=Dimension!$A$3,B36=Dimension!$A$4,B36=Dimension!$A$5),\"เดินทาง/ท่องเที่ยว\",\"\")","v":""},{"$f":"IF(OR(B36=Dimension!$A$6,B36=Dimension!$A$7,B36=Dimension!$A$8,B36=Dimension!$A$9),\"\",IF(OR(B36=Dimension!$A$3,B36=Dimension!$A$4,B36=Dimension!$A$5),\"สถานประกอบการ\",\"\"))","v":""},{"$f":"IF(OR(B36=Dimension!$A$3,B36=Dimension!$A$4,B36=Dimension!$A$5,B36=Dimension!$A$6,,B36=Dimension!$A$7,B36=Dimension!$A$8,B36=Dimension!$A$9),Payment_ID2,\"\")","v":""},null,{"$f":"IFERROR(VLOOKUP(K36,Dimension!$J$3:$K$179,2,FALSE),\"\")","v":""},null,null,{"$f":"IF(OR(B36=Dimension!$A$6,B36=Dimension!$A$7,B36=Dimension!$A$8,B36=Dimension!$A$9),\"\",IF(OR(B36=Dimension!$A$3,B36=Dimension!$A$4,B36=Dimension!$A$5),\"สถานประกอบการ\",\"\"))","v":""},{"$f":"IF(OR(B36=Dimension!$A$6,B36=Dimension!$A$7,B36=Dimension!$A$8,B36=Dimension!$A$9,B36=\"\"),\"\",Payment_ID2)","v":""},"",null,null,{"$f":"IF(D36=Dimension!$C$9,IF(LEFT(UPPER(E36),2)=\"MC\",TRUE,FALSE),TRUE)","v":true}]
[null,null,null,{"$f":"IF(B37=Dimension!$A$8,Dimension!$C$9,IF(B37=Dimension!$A$6,CD,\"\"))","v":""},null,{"$f":"IF(OR(B37=Dimension!$A$3,B37=Dimension!$A$4,B37=Dimension!$A$6,B37=Dimension!$A$8),CCYA,\"\")","v":""},{"$f":"IFERROR(VLOOKUP(F37,Dimension!$G$3:$H$252,2,FALSE),\"\")","v":""},{"$f":"IF(OR(B37=Dimension!$A$3,B37=Dimension!$A$4,B37=Dimension!$A$5),\"เดินทาง/ท่องเที่ยว\",\"\")","v":""},{"$f":"IF(OR(B37=Dimension!$A$6,B37=Dimension!$A$7,B37=Dimension!$A$8,B37=Dimension!$A$9),\"\",IF(OR(B37=Dimension!$A$3,B37=Dimension!$A$4,B37=Dimension!$A$5),\"สถานประกอบการ\",\"\"))","v":""},{"$f":"IF(OR(B37=Dimension!$A$3,B37=Dimension!$A$4,B37=Dimension!$A$5,B37=Dimension!$A$6,,B37=Dimension!$A$7,B37=Dimension!$A$8,B37=Dimension!$A$9),Payment_ID2,\"\")","v":""},null,{"$f":"IFERROR(VLOOKUP(K37,Dimension!$J$3:$K$179,2,FALSE),\"\")","v":""},null,null,{"$f":"IF(OR(B37=Dimension!$A$6,B37=Dimension!$A$7,B37=Dimension!$A$8,B37=Dimension!$A$9),\"\",IF(OR(B37=Dimension!$A$3,B37=Dimension!$A$4,B37=Dimension!$A$5),\"สถานประกอบการ\",\"\"))","v":""},{"$f":"IF(OR(B37=Dimension!$A$6,B37=Dimension!$A$7,B37=Dimension!$A$8,B37=Dimension!$A$9,B37=\"\"),\"\",Payment_ID2)","v":""},"",null,null,{"$f":"IF(D37=Dimension!$C$9,IF(LEFT(UPPER(E37),2)=\"MC\",TRUE,FALSE),TRUE)","v":true}]
[null,null,null,{"$f":"IF(B38=Dimension!$A$8,Dimension!$C$9,IF(B38=Dimension!$A$6,CD,\"\"))","v":""},null,{"$f":"IF(OR(B38=Dimension!$A$3,B38=Dimension!$A$4,B38=Dimension!$A$6,B38=Dimension!$A$8),CCYA,\"\")","v":""},{"$f":"IFERROR(VLOOKUP(F38,Dimension!$G$3:$H$252,2,FALSE),\"\")","v":""},{"$f":"IF(OR(B38=Dimension!$A$3,B38=Dimension!$A$4,B38=Dimension!$A$5),\"เดินทาง/ท่องเที่ยว\",\"\")","v":""},{"$f":"IF(OR(B38=Dimension!$A$6,B38=Dimension!$A$7,B38=Dimension!$A$8,B38=Dimension!$A$9),\"\",IF(OR(B38=Dimension!$A$3,B38=Dimension!$A$4,B38=Dimension!$A$5),\"สถานประกอบการ\",\"\"))","v":""},{"$f":"IF(OR(B38=Dimension!$A$3,B38=Dimension!$A$4,B38=Dimension!$A$5,B38=Dimension!$A$6,,B38=Dimension!$A$7,B38=Dimension!$A$8,B38=Dimension!$A$9),Payment_ID2,\"\")","v":""},null,{"$f":"IFERROR(VLOOKUP(K38,Dimension!$J$3:$K$179,2,FALSE),\"\")","v":""},null,null,{"$f":"IF(OR(B38=Dimension!$A$6,B38=Dimension!$A$7,B38=Dimension!$A$8,B38=Dimension!$A$9),\"\",IF(OR(B38=Dimension!$A$3,B38=Dimension!$A$4,B38=Dimension!$A$5),\"สถานประกอบการ\",\"\"))","v":""},{"$f":"IF(OR(B38=Dimension!$A$6,B38=Dimension!$A$7,B38=Dimension!$A$8,B38=Dimension!$A$9,B38=\"\"),\"\",Payment_ID2)","v":""},"",null,null,{"$f":"IF(D38=Dimension!$C$9,IF(LEFT(UPPER(E38),2)=\"MC\",TRUE,FALSE),TRUE)","v":true}]
[null,null,null,{"$f":"IF(B39=Dimension!$A$8,Dimension!$C$9,IF(B39=Dimension!$A$6,CD,\"\"))","v":""},null,{"$f":"IF(OR(B39=Dimension!$A$3,B39=Dimension!$A$4,B39=Dimension!$A$6,B39=Dimension!$A$8),CCYA,\"\")","v":""},{"$f":"IFERROR(VLOOKUP(F39,Dimension!$G$3:$H$252,2,FALSE),\"\")","v":""},{"$f":"IF(OR(B39=Dimension!$A$3,B39=Dimension!$A$4,B39=Dimension!$A$5),\"เดินทาง/ท่องเที่ยว\",\"\")","v":""},{"$f":"IF(OR(B39=Dimension!$A$6,B39=Dimension!$A$7,B39=Dimension!$A$8,B39=Dimension!$A$9),\"\",IF(OR(B39=Dimension!$A$3,B39=Dimension!$A$4,B39=Dimension!$A$5),\"สถานประกอบการ\",\"\"))","v":""},{"$f":"IF(OR(B39=Dimension!$A$3,B39=Dimension!$A$4,B39=Dimension!$A$5,B39=Dimension!$A$6,,B39=Dimension!$A$7,B39=Dimension!$A$8,B39=Dimension!$A$9),Payment_ID2,\"\")","v":""},null,{"$f":"IFERROR(VLOOKUP(K39,Dimension!$J$3:$K$179,2,FALSE),\"\")","v":""},null,null,{"$f":"IF(OR(B39=Dimension!$A$6,B39=Dimension!$A$7,B39=Dimension!$A$8,B39=Dimension!$A$9),\"\",IF(OR(B39=Dimension!$A$3,B39=Dimension!$A$4,B39=Dimension!$A$5),\"สถานประกอบการ\",\"\"))","v":""},{"$f":"IF(OR(B39=Dimension!$A$6,B39=Dimension!$A$7,B39=Dimension!$A$8,B39=Dimension!$A$9,B39=\"\"),\"\",Payment_ID2)","v":""},"",null,null,{"$f":"IF(D39=Dimension!$C$9,IF(LEFT(UPPER(E39),2)=\"MC\",TRUE,FALSE),TRUE)","v":true}]
[null,null,null,{"$f":"IF(B40=Dimension!$A$8,Dimension!$C$9,IF(B40=Dimension!$A$6,CD,\"\"))","v":""},null,{"$f":"IF(OR(B40=Dimension!$A$3,B40=Dimension!$A$4,B40=Dimension!$A$6,B40=Dimension!$A$8),CCYA,\"\")","v":""},{"$f":"IFERROR(VLOOKUP(F40,Dimension!$G$3:$H$252,2,FALSE),\"\")","v":""},{"$f":"IF(OR(B40=Dimension!$A$3,B40=Dimension!$A$4,B40=Dimension!$A$5),\"เดินทาง/ท่องเที่ยว\",\"\")","v":""},{"$f":"IF(OR(B40=Dimension!$A$6,B40=Dimension!$A$7,B40=Dimension!$A$8,B40=Dimension!$A$9),\"\",IF(OR(B40=Dimension!$A$3,B40=Dimension!$A$4,B40=Dimension!$A$5),\"สถานประกอบการ\",\"\"))","v":""},{"$f":"IF(OR(B40=Dimension!$A$3,B40=Dimension!$A$4,B40=Dimension!$A$5,B40=Dimension!$A$6,,B40=Dimension!$A$7,B40=Dimension!$A$8,B40=Dimension!$A$9),Payment_ID2,\"\")","v":""},null,{"$f":"IFERROR(VLOOKUP(K40,Dimension!$J$3:$K$179,2,FALSE),\"\")","v":""},null,null,{"$f":"IF(OR(B40=Dimension!$A$6,B40=Dimension!$A$7,B40=Dimension!$A$8,B40=Dimension!$A$9),\"\",IF(OR(B40=Dimension!$A$3,B40=Dimension!$A$4,B40=Dimension!$A$5),\"สถานประกอบการ\",\"\"))","v":""},{"$f":"IF(OR(B40=Dimension!$A$6,B40=Dimension!$A$7,B40=Dimension!$A$8,B40=Dimension!$A$9,B40=\"\"),\"\",Payment_ID2)","v":""},"",null,null,{"$f":"IF(D40=Dimension!$C$9,IF(LEFT(UPPER(E40),2)=\"MC\",TRUE,FALSE),TRUE)","v":true}]
[null,null,null,{"$f":"IF(B41=Dimension!$A$8,Dimension!$C$9,IF(B41=Dimension!$A$6,CD,\"\"))","v":""},null,{"$f":"IF(OR(B41=Dimension!$A$3,B41=Dimension!$A$4,B41=Dimension!$A$6,B41=Dimension!$A$8),CCYA,\"\")","v":""},{"$f":"IFERROR(VLOOKUP(F41,Dimension!$G$3:$H$252,2,FALSE),\"\")","v":""},{"$f":"IF(OR(B41=Dimension!$A$3,B41=Dimension!$A$4,B41=Dimension!$A$5),\"เดินทาง/ท่องเที่ยว\",\"\")","v":""},{"$f":"IF(OR(B41=Dimension!$A$6,B41=Dimension!$A$7,B41=Dimension!$A$8,B41=Dimension!$A$9),\"\",IF(OR(B41=Dimension!$A$3,B41=Dimension!$A$4,B41=Dimension!$A$5),\"สถานประกอบการ\",\"\"))","v":""},{"$f":"IF(OR(B41=Dimension!$A$3,B41=Dimension!$A$4,B41=Dimension!$A$5,B41=Dimension!$A$6,,B41=Dimension!$A$7,B41=Dimension!$A$8,B41=Dimension!$A$9),Payment_ID2,\"\")","v":""},null,{"$f":"IFERROR(VLOOKUP(K41,Dimension!$J$3:$K$179,2,FALSE),\"\")","v":""},null,null,{"$f":"IF(OR(B41=Dimension!$A$6,B41=Dimension!$A$7,B41=Dimension!$A$8,B41=Dimension!$A$9),\"\",IF(OR(B41=Dimension!$A$3,B41=Dimension!$A$4,B41=Dimension!$A$5),\"สถานประกอบการ\",\"\"))","v":""},{"$f":"IF(OR(B41=Dimension!$A$6,B41=Dimension!$A$7,B41=Dimension!$A$8,B41=Dimension!$A$9,B41=\"\"),\"\",Payment_ID2)","v":""},"",null,null,{"$f":"IF(D41=Dimension!$C$9,IF(LEFT(UPPER(E41),2)=\"MC\",TRUE,FALSE),TRUE)","v":true}]
[null,null,null,{"$f":"IF(B42=Dimension!$A$8,Dimension!$C$9,IF(B42=Dimension!$A$6,CD,\"\"))","v":""},null,{"$f":"IF(OR(B42=Dimension!$A$3,B42=Dimension!$A$4,B42=Dimension!$A$6,B42=Dimension!$A$8),CCYA,\"\")","v":""},{"$f":"IFERROR(VLOOKUP(F42,Dimension!$G$3:$H$252,2,FALSE),\"\")","v":""},{"$f":"IF(OR(B42=Dimension!$A$3,B42=Dimension!$A$4,B42=Dimension!$A$5),\"เดินทาง/ท่องเที่ยว\",\"\")","v":""},{"$f":"IF(OR(B42=Dimension!$A$6,B42=Dimension!$A$7,B42=Dimension!$A$8,B42=Dimension!$A$9),\"\",IF(OR(B42=Dimension!$A$3,B42=Dimension!$A$4,B42=Dimension!$A$5),\"สถานประกอบการ\",\"\"))","v":""},{"$f":"IF(OR(B42=Dimension!$A$3,B42=Dimension!$A$4,B42=Dimension!$A$5,B42=Dimension!$A$6,,B42=Dimension!$A$7,B42=Dimension!$A$8,B42=Dimension!$A$9),Payment_ID2,\"\")","v":""},null,{"$f":"IFERROR(VLOOKUP(K42,Dimension!$J$3:$K$179,2,FALSE),\"\")","v":""},null,null,{"$f":"IF(OR(B42=Dimension!$A$6,B42=Dimension!$A$7,B42=Dimension!$A$8,B42=Dimension!$A$9),\"\",IF(OR(B42=Dimension!$A$3,B42=Dimension!$A$4,B42=Dimension!$A$5),\"สถานประกอบการ\",\"\"))","v":""},{"$f":"IF(OR(B42=Dimension!$A$6,B42=Dimension!$A$7,B42=Dimension!$A$8,B42=Dimension!$A$9,B42=\"\"),\"\",Payment_ID2)","v":""},"",null,null,{"$f":"IF(D42=Dimension!$C$9,IF(LEFT(UPPER(E42),2)=\"MC\",TRUE,FALSE),TRUE)","v":true}]
[null,null,null,{"$f":"IF(B43=Dimension!$A$8,Dimension!$C$9,IF(B43=Dimension!$A$6,CD,\"\"))","v":""},null,{"$f":"IF(OR(B43=Dimension!$A$3,B43=Dimension!$A$4,B43=Dimension!$A$6,B43=Dimension!$A$8),CCYA,\"\")","v":""},{"$f":"IFERROR(VLOOKUP(F43,Dimension!$G$3:$H$252,2,FALSE),\"\")","v":""},{"$f":"IF(OR(B43=Dimension!$A$3,B43=Dimension!$A$4,B43=Dimension!$A$5),\"เดินทาง/ท่องเที่ยว\",\"\")","v":""},{"$f":"IF(OR(B43=Dimension!$A$6,B43=Dimension!$A$7,B43=Dimension!$A$8,B43=Dimension!$A$9),\"\",IF(OR(B43=Dimension!$A$3,B43=Dimension!$A$4,B43=Dimension!$A$5),\"สถานประกอบการ\",\"\"))","v":""},{"$f":"IF(OR(B43=Dimension!$A$3,B43=Dimension!$A$4,B43=Dimension!$A$5,B43=Dimension!$A$6,,B43=Dimension!$A$7,B43=Dimension!$A$8,B43=Dimension!$A$9),Payment_ID2,\"\")","v":""},null,{"$f":"IFERROR(VLOOKUP(K43,Dimension!$J$3:$K$179,2,FALSE),\"\")","v":""},null,null,{"$f":"IF(OR(B43=Dimension!$A$6,B43=Dimension!$A$7,B43=Dimension!$A$8,B43=Dimension!$A$9),\"\",IF(OR(B43=Dimension!$A$3,B43=Dimension!$A$4,B43=Dimension!$A$5),\"สถานประกอบการ\",\"\"))","v":""},{"$f":"IF(OR(B43=Dimension!$A$6,B43=Dimension!$A$7,B43=Dimension!$A$8,B43=Dimension!$A$9,B43=\"\"),\"\",Payment_ID2)","v":""},"",null,null,{"$f":"IF(D43=Dimension!$C$9,IF(LEFT(UPPER(E43),2)=\"MC\",TRUE,FALSE),TRUE)","v":true}]
[null,null,null,{"$f":"IF(B44=Dimension!$A$8,Dimension!$C$9,IF(B44=Dimension!$A$6,CD,\"\"))","v":""},null,{"$f":"IF(OR(B44=Dimension!$A$3,B44=Dimension!$A$4,B44=Dimension!$A$6,B44=Dimension!$A$8),CCYA,\"\")","v":""},{"$f":"IFERROR(VLOOKUP(F44,Dimension!$G$3:$H$252,2,FALSE),\"\")","v":""},{"$f":"IF(OR(B44=Dimension!$A$3,B44=Dimension!$A$4,B44=Dimension!$A$5),\"เดินทาง/ท่องเที่ยว\",\"\")","v":""},{"$f":"IF(OR(B44=Dimension!$A$6,B44=Dimension!$A$7,B44=Dimension!$A$8,B44=Dimension!$A$9),\"\",IF(OR(B44=Dimension!$A$3,B44=Dimension!$A$4,B44=Dimension!$A$5),\"สถานประกอบการ\",\"\"))","v":""},{"$f":"IF(OR(B44=Dimension!$A$3,B44=Dimension!$A$4,B44=Dimension!$A$5,B44=Dimension!$A$6,,B44=Dimension!$A$7,B44=Dimension!$A$8,B44=Dimension!$A$9),Payment_ID2,\"\")","v":""},null,{"$f":"IFERROR(VLOOKUP(K44,Dimension!$J$3:$K$179,2,FALSE),\"\")","v":""},null,null,{"$f":"IF(OR(B44=Dimension!$A$6,B44=Dimension!$A$7,B44=Dimension!$A$8,B44=Dimension!$A$9),\"\",IF(OR(B44=Dimension!$A$3,B44=Dimension!$A$4,B44=Dimension!$A$5),\"สถานประกอบการ\",\"\"))","v":""},{"$f":"IF(OR(B44=Dimension!$A$6,B44=Dimension!$A$7,B44=Dimension!$A$8,B44=Dimension!$A$9,B44=\"\"),\"\",Payment_ID2)","v":""},"",null,null,{"$f":"IF(D44=Dimension!$C$9,IF(LEFT(UPPER(E44),2)=\"MC\",TRUE,FALSE),TRUE)","v":true}]
[null,null,null,{"$f":"IF(B45=Dimension!$A$8,Dimension!$C$9,IF(B45=Dimension!$A$6,CD,\"\"))","v":""},null,{"$f":"IF(OR(B45=Dimension!$A$3,B45=Dimension!$A$4,B45=Dimension!$A$6,B45=Dimension!$A$8),CCYA,\"\")","v":""},{"$f":"IFERROR(VLOOKUP(F45,Dimension!$G$3:$H$252,2,FALSE),\"\")","v":""},{"$f":"IF(OR(B45=Dimension!$A$3,B45=Dimension!$A$4,B45=Dimension!$A$5),\"เดินทาง/ท่องเที่ยว\",\"\")","v":""},{"$f":"IF(OR(B45=Dimension!$A$6,B45=Dimension!$A$7,B45=Dimension!$A$8,B45=Dimension!$A$9),\"\",IF(OR(B45=Dimension!$A$3,B45=Dimension!$A$4,B45=Dimension!$A$5),\"สถานประกอบการ\",\"\"))","v":""},{"$f":"IF(OR(B45=Dimension!$A$3,B45=Dimension!$A$4,B45=Dimension!$A$5,B45=Dimension!$A$6,,B45=Dimension!$A$7,B45=Dimension!$A$8,B45=Dimension!$A$9),Payment_ID2,\"\")","v":""},null,{"$f":"IFERROR(VLOOKUP(K45,Dimension!$J$3:$K$179,2,FALSE),\"\")","v":""},null,null,{"$f":"IF(OR(B45=Dimension!$A$6,B45=Dimension!$A$7,B45=Dimension!$A$8,B45=Dimension!$A$9),\"\",IF(OR(B45=Dimension!$A$3,B45=Dimension!$A$4,B45=Dimension!$A$5),\"สถานประกอบการ\",\"\"))","v":""},{"$f":"IF(OR(B45=Dimension!$A$6,B45=Dimension!$A$7,B45=Dimension!$A$8,B45=Dimension!$A$9,B45=\"\"),\"\",Payment_ID2)","v":""},"",null,null,{"$f":"IF(D45=Dimension!$C$9,IF(LEFT(UPPER(E45),2)=\"MC\",TRUE,FALSE),TRUE)","v":true}]
[null,null,null,{"$f":"IF(B46=Dimension!$A$8,Dimension!$C$9,IF(B46=Dimension!$A$6,CD,\"\"))","v":""},null,{"$f":"IF(OR(B46=Dimension!$A$3,B46=Dimension!$A$4,B46=Dimension!$A$6,B46=Dimension!$A$8),CCYA,\"\")","v":""},{"$f":"IFERROR(VLOOKUP(F46,Dimension!$G$3:$H$252,2,FALSE),\"\")","v":""},{"$f":"IF(OR(B46=Dimension!$A$3,B46=Dimension!$A$4,B46=Dimension!$A$5),\"เดินทาง/ท่องเที่ยว\",\"\")","v":""},{"$f":"IF(OR(B46=Dimension!$A$6,B46=Dimension!$A$7,B46=Dimension!$A$8,B46=Dimension!$A$9),\"\",IF(OR(B46=Dimension!$A$3,B46=Dimension!$A$4,B46=Dimension!$A$5),\"สถานประกอบการ\",\"\"))","v":""},{"$f":"IF(OR(B46=Dimension!$A$3,B46=Dimension!$A$4,B46=Dimension!$A$5,B46=Dimension!$A$6,,B46=Dimension!$A$7,B46=Dimension!$A$8,B46=Dimension!$A$9),Payment_ID2,\"\")","v":""},null,{"$f":"IFERROR(VLOOKUP(K46,Dimension!$J$3:$K$179,2,FALSE),\"\")","v":""},null,null,{"$f":"IF(OR(B46=Dimension!$A$6,B46=Dimension!$A$7,B46=Dimension!$A$8,B46=Dimension!$A$9),\"\",IF(OR(B46=Dimension!$A$3,B46=Dimension!$A$4,B46=Dimension!$A$5),\"สถานประกอบการ\",\"\"))","v":""},{"$f":"IF(OR(B46=Dimension!$A$6,B46=Dimension!$A$7,B46=Dimension!$A$8,B46=Dimension!$A$9,B46=\"\"),\"\",Payment_ID2)","v":""},"",null,null,{"$f":"IF(D46=Dimension!$C$9,IF(LEFT(UPPER(E46),2)=\"MC\",TRUE,FALSE),TRUE)","v":true}]
[null,null,null,{"$f":"IF(B47=Dimension!$A$8,Dimension!$C$9,IF(B47=Dimension!$A$6,CD,\"\"))","v":""},null,{"$f":"IF(OR(B47=Dimension!$A$3,B47=Dimension!$A$4,B47=Dimension!$A$6,B47=Dimension!$A$8),CCYA,\"\")","v":""},{"$f":"IFERROR(VLOOKUP(F47,Dimension!$G$3:$H$252,2,FALSE),\"\")","v":""},{"$f":"IF(OR(B47=Dimension!$A$3,B47=Dimension!$A$4,B47=Dimension!$A$5),\"เดินทาง/ท่องเที่ยว\",\"\")","v":""},{"$f":"IF(OR(B47=Dimension!$A$6,B47=Dimension!$A$7,B47=Dimension!$A$8,B47=Dimension!$A$9),\"\",IF(OR(B47=Dimension!$A$3,B47=Dimension!$A$4,B47=Dimension!$A$5),\"สถานประกอบการ\",\"\"))","v":""},{"$f":"IF(OR(B47=Dimension!$A$3,B47=Dimension!$A$4,B47=Dimension!$A$5,B47=Dimension!$A$6,,B47=Dimension!$A$7,B47=Dimension!$A$8,B47=Dimension!$A$9),Payment_ID2,\"\")","v":""},null,{"$f":"IFERROR(VLOOKUP(K47,Dimension!$J$3:$K$179,2,FALSE),\"\")","v":""},null,null,{"$f":"IF(OR(B47=Dimension!$A$6,B47=Dimension!$A$7,B47=Dimension!$A$8,B47=Dimension!$A$9),\"\",IF(OR(B47=Dimension!$A$3,B47=Dimension!$A$4,B47=Dimension!$A$5),\"สถานประกอบการ\",\"\"))","v":""},{"$f":"IF(OR(B47=Dimension!$A$6,B47=Dimension!$A$7,B47=Dimension!$A$8,B47=Dimension!$A$9,B47=\"\"),\"\",Payment_ID2)","v":""},"",null,null,{"$f":"IF(D47=Dimension!$C$9,IF(LEFT(UPPER(E47),2)=\"MC\",TRUE,FALSE),TRUE)","v":true}]
[null,null,null,{"$f":"IF(B48=Dimension!$A$8,Dimension!$C$9,IF(B48=Dimension!$A$6,CD,\"\"))","v":""},null,{"$f":"IF(OR(B48=Dimension!$A$3,B48=Dimension!$A$4,B48=Dimension!$A$6,B48=Dimension!$A$8),CCYA,\"\")","v":""},{"$f":"IFERROR(VLOOKUP(F48,Dimension!$G$3:$H$252,2,FALSE),\"\")","v":""},{"$f":"IF(OR(B48=Dimension!$A$3,B48=Dimension!$A$4,B48=Dimension!$A$5),\"เดินทาง/ท่องเที่ยว\",\"\")","v":""},{"$f":"IF(OR(B48=Dimension!$A$6,B48=Dimension!$A$7,B48=Dimension!$A$8,B48=Dimension!$A$9),\"\",IF(OR(B48=Dimension!$A$3,B48=Dimension!$A$4,B48=Dimension!$A$5),\"สถานประกอบการ\",\"\"))","v":""},{"$f":"IF(OR(B48=Dimension!$A$3,B48=Dimension!$A$4,B48=Dimension!$A$5,B48=Dimension!$A$6,,B48=Dimension!$A$7,B48=Dimension!$A$8,B48=Dimension!$A$9),Payment_ID2,\"\")","v":""},null,{"$f":"IFERROR(VLOOKUP(K48,Dimension!$J$3:$K$179,2,FALSE),\"\")","v":""},null,null,{"$f":"IF(OR(B48=Dimension!$A$6,B48=Dimension!$A$7,B48=Dimension!$A$8,B48=Dimension!$A$9),\"\",IF(OR(B48=Dimension!$A$3,B48=Dimension!$A$4,B48=Dimension!$A$5),\"สถานประกอบการ\",\"\"))","v":""},{"$f":"IF(OR(B48=Dimension!$A$6,B48=Dimension!$A$7,B48=Dimension!$A$8,B48=Dimension!$A$9,B48=\"\"),\"\",Payment_ID2)","v":""},"",null,null,{"$f":"IF(D48=Dimension!$C$9,IF(LEFT(UPPER(E48),2)=\"MC\",TRUE,FALSE),TRUE)","v":true}]
[null,null,null,{"$f":"IF(B49=Dimension!$A$8,Dimension!$C$9,IF(B49=Dimension!$A$6,CD,\"\"))","v":""},null,{"$f":"IF(OR(B49=Dimension!$A$3,B49=Dimension!$A$4,B49=Dimension!$A$6,B49=Dimension!$A$8),CCYA,\"\")","v":""},{"$f":"IFERROR(VLOOKUP(F49,Dimension!$G$3:$H$252,2,FALSE),\"\")","v":""},{"$f":"IF(OR(B49=Dimension!$A$3,B49=Dimension!$A$4,B49=Dimension!$A$5),\"เดินทาง/ท่องเที่ยว\",\"\")","v":""},{"$f":"IF(OR(B49=Dimension!$A$6,B49=Dimension!$A$7,B49=Dimension!$A$8,B49=Dimension!$A$9),\"\",IF(OR(B49=Dimension!$A$3,B49=Dimension!$A$4,B49=Dimension!$A$5),\"สถานประกอบการ\",\"\"))","v":""},{"$f":"IF(OR(B49=Dimension!$A$3,B49=Dimension!$A$4,B49=Dimension!$A$5,B49=Dimension!$A$6,,B49=Dimension!$A$7,B49=Dimension!$A$8,B49=Dimension!$A$9),Payment_ID2,\"\")","v":""},null,{"$f":"IFERROR(VLOOKUP(K49,Dimension!$J$3:$K$179,2,FALSE),\"\")","v":""},null,null,{"$f":"IF(OR(B49=Dimension!$A$6,B49=Dimension!$A$7,B49=Dimension!$A$8,B49=Dimension!$A$9),\"\",IF(OR(B49=Dimension!$A$3,B49=Dimension!$A$4,B49=Dimension!$A$5),\"สถานประกอบการ\",\"\"))","v":""},{"$f":"IF(OR(B49=Dimension!$A$6,B49=Dimension!$A$7,B49=Dimension!$A$8,B49=Dimension!$A$9,B49=\"\"),\"\",Payment_ID2)","v":""},"",null,null,{"$f":"IF(D49=Dimension!$C$9,IF(LEFT(UPPER(E49),2)=\"MC\",TRUE,FALSE),TRUE)","v":true}]
[null,null,null,{"$f":"IF(B50=Dimension!$A$8,Dimension!$C$9,IF(B50=Dimension!$A$6,CD,\"\"))","v":""},null,{"$f":"IF(OR(B50=Dimension!$A$3,B50=Dimension!$A$4,B50=Dimension!$A$6,B50=Dimension!$A$8),CCYA,\"\")","v":""},{"$f":"IFERROR(VLOOKUP(F50,Dimension!$G$3:$H$252,2,FALSE),\"\")","v":""},{"$f":"IF(OR(B50=Dimension!$A$3,B50=Dimension!$A$4,B50=Dimension!$A$5),\"เดินทาง/ท่องเที่ยว\",\"\")","v":""},{"$f":"IF(OR(B50=Dimension!$A$6,B50=Dimension!$A$7,B50=Dimension!$A$8,B50=Dimension!$A$9),\"\",IF(OR(B50=Dimension!$A$3,B50=Dimension!$A$4,B50=Dimension!$A$5),\"สถานประกอบการ\",\"\"))","v":""},{"$f":"IF(OR(B50=Dimension!$A$3,B50=Dimension!$A$4,B50=Dimension!$A$5,B50=Dimension!$A$6,,B50=Dimension!$A$7,B50=Dimension!$A$8,B50=Dimension!$A$9),Payment_ID2,\"\")","v":""},null,{"$f":"IFERROR(VLOOKUP(K50,Dimension!$J$3:$K$179,2,FALSE),\"\")","v":""},null,null,{"$f":"IF(OR(B50=Dimension!$A$6,B50=Dimension!$A$7,B50=Dimension!$A$8,B50=Dimension!$A$9),\"\",IF(OR(B50=Dimension!$A$3,B50=Dimension!$A$4,B50=Dimension!$A$5),\"สถานประกอบการ\",\"\"))","v":""},{"$f":"IF(OR(B50=Dimension!$A$6,B50=Dimension!$A$7,B50=Dimension!$A$8,B50=Dimension!$A$9,B50=\"\"),\"\",Payment_ID2)","v":""},"",null,null,{"$f":"IF(D50=Dimension!$C$9,IF(LEFT(UPPER(E50),2)=\"MC\",TRUE,FALSE),TRUE)","v":true}]
[null,null,null,{"$f":"IF(B51=Dimension!$A$8,Dimension!$C$9,IF(B51=Dimension!$A$6,CD,\"\"))","v":""},null,{"$f":"IF(OR(B51=Dimension!$A$3,B51=Dimension!$A$4,B51=Dimension!$A$6,B51=Dimension!$A$8),CCYA,\"\")","v":""},{"$f":"IFERROR(VLOOKUP(F51,Dimension!$G$3:$H$252,2,FALSE),\"\")","v":""},{"$f":"IF(OR(B51=Dimension!$A$3,B51=Dimension!$A$4,B51=Dimension!$A$5),\"เดินทาง/ท่องเที่ยว\",\"\")","v":""},{"$f":"IF(OR(B51=Dimension!$A$6,B51=Dimension!$A$7,B51=Dimension!$A$8,B51=Dimension!$A$9),\"\",IF(OR(B51=Dimension!$A$3,B51=Dimension!$A$4,B51=Dimension!$A$5),\"สถานประกอบการ\",\"\"))","v":""},{"$f":"IF(OR(B51=Dimension!$A$3,B51=Dimension!$A$4,B51=Dimension!$A$5,B51=Dimension!$A$6,,B51=Dimension!$A$7,B51=Dimension!$A$8,B51=Dimension!$A$9),Payment_ID2,\"\")","v":""},null,{"$f":"IFERROR(VLOOKUP(K51,Dimension!$J$3:$K$179,2,FALSE),\"\")","v":""},null,null,{"$f":"IF(OR(B51=Dimension!$A$6,B51=Dimension!$A$7,B51=Dimension!$A$8,B51=Dimension!$A$9),\"\",IF(OR(B51=Dimension!$A$3,B51=Dimension!$A$4,B51=Dimension!$A$5),\"สถานประกอบการ\",\"\"))","v":""},{"$f":"IF(OR(B51=Dimension!$A$6,B51=Dimension!$A$7,B51=Dimension!$A$8,B51=Dimension!$A$9,B51=\"\"),\"\",Payment_ID2)","v":""},"",null,null,{"$f":"IF(D51=Dimension!$C$9,IF(LEFT(UPPER(E51),2)=\"MC\",TRUE,FALSE),TRUE)","v":true}]
[null,null,null,{"$f":"IF(B52=Dimension!$A$8,Dimension!$C$9,IF(B52=Dimension!$A$6,CD,\"\"))","v":""},null,{"$f":"IF(OR(B52=Dimension!$A$3,B52=Dimension!$A$4,B52=Dimension!$A$6,B52=Dimension!$A$8),CCYA,\"\")","v":""},{"$f":"IFERROR(VLOOKUP(F52,Dimension!$G$3:$H$252,2,FALSE),\"\")","v":""},{"$f":"IF(OR(B52=Dimension!$A$3,B52=Dimension!$A$4,B52=Dimension!$A$5),\"เดินทาง/ท่องเที่ยว\",\"\")","v":""},{"$f":"IF(OR(B52=Dimension!$A$6,B52=Dimension!$A$7,B52=Dimension!$A$8,B52=Dimension!$A$9),\"\",IF(OR(B52=Dimension!$A$3,B52=Dimension!$A$4,B52=Dimension!$A$5),\"สถานประกอบการ\",\"\"))","v":""},{"$f":"IF(OR(B52=Dimension!$A$3,B52=Dimension!$A$4,B52=Dimension!$A$5,B52=Dimension!$A$6,,B52=Dimension!$A$7,B52=Dimension!$A$8,B52=Dimension!$A$9),Payment_ID2,\"\")","v":""},null,{"$f":"IFERROR(VLOOKUP(K52,Dimension!$J$3:$K$179,2,FALSE),\"\")","v":""},null,null,{"$f":"IF(OR(B52=Dimension!$A$6,B52=Dimension!$A$7,B52=Dimension!$A$8,B52=Dimension!$A$9),\"\",IF(OR(B52=Dimension!$A$3,B52=Dimension!$A$4,B52=Dimension!$A$5),\"สถานประกอบการ\",\"\"))","v":""},{"$f":"IF(OR(B52=Dimension!$A$6,B52=Dimension!$A$7,B52=Dimension!$A$8,B52=Dimension!$A$9,B52=\"\"),\"\",Payment_ID2)","v":""},"",null,null,{"$f":"IF(D52=Dimension!$C$9,IF(LEFT(UPPER(E52),2)=\"MC\",TRUE,FALSE),TRUE)","v":true}]
[null,null,null,{"$f":"IF(B53=Dimension!$A$8,Dimension!$C$9,IF(B53=Dimension!$A$6,CD,\"\"))","v":""},null,{"$f":"IF(OR(B53=Dimension!$A$3,B53=Dimension!$A$4,B53=Dimension!$A$6,B53=Dimension!$A$8),CCYA,\"\")","v":""},{"$f":"IFERROR(VLOOKUP(F53,Dimension!$G$3:$H$252,2,FALSE),\"\")","v":""},{"$f":"IF(OR(B53=Dimension!$A$3,B53=Dimension!$A$4,B53=Dimension!$A$5),\"เดินทาง/ท่องเที่ยว\",\"\")","v":""},{"$f":"IF(OR(B53=Dimension!$A$6,B53=Dimension!$A$7,B53=Dimension!$A$8,B53=Dimension!$A$9),\"\",IF(OR(B53=Dimension!$A$3,B53=Dimension!$A$4,B53=Dimension!$A$5),\"สถานประกอบการ\",\"\"))","v":""},{"$f":"IF(OR(B53=Dimension!$A$3,B53=Dimension!$A$4,B53=Dimension!$A$5,B53=Dimension!$A$6,,B53=Dimension!$A$7,B53=Dimension!$A$8,B53=Dimension!$A$9),Payment_ID2,\"\")","v":""},null,{"$f":"IFERROR(VLOOKUP(K53,Dimension!$J$3:$K$179,2,FALSE),\"\")","v":""},null,null,{"$f":"IF(OR(B53=Dimension!$A$6,B53=Dimension!$A$7,B53=Dimension!$A$8,B53=Dimension!$A$9),\"\",IF(OR(B53=Dimension!$A$3,B53=Dimension!$A$4,B53=Dimension!$A$5),\"สถานประกอบการ\",\"\"))","v":""},{"$f":"IF(OR(B53=Dimension!$A$6,B53=Dimension!$A$7,B53=Dimension!$A$8,B53=Dimension!$A$9,B53=\"\"),\"\",Payment_ID2)","v":""},"",null,null,{"$f":"IF(D53=Dimension!$C$9,IF(LEFT(UPPER(E53),2)=\"MC\",TRUE,FALSE),TRUE)","v":true}]
[null,null,null,{"$f":"IF(B54=Dimension!$A$8,Dimension!$C$9,IF(B54=Dimension!$A$6,CD,\"\"))","v":""},null,{"$f":"IF(OR(B54=Dimension!$A$3,B54=Dimension!$A$4,B54=Dimension!$A$6,B54=Dimension!$A$8),CCYA,\"\")","v":""},{"$f":"IFERROR(VLOOKUP(F54,Dimension!$G$3:$H$252,2,FALSE),\"\")","v":""},{"$f":"IF(OR(B54=Dimension!$A$3,B54=Dimension!$A$4,B54=Dimension!$A$5),\"เดินทาง/ท่องเที่ยว\",\"\")","v":""},{"$f":"IF(OR(B54=Dimension!$A$6,B54=Dimension!$A$7,B54=Dimension!$A$8,B54=Dimension!$A$9),\"\",IF(OR(B54=Dimension!$A$3,B54=Dimension!$A$4,B54=Dimension!$A$5),\"สถานประกอบการ\",\"\"))","v":""},{"$f":"IF(OR(B54=Dimension!$A$3,B54=Dimension!$A$4,B54=Dimension!$A$5,B54=Dimension!$A$6,,B54=Dimension!$A$7,B54=Dimension!$A$8,B54=Dimension!$A$9),Payment_ID2,\"\")","v":""},null,{"$f":"IFERROR(VLOOKUP(K54,Dimension!$J$3:$K$179,2,FALSE),\"\")","v":""},null,null,{"$f":"IF(OR(B54=Dimension!$A$6,B54=Dimension!$A$7,B54=Dimension!$A$8,B54=Dimension!$A$9),\"\",IF(OR(B54=Dimension!$A$3,B54=Dimension!$A$4,B54=Dimension!$A$5),\"สถานประกอบการ\",\"\"))","v":""},{"$f":"IF(OR(B54=Dimension!$A$6,B54=Dimension!$A$7,B54=Dimension!$A$8,B54=Dimension!$A$9,B54=\"\"),\"\",Payment_ID2)","v":""},"",null,null,{"$f":"IF(D54=Dimension!$C$9,IF(LEFT(UPPER(E54),2)=\"MC\",TRUE,FALSE),TRUE)","v":true}]
[null,null,null,{"$f":"IF(B55=Dimension!$A$8,Dimension!$C$9,IF(B55=Dimension!$A$6,CD,\"\"))","v":""},null,{"$f":"IF(OR(B55=Dimension!$A$3,B55=Dimension!$A$4,B55=Dimension!$A$6,B55=Dimension!$A$8),CCYA,\"\")","v":""},{"$f":"IFERROR(VLOOKUP(F55,Dimension!$G$3:$H$252,2,FALSE),\"\")","v":""},{"$f":"IF(OR(B55=Dimension!$A$3,B55=Dimension!$A$4,B55=Dimension!$A$5),\"เดินทาง/ท่องเที่ยว\",\"\")","v":""},{"$f":"IF(OR(B55=Dimension!$A$6,B55=Dimension!$A$7,B55=Dimension!$A$8,B55=Dimension!$A$9),\"\",IF(OR(B55=Dimension!$A$3,B55=Dimension!$A$4,B55=Dimension!$A$5),\"สถานประกอบการ\",\"\"))","v":""},{"$f":"IF(OR(B55=Dimension!$A$3,B55=Dimension!$A$4,B55=Dimension!$A$5,B55=Dimension!$A$6,,B55=Dimension!$A$7,B55=Dimension!$A$8,B55=Dimension!$A$9),Payment_ID2,\"\")","v":""},null,{"$f":"IFERROR(VLOOKUP(K55,Dimension!$J$3:$K$179,2,FALSE),\"\")","v":""},null,null,{"$f":"IF(OR(B55=Dimension!$A$6,B55=Dimension!$A$7,B55=Dimension!$A$8,B55=Dimension!$A$9),\"\",IF(OR(B55=Dimension!$A$3,B55=Dimension!$A$4,B55=Dimension!$A$5),\"สถานประกอบการ\",\"\"))","v":""},{"$f":"IF(OR(B55=Dimension!$A$6,B55=Dimension!$A$7,B55=Dimension!$A$8,B55=Dimension!$A$9,B55=\"\"),\"\",Payment_ID2)","v":""},"",null,null,{"$f":"IF(D55=Dimension!$C$9,IF(LEFT(UPPER(E55),2)=\"MC\",TRUE,FALSE),TRUE)","v":true}]
[null,null,null,{"$f":"IF(B56=Dimension!$A$8,Dimension!$C$9,IF(B56=Dimension!$A$6,CD,\"\"))","v":""},null,{"$f":"IF(OR(B56=Dimension!$A$3,B56=Dimension!$A$4,B56=Dimension!$A$6,B56=Dimension!$A$8),CCYA,\"\")","v":""},{"$f":"IFERROR(VLOOKUP(F56,Dimension!$G$3:$H$252,2,FALSE),\"\")","v":""},{"$f":"IF(OR(B56=Dimension!$A$3,B56=Dimension!$A$4,B56=Dimension!$A$5),\"เดินทาง/ท่องเที่ยว\",\"\")","v":""},{"$f":"IF(OR(B56=Dimension!$A$6,B56=Dimension!$A$7,B56=Dimension!$A$8,B56=Dimension!$A$9),\"\",IF(OR(B56=Dimension!$A$3,B56=Dimension!$A$4,B56=Dimension!$A$5),\"สถานประกอบการ\",\"\"))","v":""},{"$f":"IF(OR(B56=Dimension!$A$3,B56=Dimension!$A$4,B56=Dimension!$A$5,B56=Dimension!$A$6,,B56=Dimension!$A$7,B56=Dimension!$A$8,B56=Dimension!$A$9),Payment_ID2,\"\")","v":""},null,{"$f":"IFERROR(VLOOKUP(K56,Dimension!$J$3:$K$179,2,FALSE),\"\")","v":""},null,null,{"$f":"IF(OR(B56=Dimension!$A$6,B56=Dimension!$A$7,B56=Dimension!$A$8,B56=Dimension!$A$9),\"\",IF(OR(B56=Dimension!$A$3,B56=Dimension!$A$4,B56=Dimension!$A$5),\"สถานประกอบการ\",\"\"))","v":""},{"$f":"IF(OR(B56=Dimension!$A$6,B56=Dimension!$A$7,B56=Dimension!$A$8,B56=Dimension!$A$9,B56=\"\"),\"\",Payment_ID2)","v":""},"",null,null,{"$f":"IF(D56=Dimension!$C$9,IF(LEFT(UPPER(E56),2)=\"MC\",TRUE,FALSE),TRUE)","v":true}]
[null,null,null,{"$f":"IF(B57=Dimension!$A$8,Dimension!$C$9,IF(B57=Dimension!$A$6,CD,\"\"))","v":""},null,{"$f":"IF(OR(B57=Dimension!$A$3,B57=Dimension!$A$4,B57=Dimension!$A$6,B57=Dimension!$A$8),CCYA,\"\")","v":""},{"$f":"IFERROR(VLOOKUP(F57,Dimension!$G$3:$H$252,2,FALSE),\"\")","v":""},{"$f":"IF(OR(B57=Dimension!$A$3,B57=Dimension!$A$4,B57=Dimension!$A$5),\"เดินทาง/ท่องเที่ยว\",\"\")","v":""},{"$f":"IF(OR(B57=Dimension!$A$6,B57=Dimension!$A$7,B57=Dimension!$A$8,B57=Dimension!$A$9),\"\",IF(OR(B57=Dimension!$A$3,B57=Dimension!$A$4,B57=Dimension!$A$5),\"สถานประกอบการ\",\"\"))","v":""},{"$f":"IF(OR(B57=Dimension!$A$3,B57=Dimension!$A$4,B57=Dimension!$A$5,B57=Dimension!$A$6,,B57=Dimension!$A$7,B57=Dimension!$A$8,B57=Dimension!$A$9),Payment_ID2,\"\")","v":""},null,{"$f":"IFERROR(VLOOKUP(K57,Dimension!$J$3:$K$179,2,FALSE),\"\")","v":""},null,null,{"$f":"IF(OR(B57=Dimension!$A$6,B57=Dimension!$A$7,B57=Dimension!$A$8,B57=Dimension!$A$9),\"\",IF(OR(B57=Dimension!$A$3,B57=Dimension!$A$4,B57=Dimension!$A$5),\"สถานประกอบการ\",\"\"))","v":""},{"$f":"IF(OR(B57=Dimension!$A$6,B57=Dimension!$A$7,B57=Dimension!$A$8,B57=Dimension!$A$9,B57=\"\"),\"\",Payment_ID2)","v":""},"",null,null,{"$f":"IF(D57=Dimension!$C$9,IF(LEFT(UPPER(E57),2)=\"MC\",TRUE,FALSE),TRUE)","v":true}]
[null,null,null,{"$f":"IF(B58=Dimension!$A$8,Dimension!$C$9,IF(B58=Dimension!$A$6,CD,\"\"))","v":""},null,{"$f":"IF(OR(B58=Dimension!$A$3,B58=Dimension!$A$4,B58=Dimension!$A$6,B58=Dimension!$A$8),CCYA,\"\")","v":""},{"$f":"IFERROR(VLOOKUP(F58,Dimension!$G$3:$H$252,2,FALSE),\"\")","v":""},{"$f":"IF(OR(B58=Dimension!$A$3,B58=Dimension!$A$4,B58=Dimension!$A$5),\"เดินทาง/ท่องเที่ยว\",\"\")","v":""},{"$f":"IF(OR(B58=Dimension!$A$6,B58=Dimension!$A$7,B58=Dimension!$A$8,B58=Dimension!$A$9),\"\",IF(OR(B58=Dimension!$A$3,B58=Dimension!$A$4,B58=Dimension!$A$5),\"สถานประกอบการ\",\"\"))","v":""},{"$f":"IF(OR(B58=Dimension!$A$3,B58=Dimension!$A$4,B58=Dimension!$A$5,B58=Dimension!$A$6,,B58=Dimension!$A$7,B58=Dimension!$A$8,B58=Dimension!$A$9),Payment_ID2,\"\")","v":""},null,{"$f":"IFERROR(VLOOKUP(K58,Dimension!$J$3:$K$179,2,FALSE),\"\")","v":""},null,null,{"$f":"IF(OR(B58=Dimension!$A$6,B58=Dimension!$A$7,B58=Dimension!$A$8,B58=Dimension!$A$9),\"\",IF(OR(B58=Dimension!$A$3,B58=Dimension!$A$4,B58=Dimension!$A$5),\"สถานประกอบการ\",\"\"))","v":""},{"$f":"IF(OR(B58=Dimension!$A$6,B58=Dimension!$A$7,B58=Dimension!$A$8,B58=Dimension!$A$9,B58=\"\"),\"\",Payment_ID2)","v":""},"",null,null,{"$f":"IF(D58=Dimension!$C$9,IF(LEFT(UPPER(E58),2)=\"MC\",TRUE,FALSE),TRUE)","v":true}]
[null,null,null,{"$f":"IF(B59=Dimension!$A$8,Dimension!$C$9,IF(B59=Dimension!$A$6,CD,\"\"))","v":""},null,{"$f":"IF(OR(B59=Dimension!$A$3,B59=Dimension!$A$4,B59=Dimension!$A$6,B59=Dimension!$A$8),CCYA,\"\")","v":""},{"$f":"IFERROR(VLOOKUP(F59,Dimension!$G$3:$H$252,2,FALSE),\"\")","v":""},{"$f":"IF(OR(B59=Dimension!$A$3,B59=Dimension!$A$4,B59=Dimension!$A$5),\"เดินทาง/ท่องเที่ยว\",\"\")","v":""},{"$f":"IF(OR(B59=Dimension!$A$6,B59=Dimension!$A$7,B59=Dimension!$A$8,B59=Dimension!$A$9),\"\",IF(OR(B59=Dimension!$A$3,B59=Dimension!$A$4,B59=Dimension!$A$5),\"สถานประกอบการ\",\"\"))","v":""},{"$f":"IF(OR(B59=Dimension!$A$3,B59=Dimension!$A$4,B59=Dimension!$A$5,B59=Dimension!$A$6,,B59=Dimension!$A$7,B59=Dimension!$A$8,B59=Dimension!$A$9),Payment_ID2,\"\")","v":""},null,{"$f":"IFERROR(VLOOKUP(K59,Dimension!$J$3:$K$179,2,FALSE),\"\")","v":""},null,null,{"$f":"IF(OR(B59=Dimension!$A$6,B59=Dimension!$A$7,B59=Dimension!$A$8,B59=Dimension!$A$9),\"\",IF(OR(B59=Dimension!$A$3,B59=Dimension!$A$4,B59=Dimension!$A$5),\"สถานประกอบการ\",\"\"))","v":""},{"$f":"IF(OR(B59=Dimension!$A$6,B59=Dimension!$A$7,B59=Dimension!$A$8,B59=Dimension!$A$9,B59=\"\"),\"\",Payment_ID2)","v":""},"",null,null,{"$f":"IF(D59=Dimension!$C$9,IF(LEFT(UPPER(E59),2)=\"MC\",TRUE,FALSE),TRUE)","v":true}]
[null,null,null,{"$f":"IF(B60=Dimension!$A$8,Dimension!$C$9,IF(B60=Dimension!$A$6,CD,\"\"))","v":""},null,{"$f":"IF(OR(B60=Dimension!$A$3,B60=Dimension!$A$4,B60=Dimension!$A$6,B60=Dimension!$A$8),CCYA,\"\")","v":""},{"$f":"IFERROR(VLOOKUP(F60,Dimension!$G$3:$H$252,2,FALSE),\"\")","v":""},{"$f":"IF(OR(B60=Dimension!$A$3,B60=Dimension!$A$4,B60=Dimension!$A$5),\"เดินทาง/ท่องเที่ยว\",\"\")","v":""},{"$f":"IF(OR(B60=Dimension!$A$6,B60=Dimension!$A$7,B60=Dimension!$A$8,B60=Dimension!$A$9),\"\",IF(OR(B60=Dimension!$A$3,B60=Dimension!$A$4,B60=Dimension!$A$5),\"สถานประกอบการ\",\"\"))","v":""},{"$f":"IF(OR(B60=Dimension!$A$3,B60=Dimension!$A$4,B60=Dimension!$A$5,B60=Dimension!$A$6,,B60=Dimension!$A$7,B60=Dimension!$A$8,B60=Dimension!$A$9),Payment_ID2,\"\")","v":""},null,{"$f":"IFERROR(VLOOKUP(K60,Dimension!$J$3:$K$179,2,FALSE),\"\")","v":""},null,null,{"$f":"IF(OR(B60=Dimension!$A$6,B60=Dimension!$A$7,B60=Dimension!$A$8,B60=Dimension!$A$9),\"\",IF(OR(B60=Dimension!$A$3,B60=Dimension!$A$4,B60=Dimension!$A$5),\"สถานประกอบการ\",\"\"))","v":""},{"$f":"IF(OR(B60=Dimension!$A$6,B60=Dimension!$A$7,B60=Dimension!$A$8,B60=Dimension!$A$9,B60=\"\"),\"\",Payment_ID2)","v":""},"",null,null,{"$f":"IF(D60=Dimension!$C$9,IF(LEFT(UPPER(E60),2)=\"MC\",TRUE,FALSE),TRUE)","v":true}]
[null,null,null,{"$f":"IF(B61=Dimension!$A$8,Dimension!$C$9,IF(B61=Dimension!$A$6,CD,\"\"))","v":""},null,{"$f":"IF(OR(B61=Dimension!$A$3,B61=Dimension!$A$4,B61=Dimension!$A$6,B61=Dimension!$A$8),CCYA,\"\")","v":""},{"$f":"IFERROR(VLOOKUP(F61,Dimension!$G$3:$H$252,2,FALSE),\"\")","v":""},{"$f":"IF(OR(B61=Dimension!$A$3,B61=Dimension!$A$4,B61=Dimension!$A$5),\"เดินทาง/ท่องเที่ยว\",\"\")","v":""},{"$f":"IF(OR(B61=Dimension!$A$6,B61=Dimension!$A$7,B61=Dimension!$A$8,B61=Dimension!$A$9),\"\",IF(OR(B61=Dimension!$A$3,B61=Dimension!$A$4,B61=Dimension!$A$5),\"สถานประกอบการ\",\"\"))","v":""},{"$f":"IF(OR(B61=Dimension!$A$3,B61=Dimension!$A$4,B61=Dimension!$A$5,B61=Dimension!$A$6,,B61=Dimension!$A$7,B61=Dimension!$A$8,B61=Dimension!$A$9),Payment_ID2,\"\")","v":""},null,{"$f":"IFERROR(VLOOKUP(K61,Dimension!$J$3:$K$179,2,FALSE),\"\")","v":""},null,null,{"$f":"IF(OR(B61=Dimension!$A$6,B61=Dimension!$A$7,B61=Dimension!$A$8,B61=Dimension!$A$9),\"\",IF(OR(B61=Dimension!$A$3,B61=Dimension!$A$4,B61=Dimension!$A$5),\"สถานประกอบการ\",\"\"))","v":""},{"$f":"IF(OR(B61=Dimension!$A$6,B61=Dimension!$A$7,B61=Dimension!$A$8,B61=Dimension!$A$9,B61=\"\"),\"\",Payment_ID2)","v":""},"",null,null,{"$f":"IF(D61=Dimension!$C$9,IF(LEFT(UPPER(E61),2)=\"MC\",TRUE,FALSE),TRUE)","v":true}]
[null,null,null,{"$f":"IF(B62=Dimension!$A$8,Dimension!$C$9,IF(B62=Dimension!$A$6,CD,\"\"))","v":""},null,{"$f":"IF(OR(B62=Dimension!$A$3,B62=Dimension!$A$4,B62=Dimension!$A$6,B62=Dimension!$A$8),CCYA,\"\")","v":""},{"$f":"IFERROR(VLOOKUP(F62,Dimension!$G$3:$H$252,2,FALSE),\"\")","v":""},{"$f":"IF(OR(B62=Dimension!$A$3,B62=Dimension!$A$4,B62=Dimension!$A$5),\"เดินทาง/ท่องเที่ยว\",\"\")","v":""},{"$f":"IF(OR(B62=Dimension!$A$6,B62=Dimension!$A$7,B62=Dimension!$A$8,B62=Dimension!$A$9),\"\",IF(OR(B62=Dimension!$A$3,B62=Dimension!$A$4,B62=Dimension!$A$5),\"สถานประกอบการ\",\"\"))","v":""},{"$f":"IF(OR(B62=Dimension!$A$3,B62=Dimension!$A$4,B62=Dimension!$A$5,B62=Dimension!$A$6,,B62=Dimension!$A$7,B62=Dimension!$A$8,B62=Dimension!$A$9),Payment_ID2,\"\")","v":""},null,{"$f":"IFERROR(VLOOKUP(K62,Dimension!$J$3:$K$179,2,FALSE),\"\")","v":""},null,null,{"$f":"IF(OR(B62=Dimension!$A$6,B62=Dimension!$A$7,B62=Dimension!$A$8,B62=Dimension!$A$9),\"\",IF(OR(B62=Dimension!$A$3,B62=Dimension!$A$4,B62=Dimension!$A$5),\"สถานประกอบการ\",\"\"))","v":""},{"$f":"IF(OR(B62=Dimension!$A$6,B62=Dimension!$A$7,B62=Dimension!$A$8,B62=Dimension!$A$9,B62=\"\"),\"\",Payment_ID2)","v":""},"",null,null,{"$f":"IF(D62=Dimension!$C$9,IF(LEFT(UPPER(E62),2)=\"MC\",TRUE,FALSE),TRUE)","v":true}]
[null,null,null,{"$f":"IF(B63=Dimension!$A$8,Dimension!$C$9,IF(B63=Dimension!$A$6,CD,\"\"))","v":""},null,{"$f":"IF(OR(B63=Dimension!$A$3,B63=Dimension!$A$4,B63=Dimension!$A$6,B63=Dimension!$A$8),CCYA,\"\")","v":""},{"$f":"IFERROR(VLOOKUP(F63,Dimension!$G$3:$H$252,2,FALSE),\"\")","v":""},{"$f":"IF(OR(B63=Dimension!$A$3,B63=Dimension!$A$4,B63=Dimension!$A$5),\"เดินทาง/ท่องเที่ยว\",\"\")","v":""},{"$f":"IF(OR(B63=Dimension!$A$6,B63=Dimension!$A$7,B63=Dimension!$A$8,B63=Dimension!$A$9),\"\",IF(OR(B63=Dimension!$A$3,B63=Dimension!$A$4,B63=Dimension!$A$5),\"สถานประกอบการ\",\"\"))","v":""},{"$f":"IF(OR(B63=Dimension!$A$3,B63=Dimension!$A$4,B63=Dimension!$A$5,B63=Dimension!$A$6,,B63=Dimension!$A$7,B63=Dimension!$A$8,B63=Dimension!$A$9),Payment_ID2,\"\")","v":""},null,{"$f":"IFERROR(VLOOKUP(K63,Dimension!$J$3:$K$179,2,FALSE),\"\")","v":""},null,null,{"$f":"IF(OR(B63=Dimension!$A$6,B63=Dimension!$A$7,B63=Dimension!$A$8,B63=Dimension!$A$9),\"\",IF(OR(B63=Dimension!$A$3,B63=Dimension!$A$4,B63=Dimension!$A$5),\"สถานประกอบการ\",\"\"))","v":""},{"$f":"IF(OR(B63=Dimension!$A$6,B63=Dimension!$A$7,B63=Dimension!$A$8,B63=Dimension!$A$9,B63=\"\"),\"\",Payment_ID2)","v":""},"",null,null,{"$f":"IF(D63=Dimension!$C$9,IF(LEFT(UPPER(E63),2)=\"MC\",TRUE,FALSE),TRUE)","v":true}]
[null,null,null,{"$f":"IF(B64=Dimension!$A$8,Dimension!$C$9,IF(B64=Dimension!$A$6,CD,\"\"))","v":""},null,{"$f":"IF(OR(B64=Dimension!$A$3,B64=Dimension!$A$4,B64=Dimension!$A$6,B64=Dimension!$A$8),CCYA,\"\")","v":""},{"$f":"IFERROR(VLOOKUP(F64,Dimension!$G$3:$H$252,2,FALSE),\"\")","v":""},{"$f":"IF(OR(B64=Dimension!$A$3,B64=Dimension!$A$4,B64=Dimension!$A$5),\"เดินทาง/ท่องเที่ยว\",\"\")","v":""},{"$f":"IF(OR(B64=Dimension!$A$6,B64=Dimension!$A$7,B64=Dimension!$A$8,B64=Dimension!$A$9),\"\",IF(OR(B64=Dimension!$A$3,B64=Dimension!$A$4,B64=Dimension!$A$5),\"สถานประกอบการ\",\"\"))","v":""},{"$f":"IF(OR(B64=Dimension!$A$3,B64=Dimension!$A$4,B64=Dimension!$A$5,B64=Dimension!$A$6,,B64=Dimension!$A$7,B64=Dimension!$A$8,B64=Dimension!$A$9),Payment_ID2,\"\")","v":""},null,{"$f":"IFERROR(VLOOKUP(K64,Dimension!$J$3:$K$179,2,FALSE),\"\")","v":""},null,null,{"$f":"IF(OR(B64=Dimension!$A$6,B64=Dimension!$A$7,B64=Dimension!$A$8,B64=Dimension!$A$9),\"\",IF(OR(B64=Dimension!$A$3,B64=Dimension!$A$4,B64=Dimension!$A$5),\"สถานประกอบการ\",\"\"))","v":""},{"$f":"IF(OR(B64=Dimension!$A$6,B64=Dimension!$A$7,B64=Dimension!$A$8,B64=Dimension!$A$9,B64=\"\"),\"\",Payment_ID2)","v":""},"",null,null,{"$f":"IF(D64=Dimension!$C$9,IF(LEFT(UPPER(E64),2)=\"MC\",TRUE,FALSE),TRUE)","v":true}]
[null,null,null,{"$f":"IF(B65=Dimension!$A$8,Dimension!$C$9,IF(B65=Dimension!$A$6,CD,\"\"))","v":""},null,{"$f":"IF(OR(B65=Dimension!$A$3,B65=Dimension!$A$4,B65=Dimension!$A$6,B65=Dimension!$A$8),CCYA,\"\")","v":""},{"$f":"IFERROR(VLOOKUP(F65,Dimension!$G$3:$H$252,2,FALSE),\"\")","v":""},{"$f":"IF(OR(B65=Dimension!$A$3,B65=Dimension!$A$4,B65=Dimension!$A$5),\"เดินทาง/ท่องเที่ยว\",\"\")","v":""},{"$f":"IF(OR(B65=Dimension!$A$6,B65=Dimension!$A$7,B65=Dimension!$A$8,B65=Dimension!$A$9),\"\",IF(OR(B65=Dimension!$A$3,B65=Dimension!$A$4,B65=Dimension!$A$5),\"สถานประกอบการ\",\"\"))","v":""},{"$f":"IF(OR(B65=Dimension!$A$3,B65=Dimension!$A$4,B65=Dimension!$A$5,B65=Dimension!$A$6,,B65=Dimension!$A$7,B65=Dimension!$A$8,B65=Dimension!$A$9),Payment_ID2,\"\")","v":""},null,{"$f":"IFERROR(VLOOKUP(K65,Dimension!$J$3:$K$179,2,FALSE),\"\")","v":""},null,null,{"$f":"IF(OR(B65=Dimension!$A$6,B65=Dimension!$A$7,B65=Dimension!$A$8,B65=Dimension!$A$9),\"\",IF(OR(B65=Dimension!$A$3,B65=Dimension!$A$4,B65=Dimension!$A$5),\"สถานประกอบการ\",\"\"))","v":""},{"$f":"IF(OR(B65=Dimension!$A$6,B65=Dimension!$A$7,B65=Dimension!$A$8,B65=Dimension!$A$9,B65=\"\"),\"\",Payment_ID2)","v":""},"",null,null,{"$f":"IF(D65=Dimension!$C$9,IF(LEFT(UPPER(E65),2)=\"MC\",TRUE,FALSE),TRUE)","v":true}]
[null,null,null,{"$f":"IF(B66=Dimension!$A$8,Dimension!$C$9,IF(B66=Dimension!$A$6,CD,\"\"))","v":""},null,{"$f":"IF(OR(B66=Dimension!$A$3,B66=Dimension!$A$4,B66=Dimension!$A$6,B66=Dimension!$A$8),CCYA,\"\")","v":""},{"$f":"IFERROR(VLOOKUP(F66,Dimension!$G$3:$H$252,2,FALSE),\"\")","v":""},{"$f":"IF(OR(B66=Dimension!$A$3,B66=Dimension!$A$4,B66=Dimension!$A$5),\"เดินทาง/ท่องเที่ยว\",\"\")","v":""},{"$f":"IF(OR(B66=Dimension!$A$6,B66=Dimension!$A$7,B66=Dimension!$A$8,B66=Dimension!$A$9),\"\",IF(OR(B66=Dimension!$A$3,B66=Dimension!$A$4,B66=Dimension!$A$5),\"สถานประกอบการ\",\"\"))","v":""},{"$f":"IF(OR(B66=Dimension!$A$3,B66=Dimension!$A$4,B66=Dimension!$A$5,B66=Dimension!$A$6,,B66=Dimension!$A$7,B66=Dimension!$A$8,B66=Dimension!$A$9),Payment_ID2,\"\")","v":""},null,{"$f":"IFERROR(VLOOKUP(K66,Dimension!$J$3:$K$179,2,FALSE),\"\")","v":""},null,null,{"$f":"IF(OR(B66=Dimension!$A$6,B66=Dimension!$A$7,B66=Dimension!$A$8,B66=Dimension!$A$9),\"\",IF(OR(B66=Dimension!$A$3,B66=Dimension!$A$4,B66=Dimension!$A$5),\"สถานประกอบการ\",\"\"))","v":""},{"$f":"IF(OR(B66=Dimension!$A$6,B66=Dimension!$A$7,B66=Dimension!$A$8,B66=Dimension!$A$9,B66=\"\"),\"\",Payment_ID2)","v":""},"",null,null,{"$f":"IF(D66=Dimension!$C$9,IF(LEFT(UPPER(E66),2)=\"MC\",TRUE,FALSE),TRUE)","v":true}]
[null,null,null,{"$f":"IF(B67=Dimension!$A$8,Dimension!$C$9,IF(B67=Dimension!$A$6,CD,\"\"))","v":""},null,{"$f":"IF(OR(B67=Dimension!$A$3,B67=Dimension!$A$4,B67=Dimension!$A$6,B67=Dimension!$A$8),CCYA,\"\")","v":""},{"$f":"IFERROR(VLOOKUP(F67,Dimension!$G$3:$H$252,2,FALSE),\"\")","v":""},{"$f":"IF(OR(B67=Dimension!$A$3,B67=Dimension!$A$4,B67=Dimension!$A$5),\"เดินทาง/ท่องเที่ยว\",\"\")","v":""},{"$f":"IF(OR(B67=Dimension!$A$6,B67=Dimension!$A$7,B67=Dimension!$A$8,B67=Dimension!$A$9),\"\",IF(OR(B67=Dimension!$A$3,B67=Dimension!$A$4,B67=Dimension!$A$5),\"สถานประกอบการ\",\"\"))","v":""},{"$f":"IF(OR(B67=Dimension!$A$3,B67=Dimension!$A$4,B67=Dimension!$A$5,B67=Dimension!$A$6,,B67=Dimension!$A$7,B67=Dimension!$A$8,B67=Dimension!$A$9),Payment_ID2,\"\")","v":""},null,{"$f":"IFERROR(VLOOKUP(K67,Dimension!$J$3:$K$179,2,FALSE),\"\")","v":""},null,null,{"$f":"IF(OR(B67=Dimension!$A$6,B67=Dimension!$A$7,B67=Dimension!$A$8,B67=Dimension!$A$9),\"\",IF(OR(B67=Dimension!$A$3,B67=Dimension!$A$4,B67=Dimension!$A$5),\"สถานประกอบการ\",\"\"))","v":""},{"$f":"IF(OR(B67=Dimension!$A$6,B67=Dimension!$A$7,B67=Dimension!$A$8,B67=Dimension!$A$9,B67=\"\"),\"\",Payment_ID2)","v":""},"",null,null,{"$f":"IF(D67=Dimension!$C$9,IF(LEFT(UPPER(E67),2)=\"MC\",TRUE,FALSE),TRUE)","v":true}]
[null,null,null,{"$f":"IF(B68=Dimension!$A$8,Dimension!$C$9,IF(B68=Dimension!$A$6,CD,\"\"))","v":""},null,{"$f":"IF(OR(B68=Dimension!$A$3,B68=Dimension!$A$4,B68=Dimension!$A$6,B68=Dimension!$A$8),CCYA,\"\")","v":""},{"$f":"IFERROR(VLOOKUP(F68,Dimension!$G$3:$H$252,2,FALSE),\"\")","v":""},{"$f":"IF(OR(B68=Dimension!$A$3,B68=Dimension!$A$4,B68=Dimension!$A$5),\"เดินทาง/ท่องเที่ยว\",\"\")","v":""},{"$f":"IF(OR(B68=Dimension!$A$6,B68=Dimension!$A$7,B68=Dimension!$A$8,B68=Dimension!$A$9),\"\",IF(OR(B68=Dimension!$A$3,B68=Dimension!$A$4,B68=Dimension!$A$5),\"สถานประกอบการ\",\"\"))","v":""},{"$f":"IF(OR(B68=Dimension!$A$3,B68=Dimension!$A$4,B68=Dimension!$A$5,B68=Dimension!$A$6,,B68=Dimension!$A$7,B68=Dimension!$A$8,B68=Dimension!$A$9),Payment_ID2,\"\")","v":""},null,{"$f":"IFERROR(VLOOKUP(K68,Dimension!$J$3:$K$179,2,FALSE),\"\")","v":""},null,null,{"$f":"IF(OR(B68=Dimension!$A$6,B68=Dimension!$A$7,B68=Dimension!$A$8,B68=Dimension!$A$9),\"\",IF(OR(B68=Dimension!$A$3,B68=Dimension!$A$4,B68=Dimension!$A$5),\"สถานประกอบการ\",\"\"))","v":""},{"$f":"IF(OR(B68=Dimension!$A$6,B68=Dimension!$A$7,B68=Dimension!$A$8,B68=Dimension!$A$9,B68=\"\"),\"\",Payment_ID2)","v":""},"",null,null,{"$f":"IF(D68=Dimension!$C$9,IF(LEFT(UPPER(E68),2)=\"MC\",TRUE,FALSE),TRUE)","v":true}]
[null,null,null,{"$f":"IF(B69=Dimension!$A$8,Dimension!$C$9,IF(B69=Dimension!$A$6,CD,\"\"))","v":""},null,{"$f":"IF(OR(B69=Dimension!$A$3,B69=Dimension!$A$4,B69=Dimension!$A$6,B69=Dimension!$A$8),CCYA,\"\")","v":""},{"$f":"IFERROR(VLOOKUP(F69,Dimension!$G$3:$H$252,2,FALSE),\"\")","v":""},{"$f":"IF(OR(B69=Dimension!$A$3,B69=Dimension!$A$4,B69=Dimension!$A$5),\"เดินทาง/ท่องเที่ยว\",\"\")","v":""},{"$f":"IF(OR(B69=Dimension!$A$6,B69=Dimension!$A$7,B69=Dimension!$A$8,B69=Dimension!$A$9),\"\",IF(OR(B69=Dimension!$A$3,B69=Dimension!$A$4,B69=Dimension!$A$5),\"สถานประกอบการ\",\"\"))","v":""},{"$f":"IF(OR(B69=Dimension!$A$3,B69=Dimension!$A$4,B69=Dimension!$A$5,B69=Dimension!$A$6,,B69=Dimension!$A$7,B69=Dimension!$A$8,B69=Dimension!$A$9),Payment_ID2,\"\")","v":""},null,{"$f":"IFERROR(VLOOKUP(K69,Dimension!$J$3:$K$179,2,FALSE),\"\")","v":""},null,null,{"$f":"IF(OR(B69=Dimension!$A$6,B69=Dimension!$A$7,B69=Dimension!$A$8,B69=Dimension!$A$9),\"\",IF(OR(B69=Dimension!$A$3,B69=Dimension!$A$4,B69=Dimension!$A$5),\"สถานประกอบการ\",\"\"))","v":""},{"$f":"IF(OR(B69=Dimension!$A$6,B69=Dimension!$A$7,B69=Dimension!$A$8,B69=Dimension!$A$9,B69=\"\"),\"\",Payment_ID2)","v":""},"",null,null,{"$f":"IF(D69=Dimension!$C$9,IF(LEFT(UPPER(E69),2)=\"MC\",TRUE,FALSE),TRUE)","v":true}]
[null,null,null,{"$f":"IF(B70=Dimension!$A$8,Dimension!$C$9,IF(B70=Dimension!$A$6,CD,\"\"))","v":""},null,{"$f":"IF(OR(B70=Dimension!$A$3,B70=Dimension!$A$4,B70=Dimension!$A$6,B70=Dimension!$A$8),CCYA,\"\")","v":""},{"$f":"IFERROR(VLOOKUP(F70,Dimension!$G$3:$H$252,2,FALSE),\"\")","v":""},{"$f":"IF(OR(B70=Dimension!$A$3,B70=Dimension!$A$4,B70=Dimension!$A$5),\"เดินทาง/ท่องเที่ยว\",\"\")","v":""},{"$f":"IF(OR(B70=Dimension!$A$6,B70=Dimension!$A$7,B70=Dimension!$A$8,B70=Dimension!$A$9),\"\",IF(OR(B70=Dimension!$A$3,B70=Dimension!$A$4,B70=Dimension!$A$5),\"สถานประกอบการ\",\"\"))","v":""},{"$f":"IF(OR(B70=Dimension!$A$3,B70=Dimension!$A$4,B70=Dimension!$A$5,B70=Dimension!$A$6,,B70=Dimension!$A$7,B70=Dimension!$A$8,B70=Dimension!$A$9),Payment_ID2,\"\")","v":""},null,{"$f":"IFERROR(VLOOKUP(K70,Dimension!$J$3:$K$179,2,FALSE),\"\")","v":""},null,null,{"$f":"IF(OR(B70=Dimension!$A$6,B70=Dimension!$A$7,B70=Dimension!$A$8,B70=Dimension!$A$9),\"\",IF(OR(B70=Dimension!$A$3,B70=Dimension!$A$4,B70=Dimension!$A$5),\"สถานประกอบการ\",\"\"))","v":""},{"$f":"IF(OR(B70=Dimension!$A$6,B70=Dimension!$A$7,B70=Dimension!$A$8,B70=Dimension!$A$9,B70=\"\"),\"\",Payment_ID2)","v":""},"",null,null,{"$f":"IF(D70=Dimension!$C$9,IF(LEFT(UPPER(E70),2)=\"MC\",TRUE,FALSE),TRUE)","v":true}]
[null,null,null,{"$f":"IF(B71=Dimension!$A$8,Dimension!$C$9,IF(B71=Dimension!$A$6,CD,\"\"))","v":""},null,{"$f":"IF(OR(B71=Dimension!$A$3,B71=Dimension!$A$4,B71=Dimension!$A$6,B71=Dimension!$A$8),CCYA,\"\")","v":""},{"$f":"IFERROR(VLOOKUP(F71,Dimension!$G$3:$H$252,2,FALSE),\"\")","v":""},{"$f":"IF(OR(B71=Dimension!$A$3,B71=Dimension!$A$4,B71=Dimension!$A$5),\"เดินทาง/ท่องเที่ยว\",\"\")","v":""},{"$f":"IF(OR(B71=Dimension!$A$6,B71=Dimension!$A$7,B71=Dimension!$A$8,B71=Dimension!$A$9),\"\",IF(OR(B71=Dimension!$A$3,B71=Dimension!$A$4,B71=Dimension!$A$5),\"สถานประกอบการ\",\"\"))","v":""},{"$f":"IF(OR(B71=Dimension!$A$3,B71=Dimension!$A$4,B71=Dimension!$A$5,B71=Dimension!$A$6,,B71=Dimension!$A$7,B71=Dimension!$A$8,B71=Dimension!$A$9),Payment_ID2,\"\")","v":""},null,{"$f":"IFERROR(VLOOKUP(K71,Dimension!$J$3:$K$179,2,FALSE),\"\")","v":""},null,null,{"$f":"IF(OR(B71=Dimension!$A$6,B71=Dimension!$A$7,B71=Dimension!$A$8,B71=Dimension!$A$9),\"\",IF(OR(B71=Dimension!$A$3,B71=Dimension!$A$4,B71=Dimension!$A$5),\"สถานประกอบการ\",\"\"))","v":""},{"$f":"IF(OR(B71=Dimension!$A$6,B71=Dimension!$A$7,B71=Dimension!$A$8,B71=Dimension!$A$9,B71=\"\"),\"\",Payment_ID2)","v":""},"",null,null,{"$f":"IF(D71=Dimension!$C$9,IF(LEFT(UPPER(E71),2)=\"MC\",TRUE,FALSE),TRUE)","v":true}]
[null,null,null,{"$f":"IF(B72=Dimension!$A$8,Dimension!$C$9,IF(B72=Dimension!$A$6,CD,\"\"))","v":""},null,{"$f":"IF(OR(B72=Dimension!$A$3,B72=Dimension!$A$4,B72=Dimension!$A$6,B72=Dimension!$A$8),CCYA,\"\")","v":""},{"$f":"IFERROR(VLOOKUP(F72,Dimension!$G$3:$H$252,2,FALSE),\"\")","v":""},{"$f":"IF(OR(B72=Dimension!$A$3,B72=Dimension!$A$4,B72=Dimension!$A$5),\"เดินทาง/ท่องเที่ยว\",\"\")","v":""},{"$f":"IF(OR(B72=Dimension!$A$6,B72=Dimension!$A$7,B72=Dimension!$A$8,B72=Dimension!$A$9),\"\",IF(OR(B72=Dimension!$A$3,B72=Dimension!$A$4,B72=Dimension!$A$5),\"สถานประกอบการ\",\"\"))","v":""},{"$f":"IF(OR(B72=Dimension!$A$3,B72=Dimension!$A$4,B72=Dimension!$A$5,B72=Dimension!$A$6,,B72=Dimension!$A$7,B72=Dimension!$A$8,B72=Dimension!$A$9),Payment_ID2,\"\")","v":""},null,{"$f":"IFERROR(VLOOKUP(K72,Dimension!$J$3:$K$179,2,FALSE),\"\")","v":""},null,null,{"$f":"IF(OR(B72=Dimension!$A$6,B72=Dimension!$A$7,B72=Dimension!$A$8,B72=Dimension!$A$9),\"\",IF(OR(B72=Dimension!$A$3,B72=Dimension!$A$4,B72=Dimension!$A$5),\"สถานประกอบการ\",\"\"))","v":""},{"$f":"IF(OR(B72=Dimension!$A$6,B72=Dimension!$A$7,B72=Dimension!$A$8,B72=Dimension!$A$9,B72=\"\"),\"\",Payment_ID2)","v":""},"",null,null,{"$f":"IF(D72=Dimension!$C$9,IF(LEFT(UPPER(E72),2)=\"MC\",TRUE,FALSE),TRUE)","v":true}]
[null,null,null,{"$f":"IF(B73=Dimension!$A$8,Dimension!$C$9,IF(B73=Dimension!$A$6,CD,\"\"))","v":""},null,{"$f":"IF(OR(B73=Dimension!$A$3,B73=Dimension!$A$4,B73=Dimension!$A$6,B73=Dimension!$A$8),CCYA,\"\")","v":""},{"$f":"IFERROR(VLOOKUP(F73,Dimension!$G$3:$H$252,2,FALSE),\"\")","v":""},{"$f":"IF(OR(B73=Dimension!$A$3,B73=Dimension!$A$4,B73=Dimension!$A$5),\"เดินทาง/ท่องเที่ยว\",\"\")","v":""},{"$f":"IF(OR(B73=Dimension!$A$6,B73=Dimension!$A$7,B73=Dimension!$A$8,B73=Dimension!$A$9),\"\",IF(OR(B73=Dimension!$A$3,B73=Dimension!$A$4,B73=Dimension!$A$5),\"สถานประกอบการ\",\"\"))","v":""},{"$f":"IF(OR(B73=Dimension!$A$3,B73=Dimension!$A$4,B73=Dimension!$A$5,B73=Dimension!$A$6,,B73=Dimension!$A$7,B73=Dimension!$A$8,B73=Dimension!$A$9),Payment_ID2,\"\")","v":""},null,{"$f":"IFERROR(VLOOKUP(K73,Dimension!$J$3:$K$179,2,FALSE),\"\")","v":""},null,null,{"$f":"IF(OR(B73=Dimension!$A$6,B73=Dimension!$A$7,B73=Dimension!$A$8,B73=Dimension!$A$9),\"\",IF(OR(B73=Dimension!$A$3,B73=Dimension!$A$4,B73=Dimension!$A$5),\"สถานประกอบการ\",\"\"))","v":""},{"$f":"IF(OR(B73=Dimension!$A$6,B73=Dimension!$A$7,B73=Dimension!$A$8,B73=Dimension!$A$9,B73=\"\"),\"\",Payment_ID2)","v":""},"",null,null,{"$f":"IF(D73=Dimension!$C$9,IF(LEFT(UPPER(E73),2)=\"MC\",TRUE,FALSE),TRUE)","v":true}]
[null,null,null,{"$f":"IF(B74=Dimension!$A$8,Dimension!$C$9,IF(B74=Dimension!$A$6,CD,\"\"))","v":""},null,{"$f":"IF(OR(B74=Dimension!$A$3,B74=Dimension!$A$4,B74=Dimension!$A$6,B74=Dimension!$A$8),CCYA,\"\")","v":""},{"$f":"IFERROR(VLOOKUP(F74,Dimension!$G$3:$H$252,2,FALSE),\"\")","v":""},{"$f":"IF(OR(B74=Dimension!$A$3,B74=Dimension!$A$4,B74=Dimension!$A$5),\"เดินทาง/ท่องเที่ยว\",\"\")","v":""},{"$f":"IF(OR(B74=Dimension!$A$6,B74=Dimension!$A$7,B74=Dimension!$A$8,B74=Dimension!$A$9),\"\",IF(OR(B74=Dimension!$A$3,B74=Dimension!$A$4,B74=Dimension!$A$5),\"สถานประกอบการ\",\"\"))","v":""},{"$f":"IF(OR(B74=Dimension!$A$3,B74=Dimension!$A$4,B74=Dimension!$A$5,B74=Dimension!$A$6,,B74=Dimension!$A$7,B74=Dimension!$A$8,B74=Dimension!$A$9),Payment_ID2,\"\")","v":""},null,{"$f":"IFERROR(VLOOKUP(K74,Dimension!$J$3:$K$179,2,FALSE),\"\")","v":""},null,null,{"$f":"IF(OR(B74=Dimension!$A$6,B74=Dimension!$A$7,B74=Dimension!$A$8,B74=Dimension!$A$9),\"\",IF(OR(B74=Dimension!$A$3,B74=Dimension!$A$4,B74=Dimension!$A$5),\"สถานประกอบการ\",\"\"))","v":""},{"$f":"IF(OR(B74=Dimension!$A$6,B74=Dimension!$A$7,B74=Dimension!$A$8,B74=Dimension!$A$9,B74=\"\"),\"\",Payment_ID2)","v":""},{"$f":"IF(OR(M74=\"\",N74=\"\"),\"\",ROUND(M74*N74,2))","v":""},null,null,{"$f":"IF(D74=Dimension!$C$9,IF(LEFT(UPPER(E74),2)=\"MC\",TRUE,FALSE),TRUE)","v":true}]
[null,null,null,{"$f":"IF(B75=Dimension!$A$8,Dimension!$C$9,IF(B75=Dimension!$A$6,CD,\"\"))","v":""},null,{"$f":"IF(OR(B75=Dimension!$A$3,B75=Dimension!$A$4,B75=Dimension!$A$6,B75=Dimension!$A$8),CCYA,\"\")","v":""},{"$f":"IFERROR(VLOOKUP(F75,Dimension!$G$3:$H$252,2,FALSE),\"\")","v":""},{"$f":"IF(OR(B75=Dimension!$A$3,B75=Dimension!$A$4,B75=Dimension!$A$5),\"เดินทาง/ท่องเที่ยว\",\"\")","v":""},{"$f":"IF(OR(B75=Dimension!$A$6,B75=Dimension!$A$7,B75=Dimension!$A$8,B75=Dimension!$A$9),\"\",IF(OR(B75=Dimension!$A$3,B75=Dimension!$A$4,B75=Dimension!$A$5),\"สถานประกอบการ\",\"\"))","v":""},{"$f":"IF(OR(B75=Dimension!$A$3,B75=Dimension!$A$4,B75=Dimension!$A$5,B75=Dimension!$A$6,,B75=Dimension!$A$7,B75=Dimension!$A$8,B75=Dimension!$A$9),Payment_ID2,\"\")","v":""},null,{"$f":"IFERROR(VLOOKUP(K75,Dimension!$J$3:$K$179,2,FALSE),\"\")","v":""},null,null,{"$f":"IF(OR(B75=Dimension!$A$6,B75=Dimension!$A$7,B75=Dimension!$A$8,B75=Dimension!$A$9),\"\",IF(OR(B75=Dimension!$A$3,B75=Dimension!$A$4,B75=Dimension!$A$5),\"สถานประกอบการ\",\"\"))","v":""},{"$f":"IF(OR(B75=Dimension!$A$6,B75=Dimension!$A$7,B75=Dimension!$A$8,B75=Dimension!$A$9,B75=\"\"),\"\",Payment_ID2)","v":""},"",null,null,{"$f":"IF(D75=Dimension!$C$9,IF(LEFT(UPPER(E75),2)=\"MC\",TRUE,FALSE),TRUE)","v":true}]
[null,null,null,{"$f":"IF(B76=Dimension!$A$8,Dimension!$C$9,IF(B76=Dimension!$A$6,CD,\"\"))","v":""},null,{"$f":"IF(OR(B76=Dimension!$A$3,B76=Dimension!$A$4,B76=Dimension!$A$6,B76=Dimension!$A$8),CCYA,\"\")","v":""},{"$f":"IFERROR(VLOOKUP(F76,Dimension!$G$3:$H$252,2,FALSE),\"\")","v":""},{"$f":"IF(OR(B76=Dimension!$A$3,B76=Dimension!$A$4,B76=Dimension!$A$5),\"เดินทาง/ท่องเที่ยว\",\"\")","v":""},{"$f":"IF(OR(B76=Dimension!$A$6,B76=Dimension!$A$7,B76=Dimension!$A$8,B76=Dimension!$A$9),\"\",IF(OR(B76=Dimension!$A$3,B76=Dimension!$A$4,B76=Dimension!$A$5),\"สถานประกอบการ\",\"\"))","v":""},{"$f":"IF(OR(B76=Dimension!$A$3,B76=Dimension!$A$4,B76=Dimension!$A$5,B76=Dimension!$A$6,,B76=Dimension!$A$7,B76=Dimension!$A$8,B76=Dimension!$A$9),Payment_ID2,\"\")","v":""},null,{"$f":"IFERROR(VLOOKUP(K76,Dimension!$J$3:$K$179,2,FALSE),\"\")","v":""},null,null,{"$f":"IF(OR(B76=Dimension!$A$6,B76=Dimension!$A$7,B76=Dimension!$A$8,B76=Dimension!$A$9),\"\",IF(OR(B76=Dimension!$A$3,B76=Dimension!$A$4,B76=Dimension!$A$5),\"สถานประกอบการ\",\"\"))","v":""},{"$f":"IF(OR(B76=Dimension!$A$6,B76=Dimension!$A$7,B76=Dimension!$A$8,B76=Dimension!$A$9,B76=\"\"),\"\",Payment_ID2)","v":""},"",null,null,{"$f":"IF(D76=Dimension!$C$9,IF(LEFT(UPPER(E76),2)=\"MC\",TRUE,FALSE),TRUE)","v":true}]
[null,null,null,{"$f":"IF(B77=Dimension!$A$8,Dimension!$C$9,IF(B77=Dimension!$A$6,CD,\"\"))","v":""},null,{"$f":"IF(OR(B77=Dimension!$A$3,B77=Dimension!$A$4,B77=Dimension!$A$6,B77=Dimension!$A$8),CCYA,\"\")","v":""},{"$f":"IFERROR(VLOOKUP(F77,Dimension!$G$3:$H$252,2,FALSE),\"\")","v":""},{"$f":"IF(OR(B77=Dimension!$A$3,B77=Dimension!$A$4,B77=Dimension!$A$5),\"เดินทาง/ท่องเที่ยว\",\"\")","v":""},{"$f":"IF(OR(B77=Dimension!$A$6,B77=Dimension!$A$7,B77=Dimension!$A$8,B77=Dimension!$A$9),\"\",IF(OR(B77=Dimension!$A$3,B77=Dimension!$A$4,B77=Dimension!$A$5),\"สถานประกอบการ\",\"\"))","v":""},{"$f":"IF(OR(B77=Dimension!$A$3,B77=Dimension!$A$4,B77=Dimension!$A$5,B77=Dimension!$A$6,,B77=Dimension!$A$7,B77=Dimension!$A$8,B77=Dimension!$A$9),Payment_ID2,\"\")","v":""},null,{"$f":"IFERROR(VLOOKUP(K77,Dimension!$J$3:$K$179,2,FALSE),\"\")","v":""},null,null,{"$f":"IF(OR(B77=Dimension!$A$6,B77=Dimension!$A$7,B77=Dimension!$A$8,B77=Dimension!$A$9),\"\",IF(OR(B77=Dimension!$A$3,B77=Dimension!$A$4,B77=Dimension!$A$5),\"สถานประกอบการ\",\"\"))","v":""},{"$f":"IF(OR(B77=Dimension!$A$6,B77=Dimension!$A$7,B77=Dimension!$A$8,B77=Dimension!$A$9,B77=\"\"),\"\",Payment_ID2)","v":""},"",null,null,{"$f":"IF(D77=Dimension!$C$9,IF(LEFT(UPPER(E77),2)=\"MC\",TRUE,FALSE),TRUE)","v":true}]
[null,null,null,{"$f":"IF(B78=Dimension!$A$8,Dimension!$C$9,IF(B78=Dimension!$A$6,CD,\"\"))","v":""},null,{"$f":"IF(OR(B78=Dimension!$A$3,B78=Dimension!$A$4,B78=Dimension!$A$6,B78=Dimension!$A$8),CCYA,\"\")","v":""},{"$f":"IFERROR(VLOOKUP(F78,Dimension!$G$3:$H$252,2,FALSE),\"\")","v":""},{"$f":"IF(OR(B78=Dimension!$A$3,B78=Dimension!$A$4,B78=Dimension!$A$5),\"เดินทาง/ท่องเที่ยว\",\"\")","v":""},{"$f":"IF(OR(B78=Dimension!$A$6,B78=Dimension!$A$7,B78=Dimension!$A$8,B78=Dimension!$A$9),\"\",IF(OR(B78=Dimension!$A$3,B78=Dimension!$A$4,B78=Dimension!$A$5),\"สถานประกอบการ\",\"\"))","v":""},{"$f":"IF(OR(B78=Dimension!$A$3,B78=Dimension!$A$4,B78=Dimension!$A$5,B78=Dimension!$A$6,,B78=Dimension!$A$7,B78=Dimension!$A$8,B78=Dimension!$A$9),Payment_ID2,\"\")","v":""},null,{"$f":"IFERROR(VLOOKUP(K78,Dimension!$J$3:$K$179,2,FALSE),\"\")","v":""},null,null,{"$f":"IF(OR(B78=Dimension!$A$6,B78=Dimension!$A$7,B78=Dimension!$A$8,B78=Dimension!$A$9),\"\",IF(OR(B78=Dimension!$A$3,B78=Dimension!$A$4,B78=Dimension!$A$5),\"สถานประกอบการ\",\"\"))","v":""},{"$f":"IF(OR(B78=Dimension!$A$6,B78=Dimension!$A$7,B78=Dimension!$A$8,B78=Dimension!$A$9,B78=\"\"),\"\",Payment_ID2)","v":""},"",null,null,{"$f":"IF(D78=Dimension!$C$9,IF(LEFT(UPPER(E78),2)=\"MC\",TRUE,FALSE),TRUE)","v":true}]
[null,null,null,{"$f":"IF(B79=Dimension!$A$8,Dimension!$C$9,IF(B79=Dimension!$A$6,CD,\"\"))","v":""},null,{"$f":"IF(OR(B79=Dimension!$A$3,B79=Dimension!$A$4,B79=Dimension!$A$6,B79=Dimension!$A$8),CCYA,\"\")","v":""},{"$f":"IFERROR(VLOOKUP(F79,Dimension!$G$3:$H$252,2,FALSE),\"\")","v":""},{"$f":"IF(OR(B79=Dimension!$A$3,B79=Dimension!$A$4,B79=Dimension!$A$5),\"เดินทาง/ท่องเที่ยว\",\"\")","v":""},{"$f":"IF(OR(B79=Dimension!$A$6,B79=Dimension!$A$7,B79=Dimension!$A$8,B79=Dimension!$A$9),\"\",IF(OR(B79=Dimension!$A$3,B79=Dimension!$A$4,B79=Dimension!$A$5),\"สถานประกอบการ\",\"\"))","v":""},{"$f":"IF(OR(B79=Dimension!$A$3,B79=Dimension!$A$4,B79=Dimension!$A$5,B79=Dimension!$A$6,,B79=Dimension!$A$7,B79=Dimension!$A$8,B79=Dimension!$A$9),Payment_ID2,\"\")","v":""},null,{"$f":"IFERROR(VLOOKUP(K79,Dimension!$J$3:$K$179,2,FALSE),\"\")","v":""},null,null,{"$f":"IF(OR(B79=Dimension!$A$6,B79=Dimension!$A$7,B79=Dimension!$A$8,B79=Dimension!$A$9),\"\",IF(OR(B79=Dimension!$A$3,B79=Dimension!$A$4,B79=Dimension!$A$5),\"สถานประกอบการ\",\"\"))","v":""},{"$f":"IF(OR(B79=Dimension!$A$6,B79=Dimension!$A$7,B79=Dimension!$A$8,B79=Dimension!$A$9,B79=\"\"),\"\",Payment_ID2)","v":""},"",null,null,{"$f":"IF(D79=Dimension!$C$9,IF(LEFT(UPPER(E79),2)=\"MC\",TRUE,FALSE),TRUE)","v":true}]
[null,null,null,{"$f":"IF(B80=Dimension!$A$8,Dimension!$C$9,IF(B80=Dimension!$A$6,CD,\"\"))","v":""},null,{"$f":"IF(OR(B80=Dimension!$A$3,B80=Dimension!$A$4,B80=Dimension!$A$6,B80=Dimension!$A$8),CCYA,\"\")","v":""},{"$f":"IFERROR(VLOOKUP(F80,Dimension!$G$3:$H$252,2,FALSE),\"\")","v":""},{"$f":"IF(OR(B80=Dimension!$A$3,B80=Dimension!$A$4,B80=Dimension!$A$5),\"เดินทาง/ท่องเที่ยว\",\"\")","v":""},{"$f":"IF(OR(B80=Dimension!$A$6,B80=Dimension!$A$7,B80=Dimension!$A$8,B80=Dimension!$A$9),\"\",IF(OR(B80=Dimension!$A$3,B80=Dimension!$A$4,B80=Dimension!$A$5),\"สถานประกอบการ\",\"\"))","v":""},{"$f":"IF(OR(B80=Dimension!$A$3,B80=Dimension!$A$4,B80=Dimension!$A$5,B80=Dimension!$A$6,,B80=Dimension!$A$7,B80=Dimension!$A$8,B80=Dimension!$A$9),Payment_ID2,\"\")","v":""},null,{"$f":"IFERROR(VLOOKUP(K80,Dimension!$J$3:$K$179,2,FALSE),\"\")","v":""},null,null,{"$f":"IF(OR(B80=Dimension!$A$6,B80=Dimension!$A$7,B80=Dimension!$A$8,B80=Dimension!$A$9),\"\",IF(OR(B80=Dimension!$A$3,B80=Dimension!$A$4,B80=Dimension!$A$5),\"สถานประกอบการ\",\"\"))","v":""},{"$f":"IF(OR(B80=Dimension!$A$6,B80=Dimension!$A$7,B80=Dimension!$A$8,B80=Dimension!$A$9,B80=\"\"),\"\",Payment_ID2)","v":""},"",null,null,{"$f":"IF(D80=Dimension!$C$9,IF(LEFT(UPPER(E80),2)=\"MC\",TRUE,FALSE),TRUE)","v":true}]
[null,null,null,{"$f":"IF(B81=Dimension!$A$8,Dimension!$C$9,IF(B81=Dimension!$A$6,CD,\"\"))","v":""},null,{"$f":"IF(OR(B81=Dimension!$A$3,B81=Dimension!$A$4,B81=Dimension!$A$6,B81=Dimension!$A$8),CCYA,\"\")","v":""},{"$f":"IFERROR(VLOOKUP(F81,Dimension!$G$3:$H$252,2,FALSE),\"\")","v":""},{"$f":"IF(OR(B81=Dimension!$A$3,B81=Dimension!$A$4,B81=Dimension!$A$5),\"เดินทาง/ท่องเที่ยว\",\"\")","v":""},{"$f":"IF(OR(B81=Dimension!$A$6,B81=Dimension!$A$7,B81=Dimension!$A$8,B81=Dimension!$A$9),\"\",IF(OR(B81=Dimension!$A$3,B81=Dimension!$A$4,B81=Dimension!$A$5),\"สถานประกอบการ\",\"\"))","v":""},{"$f":"IF(OR(B81=Dimension!$A$3,B81=Dimension!$A$4,B81=Dimension!$A$5,B81=Dimension!$A$6,,B81=Dimension!$A$7,B81=Dimension!$A$8,B81=Dimension!$A$9),Payment_ID2,\"\")","v":""},null,{"$f":"IFERROR(VLOOKUP(K81,Dimension!$J$3:$K$179,2,FALSE),\"\")","v":""},null,null,{"$f":"IF(OR(B81=Dimension!$A$6,B81=Dimension!$A$7,B81=Dimension!$A$8,B81=Dimension!$A$9),\"\",IF(OR(B81=Dimension!$A$3,B81=Dimension!$A$4,B81=Dimension!$A$5),\"สถานประกอบการ\",\"\"))","v":""},{"$f":"IF(OR(B81=Dimension!$A$6,B81=Dimension!$A$7,B81=Dimension!$A$8,B81=Dimension!$A$9,B81=\"\"),\"\",Payment_ID2)","v":""},"",null,null,{"$f":"IF(D81=Dimension!$C$9,IF(LEFT(UPPER(E81),2)=\"MC\",TRUE,FALSE),TRUE)","v":true}]
[null,null,null,{"$f":"IF(B82=Dimension!$A$8,Dimension!$C$9,IF(B82=Dimension!$A$6,CD,\"\"))","v":""},null,{"$f":"IF(OR(B82=Dimension!$A$3,B82=Dimension!$A$4,B82=Dimension!$A$6,B82=Dimension!$A$8),CCYA,\"\")","v":""},{"$f":"IFERROR(VLOOKUP(F82,Dimension!$G$3:$H$252,2,FALSE),\"\")","v":""},{"$f":"IF(OR(B82=Dimension!$A$3,B82=Dimension!$A$4,B82=Dimension!$A$5),\"เดินทาง/ท่องเที่ยว\",\"\")","v":""},{"$f":"IF(OR(B82=Dimension!$A$6,B82=Dimension!$A$7,B82=Dimension!$A$8,B82=Dimension!$A$9),\"\",IF(OR(B82=Dimension!$A$3,B82=Dimension!$A$4,B82=Dimension!$A$5),\"สถานประกอบการ\",\"\"))","v":""},{"$f":"IF(OR(B82=Dimension!$A$3,B82=Dimension!$A$4,B82=Dimension!$A$5,B82=Dimension!$A$6,,B82=Dimension!$A$7,B82=Dimension!$A$8,B82=Dimension!$A$9),Payment_ID2,\"\")","v":""},null,{"$f":"IFERROR(VLOOKUP(K82,Dimension!$J$3:$K$179,2,FALSE),\"\")","v":""},null,null,{"$f":"IF(OR(B82=Dimension!$A$6,B82=Dimension!$A$7,B82=Dimension!$A$8,B82=Dimension!$A$9),\"\",IF(OR(B82=Dimension!$A$3,B82=Dimension!$A$4,B82=Dimension!$A$5),\"สถานประกอบการ\",\"\"))","v":""},{"$f":"IF(OR(B82=Dimension!$A$6,B82=Dimension!$A$7,B82=Dimension!$A$8,B82=Dimension!$A$9,B82=\"\"),\"\",Payment_ID2)","v":""},"",null,null,{"$f":"IF(D82=Dimension!$C$9,IF(LEFT(UPPER(E82),2)=\"MC\",TRUE,FALSE),TRUE)","v":true}]
[null,null,null,{"$f":"IF(B83=Dimension!$A$8,Dimension!$C$9,IF(B83=Dimension!$A$6,CD,\"\"))","v":""},null,{"$f":"IF(OR(B83=Dimension!$A$3,B83=Dimension!$A$4,B83=Dimension!$A$6,B83=Dimension!$A$8),CCYA,\"\")","v":""},{"$f":"IFERROR(VLOOKUP(F83,Dimension!$G$3:$H$252,2,FALSE),\"\")","v":""},{"$f":"IF(OR(B83=Dimension!$A$3,B83=Dimension!$A$4,B83=Dimension!$A$5),\"เดินทาง/ท่องเที่ยว\",\"\")","v":""},{"$f":"IF(OR(B83=Dimension!$A$6,B83=Dimension!$A$7,B83=Dimension!$A$8,B83=Dimension!$A$9),\"\",IF(OR(B83=Dimension!$A$3,B83=Dimension!$A$4,B83=Dimension!$A$5),\"สถานประกอบการ\",\"\"))","v":""},{"$f":"IF(OR(B83=Dimension!$A$3,B83=Dimension!$A$4,B83=Dimension!$A$5,B83=Dimension!$A$6,,B83=Dimension!$A$7,B83=Dimension!$A$8,B83=Dimension!$A$9),Payment_ID2,\"\")","v":""},null,{"$f":"IFERROR(VLOOKUP(K83,Dimension!$J$3:$K$179,2,FALSE),\"\")","v":""},null,null,{"$f":"IF(OR(B83=Dimension!$A$6,B83=Dimension!$A$7,B83=Dimension!$A$8,B83=Dimension!$A$9),\"\",IF(OR(B83=Dimension!$A$3,B83=Dimension!$A$4,B83=Dimension!$A$5),\"สถานประกอบการ\",\"\"))","v":""},{"$f":"IF(OR(B83=Dimension!$A$6,B83=Dimension!$A$7,B83=Dimension!$A$8,B83=Dimension!$A$9,B83=\"\"),\"\",Payment_ID2)","v":""},"",null,null,{"$f":"IF(D83=Dimension!$C$9,IF(LEFT(UPPER(E83),2)=\"MC\",TRUE,FALSE),TRUE)","v":true}]
[null,null,null,{"$f":"IF(B84=Dimension!$A$8,Dimension!$C$9,IF(B84=Dimension!$A$6,CD,\"\"))","v":""},null,{"$f":"IF(OR(B84=Dimension!$A$3,B84=Dimension!$A$4,B84=Dimension!$A$6,B84=Dimension!$A$8),CCYA,\"\")","v":""},{"$f":"IFERROR(VLOOKUP(F84,Dimension!$G$3:$H$252,2,FALSE),\"\")","v":""},{"$f":"IF(OR(B84=Dimension!$A$3,B84=Dimension!$A$4,B84=Dimension!$A$5),\"เดินทาง/ท่องเที่ยว\",\"\")","v":""},{"$f":"IF(OR(B84=Dimension!$A$6,B84=Dimension!$A$7,B84=Dimension!$A$8,B84=Dimension!$A$9),\"\",IF(OR(B84=Dimension!$A$3,B84=Dimension!$A$4,B84=Dimension!$A$5),\"สถานประกอบการ\",\"\"))","v":""},{"$f":"IF(OR(B84=Dimension!$A$3,B84=Dimension!$A$4,B84=Dimension!$A$5,B84=Dimension!$A$6,,B84=Dimension!$A$7,B84=Dimension!$A$8,B84=Dimension!$A$9),Payment_ID2,\"\")","v":""},null,{"$f":"IFERROR(VLOOKUP(K84,Dimension!$J$3:$K$179,2,FALSE),\"\")","v":""},null,null,{"$f":"IF(OR(B84=Dimension!$A$6,B84=Dimension!$A$7,B84=Dimension!$A$8,B84=Dimension!$A$9),\"\",IF(OR(B84=Dimension!$A$3,B84=Dimension!$A$4,B84=Dimension!$A$5),\"สถานประกอบการ\",\"\"))","v":""},{"$f":"IF(OR(B84=Dimension!$A$6,B84=Dimension!$A$7,B84=Dimension!$A$8,B84=Dimension!$A$9,B84=\"\"),\"\",Payment_ID2)","v":""},"",null,null,{"$f":"IF(D84=Dimension!$C$9,IF(LEFT(UPPER(E84),2)=\"MC\",TRUE,FALSE),TRUE)","v":true}]
[null,null,null,{"$f":"IF(B85=Dimension!$A$8,Dimension!$C$9,IF(B85=Dimension!$A$6,CD,\"\"))","v":""},null,{"$f":"IF(OR(B85=Dimension!$A$3,B85=Dimension!$A$4,B85=Dimension!$A$6,B85=Dimension!$A$8),CCYA,\"\")","v":""},{"$f":"IFERROR(VLOOKUP(F85,Dimension!$G$3:$H$252,2,FALSE),\"\")","v":""},{"$f":"IF(OR(B85=Dimension!$A$3,B85=Dimension!$A$4,B85=Dimension!$A$5),\"เดินทาง/ท่องเที่ยว\",\"\")","v":""},{"$f":"IF(OR(B85=Dimension!$A$6,B85=Dimension!$A$7,B85=Dimension!$A$8,B85=Dimension!$A$9),\"\",IF(OR(B85=Dimension!$A$3,B85=Dimension!$A$4,B85=Dimension!$A$5),\"สถานประกอบการ\",\"\"))","v":""},{"$f":"IF(OR(B85=Dimension!$A$3,B85=Dimension!$A$4,B85=Dimension!$A$5,B85=Dimension!$A$6,,B85=Dimension!$A$7,B85=Dimension!$A$8,B85=Dimension!$A$9),Payment_ID2,\"\")","v":""},null,{"$f":"IFERROR(VLOOKUP(K85,Dimension!$J$3:$K$179,2,FALSE),\"\")","v":""},null,null,{"$f":"IF(OR(B85=Dimension!$A$6,B85=Dimension!$A$7,B85=Dimension!$A$8,B85=Dimension!$A$9),\"\",IF(OR(B85=Dimension!$A$3,B85=Dimension!$A$4,B85=Dimension!$A$5),\"สถานประกอบการ\",\"\"))","v":""},{"$f":"IF(OR(B85=Dimension!$A$6,B85=Dimension!$A$7,B85=Dimension!$A$8,B85=Dimension!$A$9,B85=\"\"),\"\",Payment_ID2)","v":""},"",null,null,{"$f":"IF(D85=Dimension!$C$9,IF(LEFT(UPPER(E85),2)=\"MC\",TRUE,FALSE),TRUE)","v":true}]
[null,null,null,{"$f":"IF(B86=Dimension!$A$8,Dimension!$C$9,IF(B86=Dimension!$A$6,CD,\"\"))","v":""},null,{"$f":"IF(OR(B86=Dimension!$A$3,B86=Dimension!$A$4,B86=Dimension!$A$6,B86=Dimension!$A$8),CCYA,\"\")","v":""},{"$f":"IFERROR(VLOOKUP(F86,Dimension!$G$3:$H$252,2,FALSE),\"\")","v":""},{"$f":"IF(OR(B86=Dimension!$A$3,B86=Dimension!$A$4,B86=Dimension!$A$5),\"เดินทาง/ท่องเที่ยว\",\"\")","v":""},{"$f":"IF(OR(B86=Dimension!$A$6,B86=Dimension!$A$7,B86=Dimension!$A$8,B86=Dimension!$A$9),\"\",IF(OR(B86=Dimension!$A$3,B86=Dimension!$A$4,B86=Dimension!$A$5),\"สถานประกอบการ\",\"\"))","v":""},{"$f":"IF(OR(B86=Dimension!$A$3,B86=Dimension!$A$4,B86=Dimension!$A$5,B86=Dimension!$A$6,,B86=Dimension!$A$7,B86=Dimension!$A$8,B86=Dimension!$A$9),Payment_ID2,\"\")","v":""},null,{"$f":"IFERROR(VLOOKUP(K86,Dimension!$J$3:$K$179,2,FALSE),\"\")","v":""},null,null,{"$f":"IF(OR(B86=Dimension!$A$6,B86=Dimension!$A$7,B86=Dimension!$A$8,B86=Dimension!$A$9),\"\",IF(OR(B86=Dimension!$A$3,B86=Dimension!$A$4,B86=Dimension!$A$5),\"สถานประกอบการ\",\"\"))","v":""},{"$f":"IF(OR(B86=Dimension!$A$6,B86=Dimension!$A$7,B86=Dimension!$A$8,B86=Dimension!$A$9,B86=\"\"),\"\",Payment_ID2)","v":""},"",null,null,{"$f":"IF(D86=Dimension!$C$9,IF(LEFT(UPPER(E86),2)=\"MC\",TRUE,FALSE),TRUE)","v":true}]
[null,null,null,{"$f":"IF(B87=Dimension!$A$8,Dimension!$C$9,IF(B87=Dimension!$A$6,CD,\"\"))","v":""},null,{"$f":"IF(OR(B87=Dimension!$A$3,B87=Dimension!$A$4,B87=Dimension!$A$6,B87=Dimension!$A$8),CCYA,\"\")","v":""},{"$f":"IFERROR(VLOOKUP(F87,Dimension!$G$3:$H$252,2,FALSE),\"\")","v":""},{"$f":"IF(OR(B87=Dimension!$A$3,B87=Dimension!$A$4,B87=Dimension!$A$5),\"เดินทาง/ท่องเที่ยว\",\"\")","v":""},{"$f":"IF(OR(B87=Dimension!$A$6,B87=Dimension!$A$7,B87=Dimension!$A$8,B87=Dimension!$A$9),\"\",IF(OR(B87=Dimension!$A$3,B87=Dimension!$A$4,B87=Dimension!$A$5),\"สถานประกอบการ\",\"\"))","v":""},{"$f":"IF(OR(B87=Dimension!$A$3,B87=Dimension!$A$4,B87=Dimension!$A$5,B87=Dimension!$A$6,,B87=Dimension!$A$7,B87=Dimension!$A$8,B87=Dimension!$A$9),Payment_ID2,\"\")","v":""},null,{"$f":"IFERROR(VLOOKUP(K87,Dimension!$J$3:$K$179,2,FALSE),\"\")","v":""},null,null,{"$f":"IF(OR(B87=Dimension!$A$6,B87=Dimension!$A$7,B87=Dimension!$A$8,B87=Dimension!$A$9),\"\",IF(OR(B87=Dimension!$A$3,B87=Dimension!$A$4,B87=Dimension!$A$5),\"สถานประกอบการ\",\"\"))","v":""},{"$f":"IF(OR(B87=Dimension!$A$6,B87=Dimension!$A$7,B87=Dimension!$A$8,B87=Dimension!$A$9,B87=\"\"),\"\",Payment_ID2)","v":""},"",null,null,{"$f":"IF(D87=Dimension!$C$9,IF(LEFT(UPPER(E87),2)=\"MC\",TRUE,FALSE),TRUE)","v":true}]
[null,null,null,{"$f":"IF(B88=Dimension!$A$8,Dimension!$C$9,IF(B88=Dimension!$A$6,CD,\"\"))","v":""},null,{"$f":"IF(OR(B88=Dimension!$A$3,B88=Dimension!$A$4,B88=Dimension!$A$6,B88=Dimension!$A$8),CCYA,\"\")","v":""},{"$f":"IFERROR(VLOOKUP(F88,Dimension!$G$3:$H$252,2,FALSE),\"\")","v":""},{"$f":"IF(OR(B88=Dimension!$A$3,B88=Dimension!$A$4,B88=Dimension!$A$5),\"เดินทาง/ท่องเที่ยว\",\"\")","v":""},{"$f":"IF(OR(B88=Dimension!$A$6,B88=Dimension!$A$7,B88=Dimension!$A$8,B88=Dimension!$A$9),\"\",IF(OR(B88=Dimension!$A$3,B88=Dimension!$A$4,B88=Dimension!$A$5),\"สถานประกอบการ\",\"\"))","v":""},{"$f":"IF(OR(B88=Dimension!$A$3,B88=Dimension!$A$4,B88=Dimension!$A$5,B88=Dimension!$A$6,,B88=Dimension!$A$7,B88=Dimension!$A$8,B88=Dimension!$A$9),Payment_ID2,\"\")","v":""},null,{"$f":"IFERROR(VLOOKUP(K88,Dimension!$J$3:$K$179,2,FALSE),\"\")","v":""},null,null,{"$f":"IF(OR(B88=Dimension!$A$6,B88=Dimension!$A$7,B88=Dimension!$A$8,B88=Dimension!$A$9),\"\",IF(OR(B88=Dimension!$A$3,B88=Dimension!$A$4,B88=Dimension!$A$5),\"สถานประกอบการ\",\"\"))","v":""},{"$f":"IF(OR(B88=Dimension!$A$6,B88=Dimension!$A$7,B88=Dimension!$A$8,B88=Dimension!$A$9,B88=\"\"),\"\",Payment_ID2)","v":""},"",null,null,{"$f":"IF(D88=Dimension!$C$9,IF(LEFT(UPPER(E88),2)=\"MC\",TRUE,FALSE),TRUE)","v":true}]
[null,null,null,{"$f":"IF(B89=Dimension!$A$8,Dimension!$C$9,IF(B89=Dimension!$A$6,CD,\"\"))","v":""},null,{"$f":"IF(OR(B89=Dimension!$A$3,B89=Dimension!$A$4,B89=Dimension!$A$6,B89=Dimension!$A$8),CCYA,\"\")","v":""},{"$f":"IFERROR(VLOOKUP(F89,Dimension!$G$3:$H$252,2,FALSE),\"\")","v":""},{"$f":"IF(OR(B89=Dimension!$A$3,B89=Dimension!$A$4,B89=Dimension!$A$5),\"เดินทาง/ท่องเที่ยว\",\"\")","v":""},{"$f":"IF(OR(B89=Dimension!$A$6,B89=Dimension!$A$7,B89=Dimension!$A$8,B89=Dimension!$A$9),\"\",IF(OR(B89=Dimension!$A$3,B89=Dimension!$A$4,B89=Dimension!$A$5),\"สถานประกอบการ\",\"\"))","v":""},{"$f":"IF(OR(B89=Dimension!$A$3,B89=Dimension!$A$4,B89=Dimension!$A$5,B89=Dimension!$A$6,,B89=Dimension!$A$7,B89=Dimension!$A$8,B89=Dimension!$A$9),Payment_ID2,\"\")","v":""},null,{"$f":"IFERROR(VLOOKUP(K89,Dimension!$J$3:$K$179,2,FALSE),\"\")","v":""},null,null,{"$f":"IF(OR(B89=Dimension!$A$6,B89=Dimension!$A$7,B89=Dimension!$A$8,B89=Dimension!$A$9),\"\",IF(OR(B89=Dimension!$A$3,B89=Dimension!$A$4,B89=Dimension!$A$5),\"สถานประกอบการ\",\"\"))","v":""},{"$f":"IF(OR(B89=Dimension!$A$6,B89=Dimension!$A$7,B89=Dimension!$A$8,B89=Dimension!$A$9,B89=\"\"),\"\",Payment_ID2)","v":""},"",null,null,{"$f":"IF(D89=Dimension!$C$9,IF(LEFT(UPPER(E89),2)=\"MC\",TRUE,FALSE),TRUE)","v":true}]
[null,null,null,{"$f":"IF(B90=Dimension!$A$8,Dimension!$C$9,IF(B90=Dimension!$A$6,CD,\"\"))","v":""},null,{"$f":"IF(OR(B90=Dimension!$A$3,B90=Dimension!$A$4,B90=Dimension!$A$6,B90=Dimension!$A$8),CCYA,\"\")","v":""},{"$f":"IFERROR(VLOOKUP(F90,Dimension!$G$3:$H$252,2,FALSE),\"\")","v":""},{"$f":"IF(OR(B90=Dimension!$A$3,B90=Dimension!$A$4,B90=Dimension!$A$5),\"เดินทาง/ท่องเที่ยว\",\"\")","v":""},{"$f":"IF(OR(B90=Dimension!$A$6,B90=Dimension!$A$7,B90=Dimension!$A$8,B90=Dimension!$A$9),\"\",IF(OR(B90=Dimension!$A$3,B90=Dimension!$A$4,B90=Dimension!$A$5),\"สถานประกอบการ\",\"\"))","v":""},{"$f":"IF(OR(B90=Dimension!$A$3,B90=Dimension!$A$4,B90=Dimension!$A$5,B90=Dimension!$A$6,,B90=Dimension!$A$7,B90=Dimension!$A$8,B90=Dimension!$A$9),Payment_ID2,\"\")","v":""},null,{"$f":"IFERROR(VLOOKUP(K90,Dimension!$J$3:$K$179,2,FALSE),\"\")","v":""},null,null,{"$f":"IF(OR(B90=Dimension!$A$6,B90=Dimension!$A$7,B90=Dimension!$A$8,B90=Dimension!$A$9),\"\",IF(OR(B90=Dimension!$A$3,B90=Dimension!$A$4,B90=Dimension!$A$5),\"สถานประกอบการ\",\"\"))","v":""},{"$f":"IF(OR(B90=Dimension!$A$6,B90=Dimension!$A$7,B90=Dimension!$A$8,B90=Dimension!$A$9,B90=\"\"),\"\",Payment_ID2)","v":""},"",null,null,{"$f":"IF(D90=Dimension!$C$9,IF(LEFT(UPPER(E90),2)=\"MC\",TRUE,FALSE),TRUE)","v":true}]
[null,null,null,{"$f":"IF(B91=Dimension!$A$8,Dimension!$C$9,IF(B91=Dimension!$A$6,CD,\"\"))","v":""},null,{"$f":"IF(OR(B91=Dimension!$A$3,B91=Dimension!$A$4,B91=Dimension!$A$6,B91=Dimension!$A$8),CCYA,\"\")","v":""},{"$f":"IFERROR(VLOOKUP(F91,Dimension!$G$3:$H$252,2,FALSE),\"\")","v":""},{"$f":"IF(OR(B91=Dimension!$A$3,B91=Dimension!$A$4,B91=Dimension!$A$5),\"เดินทาง/ท่องเที่ยว\",\"\")","v":""},{"$f":"IF(OR(B91=Dimension!$A$6,B91=Dimension!$A$7,B91=Dimension!$A$8,B91=Dimension!$A$9),\"\",IF(OR(B91=Dimension!$A$3,B91=Dimension!$A$4,B91=Dimension!$A$5),\"สถานประกอบการ\",\"\"))","v":""},{"$f":"IF(OR(B91=Dimension!$A$3,B91=Dimension!$A$4,B91=Dimension!$A$5,B91=Dimension!$A$6,,B91=Dimension!$A$7,B91=Dimension!$A$8,B91=Dimension!$A$9),Payment_ID2,\"\")","v":""},null,{"$f":"IFERROR(VLOOKUP(K91,Dimension!$J$3:$K$179,2,FALSE),\"\")","v":""},null,null,{"$f":"IF(OR(B91=Dimension!$A$6,B91=Dimension!$A$7,B91=Dimension!$A$8,B91=Dimension!$A$9),\"\",IF(OR(B91=Dimension!$A$3,B91=Dimension!$A$4,B91=Dimension!$A$5),\"สถานประกอบการ\",\"\"))","v":""},{"$f":"IF(OR(B91=Dimension!$A$6,B91=Dimension!$A$7,B91=Dimension!$A$8,B91=Dimension!$A$9,B91=\"\"),\"\",Payment_ID2)","v":""},"",null,null,{"$f":"IF(D91=Dimension!$C$9,IF(LEFT(UPPER(E91),2)=\"MC\",TRUE,FALSE),TRUE)","v":true}]
[null,null,null,{"$f":"IF(B92=Dimension!$A$8,Dimension!$C$9,IF(B92=Dimension!$A$6,CD,\"\"))","v":""},null,{"$f":"IF(OR(B92=Dimension!$A$3,B92=Dimension!$A$4,B92=Dimension!$A$6,B92=Dimension!$A$8),CCYA,\"\")","v":""},{"$f":"IFERROR(VLOOKUP(F92,Dimension!$G$3:$H$252,2,FALSE),\"\")","v":""},{"$f":"IF(OR(B92=Dimension!$A$3,B92=Dimension!$A$4,B92=Dimension!$A$5),\"เดินทาง/ท่องเที่ยว\",\"\")","v":""},{"$f":"IF(OR(B92=Dimension!$A$6,B92=Dimension!$A$7,B92=Dimension!$A$8,B92=Dimension!$A$9),\"\",IF(OR(B92=Dimension!$A$3,B92=Dimension!$A$4,B92=Dimension!$A$5),\"สถานประกอบการ\",\"\"))","v":""},{"$f":"IF(OR(B92=Dimension!$A$3,B92=Dimension!$A$4,B92=Dimension!$A$5,B92=Dimension!$A$6,,B92=Dimension!$A$7,B92=Dimension!$A$8,B92=Dimension!$A$9),Payment_ID2,\"\")","v":""},null,{"$f":"IFERROR(VLOOKUP(K92,Dimension!$J$3:$K$179,2,FALSE),\"\")","v":""},null,null,{"$f":"IF(OR(B92=Dimension!$A$6,B92=Dimension!$A$7,B92=Dimension!$A$8,B92=Dimension!$A$9),\"\",IF(OR(B92=Dimension!$A$3,B92=Dimension!$A$4,B92=Dimension!$A$5),\"สถานประกอบการ\",\"\"))","v":""},{"$f":"IF(OR(B92=Dimension!$A$6,B92=Dimension!$A$7,B92=Dimension!$A$8,B92=Dimension!$A$9,B92=\"\"),\"\",Payment_ID2)","v":""},"",null,null,{"$f":"IF(D92=Dimension!$C$9,IF(LEFT(UPPER(E92),2)=\"MC\",TRUE,FALSE),TRUE)","v":true}]
[null,null,null,{"$f":"IF(B93=Dimension!$A$8,Dimension!$C$9,IF(B93=Dimension!$A$6,CD,\"\"))","v":""},null,{"$f":"IF(OR(B93=Dimension!$A$3,B93=Dimension!$A$4,B93=Dimension!$A$6,B93=Dimension!$A$8),CCYA,\"\")","v":""},{"$f":"IFERROR(VLOOKUP(F93,Dimension!$G$3:$H$252,2,FALSE),\"\")","v":""},{"$f":"IF(OR(B93=Dimension!$A$3,B93=Dimension!$A$4,B93=Dimension!$A$5),\"เดินทาง/ท่องเที่ยว\",\"\")","v":""},{"$f":"IF(OR(B93=Dimension!$A$6,B93=Dimension!$A$7,B93=Dimension!$A$8,B93=Dimension!$A$9),\"\",IF(OR(B93=Dimension!$A$3,B93=Dimension!$A$4,B93=Dimension!$A$5),\"สถานประกอบการ\",\"\"))","v":""},{"$f":"IF(OR(B93=Dimension!$A$3,B93=Dimension!$A$4,B93=Dimension!$A$5,B93=Dimension!$A$6,,B93=Dimension!$A$7,B93=Dimension!$A$8,B93=Dimension!$A$9),Payment_ID2,\"\")","v":""},null,{"$f":"IFERROR(VLOOKUP(K93,Dimension!$J$3:$K$179,2,FALSE),\"\")","v":""},null,null,{"$f":"IF(OR(B93=Dimension!$A$6,B93=Dimension!$A$7,B93=Dimension!$A$8,B93=Dimension!$A$9),\"\",IF(OR(B93=Dimension!$A$3,B93=Dimension!$A$4,B93=Dimension!$A$5),\"สถานประกอบการ\",\"\"))","v":""},{"$f":"IF(OR(B93=Dimension!$A$6,B93=Dimension!$A$7,B93=Dimension!$A$8,B93=Dimension!$A$9,B93=\"\"),\"\",Payment_ID2)","v":""},"",null,null,{"$f":"IF(D93=Dimension!$C$9,IF(LEFT(UPPER(E93),2)=\"MC\",TRUE,FALSE),TRUE)","v":true}]
[null,null,null,{"$f":"IF(B94=Dimension!$A$8,Dimension!$C$9,IF(B94=Dimension!$A$6,CD,\"\"))","v":""},null,{"$f":"IF(OR(B94=Dimension!$A$3,B94=Dimension!$A$4,B94=Dimension!$A$6,B94=Dimension!$A$8),CCYA,\"\")","v":""},{"$f":"IFERROR(VLOOKUP(F94,Dimension!$G$3:$H$252,2,FALSE),\"\")","v":""},{"$f":"IF(OR(B94=Dimension!$A$3,B94=Dimension!$A$4,B94=Dimension!$A$5),\"เดินทาง/ท่องเที่ยว\",\"\")","v":""},{"$f":"IF(OR(B94=Dimension!$A$6,B94=Dimension!$A$7,B94=Dimension!$A$8,B94=Dimension!$A$9),\"\",IF(OR(B94=Dimension!$A$3,B94=Dimension!$A$4,B94=Dimension!$A$5),\"สถานประกอบการ\",\"\"))","v":""},{"$f":"IF(OR(B94=Dimension!$A$3,B94=Dimension!$A$4,B94=Dimension!$A$5,B94=Dimension!$A$6,,B94=Dimension!$A$7,B94=Dimension!$A$8,B94=Dimension!$A$9),Payment_ID2,\"\")","v":""},null,{"$f":"IFERROR(VLOOKUP(K94,Dimension!$J$3:$K$179,2,FALSE),\"\")","v":""},null,null,{"$f":"IF(OR(B94=Dimension!$A$6,B94=Dimension!$A$7,B94=Dimension!$A$8,B94=Dimension!$A$9),\"\",IF(OR(B94=Dimension!$A$3,B94=Dimension!$A$4,B94=Dimension!$A$5),\"สถานประกอบการ\",\"\"))","v":""},{"$f":"IF(OR(B94=Dimension!$A$6,B94=Dimension!$A$7,B94=Dimension!$A$8,B94=Dimension!$A$9,B94=\"\"),\"\",Payment_ID2)","v":""},"",null,null,{"$f":"IF(D94=Dimension!$C$9,IF(LEFT(UPPER(E94),2)=\"MC\",TRUE,FALSE),TRUE)","v":true}]
[null,null,null,{"$f":"IF(B95=Dimension!$A$8,Dimension!$C$9,IF(B95=Dimension!$A$6,CD,\"\"))","v":""},null,{"$f":"IF(OR(B95=Dimension!$A$3,B95=Dimension!$A$4,B95=Dimension!$A$6,B95=Dimension!$A$8),CCYA,\"\")","v":""},{"$f":"IFERROR(VLOOKUP(F95,Dimension!$G$3:$H$252,2,FALSE),\"\")","v":""},{"$f":"IF(OR(B95=Dimension!$A$3,B95=Dimension!$A$4,B95=Dimension!$A$5),\"เดินทาง/ท่องเที่ยว\",\"\")","v":""},{"$f":"IF(OR(B95=Dimension!$A$6,B95=Dimension!$A$7,B95=Dimension!$A$8,B95=Dimension!$A$9),\"\",IF(OR(B95=Dimension!$A$3,B95=Dimension!$A$4,B95=Dimension!$A$5),\"สถานประกอบการ\",\"\"))","v":""},{"$f":"IF(OR(B95=Dimension!$A$3,B95=Dimension!$A$4,B95=Dimension!$A$5,B95=Dimension!$A$6,,B95=Dimension!$A$7,B95=Dimension!$A$8,B95=Dimension!$A$9),Payment_ID2,\"\")","v":""},null,{"$f":"IFERROR(VLOOKUP(K95,Dimension!$J$3:$K$179,2,FALSE),\"\")","v":""},null,null,{"$f":"IF(OR(B95=Dimension!$A$6,B95=Dimension!$A$7,B95=Dimension!$A$8,B95=Dimension!$A$9),\"\",IF(OR(B95=Dimension!$A$3,B95=Dimension!$A$4,B95=Dimension!$A$5),\"สถานประกอบการ\",\"\"))","v":""},{"$f":"IF(OR(B95=Dimension!$A$6,B95=Dimension!$A$7,B95=Dimension!$A$8,B95=Dimension!$A$9,B95=\"\"),\"\",Payment_ID2)","v":""},"",null,null,{"$f":"IF(D95=Dimension!$C$9,IF(LEFT(UPPER(E95),2)=\"MC\",TRUE,FALSE),TRUE)","v":true}]
[null,null,null,{"$f":"IF(B96=Dimension!$A$8,Dimension!$C$9,IF(B96=Dimension!$A$6,CD,\"\"))","v":""},null,{"$f":"IF(OR(B96=Dimension!$A$3,B96=Dimension!$A$4,B96=Dimension!$A$6,B96=Dimension!$A$8),CCYA,\"\")","v":""},{"$f":"IFERROR(VLOOKUP(F96,Dimension!$G$3:$H$252,2,FALSE),\"\")","v":""},{"$f":"IF(OR(B96=Dimension!$A$3,B96=Dimension!$A$4,B96=Dimension!$A$5),\"เดินทาง/ท่องเที่ยว\",\"\")","v":""},{"$f":"IF(OR(B96=Dimension!$A$6,B96=Dimension!$A$7,B96=Dimension!$A$8,B96=Dimension!$A$9),\"\",IF(OR(B96=Dimension!$A$3,B96=Dimension!$A$4,B96=Dimension!$A$5),\"สถานประกอบการ\",\"\"))","v":""},{"$f":"IF(OR(B96=Dimension!$A$3,B96=Dimension!$A$4,B96=Dimension!$A$5,B96=Dimension!$A$6,,B96=Dimension!$A$7,B96=Dimension!$A$8,B96=Dimension!$A$9),Payment_ID2,\"\")","v":""},null,{"$f":"IFERROR(VLOOKUP(K96,Dimension!$J$3:$K$179,2,FALSE),\"\")","v":""},null,null,{"$f":"IF(OR(B96=Dimension!$A$6,B96=Dimension!$A$7,B96=Dimension!$A$8,B96=Dimension!$A$9),\"\",IF(OR(B96=Dimension!$A$3,B96=Dimension!$A$4,B96=Dimension!$A$5),\"สถานประกอบการ\",\"\"))","v":""},{"$f":"IF(OR(B96=Dimension!$A$6,B96=Dimension!$A$7,B96=Dimension!$A$8,B96=Dimension!$A$9,B96=\"\"),\"\",Payment_ID2)","v":""},"",null,null,{"$f":"IF(D96=Dimension!$C$9,IF(LEFT(UPPER(E96),2)=\"MC\",TRUE,FALSE),TRUE)","v":true}]
[null,null,null,{"$f":"IF(B97=Dimension!$A$8,Dimension!$C$9,IF(B97=Dimension!$A$6,CD,\"\"))","v":""},null,{"$f":"IF(OR(B97=Dimension!$A$3,B97=Dimension!$A$4,B97=Dimension!$A$6,B97=Dimension!$A$8),CCYA,\"\")","v":""},{"$f":"IFERROR(VLOOKUP(F97,Dimension!$G$3:$H$252,2,FALSE),\"\")","v":""},{"$f":"IF(OR(B97=Dimension!$A$3,B97=Dimension!$A$4,B97=Dimension!$A$5),\"เดินทาง/ท่องเที่ยว\",\"\")","v":""},{"$f":"IF(OR(B97=Dimension!$A$6,B97=Dimension!$A$7,B97=Dimension!$A$8,B97=Dimension!$A$9),\"\",IF(OR(B97=Dimension!$A$3,B97=Dimension!$A$4,B97=Dimension!$A$5),\"สถานประกอบการ\",\"\"))","v":""},{"$f":"IF(OR(B97=Dimension!$A$3,B97=Dimension!$A$4,B97=Dimension!$A$5,B97=Dimension!$A$6,,B97=Dimension!$A$7,B97=Dimension!$A$8,B97=Dimension!$A$9),Payment_ID2,\"\")","v":""},null,{"$f":"IFERROR(VLOOKUP(K97,Dimension!$J$3:$K$179,2,FALSE),\"\")","v":""},null,null,{"$f":"IF(OR(B97=Dimension!$A$6,B97=Dimension!$A$7,B97=Dimension!$A$8,B97=Dimension!$A$9),\"\",IF(OR(B97=Dimension!$A$3,B97=Dimension!$A$4,B97=Dimension!$A$5),\"สถานประกอบการ\",\"\"))","v":""},{"$f":"IF(OR(B97=Dimension!$A$6,B97=Dimension!$A$7,B97=Dimension!$A$8,B97=Dimension!$A$9,B97=\"\"),\"\",Payment_ID2)","v":""},"",null,null,{"$f":"IF(D97=Dimension!$C$9,IF(LEFT(UPPER(E97),2)=\"MC\",TRUE,FALSE),TRUE)","v":true}]
[null,null,null,{"$f":"IF(B98=Dimension!$A$8,Dimension!$C$9,IF(B98=Dimension!$A$6,CD,\"\"))","v":""},null,{"$f":"IF(OR(B98=Dimension!$A$3,B98=Dimension!$A$4,B98=Dimension!$A$6,B98=Dimension!$A$8),CCYA,\"\")","v":""},{"$f":"IFERROR(VLOOKUP(F98,Dimension!$G$3:$H$252,2,FALSE),\"\")","v":""},{"$f":"IF(OR(B98=Dimension!$A$3,B98=Dimension!$A$4,B98=Dimension!$A$5),\"เดินทาง/ท่องเที่ยว\",\"\")","v":""},{"$f":"IF(OR(B98=Dimension!$A$6,B98=Dimension!$A$7,B98=Dimension!$A$8,B98=Dimension!$A$9),\"\",IF(OR(B98=Dimension!$A$3,B98=Dimension!$A$4,B98=Dimension!$A$5),\"สถานประกอบการ\",\"\"))","v":""},{"$f":"IF(OR(B98=Dimension!$A$3,B98=Dimension!$A$4,B98=Dimension!$A$5,B98=Dimension!$A$6,,B98=Dimension!$A$7,B98=Dimension!$A$8,B98=Dimension!$A$9),Payment_ID2,\"\")","v":""},null,{"$f":"IFERROR(VLOOKUP(K98,Dimension!$J$3:$K$179,2,FALSE),\"\")","v":""},null,null,{"$f":"IF(OR(B98=Dimension!$A$6,B98=Dimension!$A$7,B98=Dimension!$A$8,B98=Dimension!$A$9),\"\",IF(OR(B98=Dimension!$A$3,B98=Dimension!$A$4,B98=Dimension!$A$5),\"สถานประกอบการ\",\"\"))","v":""},{"$f":"IF(OR(B98=Dimension!$A$6,B98=Dimension!$A$7,B98=Dimension!$A$8,B98=Dimension!$A$9,B98=\"\"),\"\",Payment_ID2)","v":""},"",null,null,{"$f":"IF(D98=Dimension!$C$9,IF(LEFT(UPPER(E98),2)=\"MC\",TRUE,FALSE),TRUE)","v":true}]
[null,null,null,{"$f":"IF(B99=Dimension!$A$8,Dimension!$C$9,IF(B99=Dimension!$A$6,CD,\"\"))","v":""},null,{"$f":"IF(OR(B99=Dimension!$A$3,B99=Dimension!$A$4,B99=Dimension!$A$6,B99=Dimension!$A$8),CCYA,\"\")","v":""},{"$f":"IFERROR(VLOOKUP(F99,Dimension!$G$3:$H$252,2,FALSE),\"\")","v":""},{"$f":"IF(OR(B99=Dimension!$A$3,B99=Dimension!$A$4,B99=Dimension!$A$5),\"เดินทาง/ท่องเที่ยว\",\"\")","v":""},{"$f":"IF(OR(B99=Dimension!$A$6,B99=Dimension!$A$7,B99=Dimension!$A$8,B99=Dimension!$A$9),\"\",IF(OR(B99=Dimension!$A$3,B99=Dimension!$A$4,B99=Dimension!$A$5),\"สถานประกอบการ\",\"\"))","v":""},{"$f":"IF(OR(B99=Dimension!$A$3,B99=Dimension!$A$4,B99=Dimension!$A$5,B99=Dimension!$A$6,,B99=Dimension!$A$7,B99=Dimension!$A$8,B99=Dimension!$A$9),Payment_ID2,\"\")","v":""},null,{"$f":"IFERROR(VLOOKUP(K99,Dimension!$J$3:$K$179,2,FALSE),\"\")","v":""},null,null,{"$f":"IF(OR(B99=Dimension!$A$6,B99=Dimension!$A$7,B99=Dimension!$A$8,B99=Dimension!$A$9),\"\",IF(OR(B99=Dimension!$A$3,B99=Dimension!$A$4,B99=Dimension!$A$5),\"สถานประกอบการ\",\"\"))","v":""},{"$f":"IF(OR(B99=Dimension!$A$6,B99=Dimension!$A$7,B99=Dimension!$A$8,B99=Dimension!$A$9,B99=\"\"),\"\",Payment_ID2)","v":""},"",null,null,{"$f":"IF(D99=Dimension!$C$9,IF(LEFT(UPPER(E99),2)=\"MC\",TRUE,FALSE),TRUE)","v":true}]
[null,null,null,{"$f":"IF(B100=Dimension!$A$8,Dimension!$C$9,IF(B100=Dimension!$A$6,CD,\"\"))","v":""},null,{"$f":"IF(OR(B100=Dimension!$A$3,B100=Dimension!$A$4,B100=Dimension!$A$6,B100=Dimension!$A$8),CCYA,\"\")","v":""},{"$f":"IFERROR(VLOOKUP(F100,Dimension!$G$3:$H$252,2,FALSE),\"\")","v":""},{"$f":"IF(OR(B100=Dimension!$A$3,B100=Dimension!$A$4,B100=Dimension!$A$5),\"เดินทาง/ท่องเที่ยว\",\"\")","v":""},{"$f":"IF(OR(B100=Dimension!$A$6,B100=Dimension!$A$7,B100=Dimension!$A$8,B100=Dimension!$A$9),\"\",IF(OR(B100=Dimension!$A$3,B100=Dimension!$A$4,B100=Dimension!$A$5),\"สถานประกอบการ\",\"\"))","v":""},{"$f":"IF(OR(B100=Dimension!$A$3,B100=Dimension!$A$4,B100=Dimension!$A$5,B100=Dimension!$A$6,,B100=Dimension!$A$7,B100=Dimension!$A$8,B100=Dimension!$A$9),Payment_ID2,\"\")","v":""},null,{"$f":"IFERROR(VLOOKUP(K100,Dimension!$J$3:$K$179,2,FALSE),\"\")","v":""},null,null,{"$f":"IF(OR(B100=Dimension!$A$6,B100=Dimension!$A$7,B100=Dimension!$A$8,B100=Dimension!$A$9),\"\",IF(OR(B100=Dimension!$A$3,B100=Dimension!$A$4,B100=Dimension!$A$5),\"สถานประกอบการ\",\"\"))","v":""},{"$f":"IF(OR(B100=Dimension!$A$6,B100=Dimension!$A$7,B100=Dimension!$A$8,B100=Dimension!$A$9,B100=\"\"),\"\",Payment_ID2)","v":""},"",null,null,{"$f":"IF(D100=Dimension!$C$9,IF(LEFT(UPPER(E100),2)=\"MC\",TRUE,FALSE),TRUE)","v":true}]
[null,null,null,{"$f":"IF(B101=Dimension!$A$8,Dimension!$C$9,IF(B101=Dimension!$A$6,CD,\"\"))","v":""},null,{"$f":"IF(OR(B101=Dimension!$A$3,B101=Dimension!$A$4,B101=Dimension!$A$6,B101=Dimension!$A$8),CCYA,\"\")","v":""},{"$f":"IFERROR(VLOOKUP(F101,Dimension!$G$3:$H$252,2,FALSE),\"\")","v":""},{"$f":"IF(OR(B101=Dimension!$A$3,B101=Dimension!$A$4,B101=Dimension!$A$5),\"เดินทาง/ท่องเที่ยว\",\"\")","v":""},{"$f":"IF(OR(B101=Dimension!$A$6,B101=Dimension!$A$7,B101=Dimension!$A$8,B101=Dimension!$A$9),\"\",IF(OR(B101=Dimension!$A$3,B101=Dimension!$A$4,B101=Dimension!$A$5),\"สถานประกอบการ\",\"\"))","v":""},{"$f":"IF(OR(B101=Dimension!$A$3,B101=Dimension!$A$4,B101=Dimension!$A$5,B101=Dimension!$A$6,,B101=Dimension!$A$7,B101=Dimension!$A$8,B101=Dimension!$A$9),Payment_ID2,\"\")","v":""},null,{"$f":"IFERROR(VLOOKUP(K101,Dimension!$J$3:$K$179,2,FALSE),\"\")","v":""},null,null,{"$f":"IF(OR(B101=Dimension!$A$6,B101=Dimension!$A$7,B101=Dimension!$A$8,B101=Dimension!$A$9),\"\",IF(OR(B101=Dimension!$A$3,B101=Dimension!$A$4,B101=Dimension!$A$5),\"สถานประกอบการ\",\"\"))","v":""},{"$f":"IF(OR(B101=Dimension!$A$6,B101=Dimension!$A$7,B101=Dimension!$A$8,B101=Dimension!$A$9,B101=\"\"),\"\",Payment_ID2)","v":""},"",null,null,{"$f":"IF(D101=Dimension!$C$9,IF(LEFT(UPPER(E101),2)=\"MC\",TRUE,FALSE),TRUE)","v":true}]
[null,null,null,{"$f":"IF(B102=Dimension!$A$8,Dimension!$C$9,IF(B102=Dimension!$A$6,CD,\"\"))","v":""},null,{"$f":"IF(OR(B102=Dimension!$A$3,B102=Dimension!$A$4,B102=Dimension!$A$6,B102=Dimension!$A$8),CCYA,\"\")","v":""},{"$f":"IFERROR(VLOOKUP(F102,Dimension!$G$3:$H$252,2,FALSE),\"\")","v":""},{"$f":"IF(OR(B102=Dimension!$A$3,B102=Dimension!$A$4,B102=Dimension!$A$5),\"เดินทาง/ท่องเที่ยว\",\"\")","v":""},{"$f":"IF(OR(B102=Dimension!$A$6,B102=Dimension!$A$7,B102=Dimension!$A$8,B102=Dimension!$A$9),\"\",IF(OR(B102=Dimension!$A$3,B102=Dimension!$A$4,B102=Dimension!$A$5),\"สถานประกอบการ\",\"\"))","v":""},{"$f":"IF(OR(B102=Dimension!$A$3,B102=Dimension!$A$4,B102=Dimension!$A$5,B102=Dimension!$A$6,,B102=Dimension!$A$7,B102=Dimension!$A$8,B102=Dimension!$A$9),Payment_ID2,\"\")","v":""},null,{"$f":"IFERROR(VLOOKUP(K102,Dimension!$J$3:$K$179,2,FALSE),\"\")","v":""},null,null,{"$f":"IF(OR(B102=Dimension!$A$6,B102=Dimension!$A$7,B102=Dimension!$A$8,B102=Dimension!$A$9),\"\",IF(OR(B102=Dimension!$A$3,B102=Dimension!$A$4,B102=Dimension!$A$5),\"สถานประกอบการ\",\"\"))","v":""},{"$f":"IF(OR(B102=Dimension!$A$6,B102=Dimension!$A$7,B102=Dimension!$A$8,B102=Dimension!$A$9,B102=\"\"),\"\",Payment_ID2)","v":""},"",null,null,{"$f":"IF(D102=Dimension!$C$9,IF(LEFT(UPPER(E102),2)=\"MC\",TRUE,FALSE),TRUE)","v":true}]
[null,null,null,{"$f":"IF(B103=Dimension!$A$8,Dimension!$C$9,IF(B103=Dimension!$A$6,CD,\"\"))","v":""},null,{"$f":"IF(OR(B103=Dimension!$A$3,B103=Dimension!$A$4,B103=Dimension!$A$6,B103=Dimension!$A$8),CCYA,\"\")","v":""},{"$f":"IFERROR(VLOOKUP(F103,Dimension!$G$3:$H$252,2,FALSE),\"\")","v":""},{"$f":"IF(OR(B103=Dimension!$A$3,B103=Dimension!$A$4,B103=Dimension!$A$5),\"เดินทาง/ท่องเที่ยว\",\"\")","v":""},{"$f":"IF(OR(B103=Dimension!$A$6,B103=Dimension!$A$7,B103=Dimension!$A$8,B103=Dimension!$A$9),\"\",IF(OR(B103=Dimension!$A$3,B103=Dimension!$A$4,B103=Dimension!$A$5),\"สถานประกอบการ\",\"\"))","v":""},{"$f":"IF(OR(B103=Dimension!$A$3,B103=Dimension!$A$4,B103=Dimension!$A$5,B103=Dimension!$A$6,,B103=Dimension!$A$7,B103=Dimension!$A$8,B103=Dimension!$A$9),Payment_ID2,\"\")","v":""},null,{"$f":"IFERROR(VLOOKUP(K103,Dimension!$J$3:$K$179,2,FALSE),\"\")","v":""},null,null,{"$f":"IF(OR(B103=Dimension!$A$6,B103=Dimension!$A$7,B103=Dimension!$A$8,B103=Dimension!$A$9),\"\",IF(OR(B103=Dimension!$A$3,B103=Dimension!$A$4,B103=Dimension!$A$5),\"สถานประกอบการ\",\"\"))","v":""},{"$f":"IF(OR(B103=Dimension!$A$6,B103=Dimension!$A$7,B103=Dimension!$A$8,B103=Dimension!$A$9,B103=\"\"),\"\",Payment_ID2)","v":""},"",null,null,{"$f":"IF(D103=Dimension!$C$9,IF(LEFT(UPPER(E103),2)=\"MC\",TRUE,FALSE),TRUE)","v":true}]
[null,null,null,{"$f":"IF(B104=Dimension!$A$8,Dimension!$C$9,IF(B104=Dimension!$A$6,CD,\"\"))","v":""},null,{"$f":"IF(OR(B104=Dimension!$A$3,B104=Dimension!$A$4,B104=Dimension!$A$6,B104=Dimension!$A$8),CCYA,\"\")","v":""},{"$f":"IFERROR(VLOOKUP(F104,Dimension!$G$3:$H$252,2,FALSE),\"\")","v":""},{"$f":"IF(OR(B104=Dimension!$A$3,B104=Dimension!$A$4,B104=Dimension!$A$5),\"เดินทาง/ท่องเที่ยว\",\"\")","v":""},{"$f":"IF(OR(B104=Dimension!$A$6,B104=Dimension!$A$7,B104=Dimension!$A$8,B104=Dimension!$A$9),\"\",IF(OR(B104=Dimension!$A$3,B104=Dimension!$A$4,B104=Dimension!$A$5),\"สถานประกอบการ\",\"\"))","v":""},{"$f":"IF(OR(B104=Dimension!$A$3,B104=Dimension!$A$4,B104=Dimension!$A$5,B104=Dimension!$A$6,,B104=Dimension!$A$7,B104=Dimension!$A$8,B104=Dimension!$A$9),Payment_ID2,\"\")","v":""},null,{"$f":"IFERROR(VLOOKUP(K104,Dimension!$J$3:$K$179,2,FALSE),\"\")","v":""},null,null,{"$f":"IF(OR(B104=Dimension!$A$6,B104=Dimension!$A$7,B104=Dimension!$A$8,B104=Dimension!$A$9),\"\",IF(OR(B104=Dimension!$A$3,B104=Dimension!$A$4,B104=Dimension!$A$5),\"สถานประกอบการ\",\"\"))","v":""},{"$f":"IF(OR(B104=Dimension!$A$6,B104=Dimension!$A$7,B104=Dimension!$A$8,B104=Dimension!$A$9,B104=\"\"),\"\",Payment_ID2)","v":""},"",null,null,{"$f":"IF(D104=Dimension!$C$9,IF(LEFT(UPPER(E104),2)=\"MC\",TRUE,FALSE),TRUE)","v":true}]
[null,null,null,{"$f":"IF(B105=Dimension!$A$8,Dimension!$C$9,IF(B105=Dimension!$A$6,CD,\"\"))","v":""},null,{"$f":"IF(OR(B105=Dimension!$A$3,B105=Dimension!$A$4,B105=Dimension!$A$6,B105=Dimension!$A$8),CCYA,\"\")","v":""},{"$f":"IFERROR(VLOOKUP(F105,Dimension!$G$3:$H$252,2,FALSE),\"\")","v":""},{"$f":"IF(OR(B105=Dimension!$A$3,B105=Dimension!$A$4,B105=Dimension!$A$5),\"เดินทาง/ท่องเที่ยว\",\"\")","v":""},{"$f":"IF(OR(B105=Dimension!$A$6,B105=Dimension!$A$7,B105=Dimension!$A$8,B105=Dimension!$A$9),\"\",IF(OR(B105=Dimension!$A$3,B105=Dimension!$A$4,B105=Dimension!$A$5),\"สถานประกอบการ\",\"\"))","v":""},{"$f":"IF(OR(B105=Dimension!$A$3,B105=Dimension!$A$4,B105=Dimension!$A$5,B105=Dimension!$A$6,,B105=Dimension!$A$7,B105=Dimension!$A$8,B105=Dimension!$A$9),Payment_ID2,\"\")","v":""},null,{"$f":"IFERROR(VLOOKUP(K105,Dimension!$J$3:$K$179,2,FALSE),\"\")","v":""},null,null,{"$f":"IF(OR(B105=Dimension!$A$6,B105=Dimension!$A$7,B105=Dimension!$A$8,B105=Dimension!$A$9),\"\",IF(OR(B105=Dimension!$A$3,B105=Dimension!$A$4,B105=Dimension!$A$5),\"สถานประกอบการ\",\"\"))","v":""},{"$f":"IF(OR(B105=Dimension!$A$6,B105=Dimension!$A$7,B105=Dimension!$A$8,B105=Dimension!$A$9,B105=\"\"),\"\",Payment_ID2)","v":""},"",null,null,{"$f":"IF(D105=Dimension!$C$9,IF(LEFT(UPPER(E105),2)=\"MC\",TRUE,FALSE),TRUE)","v":true}]
[null,null,null,{"$f":"IF(B106=Dimension!$A$8,Dimension!$C$9,IF(B106=Dimension!$A$6,CD,\"\"))","v":""},null,{"$f":"IF(OR(B106=Dimension!$A$3,B106=Dimension!$A$4,B106=Dimension!$A$6,B106=Dimension!$A$8),CCYA,\"\")","v":""},{"$f":"IFERROR(VLOOKUP(F106,Dimension!$G$3:$H$252,2,FALSE),\"\")","v":""},{"$f":"IF(OR(B106=Dimension!$A$3,B106=Dimension!$A$4,B106=Dimension!$A$5),\"เดินทาง/ท่องเที่ยว\",\"\")","v":""},{"$f":"IF(OR(B106=Dimension!$A$6,B106=Dimension!$A$7,B106=Dimension!$A$8,B106=Dimension!$A$9),\"\",IF(OR(B106=Dimension!$A$3,B106=Dimension!$A$4,B106=Dimension!$A$5),\"สถานประกอบการ\",\"\"))","v":""},{"$f":"IF(OR(B106=Dimension!$A$3,B106=Dimension!$A$4,B106=Dimension!$A$5,B106=Dimension!$A$6,,B106=Dimension!$A$7,B106=Dimension!$A$8,B106=Dimension!$A$9),Payment_ID2,\"\")","v":""},null,{"$f":"IFERROR(VLOOKUP(K106,Dimension!$J$3:$K$179,2,FALSE),\"\")","v":""},null,null,{"$f":"IF(OR(B106=Dimension!$A$6,B106=Dimension!$A$7,B106=Dimension!$A$8,B106=Dimension!$A$9),\"\",IF(OR(B106=Dimension!$A$3,B106=Dimension!$A$4,B106=Dimension!$A$5),\"สถานประกอบการ\",\"\"))","v":""},{"$f":"IF(OR(B106=Dimension!$A$6,B106=Dimension!$A$7,B106=Dimension!$A$8,B106=Dimension!$A$9,B106=\"\"),\"\",Payment_ID2)","v":""},"",null,null,{"$f":"IF(D106=Dimension!$C$9,IF(LEFT(UPPER(E106),2)=\"MC\",TRUE,FALSE),TRUE)","v":true}]
[null,null,null,{"$f":"IF(B107=Dimension!$A$8,Dimension!$C$9,IF(B107=Dimension!$A$6,CD,\"\"))","v":""},null,{"$f":"IF(OR(B107=Dimension!$A$3,B107=Dimension!$A$4,B107=Dimension!$A$6,B107=Dimension!$A$8),CCYA,\"\")","v":""},{"$f":"IFERROR(VLOOKUP(F107,Dimension!$G$3:$H$252,2,FALSE),\"\")","v":""},{"$f":"IF(OR(B107=Dimension!$A$3,B107=Dimension!$A$4,B107=Dimension!$A$5),\"เดินทาง/ท่องเที่ยว\",\"\")","v":""},{"$f":"IF(OR(B107=Dimension!$A$6,B107=Dimension!$A$7,B107=Dimension!$A$8,B107=Dimension!$A$9),\"\",IF(OR(B107=Dimension!$A$3,B107=Dimension!$A$4,B107=Dimension!$A$5),\"สถานประกอบการ\",\"\"))","v":""},{"$f":"IF(OR(B107=Dimension!$A$3,B107=Dimension!$A$4,B107=Dimension!$A$5,B107=Dimension!$A$6,,B107=Dimension!$A$7,B107=Dimension!$A$8,B107=Dimension!$A$9),Payment_ID2,\"\")","v":""},null,{"$f":"IFERROR(VLOOKUP(K107,Dimension!$J$3:$K$179,2,FALSE),\"\")","v":""},null,null,{"$f":"IF(OR(B107=Dimension!$A$6,B107=Dimension!$A$7,B107=Dimension!$A$8,B107=Dimension!$A$9),\"\",IF(OR(B107=Dimension!$A$3,B107=Dimension!$A$4,B107=Dimension!$A$5),\"สถานประกอบการ\",\"\"))","v":""},{"$f":"IF(OR(B107=Dimension!$A$6,B107=Dimension!$A$7,B107=Dimension!$A$8,B107=Dimension!$A$9,B107=\"\"),\"\",Payment_ID2)","v":""},"",null,null,{"$f":"IF(D107=Dimension!$C$9,IF(LEFT(UPPER(E107),2)=\"MC\",TRUE,FALSE),TRUE)","v":true}]
[null,null,null,{"$f":"IF(B108=Dimension!$A$8,Dimension!$C$9,IF(B108=Dimension!$A$6,CD,\"\"))","v":""},null,{"$f":"IF(OR(B108=Dimension!$A$3,B108=Dimension!$A$4,B108=Dimension!$A$6,B108=Dimension!$A$8),CCYA,\"\")","v":""},{"$f":"IFERROR(VLOOKUP(F108,Dimension!$G$3:$H$252,2,FALSE),\"\")","v":""},{"$f":"IF(OR(B108=Dimension!$A$3,B108=Dimension!$A$4,B108=Dimension!$A$5),\"เดินทาง/ท่องเที่ยว\",\"\")","v":""},{"$f":"IF(OR(B108=Dimension!$A$6,B108=Dimension!$A$7,B108=Dimension!$A$8,B108=Dimension!$A$9),\"\",IF(OR(B108=Dimension!$A$3,B108=Dimension!$A$4,B108=Dimension!$A$5),\"สถานประกอบการ\",\"\"))","v":""},{"$f":"IF(OR(B108=Dimension!$A$3,B108=Dimension!$A$4,B108=Dimension!$A$5,B108=Dimension!$A$6,,B108=Dimension!$A$7,B108=Dimension!$A$8,B108=Dimension!$A$9),Payment_ID2,\"\")","v":""},null,{"$f":"IFERROR(VLOOKUP(K108,Dimension!$J$3:$K$179,2,FALSE),\"\")","v":""},null,null,{"$f":"IF(OR(B108=Dimension!$A$6,B108=Dimension!$A$7,B108=Dimension!$A$8,B108=Dimension!$A$9),\"\",IF(OR(B108=Dimension!$A$3,B108=Dimension!$A$4,B108=Dimension!$A$5),\"สถานประกอบการ\",\"\"))","v":""},{"$f":"IF(OR(B108=Dimension!$A$6,B108=Dimension!$A$7,B108=Dimension!$A$8,B108=Dimension!$A$9,B108=\"\"),\"\",Payment_ID2)","v":""},"",null,null,{"$f":"IF(D108=Dimension!$C$9,IF(LEFT(UPPER(E108),2)=\"MC\",TRUE,FALSE),TRUE)","v":true}]
[null,null,null,{"$f":"IF(B109=Dimension!$A$8,Dimension!$C$9,IF(B109=Dimension!$A$6,CD,\"\"))","v":""},null,{"$f":"IF(OR(B109=Dimension!$A$3,B109=Dimension!$A$4,B109=Dimension!$A$6,B109=Dimension!$A$8),CCYA,\"\")","v":""},{"$f":"IFERROR(VLOOKUP(F109,Dimension!$G$3:$H$252,2,FALSE),\"\")","v":""},{"$f":"IF(OR(B109=Dimension!$A$3,B109=Dimension!$A$4,B109=Dimension!$A$5),\"เดินทาง/ท่องเที่ยว\",\"\")","v":""},{"$f":"IF(OR(B109=Dimension!$A$6,B109=Dimension!$A$7,B109=Dimension!$A$8,B109=Dimension!$A$9),\"\",IF(OR(B109=Dimension!$A$3,B109=Dimension!$A$4,B109=Dimension!$A$5),\"สถานประกอบการ\",\"\"))","v":""},{"$f":"IF(OR(B109=Dimension!$A$3,B109=Dimension!$A$4,B109=Dimension!$A$5,B109=Dimension!$A$6,,B109=Dimension!$A$7,B109=Dimension!$A$8,B109=Dimension!$A$9),Payment_ID2,\"\")","v":""},null,{"$f":"IFERROR(VLOOKUP(K109,Dimension!$J$3:$K$179,2,FALSE),\"\")","v":""},null,null,{"$f":"IF(OR(B109=Dimension!$A$6,B109=Dimension!$A$7,B109=Dimension!$A$8,B109=Dimension!$A$9),\"\",IF(OR(B109=Dimension!$A$3,B109=Dimension!$A$4,B109=Dimension!$A$5),\"สถานประกอบการ\",\"\"))","v":""},{"$f":"IF(OR(B109=Dimension!$A$6,B109=Dimension!$A$7,B109=Dimension!$A$8,B109=Dimension!$A$9,B109=\"\"),\"\",Payment_ID2)","v":""},"",null,null,{"$f":"IF(D109=Dimension!$C$9,IF(LEFT(UPPER(E109),2)=\"MC\",TRUE,FALSE),TRUE)","v":true}]
[null,null,null,{"$f":"IF(B110=Dimension!$A$8,Dimension!$C$9,IF(B110=Dimension!$A$6,CD,\"\"))","v":""},null,{"$f":"IF(OR(B110=Dimension!$A$3,B110=Dimension!$A$4,B110=Dimension!$A$6,B110=Dimension!$A$8),CCYA,\"\")","v":""},{"$f":"IFERROR(VLOOKUP(F110,Dimension!$G$3:$H$252,2,FALSE),\"\")","v":""},{"$f":"IF(OR(B110=Dimension!$A$3,B110=Dimension!$A$4,B110=Dimension!$A$5),\"เดินทาง/ท่องเที่ยว\",\"\")","v":""},{"$f":"IF(OR(B110=Dimension!$A$6,B110=Dimension!$A$7,B110=Dimension!$A$8,B110=Dimension!$A$9),\"\",IF(OR(B110=Dimension!$A$3,B110=Dimension!$A$4,B110=Dimension!$A$5),\"สถานประกอบการ\",\"\"))","v":""},{"$f":"IF(OR(B110=Dimension!$A$3,B110=Dimension!$A$4,B110=Dimension!$A$5,B110=Dimension!$A$6,,B110=Dimension!$A$7,B110=Dimension!$A$8,B110=Dimension!$A$9),Payment_ID2,\"\")","v":""},null,{"$f":"IFERROR(VLOOKUP(K110,Dimension!$J$3:$K$179,2,FALSE),\"\")","v":""},null,null,{"$f":"IF(OR(B110=Dimension!$A$6,B110=Dimension!$A$7,B110=Dimension!$A$8,B110=Dimension!$A$9),\"\",IF(OR(B110=Dimension!$A$3,B110=Dimension!$A$4,B110=Dimension!$A$5),\"สถานประกอบการ\",\"\"))","v":""},{"$f":"IF(OR(B110=Dimension!$A$6,B110=Dimension!$A$7,B110=Dimension!$A$8,B110=Dimension!$A$9,B110=\"\"),\"\",Payment_ID2)","v":""},"",null,null,{"$f":"IF(D110=Dimension!$C$9,IF(LEFT(UPPER(E110),2)=\"MC\",TRUE,FALSE),TRUE)","v":true}]
[null,null,null,{"$f":"IF(B111=Dimension!$A$8,Dimension!$C$9,IF(B111=Dimension!$A$6,CD,\"\"))","v":""},null,{"$f":"IF(OR(B111=Dimension!$A$3,B111=Dimension!$A$4,B111=Dimension!$A$6,B111=Dimension!$A$8),CCYA,\"\")","v":""},{"$f":"IFERROR(VLOOKUP(F111,Dimension!$G$3:$H$252,2,FALSE),\"\")","v":""},{"$f":"IF(OR(B111=Dimension!$A$3,B111=Dimension!$A$4,B111=Dimension!$A$5),\"เดินทาง/ท่องเที่ยว\",\"\")","v":""},{"$f":"IF(OR(B111=Dimension!$A$6,B111=Dimension!$A$7,B111=Dimension!$A$8,B111=Dimension!$A$9),\"\",IF(OR(B111=Dimension!$A$3,B111=Dimension!$A$4,B111=Dimension!$A$5),\"สถานประกอบการ\",\"\"))","v":""},{"$f":"IF(OR(B111=Dimension!$A$3,B111=Dimension!$A$4,B111=Dimension!$A$5,B111=Dimension!$A$6,,B111=Dimension!$A$7,B111=Dimension!$A$8,B111=Dimension!$A$9),Payment_ID2,\"\")","v":""},null,{"$f":"IFERROR(VLOOKUP(K111,Dimension!$J$3:$K$179,2,FALSE),\"\")","v":""},null,null,{"$f":"IF(OR(B111=Dimension!$A$6,B111=Dimension!$A$7,B111=Dimension!$A$8,B111=Dimension!$A$9),\"\",IF(OR(B111=Dimension!$A$3,B111=Dimension!$A$4,B111=Dimension!$A$5),\"สถานประกอบการ\",\"\"))","v":""},{"$f":"IF(OR(B111=Dimension!$A$6,B111=Dimension!$A$7,B111=Dimension!$A$8,B111=Dimension!$A$9,B111=\"\"),\"\",Payment_ID2)","v":""},"",null,null,{"$f":"IF(D111=Dimension!$C$9,IF(LEFT(UPPER(E111),2)=\"MC\",TRUE,FALSE),TRUE)","v":true}]
[null,null,null,{"$f":"IF(B112=Dimension!$A$8,Dimension!$C$9,IF(B112=Dimension!$A$6,CD,\"\"))","v":""},null,{"$f":"IF(OR(B112=Dimension!$A$3,B112=Dimension!$A$4,B112=Dimension!$A$6,B112=Dimension!$A$8),CCYA,\"\")","v":""},{"$f":"IFERROR(VLOOKUP(F112,Dimension!$G$3:$H$252,2,FALSE),\"\")","v":""},{"$f":"IF(OR(B112=Dimension!$A$3,B112=Dimension!$A$4,B112=Dimension!$A$5),\"เดินทาง/ท่องเที่ยว\",\"\")","v":""},{"$f":"IF(OR(B112=Dimension!$A$6,B112=Dimension!$A$7,B112=Dimension!$A$8,B112=Dimension!$A$9),\"\",IF(OR(B112=Dimension!$A$3,B112=Dimension!$A$4,B112=Dimension!$A$5),\"สถานประกอบการ\",\"\"))","v":""},{"$f":"IF(OR(B112=Dimension!$A$3,B112=Dimension!$A$4,B112=Dimension!$A$5,B112=Dimension!$A$6,,B112=Dimension!$A$7,B112=Dimension!$A$8,B112=Dimension!$A$9),Payment_ID2,\"\")","v":""},null,{"$f":"IFERROR(VLOOKUP(K112,Dimension!$J$3:$K$179,2,FALSE),\"\")","v":""},null,null,{"$f":"IF(OR(B112=Dimension!$A$6,B112=Dimension!$A$7,B112=Dimension!$A$8,B112=Dimension!$A$9),\"\",IF(OR(B112=Dimension!$A$3,B112=Dimension!$A$4,B112=Dimension!$A$5),\"สถานประกอบการ\",\"\"))","v":""},{"$f":"IF(OR(B112=Dimension!$A$6,B112=Dimension!$A$7,B112=Dimension!$A$8,B112=Dimension!$A$9,B112=\"\"),\"\",Payment_ID2)","v":""},"",null,null,{"$f":"IF(D112=Dimension!$C$9,IF(LEFT(UPPER(E112),2)=\"MC\",TRUE,FALSE),TRUE)","v":true}]
[null,null,null,{"$f":"IF(B113=Dimension!$A$8,Dimension!$C$9,IF(B113=Dimension!$A$6,CD,\"\"))","v":""},null,{"$f":"IF(OR(B113=Dimension!$A$3,B113=Dimension!$A$4,B113=Dimension!$A$6,B113=Dimension!$A$8),CCYA,\"\")","v":""},{"$f":"IFERROR(VLOOKUP(F113,Dimension!$G$3:$H$252,2,FALSE),\"\")","v":""},{"$f":"IF(OR(B113=Dimension!$A$3,B113=Dimension!$A$4,B113=Dimension!$A$5),\"เดินทาง/ท่องเที่ยว\",\"\")","v":""},{"$f":"IF(OR(B113=Dimension!$A$6,B113=Dimension!$A$7,B113=Dimension!$A$8,B113=Dimension!$A$9),\"\",IF(OR(B113=Dimension!$A$3,B113=Dimension!$A$4,B113=Dimension!$A$5),\"สถานประกอบการ\",\"\"))","v":""},{"$f":"IF(OR(B113=Dimension!$A$3,B113=Dimension!$A$4,B113=Dimension!$A$5,B113=Dimension!$A$6,,B113=Dimension!$A$7,B113=Dimension!$A$8,B113=Dimension!$A$9),Payment_ID2,\"\")","v":""},null,{"$f":"IFERROR(VLOOKUP(K113,Dimension!$J$3:$K$179,2,FALSE),\"\")","v":""},null,null,{"$f":"IF(OR(B113=Dimension!$A$6,B113=Dimension!$A$7,B113=Dimension!$A$8,B113=Dimension!$A$9),\"\",IF(OR(B113=Dimension!$A$3,B113=Dimension!$A$4,B113=Dimension!$A$5),\"สถานประกอบการ\",\"\"))","v":""},{"$f":"IF(OR(B113=Dimension!$A$6,B113=Dimension!$A$7,B113=Dimension!$A$8,B113=Dimension!$A$9,B113=\"\"),\"\",Payment_ID2)","v":""},"",null,null,{"$f":"IF(D113=Dimension!$C$9,IF(LEFT(UPPER(E113),2)=\"MC\",TRUE,FALSE),TRUE)","v":true}]
[null,null,null,{"$f":"IF(B114=Dimension!$A$8,Dimension!$C$9,IF(B114=Dimension!$A$6,CD,\"\"))","v":""},null,{"$f":"IF(OR(B114=Dimension!$A$3,B114=Dimension!$A$4,B114=Dimension!$A$6,B114=Dimension!$A$8),CCYA,\"\")","v":""},{"$f":"IFERROR(VLOOKUP(F114,Dimension!$G$3:$H$252,2,FALSE),\"\")","v":""},{"$f":"IF(OR(B114=Dimension!$A$3,B114=Dimension!$A$4,B114=Dimension!$A$5),\"เดินทาง/ท่องเที่ยว\",\"\")","v":""},{"$f":"IF(OR(B114=Dimension!$A$6,B114=Dimension!$A$7,B114=Dimension!$A$8,B114=Dimension!$A$9),\"\",IF(OR(B114=Dimension!$A$3,B114=Dimension!$A$4,B114=Dimension!$A$5),\"สถานประกอบการ\",\"\"))","v":""},{"$f":"IF(OR(B114=Dimension!$A$3,B114=Dimension!$A$4,B114=Dimension!$A$5,B114=Dimension!$A$6,,B114=Dimension!$A$7,B114=Dimension!$A$8,B114=Dimension!$A$9),Payment_ID2,\"\")","v":""},null,{"$f":"IFERROR(VLOOKUP(K114,Dimension!$J$3:$K$179,2,FALSE),\"\")","v":""},null,null,{"$f":"IF(OR(B114=Dimension!$A$6,B114=Dimension!$A$7,B114=Dimension!$A$8,B114=Dimension!$A$9),\"\",IF(OR(B114=Dimension!$A$3,B114=Dimension!$A$4,B114=Dimension!$A$5),\"สถานประกอบการ\",\"\"))","v":""},{"$f":"IF(OR(B114=Dimension!$A$6,B114=Dimension!$A$7,B114=Dimension!$A$8,B114=Dimension!$A$9,B114=\"\"),\"\",Payment_ID2)","v":""},"",null,null,{"$f":"IF(D114=Dimension!$C$9,IF(LEFT(UPPER(E114),2)=\"MC\",TRUE,FALSE),TRUE)","v":true}]
[null,null,null,{"$f":"IF(B115=Dimension!$A$8,Dimension!$C$9,IF(B115=Dimension!$A$6,CD,\"\"))","v":""},null,{"$f":"IF(OR(B115=Dimension!$A$3,B115=Dimension!$A$4,B115=Dimension!$A$6,B115=Dimension!$A$8),CCYA,\"\")","v":""},{"$f":"IFERROR(VLOOKUP(F115,Dimension!$G$3:$H$252,2,FALSE),\"\")","v":""},{"$f":"IF(OR(B115=Dimension!$A$3,B115=Dimension!$A$4,B115=Dimension!$A$5),\"เดินทาง/ท่องเที่ยว\",\"\")","v":""},{"$f":"IF(OR(B115=Dimension!$A$6,B115=Dimension!$A$7,B115=Dimension!$A$8,B115=Dimension!$A$9),\"\",IF(OR(B115=Dimension!$A$3,B115=Dimension!$A$4,B115=Dimension!$A$5),\"สถานประกอบการ\",\"\"))","v":""},{"$f":"IF(OR(B115=Dimension!$A$3,B115=Dimension!$A$4,B115=Dimension!$A$5,B115=Dimension!$A$6,,B115=Dimension!$A$7,B115=Dimension!$A$8,B115=Dimension!$A$9),Payment_ID2,\"\")","v":""},null,{"$f":"IFERROR(VLOOKUP(K115,Dimension!$J$3:$K$179,2,FALSE),\"\")","v":""},null,null,{"$f":"IF(OR(B115=Dimension!$A$6,B115=Dimension!$A$7,B115=Dimension!$A$8,B115=Dimension!$A$9),\"\",IF(OR(B115=Dimension!$A$3,B115=Dimension!$A$4,B115=Dimension!$A$5),\"สถานประกอบการ\",\"\"))","v":""},{"$f":"IF(OR(B115=Dimension!$A$6,B115=Dimension!$A$7,B115=Dimension!$A$8,B115=Dimension!$A$9,B115=\"\"),\"\",Payment_ID2)","v":""},"",null,null,{"$f":"IF(D115=Dimension!$C$9,IF(LEFT(UPPER(E115),2)=\"MC\",TRUE,FALSE),TRUE)","v":true}]
[null,null,null,{"$f":"IF(B116=Dimension!$A$8,Dimension!$C$9,IF(B116=Dimension!$A$6,CD,\"\"))","v":""},null,{"$f":"IF(OR(B116=Dimension!$A$3,B116=Dimension!$A$4,B116=Dimension!$A$6,B116=Dimension!$A$8),CCYA,\"\")","v":""},{"$f":"IFERROR(VLOOKUP(F116,Dimension!$G$3:$H$252,2,FALSE),\"\")","v":""},{"$f":"IF(OR(B116=Dimension!$A$3,B116=Dimension!$A$4,B116=Dimension!$A$5),\"เดินทาง/ท่องเที่ยว\",\"\")","v":""},{"$f":"IF(OR(B116=Dimension!$A$6,B116=Dimension!$A$7,B116=Dimension!$A$8,B116=Dimension!$A$9),\"\",IF(OR(B116=Dimension!$A$3,B116=Dimension!$A$4,B116=Dimension!$A$5),\"สถานประกอบการ\",\"\"))","v":""},{"$f":"IF(OR(B116=Dimension!$A$3,B116=Dimension!$A$4,B116=Dimension!$A$5,B116=Dimension!$A$6,,B116=Dimension!$A$7,B116=Dimension!$A$8,B116=Dimension!$A$9),Payment_ID2,\"\")","v":""},null,{"$f":"IFERROR(VLOOKUP(K116,Dimension!$J$3:$K$179,2,FALSE),\"\")","v":""},null,null,{"$f":"IF(OR(B116=Dimension!$A$6,B116=Dimension!$A$7,B116=Dimension!$A$8,B116=Dimension!$A$9),\"\",IF(OR(B116=Dimension!$A$3,B116=Dimension!$A$4,B116=Dimension!$A$5),\"สถานประกอบการ\",\"\"))","v":""},{"$f":"IF(OR(B116=Dimension!$A$6,B116=Dimension!$A$7,B116=Dimension!$A$8,B116=Dimension!$A$9,B116=\"\"),\"\",Payment_ID2)","v":""},"",null,null,{"$f":"IF(D116=Dimension!$C$9,IF(LEFT(UPPER(E116),2)=\"MC\",TRUE,FALSE),TRUE)","v":true}]
[null,null,null,{"$f":"IF(B117=Dimension!$A$8,Dimension!$C$9,IF(B117=Dimension!$A$6,CD,\"\"))","v":""},null,{"$f":"IF(OR(B117=Dimension!$A$3,B117=Dimension!$A$4,B117=Dimension!$A$6,B117=Dimension!$A$8),CCYA,\"\")","v":""},{"$f":"IFERROR(VLOOKUP(F117,Dimension!$G$3:$H$252,2,FALSE),\"\")","v":""},{"$f":"IF(OR(B117=Dimension!$A$3,B117=Dimension!$A$4,B117=Dimension!$A$5),\"เดินทาง/ท่องเที่ยว\",\"\")","v":""},{"$f":"IF(OR(B117=Dimension!$A$6,B117=Dimension!$A$7,B117=Dimension!$A$8,B117=Dimension!$A$9),\"\",IF(OR(B117=Dimension!$A$3,B117=Dimension!$A$4,B117=Dimension!$A$5),\"สถานประกอบการ\",\"\"))","v":""},{"$f":"IF(OR(B117=Dimension!$A$3,B117=Dimension!$A$4,B117=Dimension!$A$5,B117=Dimension!$A$6,,B117=Dimension!$A$7,B117=Dimension!$A$8,B117=Dimension!$A$9),Payment_ID2,\"\")","v":""},null,{"$f":"IFERROR(VLOOKUP(K117,Dimension!$J$3:$K$179,2,FALSE),\"\")","v":""},null,null,{"$f":"IF(OR(B117=Dimension!$A$6,B117=Dimension!$A$7,B117=Dimension!$A$8,B117=Dimension!$A$9),\"\",IF(OR(B117=Dimension!$A$3,B117=Dimension!$A$4,B117=Dimension!$A$5),\"สถานประกอบการ\",\"\"))","v":""},{"$f":"IF(OR(B117=Dimension!$A$6,B117=Dimension!$A$7,B117=Dimension!$A$8,B117=Dimension!$A$9,B117=\"\"),\"\",Payment_ID2)","v":""},"",null,null,{"$f":"IF(D117=Dimension!$C$9,IF(LEFT(UPPER(E117),2)=\"MC\",TRUE,FALSE),TRUE)","v":true}]
[null,null,null,{"$f":"IF(B118=Dimension!$A$8,Dimension!$C$9,IF(B118=Dimension!$A$6,CD,\"\"))","v":""},null,{"$f":"IF(OR(B118=Dimension!$A$3,B118=Dimension!$A$4,B118=Dimension!$A$6,B118=Dimension!$A$8),CCYA,\"\")","v":""},{"$f":"IFERROR(VLOOKUP(F118,Dimension!$G$3:$H$252,2,FALSE),\"\")","v":""},{"$f":"IF(OR(B118=Dimension!$A$3,B118=Dimension!$A$4,B118=Dimension!$A$5),\"เดินทาง/ท่องเที่ยว\",\"\")","v":""},{"$f":"IF(OR(B118=Dimension!$A$6,B118=Dimension!$A$7,B118=Dimension!$A$8,B118=Dimension!$A$9),\"\",IF(OR(B118=Dimension!$A$3,B118=Dimension!$A$4,B118=Dimension!$A$5),\"สถานประกอบการ\",\"\"))","v":""},{"$f":"IF(OR(B118=Dimension!$A$3,B118=Dimension!$A$4,B118=Dimension!$A$5,B118=Dimension!$A$6,,B118=Dimension!$A$7,B118=Dimension!$A$8,B118=Dimension!$A$9),Payment_ID2,\"\")","v":""},null,{"$f":"IFERROR(VLOOKUP(K118,Dimension!$J$3:$K$179,2,FALSE),\"\")","v":""},null,null,{"$f":"IF(OR(B118=Dimension!$A$6,B118=Dimension!$A$7,B118=Dimension!$A$8,B118=Dimension!$A$9),\"\",IF(OR(B118=Dimension!$A$3,B118=Dimension!$A$4,B118=Dimension!$A$5),\"สถานประกอบการ\",\"\"))","v":""},{"$f":"IF(OR(B118=Dimension!$A$6,B118=Dimension!$A$7,B118=Dimension!$A$8,B118=Dimension!$A$9,B118=\"\"),\"\",Payment_ID2)","v":""},"",null,null,{"$f":"IF(D118=Dimension!$C$9,IF(LEFT(UPPER(E118),2)=\"MC\",TRUE,FALSE),TRUE)","v":true}]
[null,null,null,{"$f":"IF(B119=Dimension!$A$8,Dimension!$C$9,IF(B119=Dimension!$A$6,CD,\"\"))","v":""},null,{"$f":"IF(OR(B119=Dimension!$A$3,B119=Dimension!$A$4,B119=Dimension!$A$6,B119=Dimension!$A$8),CCYA,\"\")","v":""},{"$f":"IFERROR(VLOOKUP(F119,Dimension!$G$3:$H$252,2,FALSE),\"\")","v":""},{"$f":"IF(OR(B119=Dimension!$A$3,B119=Dimension!$A$4,B119=Dimension!$A$5),\"เดินทาง/ท่องเที่ยว\",\"\")","v":""},{"$f":"IF(OR(B119=Dimension!$A$6,B119=Dimension!$A$7,B119=Dimension!$A$8,B119=Dimension!$A$9),\"\",IF(OR(B119=Dimension!$A$3,B119=Dimension!$A$4,B119=Dimension!$A$5),\"สถานประกอบการ\",\"\"))","v":""},{"$f":"IF(OR(B119=Dimension!$A$3,B119=Dimension!$A$4,B119=Dimension!$A$5,B119=Dimension!$A$6,,B119=Dimension!$A$7,B119=Dimension!$A$8,B119=Dimension!$A$9),Payment_ID2,\"\")","v":""},null,{"$f":"IFERROR(VLOOKUP(K119,Dimension!$J$3:$K$179,2,FALSE),\"\")","v":""},null,null,{"$f":"IF(OR(B119=Dimension!$A$6,B119=Dimension!$A$7,B119=Dimension!$A$8,B119=Dimension!$A$9),\"\",IF(OR(B119=Dimension!$A$3,B119=Dimension!$A$4,B119=Dimension!$A$5),\"สถานประกอบการ\",\"\"))","v":""},{"$f":"IF(OR(B119=Dimension!$A$6,B119=Dimension!$A$7,B119=Dimension!$A$8,B119=Dimension!$A$9,B119=\"\"),\"\",Payment_ID2)","v":""},"",null,null,{"$f":"IF(D119=Dimension!$C$9,IF(LEFT(UPPER(E119),2)=\"MC\",TRUE,FALSE),TRUE)","v":true}]
[null,null,null,{"$f":"IF(B120=Dimension!$A$8,Dimension!$C$9,IF(B120=Dimension!$A$6,CD,\"\"))","v":""},null,{"$f":"IF(OR(B120=Dimension!$A$3,B120=Dimension!$A$4,B120=Dimension!$A$6,B120=Dimension!$A$8),CCYA,\"\")","v":""},{"$f":"IFERROR(VLOOKUP(F120,Dimension!$G$3:$H$252,2,FALSE),\"\")","v":""},{"$f":"IF(OR(B120=Dimension!$A$3,B120=Dimension!$A$4,B120=Dimension!$A$5),\"เดินทาง/ท่องเที่ยว\",\"\")","v":""},{"$f":"IF(OR(B120=Dimension!$A$6,B120=Dimension!$A$7,B120=Dimension!$A$8,B120=Dimension!$A$9),\"\",IF(OR(B120=Dimension!$A$3,B120=Dimension!$A$4,B120=Dimension!$A$5),\"สถานประกอบการ\",\"\"))","v":""},{"$f":"IF(OR(B120=Dimension!$A$3,B120=Dimension!$A$4,B120=Dimension!$A$5,B120=Dimension!$A$6,,B120=Dimension!$A$7,B120=Dimension!$A$8,B120=Dimension!$A$9),Payment_ID2,\"\")","v":""},null,{"$f":"IFERROR(VLOOKUP(K120,Dimension!$J$3:$K$179,2,FALSE),\"\")","v":""},null,null,{"$f":"IF(OR(B120=Dimension!$A$6,B120=Dimension!$A$7,B120=Dimension!$A$8,B120=Dimension!$A$9),\"\",IF(OR(B120=Dimension!$A$3,B120=Dimension!$A$4,B120=Dimension!$A$5),\"สถานประกอบการ\",\"\"))","v":""},{"$f":"IF(OR(B120=Dimension!$A$6,B120=Dimension!$A$7,B120=Dimension!$A$8,B120=Dimension!$A$9,B120=\"\"),\"\",Payment_ID2)","v":""},"",null,null,{"$f":"IF(D120=Dimension!$C$9,IF(LEFT(UPPER(E120),2)=\"MC\",TRUE,FALSE),TRUE)","v":true}]
[null,null,null,{"$f":"IF(B121=Dimension!$A$8,Dimension!$C$9,IF(B121=Dimension!$A$6,CD,\"\"))","v":""},null,{"$f":"IF(OR(B121=Dimension!$A$3,B121=Dimension!$A$4,B121=Dimension!$A$6,B121=Dimension!$A$8),CCYA,\"\")","v":""},{"$f":"IFERROR(VLOOKUP(F121,Dimension!$G$3:$H$252,2,FALSE),\"\")","v":""},{"$f":"IF(OR(B121=Dimension!$A$3,B121=Dimension!$A$4,B121=Dimension!$A$5),\"เดินทาง/ท่องเที่ยว\",\"\")","v":""},{"$f":"IF(OR(B121=Dimension!$A$6,B121=Dimension!$A$7,B121=Dimension!$A$8,B121=Dimension!$A$9),\"\",IF(OR(B121=Dimension!$A$3,B121=Dimension!$A$4,B121=Dimension!$A$5),\"สถานประกอบการ\",\"\"))","v":""},{"$f":"IF(OR(B121=Dimension!$A$3,B121=Dimension!$A$4,B121=Dimension!$A$5,B121=Dimension!$A$6,,B121=Dimension!$A$7,B121=Dimension!$A$8,B121=Dimension!$A$9),Payment_ID2,\"\")","v":""},null,{"$f":"IFERROR(VLOOKUP(K121,Dimension!$J$3:$K$179,2,FALSE),\"\")","v":""},null,null,{"$f":"IF(OR(B121=Dimension!$A$6,B121=Dimension!$A$7,B121=Dimension!$A$8,B121=Dimension!$A$9),\"\",IF(OR(B121=Dimension!$A$3,B121=Dimension!$A$4,B121=Dimension!$A$5),\"สถานประกอบการ\",\"\"))","v":""},{"$f":"IF(OR(B121=Dimension!$A$6,B121=Dimension!$A$7,B121=Dimension!$A$8,B121=Dimension!$A$9,B121=\"\"),\"\",Payment_ID2)","v":""},"",null,null,{"$f":"IF(D121=Dimension!$C$9,IF(LEFT(UPPER(E121),2)=\"MC\",TRUE,FALSE),TRUE)","v":true}]
[null,null,null,{"$f":"IF(B122=Dimension!$A$8,Dimension!$C$9,IF(B122=Dimension!$A$6,CD,\"\"))","v":""},null,{"$f":"IF(OR(B122=Dimension!$A$3,B122=Dimension!$A$4,B122=Dimension!$A$6,B122=Dimension!$A$8),CCYA,\"\")","v":""},{"$f":"IFERROR(VLOOKUP(F122,Dimension!$G$3:$H$252,2,FALSE),\"\")","v":""},{"$f":"IF(OR(B122=Dimension!$A$3,B122=Dimension!$A$4,B122=Dimension!$A$5),\"เดินทาง/ท่องเที่ยว\",\"\")","v":""},{"$f":"IF(OR(B122=Dimension!$A$6,B122=Dimension!$A$7,B122=Dimension!$A$8,B122=Dimension!$A$9),\"\",IF(OR(B122=Dimension!$A$3,B122=Dimension!$A$4,B122=Dimension!$A$5),\"สถานประกอบการ\",\"\"))","v":""},{"$f":"IF(OR(B122=Dimension!$A$3,B122=Dimension!$A$4,B122=Dimension!$A$5,B122=Dimension!$A$6,,B122=Dimension!$A$7,B122=Dimension!$A$8,B122=Dimension!$A$9),Payment_ID2,\"\")","v":""},null,{"$f":"IFERROR(VLOOKUP(K122,Dimension!$J$3:$K$179,2,FALSE),\"\")","v":""},null,null,{"$f":"IF(OR(B122=Dimension!$A$6,B122=Dimension!$A$7,B122=Dimension!$A$8,B122=Dimension!$A$9),\"\",IF(OR(B122=Dimension!$A$3,B122=Dimension!$A$4,B122=Dimension!$A$5),\"สถานประกอบการ\",\"\"))","v":""},{"$f":"IF(OR(B122=Dimension!$A$6,B122=Dimension!$A$7,B122=Dimension!$A$8,B122=Dimension!$A$9,B122=\"\"),\"\",Payment_ID2)","v":""},"",null,null,{"$f":"IF(D122=Dimension!$C$9,IF(LEFT(UPPER(E122),2)=\"MC\",TRUE,FALSE),TRUE)","v":true}]
[null,null,null,{"$f":"IF(B123=Dimension!$A$8,Dimension!$C$9,IF(B123=Dimension!$A$6,CD,\"\"))","v":""},null,{"$f":"IF(OR(B123=Dimension!$A$3,B123=Dimension!$A$4,B123=Dimension!$A$6,B123=Dimension!$A$8),CCYA,\"\")","v":""},{"$f":"IFERROR(VLOOKUP(F123,Dimension!$G$3:$H$252,2,FALSE),\"\")","v":""},{"$f":"IF(OR(B123=Dimension!$A$3,B123=Dimension!$A$4,B123=Dimension!$A$5),\"เดินทาง/ท่องเที่ยว\",\"\")","v":""},{"$f":"IF(OR(B123=Dimension!$A$6,B123=Dimension!$A$7,B123=Dimension!$A$8,B123=Dimension!$A$9),\"\",IF(OR(B123=Dimension!$A$3,B123=Dimension!$A$4,B123=Dimension!$A$5),\"สถานประกอบการ\",\"\"))","v":""},{"$f":"IF(OR(B123=Dimension!$A$3,B123=Dimension!$A$4,B123=Dimension!$A$5,B123=Dimension!$A$6,,B123=Dimension!$A$7,B123=Dimension!$A$8,B123=Dimension!$A$9),Payment_ID2,\"\")","v":""},null,{"$f":"IFERROR(VLOOKUP(K123,Dimension!$J$3:$K$179,2,FALSE),\"\")","v":""},null,null,{"$f":"IF(OR(B123=Dimension!$A$6,B123=Dimension!$A$7,B123=Dimension!$A$8,B123=Dimension!$A$9),\"\",IF(OR(B123=Dimension!$A$3,B123=Dimension!$A$4,B123=Dimension!$A$5),\"สถานประกอบการ\",\"\"))","v":""},{"$f":"IF(OR(B123=Dimension!$A$6,B123=Dimension!$A$7,B123=Dimension!$A$8,B123=Dimension!$A$9,B123=\"\"),\"\",Payment_ID2)","v":""},"",null,null,{"$f":"IF(D123=Dimension!$C$9,IF(LEFT(UPPER(E123),2)=\"MC\",TRUE,FALSE),TRUE)","v":true}]
[null,null,null,{"$f":"IF(B124=Dimension!$A$8,Dimension!$C$9,IF(B124=Dimension!$A$6,CD,\"\"))","v":""},null,{"$f":"IF(OR(B124=Dimension!$A$3,B124=Dimension!$A$4,B124=Dimension!$A$6,B124=Dimension!$A$8),CCYA,\"\")","v":""},{"$f":"IFERROR(VLOOKUP(F124,Dimension!$G$3:$H$252,2,FALSE),\"\")","v":""},{"$f":"IF(OR(B124=Dimension!$A$3,B124=Dimension!$A$4,B124=Dimension!$A$5),\"เดินทาง/ท่องเที่ยว\",\"\")","v":""},{"$f":"IF(OR(B124=Dimension!$A$6,B124=Dimension!$A$7,B124=Dimension!$A$8,B124=Dimension!$A$9),\"\",IF(OR(B124=Dimension!$A$3,B124=Dimension!$A$4,B124=Dimension!$A$5),\"สถานประกอบการ\",\"\"))","v":""},{"$f":"IF(OR(B124=Dimension!$A$3,B124=Dimension!$A$4,B124=Dimension!$A$5,B124=Dimension!$A$6,,B124=Dimension!$A$7,B124=Dimension!$A$8,B124=Dimension!$A$9),Payment_ID2,\"\")","v":""},null,{"$f":"IFERROR(VLOOKUP(K124,Dimension!$J$3:$K$179,2,FALSE),\"\")","v":""},null,null,{"$f":"IF(OR(B124=Dimension!$A$6,B124=Dimension!$A$7,B124=Dimension!$A$8,B124=Dimension!$A$9),\"\",IF(OR(B124=Dimension!$A$3,B124=Dimension!$A$4,B124=Dimension!$A$5),\"สถานประกอบการ\",\"\"))","v":""},{"$f":"IF(OR(B124=Dimension!$A$6,B124=Dimension!$A$7,B124=Dimension!$A$8,B124=Dimension!$A$9,B124=\"\"),\"\",Payment_ID2)","v":""},"",null,null,{"$f":"IF(D124=Dimension!$C$9,IF(LEFT(UPPER(E124),2)=\"MC\",TRUE,FALSE),TRUE)","v":true}]
[null,null,null,{"$f":"IF(B125=Dimension!$A$8,Dimension!$C$9,IF(B125=Dimension!$A$6,CD,\"\"))","v":""},null,{"$f":"IF(OR(B125=Dimension!$A$3,B125=Dimension!$A$4,B125=Dimension!$A$6,B125=Dimension!$A$8),CCYA,\"\")","v":""},{"$f":"IFERROR(VLOOKUP(F125,Dimension!$G$3:$H$252,2,FALSE),\"\")","v":""},{"$f":"IF(OR(B125=Dimension!$A$3,B125=Dimension!$A$4,B125=Dimension!$A$5),\"เดินทาง/ท่องเที่ยว\",\"\")","v":""},{"$f":"IF(OR(B125=Dimension!$A$6,B125=Dimension!$A$7,B125=Dimension!$A$8,B125=Dimension!$A$9),\"\",IF(OR(B125=Dimension!$A$3,B125=Dimension!$A$4,B125=Dimension!$A$5),\"สถานประกอบการ\",\"\"))","v":""},{"$f":"IF(OR(B125=Dimension!$A$3,B125=Dimension!$A$4,B125=Dimension!$A$5,B125=Dimension!$A$6,,B125=Dimension!$A$7,B125=Dimension!$A$8,B125=Dimension!$A$9),Payment_ID2,\"\")","v":""},null,{"$f":"IFERROR(VLOOKUP(K125,Dimension!$J$3:$K$179,2,FALSE),\"\")","v":""},null,null,{"$f":"IF(OR(B125=Dimension!$A$6,B125=Dimension!$A$7,B125=Dimension!$A$8,B125=Dimension!$A$9),\"\",IF(OR(B125=Dimension!$A$3,B125=Dimension!$A$4,B125=Dimension!$A$5),\"สถานประกอบการ\",\"\"))","v":""},{"$f":"IF(OR(B125=Dimension!$A$6,B125=Dimension!$A$7,B125=Dimension!$A$8,B125=Dimension!$A$9,B125=\"\"),\"\",Payment_ID2)","v":""},"",null,null,{"$f":"IF(D125=Dimension!$C$9,IF(LEFT(UPPER(E125),2)=\"MC\",TRUE,FALSE),TRUE)","v":true}]
[null,null,null,{"$f":"IF(B126=Dimension!$A$8,Dimension!$C$9,IF(B126=Dimension!$A$6,CD,\"\"))","v":""},null,{"$f":"IF(OR(B126=Dimension!$A$3,B126=Dimension!$A$4,B126=Dimension!$A$6,B126=Dimension!$A$8),CCYA,\"\")","v":""},{"$f":"IFERROR(VLOOKUP(F126,Dimension!$G$3:$H$252,2,FALSE),\"\")","v":""},{"$f":"IF(OR(B126=Dimension!$A$3,B126=Dimension!$A$4,B126=Dimension!$A$5),\"เดินทาง/ท่องเที่ยว\",\"\")","v":""},{"$f":"IF(OR(B126=Dimension!$A$6,B126=Dimension!$A$7,B126=Dimension!$A$8,B126=Dimension!$A$9),\"\",IF(OR(B126=Dimension!$A$3,B126=Dimension!$A$4,B126=Dimension!$A$5),\"สถานประกอบการ\",\"\"))","v":""},{"$f":"IF(OR(B126=Dimension!$A$3,B126=Dimension!$A$4,B126=Dimension!$A$5,B126=Dimension!$A$6,,B126=Dimension!$A$7,B126=Dimension!$A$8,B126=Dimension!$A$9),Payment_ID2,\"\")","v":""},null,{"$f":"IFERROR(VLOOKUP(K126,Dimension!$J$3:$K$179,2,FALSE),\"\")","v":""},null,null,{"$f":"IF(OR(B126=Dimension!$A$6,B126=Dimension!$A$7,B126=Dimension!$A$8,B126=Dimension!$A$9),\"\",IF(OR(B126=Dimension!$A$3,B126=Dimension!$A$4,B126=Dimension!$A$5),\"สถานประกอบการ\",\"\"))","v":""},{"$f":"IF(OR(B126=Dimension!$A$6,B126=Dimension!$A$7,B126=Dimension!$A$8,B126=Dimension!$A$9,B126=\"\"),\"\",Payment_ID2)","v":""},"",null,null,{"$f":"IF(D126=Dimension!$C$9,IF(LEFT(UPPER(E126),2)=\"MC\",TRUE,FALSE),TRUE)","v":true}]
[null,null,null,{"$f":"IF(B127=Dimension!$A$8,Dimension!$C$9,IF(B127=Dimension!$A$6,CD,\"\"))","v":""},null,{"$f":"IF(OR(B127=Dimension!$A$3,B127=Dimension!$A$4,B127=Dimension!$A$6,B127=Dimension!$A$8),CCYA,\"\")","v":""},{"$f":"IFERROR(VLOOKUP(F127,Dimension!$G$3:$H$252,2,FALSE),\"\")","v":""},{"$f":"IF(OR(B127=Dimension!$A$3,B127=Dimension!$A$4,B127=Dimension!$A$5),\"เดินทาง/ท่องเที่ยว\",\"\")","v":""},{"$f":"IF(OR(B127=Dimension!$A$6,B127=Dimension!$A$7,B127=Dimension!$A$8,B127=Dimension!$A$9),\"\",IF(OR(B127=Dimension!$A$3,B127=Dimension!$A$4,B127=Dimension!$A$5),\"สถานประกอบการ\",\"\"))","v":""},{"$f":"IF(OR(B127=Dimension!$A$3,B127=Dimension!$A$4,B127=Dimension!$A$5,B127=Dimension!$A$6,,B127=Dimension!$A$7,B127=Dimension!$A$8,B127=Dimension!$A$9),Payment_ID2,\"\")","v":""},null,{"$f":"IFERROR(VLOOKUP(K127,Dimension!$J$3:$K$179,2,FALSE),\"\")","v":""},null,null,{"$f":"IF(OR(B127=Dimension!$A$6,B127=Dimension!$A$7,B127=Dimension!$A$8,B127=Dimension!$A$9),\"\",IF(OR(B127=Dimension!$A$3,B127=Dimension!$A$4,B127=Dimension!$A$5),\"สถานประกอบการ\",\"\"))","v":""},{"$f":"IF(OR(B127=Dimension!$A$6,B127=Dimension!$A$7,B127=Dimension!$A$8,B127=Dimension!$A$9,B127=\"\"),\"\",Payment_ID2)","v":""},"",null,null,{"$f":"IF(D127=Dimension!$C$9,IF(LEFT(UPPER(E127),2)=\"MC\",TRUE,FALSE),TRUE)","v":true}]
[null,null,null,{"$f":"IF(B128=Dimension!$A$8,Dimension!$C$9,IF(B128=Dimension!$A$6,CD,\"\"))","v":""},null,{"$f":"IF(OR(B128=Dimension!$A$3,B128=Dimension!$A$4,B128=Dimension!$A$6,B128=Dimension!$A$8),CCYA,\"\")","v":""},{"$f":"IFERROR(VLOOKUP(F128,Dimension!$G$3:$H$252,2,FALSE),\"\")","v":""},{"$f":"IF(OR(B128=Dimension!$A$3,B128=Dimension!$A$4,B128=Dimension!$A$5),\"เดินทาง/ท่องเที่ยว\",\"\")","v":""},{"$f":"IF(OR(B128=Dimension!$A$6,B128=Dimension!$A$7,B128=Dimension!$A$8,B128=Dimension!$A$9),\"\",IF(OR(B128=Dimension!$A$3,B128=Dimension!$A$4,B128=Dimension!$A$5),\"สถานประกอบการ\",\"\"))","v":""},{"$f":"IF(OR(B128=Dimension!$A$3,B128=Dimension!$A$4,B128=Dimension!$A$5,B128=Dimension!$A$6,,B128=Dimension!$A$7,B128=Dimension!$A$8,B128=Dimension!$A$9),Payment_ID2,\"\")","v":""},null,{"$f":"IFERROR(VLOOKUP(K128,Dimension!$J$3:$K$179,2,FALSE),\"\")","v":""},null,null,{"$f":"IF(OR(B128=Dimension!$A$6,B128=Dimension!$A$7,B128=Dimension!$A$8,B128=Dimension!$A$9),\"\",IF(OR(B128=Dimension!$A$3,B128=Dimension!$A$4,B128=Dimension!$A$5),\"สถานประกอบการ\",\"\"))","v":""},{"$f":"IF(OR(B128=Dimension!$A$6,B128=Dimension!$A$7,B128=Dimension!$A$8,B128=Dimension!$A$9,B128=\"\"),\"\",Payment_ID2)","v":""},"",null,null,{"$f":"IF(D128=Dimension!$C$9,IF(LEFT(UPPER(E128),2)=\"MC\",TRUE,FALSE),TRUE)","v":true}]
[null,null,null,{"$f":"IF(B129=Dimension!$A$8,Dimension!$C$9,IF(B129=Dimension!$A$6,CD,\"\"))","v":""},null,{"$f":"IF(OR(B129=Dimension!$A$3,B129=Dimension!$A$4,B129=Dimension!$A$6,B129=Dimension!$A$8),CCYA,\"\")","v":""},{"$f":"IFERROR(VLOOKUP(F129,Dimension!$G$3:$H$252,2,FALSE),\"\")","v":""},{"$f":"IF(OR(B129=Dimension!$A$3,B129=Dimension!$A$4,B129=Dimension!$A$5),\"เดินทาง/ท่องเที่ยว\",\"\")","v":""},{"$f":"IF(OR(B129=Dimension!$A$6,B129=Dimension!$A$7,B129=Dimension!$A$8,B129=Dimension!$A$9),\"\",IF(OR(B129=Dimension!$A$3,B129=Dimension!$A$4,B129=Dimension!$A$5),\"สถานประกอบการ\",\"\"))","v":""},{"$f":"IF(OR(B129=Dimension!$A$3,B129=Dimension!$A$4,B129=Dimension!$A$5,B129=Dimension!$A$6,,B129=Dimension!$A$7,B129=Dimension!$A$8,B129=Dimension!$A$9),Payment_ID2,\"\")","v":""},null,{"$f":"IFERROR(VLOOKUP(K129,Dimension!$J$3:$K$179,2,FALSE),\"\")","v":""},null,null,{"$f":"IF(OR(B129=Dimension!$A$6,B129=Dimension!$A$7,B129=Dimension!$A$8,B129=Dimension!$A$9),\"\",IF(OR(B129=Dimension!$A$3,B129=Dimension!$A$4,B129=Dimension!$A$5),\"สถานประกอบการ\",\"\"))","v":""},{"$f":"IF(OR(B129=Dimension!$A$6,B129=Dimension!$A$7,B129=Dimension!$A$8,B129=Dimension!$A$9,B129=\"\"),\"\",Payment_ID2)","v":""},"",null,null,{"$f":"IF(D129=Dimension!$C$9,IF(LEFT(UPPER(E129),2)=\"MC\",TRUE,FALSE),TRUE)","v":true}]
[null,null,null,{"$f":"IF(B130=Dimension!$A$8,Dimension!$C$9,IF(B130=Dimension!$A$6,CD,\"\"))","v":""},null,{"$f":"IF(OR(B130=Dimension!$A$3,B130=Dimension!$A$4,B130=Dimension!$A$6,B130=Dimension!$A$8),CCYA,\"\")","v":""},{"$f":"IFERROR(VLOOKUP(F130,Dimension!$G$3:$H$252,2,FALSE),\"\")","v":""},{"$f":"IF(OR(B130=Dimension!$A$3,B130=Dimension!$A$4,B130=Dimension!$A$5),\"เดินทาง/ท่องเที่ยว\",\"\")","v":""},{"$f":"IF(OR(B130=Dimension!$A$6,B130=Dimension!$A$7,B130=Dimension!$A$8,B130=Dimension!$A$9),\"\",IF(OR(B130=Dimension!$A$3,B130=Dimension!$A$4,B130=Dimension!$A$5),\"สถานประกอบการ\",\"\"))","v":""},{"$f":"IF(OR(B130=Dimension!$A$3,B130=Dimension!$A$4,B130=Dimension!$A$5,B130=Dimension!$A$6,,B130=Dimension!$A$7,B130=Dimension!$A$8,B130=Dimension!$A$9),Payment_ID2,\"\")","v":""},null,{"$f":"IFERROR(VLOOKUP(K130,Dimension!$J$3:$K$179,2,FALSE),\"\")","v":""},null,null,{"$f":"IF(OR(B130=Dimension!$A$6,B130=Dimension!$A$7,B130=Dimension!$A$8,B130=Dimension!$A$9),\"\",IF(OR(B130=Dimension!$A$3,B130=Dimension!$A$4,B130=Dimension!$A$5),\"สถานประกอบการ\",\"\"))","v":""},{"$f":"IF(OR(B130=Dimension!$A$6,B130=Dimension!$A$7,B130=Dimension!$A$8,B130=Dimension!$A$9,B130=\"\"),\"\",Payment_ID2)","v":""},"",null,null,{"$f":"IF(D130=Dimension!$C$9,IF(LEFT(UPPER(E130),2)=\"MC\",TRUE,FALSE),TRUE)","v":true}]
[null,null,null,{"$f":"IF(B131=Dimension!$A$8,Dimension!$C$9,IF(B131=Dimension!$A$6,CD,\"\"))","v":""},null,{"$f":"IF(OR(B131=Dimension!$A$3,B131=Dimension!$A$4,B131=Dimension!$A$6,B131=Dimension!$A$8),CCYA,\"\")","v":""},{"$f":"IFERROR(VLOOKUP(F131,Dimension!$G$3:$H$252,2,FALSE),\"\")","v":""},{"$f":"IF(OR(B131=Dimension!$A$3,B131=Dimension!$A$4,B131=Dimension!$A$5),\"เดินทาง/ท่องเที่ยว\",\"\")","v":""},{"$f":"IF(OR(B131=Dimension!$A$6,B131=Dimension!$A$7,B131=Dimension!$A$8,B131=Dimension!$A$9),\"\",IF(OR(B131=Dimension!$A$3,B131=Dimension!$A$4,B131=Dimension!$A$5),\"สถานประกอบการ\",\"\"))","v":""},{"$f":"IF(OR(B131=Dimension!$A$3,B131=Dimension!$A$4,B131=Dimension!$A$5,B131=Dimension!$A$6,,B131=Dimension!$A$7,B131=Dimension!$A$8,B131=Dimension!$A$9),Payment_ID2,\"\")","v":""},null,{"$f":"IFERROR(VLOOKUP(K131,Dimension!$J$3:$K$179,2,FALSE),\"\")","v":""},null,null,{"$f":"IF(OR(B131=Dimension!$A$6,B131=Dimension!$A$7,B131=Dimension!$A$8,B131=Dimension!$A$9),\"\",IF(OR(B131=Dimension!$A$3,B131=Dimension!$A$4,B131=Dimension!$A$5),\"สถานประกอบการ\",\"\"))","v":""},{"$f":"IF(OR(B131=Dimension!$A$6,B131=Dimension!$A$7,B131=Dimension!$A$8,B131=Dimension!$A$9,B131=\"\"),\"\",Payment_ID2)","v":""},"",null,null,{"$f":"IF(D131=Dimension!$C$9,IF(LEFT(UPPER(E131),2)=\"MC\",TRUE,FALSE),TRUE)","v":true}]
[null,null,null,{"$f":"IF(B132=Dimension!$A$8,Dimension!$C$9,IF(B132=Dimension!$A$6,CD,\"\"))","v":""},null,{"$f":"IF(OR(B132=Dimension!$A$3,B132=Dimension!$A$4,B132=Dimension!$A$6,B132=Dimension!$A$8),CCYA,\"\")","v":""},{"$f":"IFERROR(VLOOKUP(F132,Dimension!$G$3:$H$252,2,FALSE),\"\")","v":""},{"$f":"IF(OR(B132=Dimension!$A$3,B132=Dimension!$A$4,B132=Dimension!$A$5),\"เดินทาง/ท่องเที่ยว\",\"\")","v":""},{"$f":"IF(OR(B132=Dimension!$A$6,B132=Dimension!$A$7,B132=Dimension!$A$8,B132=Dimension!$A$9),\"\",IF(OR(B132=Dimension!$A$3,B132=Dimension!$A$4,B132=Dimension!$A$5),\"สถานประกอบการ\",\"\"))","v":""},{"$f":"IF(OR(B132=Dimension!$A$3,B132=Dimension!$A$4,B132=Dimension!$A$5,B132=Dimension!$A$6,,B132=Dimension!$A$7,B132=Dimension!$A$8,B132=Dimension!$A$9),Payment_ID2,\"\")","v":""},null,{"$f":"IFERROR(VLOOKUP(K132,Dimension!$J$3:$K$179,2,FALSE),\"\")","v":""},null,null,{"$f":"IF(OR(B132=Dimension!$A$6,B132=Dimension!$A$7,B132=Dimension!$A$8,B132=Dimension!$A$9),\"\",IF(OR(B132=Dimension!$A$3,B132=Dimension!$A$4,B132=Dimension!$A$5),\"สถานประกอบการ\",\"\"))","v":""},{"$f":"IF(OR(B132=Dimension!$A$6,B132=Dimension!$A$7,B132=Dimension!$A$8,B132=Dimension!$A$9,B132=\"\"),\"\",Payment_ID2)","v":""},"",null,null,{"$f":"IF(D132=Dimension!$C$9,IF(LEFT(UPPER(E132),2)=\"MC\",TRUE,FALSE),TRUE)","v":true}]
[null,null,null,{"$f":"IF(B133=Dimension!$A$8,Dimension!$C$9,IF(B133=Dimension!$A$6,CD,\"\"))","v":""},null,{"$f":"IF(OR(B133=Dimension!$A$3,B133=Dimension!$A$4,B133=Dimension!$A$6,B133=Dimension!$A$8),CCYA,\"\")","v":""},{"$f":"IFERROR(VLOOKUP(F133,Dimension!$G$3:$H$252,2,FALSE),\"\")","v":""},{"$f":"IF(OR(B133=Dimension!$A$3,B133=Dimension!$A$4,B133=Dimension!$A$5),\"เดินทาง/ท่องเที่ยว\",\"\")","v":""},{"$f":"IF(OR(B133=Dimension!$A$6,B133=Dimension!$A$7,B133=Dimension!$A$8,B133=Dimension!$A$9),\"\",IF(OR(B133=Dimension!$A$3,B133=Dimension!$A$4,B133=Dimension!$A$5),\"สถานประกอบการ\",\"\"))","v":""},{"$f":"IF(OR(B133=Dimension!$A$3,B133=Dimension!$A$4,B133=Dimension!$A$5,B133=Dimension!$A$6,,B133=Dimension!$A$7,B133=Dimension!$A$8,B133=Dimension!$A$9),Payment_ID2,\"\")","v":""},null,{"$f":"IFERROR(VLOOKUP(K133,Dimension!$J$3:$K$179,2,FALSE),\"\")","v":""},null,null,{"$f":"IF(OR(B133=Dimension!$A$6,B133=Dimension!$A$7,B133=Dimension!$A$8,B133=Dimension!$A$9),\"\",IF(OR(B133=Dimension!$A$3,B133=Dimension!$A$4,B133=Dimension!$A$5),\"สถานประกอบการ\",\"\"))","v":""},{"$f":"IF(OR(B133=Dimension!$A$6,B133=Dimension!$A$7,B133=Dimension!$A$8,B133=Dimension!$A$9,B133=\"\"),\"\",Payment_ID2)","v":""},"",null,null,{"$f":"IF(D133=Dimension!$C$9,IF(LEFT(UPPER(E133),2)=\"MC\",TRUE,FALSE),TRUE)","v":true}]
[null,null,null,{"$f":"IF(B134=Dimension!$A$8,Dimension!$C$9,IF(B134=Dimension!$A$6,CD,\"\"))","v":""},null,{"$f":"IF(OR(B134=Dimension!$A$3,B134=Dimension!$A$4,B134=Dimension!$A$6,B134=Dimension!$A$8),CCYA,\"\")","v":""},{"$f":"IFERROR(VLOOKUP(F134,Dimension!$G$3:$H$252,2,FALSE),\"\")","v":""},{"$f":"IF(OR(B134=Dimension!$A$3,B134=Dimension!$A$4,B134=Dimension!$A$5),\"เดินทาง/ท่องเที่ยว\",\"\")","v":""},{"$f":"IF(OR(B134=Dimension!$A$6,B134=Dimension!$A$7,B134=Dimension!$A$8,B134=Dimension!$A$9),\"\",IF(OR(B134=Dimension!$A$3,B134=Dimension!$A$4,B134=Dimension!$A$5),\"สถานประกอบการ\",\"\"))","v":""},{"$f":"IF(OR(B134=Dimension!$A$3,B134=Dimension!$A$4,B134=Dimension!$A$5,B134=Dimension!$A$6,,B134=Dimension!$A$7,B134=Dimension!$A$8,B134=Dimension!$A$9),Payment_ID2,\"\")","v":""},null,{"$f":"IFERROR(VLOOKUP(K134,Dimension!$J$3:$K$179,2,FALSE),\"\")","v":""},null,null,{"$f":"IF(OR(B134=Dimension!$A$6,B134=Dimension!$A$7,B134=Dimension!$A$8,B134=Dimension!$A$9),\"\",IF(OR(B134=Dimension!$A$3,B134=Dimension!$A$4,B134=Dimension!$A$5),\"สถานประกอบการ\",\"\"))","v":""},{"$f":"IF(OR(B134=Dimension!$A$6,B134=Dimension!$A$7,B134=Dimension!$A$8,B134=Dimension!$A$9,B134=\"\"),\"\",Payment_ID2)","v":""},"",null,null,{"$f":"IF(D134=Dimension!$C$9,IF(LEFT(UPPER(E134),2)=\"MC\",TRUE,FALSE),TRUE)","v":true}]
[null,null,null,{"$f":"IF(B135=Dimension!$A$8,Dimension!$C$9,IF(B135=Dimension!$A$6,CD,\"\"))","v":""},null,{"$f":"IF(OR(B135=Dimension!$A$3,B135=Dimension!$A$4,B135=Dimension!$A$6,B135=Dimension!$A$8),CCYA,\"\")","v":""},{"$f":"IFERROR(VLOOKUP(F135,Dimension!$G$3:$H$252,2,FALSE),\"\")","v":""},{"$f":"IF(OR(B135=Dimension!$A$3,B135=Dimension!$A$4,B135=Dimension!$A$5),\"เดินทาง/ท่องเที่ยว\",\"\")","v":""},{"$f":"IF(OR(B135=Dimension!$A$6,B135=Dimension!$A$7,B135=Dimension!$A$8,B135=Dimension!$A$9),\"\",IF(OR(B135=Dimension!$A$3,B135=Dimension!$A$4,B135=Dimension!$A$5),\"สถานประกอบการ\",\"\"))","v":""},{"$f":"IF(OR(B135=Dimension!$A$3,B135=Dimension!$A$4,B135=Dimension!$A$5,B135=Dimension!$A$6,,B135=Dimension!$A$7,B135=Dimension!$A$8,B135=Dimension!$A$9),Payment_ID2,\"\")","v":""},null,{"$f":"IFERROR(VLOOKUP(K135,Dimension!$J$3:$K$179,2,FALSE),\"\")","v":""},null,null,{"$f":"IF(OR(B135=Dimension!$A$6,B135=Dimension!$A$7,B135=Dimension!$A$8,B135=Dimension!$A$9),\"\",IF(OR(B135=Dimension!$A$3,B135=Dimension!$A$4,B135=Dimension!$A$5),\"สถานประกอบการ\",\"\"))","v":""},{"$f":"IF(OR(B135=Dimension!$A$6,B135=Dimension!$A$7,B135=Dimension!$A$8,B135=Dimension!$A$9,B135=\"\"),\"\",Payment_ID2)","v":""},"",null,null,{"$f":"IF(D135=Dimension!$C$9,IF(LEFT(UPPER(E135),2)=\"MC\",TRUE,FALSE),TRUE)","v":true}]
[null,null,null,{"$f":"IF(B136=Dimension!$A$8,Dimension!$C$9,IF(B136=Dimension!$A$6,CD,\"\"))","v":""},null,{"$f":"IF(OR(B136=Dimension!$A$3,B136=Dimension!$A$4,B136=Dimension!$A$6,B136=Dimension!$A$8),CCYA,\"\")","v":""},{"$f":"IFERROR(VLOOKUP(F136,Dimension!$G$3:$H$252,2,FALSE),\"\")","v":""},{"$f":"IF(OR(B136=Dimension!$A$3,B136=Dimension!$A$4,B136=Dimension!$A$5),\"เดินทาง/ท่องเที่ยว\",\"\")","v":""},{"$f":"IF(OR(B136=Dimension!$A$6,B136=Dimension!$A$7,B136=Dimension!$A$8,B136=Dimension!$A$9),\"\",IF(OR(B136=Dimension!$A$3,B136=Dimension!$A$4,B136=Dimension!$A$5),\"สถานประกอบการ\",\"\"))","v":""},{"$f":"IF(OR(B136=Dimension!$A$3,B136=Dimension!$A$4,B136=Dimension!$A$5,B136=Dimension!$A$6,,B136=Dimension!$A$7,B136=Dimension!$A$8,B136=Dimension!$A$9),Payment_ID2,\"\")","v":""},null,{"$f":"IFERROR(VLOOKUP(K136,Dimension!$J$3:$K$179,2,FALSE),\"\")","v":""},null,null,{"$f":"IF(OR(B136=Dimension!$A$6,B136=Dimension!$A$7,B136=Dimension!$A$8,B136=Dimension!$A$9),\"\",IF(OR(B136=Dimension!$A$3,B136=Dimension!$A$4,B136=Dimension!$A$5),\"สถานประกอบการ\",\"\"))","v":""},{"$f":"IF(OR(B136=Dimension!$A$6,B136=Dimension!$A$7,B136=Dimension!$A$8,B136=Dimension!$A$9,B136=\"\"),\"\",Payment_ID2)","v":""},"",null,null,{"$f":"IF(D136=Dimension!$C$9,IF(LEFT(UPPER(E136),2)=\"MC\",TRUE,FALSE),TRUE)","v":true}]
[null,null,null,{"$f":"IF(B137=Dimension!$A$8,Dimension!$C$9,IF(B137=Dimension!$A$6,CD,\"\"))","v":""},null,{"$f":"IF(OR(B137=Dimension!$A$3,B137=Dimension!$A$4,B137=Dimension!$A$6,B137=Dimension!$A$8),CCYA,\"\")","v":""},{"$f":"IFERROR(VLOOKUP(F137,Dimension!$G$3:$H$252,2,FALSE),\"\")","v":""},{"$f":"IF(OR(B137=Dimension!$A$3,B137=Dimension!$A$4,B137=Dimension!$A$5),\"เดินทาง/ท่องเที่ยว\",\"\")","v":""},{"$f":"IF(OR(B137=Dimension!$A$6,B137=Dimension!$A$7,B137=Dimension!$A$8,B137=Dimension!$A$9),\"\",IF(OR(B137=Dimension!$A$3,B137=Dimension!$A$4,B137=Dimension!$A$5),\"สถานประกอบการ\",\"\"))","v":""},{"$f":"IF(OR(B137=Dimension!$A$3,B137=Dimension!$A$4,B137=Dimension!$A$5,B137=Dimension!$A$6,,B137=Dimension!$A$7,B137=Dimension!$A$8,B137=Dimension!$A$9),Payment_ID2,\"\")","v":""},null,{"$f":"IFERROR(VLOOKUP(K137,Dimension!$J$3:$K$179,2,FALSE),\"\")","v":""},null,null,{"$f":"IF(OR(B137=Dimension!$A$6,B137=Dimension!$A$7,B137=Dimension!$A$8,B137=Dimension!$A$9),\"\",IF(OR(B137=Dimension!$A$3,B137=Dimension!$A$4,B137=Dimension!$A$5),\"สถานประกอบการ\",\"\"))","v":""},{"$f":"IF(OR(B137=Dimension!$A$6,B137=Dimension!$A$7,B137=Dimension!$A$8,B137=Dimension!$A$9,B137=\"\"),\"\",Payment_ID2)","v":""},"",null,null,{"$f":"IF(D137=Dimension!$C$9,IF(LEFT(UPPER(E137),2)=\"MC\",TRUE,FALSE),TRUE)","v":true}]
[null,null,null,{"$f":"IF(B138=Dimension!$A$8,Dimension!$C$9,IF(B138=Dimension!$A$6,CD,\"\"))","v":""},null,{"$f":"IF(OR(B138=Dimension!$A$3,B138=Dimension!$A$4,B138=Dimension!$A$6,B138=Dimension!$A$8),CCYA,\"\")","v":""},{"$f":"IFERROR(VLOOKUP(F138,Dimension!$G$3:$H$252,2,FALSE),\"\")","v":""},{"$f":"IF(OR(B138=Dimension!$A$3,B138=Dimension!$A$4,B138=Dimension!$A$5),\"เดินทาง/ท่องเที่ยว\",\"\")","v":""},{"$f":"IF(OR(B138=Dimension!$A$6,B138=Dimension!$A$7,B138=Dimension!$A$8,B138=Dimension!$A$9),\"\",IF(OR(B138=Dimension!$A$3,B138=Dimension!$A$4,B138=Dimension!$A$5),\"สถานประกอบการ\",\"\"))","v":""},{"$f":"IF(OR(B138=Dimension!$A$3,B138=Dimension!$A$4,B138=Dimension!$A$5,B138=Dimension!$A$6,,B138=Dimension!$A$7,B138=Dimension!$A$8,B138=Dimension!$A$9),Payment_ID2,\"\")","v":""},null,{"$f":"IFERROR(VLOOKUP(K138,Dimension!$J$3:$K$179,2,FALSE),\"\")","v":""},null,null,{"$f":"IF(OR(B138=Dimension!$A$6,B138=Dimension!$A$7,B138=Dimension!$A$8,B138=Dimension!$A$9),\"\",IF(OR(B138=Dimension!$A$3,B138=Dimension!$A$4,B138=Dimension!$A$5),\"สถานประกอบการ\",\"\"))","v":""},{"$f":"IF(OR(B138=Dimension!$A$6,B138=Dimension!$A$7,B138=Dimension!$A$8,B138=Dimension!$A$9,B138=\"\"),\"\",Payment_ID2)","v":""},{"$f":"IF(OR(M138=\"\",N138=\"\"),\"\",ROUND(M138*N138,2))","v":""},null,null,{"$f":"IF(D138=Dimension!$C$9,IF(LEFT(UPPER(E138),2)=\"MC\",TRUE,FALSE),TRUE)","v":true}]
[null,null,null,{"$f":"IF(B139=Dimension!$A$8,Dimension!$C$9,IF(B139=Dimension!$A$6,CD,\"\"))","v":""},null,{"$f":"IF(OR(B139=Dimension!$A$3,B139=Dimension!$A$4,B139=Dimension!$A$6,B139=Dimension!$A$8),CCYA,\"\")","v":""},{"$f":"IFERROR(VLOOKUP(F139,Dimension!$G$3:$H$252,2,FALSE),\"\")","v":""},{"$f":"IF(OR(B139=Dimension!$A$3,B139=Dimension!$A$4,B139=Dimension!$A$5),\"เดินทาง/ท่องเที่ยว\",\"\")","v":""},{"$f":"IF(OR(B139=Dimension!$A$6,B139=Dimension!$A$7,B139=Dimension!$A$8,B139=Dimension!$A$9),\"\",IF(OR(B139=Dimension!$A$3,B139=Dimension!$A$4,B139=Dimension!$A$5),\"สถานประกอบการ\",\"\"))","v":""},{"$f":"IF(OR(B139=Dimension!$A$3,B139=Dimension!$A$4,B139=Dimension!$A$5,B139=Dimension!$A$6,,B139=Dimension!$A$7,B139=Dimension!$A$8,B139=Dimension!$A$9),Payment_ID2,\"\")","v":""},null,{"$f":"IFERROR(VLOOKUP(K139,Dimension!$J$3:$K$179,2,FALSE),\"\")","v":""},null,null,{"$f":"IF(OR(B139=Dimension!$A$6,B139=Dimension!$A$7,B139=Dimension!$A$8,B139=Dimension!$A$9),\"\",IF(OR(B139=Dimension!$A$3,B139=Dimension!$A$4,B139=Dimension!$A$5),\"สถานประกอบการ\",\"\"))","v":""},{"$f":"IF(OR(B139=Dimension!$A$6,B139=Dimension!$A$7,B139=Dimension!$A$8,B139=Dimension!$A$9,B139=\"\"),\"\",Payment_ID2)","v":""},"",null,null,{"$f":"IF(D139=Dimension!$C$9,IF(LEFT(UPPER(E139),2)=\"MC\",TRUE,FALSE),TRUE)","v":true}]
[null,null,null,{"$f":"IF(B140=Dimension!$A$8,Dimension!$C$9,IF(B140=Dimension!$A$6,CD,\"\"))","v":""},null,{"$f":"IF(OR(B140=Dimension!$A$3,B140=Dimension!$A$4,B140=Dimension!$A$6,B140=Dimension!$A$8),CCYA,\"\")","v":""},{"$f":"IFERROR(VLOOKUP(F140,Dimension!$G$3:$H$252,2,FALSE),\"\")","v":""},{"$f":"IF(OR(B140=Dimension!$A$3,B140=Dimension!$A$4,B140=Dimension!$A$5),\"เดินทาง/ท่องเที่ยว\",\"\")","v":""},{"$f":"IF(OR(B140=Dimension!$A$6,B140=Dimension!$A$7,B140=Dimension!$A$8,B140=Dimension!$A$9),\"\",IF(OR(B140=Dimension!$A$3,B140=Dimension!$A$4,B140=Dimension!$A$5),\"สถานประกอบการ\",\"\"))","v":""},{"$f":"IF(OR(B140=Dimension!$A$3,B140=Dimension!$A$4,B140=Dimension!$A$5,B140=Dimension!$A$6,,B140=Dimension!$A$7,B140=Dimension!$A$8,B140=Dimension!$A$9),Payment_ID2,\"\")","v":""},null,{"$f":"IFERROR(VLOOKUP(K140,Dimension!$J$3:$K$179,2,FALSE),\"\")","v":""},null,null,{"$f":"IF(OR(B140=Dimension!$A$6,B140=Dimension!$A$7,B140=Dimension!$A$8,B140=Dimension!$A$9),\"\",IF(OR(B140=Dimension!$A$3,B140=Dimension!$A$4,B140=Dimension!$A$5),\"สถานประกอบการ\",\"\"))","v":""},{"$f":"IF(OR(B140=Dimension!$A$6,B140=Dimension!$A$7,B140=Dimension!$A$8,B140=Dimension!$A$9,B140=\"\"),\"\",Payment_ID2)","v":""},"",null,null,{"$f":"IF(D140=Dimension!$C$9,IF(LEFT(UPPER(E140),2)=\"MC\",TRUE,FALSE),TRUE)","v":true}]
[null,null,null,{"$f":"IF(B141=Dimension!$A$8,Dimension!$C$9,IF(B141=Dimension!$A$6,CD,\"\"))","v":""},null,{"$f":"IF(OR(B141=Dimension!$A$3,B141=Dimension!$A$4,B141=Dimension!$A$6,B141=Dimension!$A$8),CCYA,\"\")","v":""},{"$f":"IFERROR(VLOOKUP(F141,Dimension!$G$3:$H$252,2,FALSE),\"\")","v":""},{"$f":"IF(OR(B141=Dimension!$A$3,B141=Dimension!$A$4,B141=Dimension!$A$5),\"เดินทาง/ท่องเที่ยว\",\"\")","v":""},{"$f":"IF(OR(B141=Dimension!$A$6,B141=Dimension!$A$7,B141=Dimension!$A$8,B141=Dimension!$A$9),\"\",IF(OR(B141=Dimension!$A$3,B141=Dimension!$A$4,B141=Dimension!$A$5),\"สถานประกอบการ\",\"\"))","v":""},{"$f":"IF(OR(B141=Dimension!$A$3,B141=Dimension!$A$4,B141=Dimension!$A$5,B141=Dimension!$A$6,,B141=Dimension!$A$7,B141=Dimension!$A$8,B141=Dimension!$A$9),Payment_ID2,\"\")","v":""},null,{"$f":"IFERROR(VLOOKUP(K141,Dimension!$J$3:$K$179,2,FALSE),\"\")","v":""},null,null,{"$f":"IF(OR(B141=Dimension!$A$6,B141=Dimension!$A$7,B141=Dimension!$A$8,B141=Dimension!$A$9),\"\",IF(OR(B141=Dimension!$A$3,B141=Dimension!$A$4,B141=Dimension!$A$5),\"สถานประกอบการ\",\"\"))","v":""},{"$f":"IF(OR(B141=Dimension!$A$6,B141=Dimension!$A$7,B141=Dimension!$A$8,B141=Dimension!$A$9,B141=\"\"),\"\",Payment_ID2)","v":""},"",null,null,{"$f":"IF(D141=Dimension!$C$9,IF(LEFT(UPPER(E141),2)=\"MC\",TRUE,FALSE),TRUE)","v":true}]
[null,null,null,{"$f":"IF(B142=Dimension!$A$8,Dimension!$C$9,IF(B142=Dimension!$A$6,CD,\"\"))","v":""},null,{"$f":"IF(OR(B142=Dimension!$A$3,B142=Dimension!$A$4,B142=Dimension!$A$6,B142=Dimension!$A$8),CCYA,\"\")","v":""},{"$f":"IFERROR(VLOOKUP(F142,Dimension!$G$3:$H$252,2,FALSE),\"\")","v":""},{"$f":"IF(OR(B142=Dimension!$A$3,B142=Dimension!$A$4,B142=Dimension!$A$5),\"เดินทาง/ท่องเที่ยว\",\"\")","v":""},{"$f":"IF(OR(B142=Dimension!$A$6,B142=Dimension!$A$7,B142=Dimension!$A$8,B142=Dimension!$A$9),\"\",IF(OR(B142=Dimension!$A$3,B142=Dimension!$A$4,B142=Dimension!$A$5),\"สถานประกอบการ\",\"\"))","v":""},{"$f":"IF(OR(B142=Dimension!$A$3,B142=Dimension!$A$4,B142=Dimension!$A$5,B142=Dimension!$A$6,,B142=Dimension!$A$7,B142=Dimension!$A$8,B142=Dimension!$A$9),Payment_ID2,\"\")","v":""},null,{"$f":"IFERROR(VLOOKUP(K142,Dimension!$J$3:$K$179,2,FALSE),\"\")","v":""},null,null,{"$f":"IF(OR(B142=Dimension!$A$6,B142=Dimension!$A$7,B142=Dimension!$A$8,B142=Dimension!$A$9),\"\",IF(OR(B142=Dimension!$A$3,B142=Dimension!$A$4,B142=Dimension!$A$5),\"สถานประกอบการ\",\"\"))","v":""},{"$f":"IF(OR(B142=Dimension!$A$6,B142=Dimension!$A$7,B142=Dimension!$A$8,B142=Dimension!$A$9,B142=\"\"),\"\",Payment_ID2)","v":""},"",null,null,{"$f":"IF(D142=Dimension!$C$9,IF(LEFT(UPPER(E142),2)=\"MC\",TRUE,FALSE),TRUE)","v":true}]
[null,null,null,{"$f":"IF(B143=Dimension!$A$8,Dimension!$C$9,IF(B143=Dimension!$A$6,CD,\"\"))","v":""},null,{"$f":"IF(OR(B143=Dimension!$A$3,B143=Dimension!$A$4,B143=Dimension!$A$6,B143=Dimension!$A$8),CCYA,\"\")","v":""},{"$f":"IFERROR(VLOOKUP(F143,Dimension!$G$3:$H$252,2,FALSE),\"\")","v":""},{"$f":"IF(OR(B143=Dimension!$A$3,B143=Dimension!$A$4,B143=Dimension!$A$5),\"เดินทาง/ท่องเที่ยว\",\"\")","v":""},{"$f":"IF(OR(B143=Dimension!$A$6,B143=Dimension!$A$7,B143=Dimension!$A$8,B143=Dimension!$A$9),\"\",IF(OR(B143=Dimension!$A$3,B143=Dimension!$A$4,B143=Dimension!$A$5),\"สถานประกอบการ\",\"\"))","v":""},{"$f":"IF(OR(B143=Dimension!$A$3,B143=Dimension!$A$4,B143=Dimension!$A$5,B143=Dimension!$A$6,,B143=Dimension!$A$7,B143=Dimension!$A$8,B143=Dimension!$A$9),Payment_ID2,\"\")","v":""},null,{"$f":"IFERROR(VLOOKUP(K143,Dimension!$J$3:$K$179,2,FALSE),\"\")","v":""},null,null,{"$f":"IF(OR(B143=Dimension!$A$6,B143=Dimension!$A$7,B143=Dimension!$A$8,B143=Dimension!$A$9),\"\",IF(OR(B143=Dimension!$A$3,B143=Dimension!$A$4,B143=Dimension!$A$5),\"สถานประกอบการ\",\"\"))","v":""},{"$f":"IF(OR(B143=Dimension!$A$6,B143=Dimension!$A$7,B143=Dimension!$A$8,B143=Dimension!$A$9,B143=\"\"),\"\",Payment_ID2)","v":""},"",null,null,{"$f":"IF(D143=Dimension!$C$9,IF(LEFT(UPPER(E143),2)=\"MC\",TRUE,FALSE),TRUE)","v":true}]
[null,null,null,{"$f":"IF(B144=Dimension!$A$8,Dimension!$C$9,IF(B144=Dimension!$A$6,CD,\"\"))","v":""},null,{"$f":"IF(OR(B144=Dimension!$A$3,B144=Dimension!$A$4,B144=Dimension!$A$6,B144=Dimension!$A$8),CCYA,\"\")","v":""},{"$f":"IFERROR(VLOOKUP(F144,Dimension!$G$3:$H$252,2,FALSE),\"\")","v":""},{"$f":"IF(OR(B144=Dimension!$A$3,B144=Dimension!$A$4,B144=Dimension!$A$5),\"เดินทาง/ท่องเที่ยว\",\"\")","v":""},{"$f":"IF(OR(B144=Dimension!$A$6,B144=Dimension!$A$7,B144=Dimension!$A$8,B144=Dimension!$A$9),\"\",IF(OR(B144=Dimension!$A$3,B144=Dimension!$A$4,B144=Dimension!$A$5),\"สถานประกอบการ\",\"\"))","v":""},{"$f":"IF(OR(B144=Dimension!$A$3,B144=Dimension!$A$4,B144=Dimension!$A$5,B144=Dimension!$A$6,,B144=Dimension!$A$7,B144=Dimension!$A$8,B144=Dimension!$A$9),Payment_ID2,\"\")","v":""},null,{"$f":"IFERROR(VLOOKUP(K144,Dimension!$J$3:$K$179,2,FALSE),\"\")","v":""},null,null,{"$f":"IF(OR(B144=Dimension!$A$6,B144=Dimension!$A$7,B144=Dimension!$A$8,B144=Dimension!$A$9),\"\",IF(OR(B144=Dimension!$A$3,B144=Dimension!$A$4,B144=Dimension!$A$5),\"สถานประกอบการ\",\"\"))","v":""},{"$f":"IF(OR(B144=Dimension!$A$6,B144=Dimension!$A$7,B144=Dimension!$A$8,B144=Dimension!$A$9,B144=\"\"),\"\",Payment_ID2)","v":""},"",null,null,{"$f":"IF(D144=Dimension!$C$9,IF(LEFT(UPPER(E144),2)=\"MC\",TRUE,FALSE),TRUE)","v":true}]
[null,null,null,{"$f":"IF(B145=Dimension!$A$8,Dimension!$C$9,IF(B145=Dimension!$A$6,CD,\"\"))","v":""},null,{"$f":"IF(OR(B145=Dimension!$A$3,B145=Dimension!$A$4,B145=Dimension!$A$6,B145=Dimension!$A$8),CCYA,\"\")","v":""},{"$f":"IFERROR(VLOOKUP(F145,Dimension!$G$3:$H$252,2,FALSE),\"\")","v":""},{"$f":"IF(OR(B145=Dimension!$A$3,B145=Dimension!$A$4,B145=Dimension!$A$5),\"เดินทาง/ท่องเที่ยว\",\"\")","v":""},{"$f":"IF(OR(B145=Dimension!$A$6,B145=Dimension!$A$7,B145=Dimension!$A$8,B145=Dimension!$A$9),\"\",IF(OR(B145=Dimension!$A$3,B145=Dimension!$A$4,B145=Dimension!$A$5),\"สถานประกอบการ\",\"\"))","v":""},{"$f":"IF(OR(B145=Dimension!$A$3,B145=Dimension!$A$4,B145=Dimension!$A$5,B145=Dimension!$A$6,,B145=Dimension!$A$7,B145=Dimension!$A$8,B145=Dimension!$A$9),Payment_ID2,\"\")","v":""},null,{"$f":"IFERROR(VLOOKUP(K145,Dimension!$J$3:$K$179,2,FALSE),\"\")","v":""},null,null,{"$f":"IF(OR(B145=Dimension!$A$6,B145=Dimension!$A$7,B145=Dimension!$A$8,B145=Dimension!$A$9),\"\",IF(OR(B145=Dimension!$A$3,B145=Dimension!$A$4,B145=Dimension!$A$5),\"สถานประกอบการ\",\"\"))","v":""},{"$f":"IF(OR(B145=Dimension!$A$6,B145=Dimension!$A$7,B145=Dimension!$A$8,B145=Dimension!$A$9,B145=\"\"),\"\",Payment_ID2)","v":""},"",null,null,{"$f":"IF(D145=Dimension!$C$9,IF(LEFT(UPPER(E145),2)=\"MC\",TRUE,FALSE),TRUE)","v":true}]
[null,null,null,{"$f":"IF(B146=Dimension!$A$8,Dimension!$C$9,IF(B146=Dimension!$A$6,CD,\"\"))","v":""},null,{"$f":"IF(OR(B146=Dimension!$A$3,B146=Dimension!$A$4,B146=Dimension!$A$6,B146=Dimension!$A$8),CCYA,\"\")","v":""},{"$f":"IFERROR(VLOOKUP(F146,Dimension!$G$3:$H$252,2,FALSE),\"\")","v":""},{"$f":"IF(OR(B146=Dimension!$A$3,B146=Dimension!$A$4,B146=Dimension!$A$5),\"เดินทาง/ท่องเที่ยว\",\"\")","v":""},{"$f":"IF(OR(B146=Dimension!$A$6,B146=Dimension!$A$7,B146=Dimension!$A$8,B146=Dimension!$A$9),\"\",IF(OR(B146=Dimension!$A$3,B146=Dimension!$A$4,B146=Dimension!$A$5),\"สถานประกอบการ\",\"\"))","v":""},{"$f":"IF(OR(B146=Dimension!$A$3,B146=Dimension!$A$4,B146=Dimension!$A$5,B146=Dimension!$A$6,,B146=Dimension!$A$7,B146=Dimension!$A$8,B146=Dimension!$A$9),Payment_ID2,\"\")","v":""},null,{"$f":"IFERROR(VLOOKUP(K146,Dimension!$J$3:$K$179,2,FALSE),\"\")","v":""},null,null,{"$f":"IF(OR(B146=Dimension!$A$6,B146=Dimension!$A$7,B146=Dimension!$A$8,B146=Dimension!$A$9),\"\",IF(OR(B146=Dimension!$A$3,B146=Dimension!$A$4,B146=Dimension!$A$5),\"สถานประกอบการ\",\"\"))","v":""},{"$f":"IF(OR(B146=Dimension!$A$6,B146=Dimension!$A$7,B146=Dimension!$A$8,B146=Dimension!$A$9,B146=\"\"),\"\",Payment_ID2)","v":""},"",null,null,{"$f":"IF(D146=Dimension!$C$9,IF(LEFT(UPPER(E146),2)=\"MC\",TRUE,FALSE),TRUE)","v":true}]
[null,null,null,{"$f":"IF(B147=Dimension!$A$8,Dimension!$C$9,IF(B147=Dimension!$A$6,CD,\"\"))","v":""},null,{"$f":"IF(OR(B147=Dimension!$A$3,B147=Dimension!$A$4,B147=Dimension!$A$6,B147=Dimension!$A$8),CCYA,\"\")","v":""},{"$f":"IFERROR(VLOOKUP(F147,Dimension!$G$3:$H$252,2,FALSE),\"\")","v":""},{"$f":"IF(OR(B147=Dimension!$A$3,B147=Dimension!$A$4,B147=Dimension!$A$5),\"เดินทาง/ท่องเที่ยว\",\"\")","v":""},{"$f":"IF(OR(B147=Dimension!$A$6,B147=Dimension!$A$7,B147=Dimension!$A$8,B147=Dimension!$A$9),\"\",IF(OR(B147=Dimension!$A$3,B147=Dimension!$A$4,B147=Dimension!$A$5),\"สถานประกอบการ\",\"\"))","v":""},{"$f":"IF(OR(B147=Dimension!$A$3,B147=Dimension!$A$4,B147=Dimension!$A$5,B147=Dimension!$A$6,,B147=Dimension!$A$7,B147=Dimension!$A$8,B147=Dimension!$A$9),Payment_ID2,\"\")","v":""},null,{"$f":"IFERROR(VLOOKUP(K147,Dimension!$J$3:$K$179,2,FALSE),\"\")","v":""},null,null,{"$f":"IF(OR(B147=Dimension!$A$6,B147=Dimension!$A$7,B147=Dimension!$A$8,B147=Dimension!$A$9),\"\",IF(OR(B147=Dimension!$A$3,B147=Dimension!$A$4,B147=Dimension!$A$5),\"สถานประกอบการ\",\"\"))","v":""},{"$f":"IF(OR(B147=Dimension!$A$6,B147=Dimension!$A$7,B147=Dimension!$A$8,B147=Dimension!$A$9,B147=\"\"),\"\",Payment_ID2)","v":""},"",null,null,{"$f":"IF(D147=Dimension!$C$9,IF(LEFT(UPPER(E147),2)=\"MC\",TRUE,FALSE),TRUE)","v":true}]
[null,null,null,{"$f":"IF(B148=Dimension!$A$8,Dimension!$C$9,IF(B148=Dimension!$A$6,CD,\"\"))","v":""},null,{"$f":"IF(OR(B148=Dimension!$A$3,B148=Dimension!$A$4,B148=Dimension!$A$6,B148=Dimension!$A$8),CCYA,\"\")","v":""},{"$f":"IFERROR(VLOOKUP(F148,Dimension!$G$3:$H$252,2,FALSE),\"\")","v":""},{"$f":"IF(OR(B148=Dimension!$A$3,B148=Dimension!$A$4,B148=Dimension!$A$5),\"เดินทาง/ท่องเที่ยว\",\"\")","v":""},{"$f":"IF(OR(B148=Dimension!$A$6,B148=Dimension!$A$7,B148=Dimension!$A$8,B148=Dimension!$A$9),\"\",IF(OR(B148=Dimension!$A$3,B148=Dimension!$A$4,B148=Dimension!$A$5),\"สถานประกอบการ\",\"\"))","v":""},{"$f":"IF(OR(B148=Dimension!$A$3,B148=Dimension!$A$4,B148=Dimension!$A$5,B148=Dimension!$A$6,,B148=Dimension!$A$7,B148=Dimension!$A$8,B148=Dimension!$A$9),Payment_ID2,\"\")","v":""},null,{"$f":"IFERROR(VLOOKUP(K148,Dimension!$J$3:$K$179,2,FALSE),\"\")","v":""},null,null,{"$f":"IF(OR(B148=Dimension!$A$6,B148=Dimension!$A$7,B148=Dimension!$A$8,B148=Dimension!$A$9),\"\",IF(OR(B148=Dimension!$A$3,B148=Dimension!$A$4,B148=Dimension!$A$5),\"สถานประกอบการ\",\"\"))","v":""},{"$f":"IF(OR(B148=Dimension!$A$6,B148=Dimension!$A$7,B148=Dimension!$A$8,B148=Dimension!$A$9,B148=\"\"),\"\",Payment_ID2)","v":""},"",null,null,{"$f":"IF(D148=Dimension!$C$9,IF(LEFT(UPPER(E148),2)=\"MC\",TRUE,FALSE),TRUE)","v":true}]
[null,null,null,{"$f":"IF(B149=Dimension!$A$8,Dimension!$C$9,IF(B149=Dimension!$A$6,CD,\"\"))","v":""},null,{"$f":"IF(OR(B149=Dimension!$A$3,B149=Dimension!$A$4,B149=Dimension!$A$6,B149=Dimension!$A$8),CCYA,\"\")","v":""},{"$f":"IFERROR(VLOOKUP(F149,Dimension!$G$3:$H$252,2,FALSE),\"\")","v":""},{"$f":"IF(OR(B149=Dimension!$A$3,B149=Dimension!$A$4,B149=Dimension!$A$5),\"เดินทาง/ท่องเที่ยว\",\"\")","v":""},{"$f":"IF(OR(B149=Dimension!$A$6,B149=Dimension!$A$7,B149=Dimension!$A$8,B149=Dimension!$A$9),\"\",IF(OR(B149=Dimension!$A$3,B149=Dimension!$A$4,B149=Dimension!$A$5),\"สถานประกอบการ\",\"\"))","v":""},{"$f":"IF(OR(B149=Dimension!$A$3,B149=Dimension!$A$4,B149=Dimension!$A$5,B149=Dimension!$A$6,,B149=Dimension!$A$7,B149=Dimension!$A$8,B149=Dimension!$A$9),Payment_ID2,\"\")","v":""},null,{"$f":"IFERROR(VLOOKUP(K149,Dimension!$J$3:$K$179,2,FALSE),\"\")","v":""},null,null,{"$f":"IF(OR(B149=Dimension!$A$6,B149=Dimension!$A$7,B149=Dimension!$A$8,B149=Dimension!$A$9),\"\",IF(OR(B149=Dimension!$A$3,B149=Dimension!$A$4,B149=Dimension!$A$5),\"สถานประกอบการ\",\"\"))","v":""},{"$f":"IF(OR(B149=Dimension!$A$6,B149=Dimension!$A$7,B149=Dimension!$A$8,B149=Dimension!$A$9,B149=\"\"),\"\",Payment_ID2)","v":""},"",null,null,{"$f":"IF(D149=Dimension!$C$9,IF(LEFT(UPPER(E149),2)=\"MC\",TRUE,FALSE),TRUE)","v":true}]
[null,null,null,{"$f":"IF(B150=Dimension!$A$8,Dimension!$C$9,IF(B150=Dimension!$A$6,CD,\"\"))","v":""},null,{"$f":"IF(OR(B150=Dimension!$A$3,B150=Dimension!$A$4,B150=Dimension!$A$6,B150=Dimension!$A$8),CCYA,\"\")","v":""},{"$f":"IFERROR(VLOOKUP(F150,Dimension!$G$3:$H$252,2,FALSE),\"\")","v":""},{"$f":"IF(OR(B150=Dimension!$A$3,B150=Dimension!$A$4,B150=Dimension!$A$5),\"เดินทาง/ท่องเที่ยว\",\"\")","v":""},{"$f":"IF(OR(B150=Dimension!$A$6,B150=Dimension!$A$7,B150=Dimension!$A$8,B150=Dimension!$A$9),\"\",IF(OR(B150=Dimension!$A$3,B150=Dimension!$A$4,B150=Dimension!$A$5),\"สถานประกอบการ\",\"\"))","v":""},{"$f":"IF(OR(B150=Dimension!$A$3,B150=Dimension!$A$4,B150=Dimension!$A$5,B150=Dimension!$A$6,,B150=Dimension!$A$7,B150=Dimension!$A$8,B150=Dimension!$A$9),Payment_ID2,\"\")","v":""},null,{"$f":"IFERROR(VLOOKUP(K150,Dimension!$J$3:$K$179,2,FALSE),\"\")","v":""},null,null,{"$f":"IF(OR(B150=Dimension!$A$6,B150=Dimension!$A$7,B150=Dimension!$A$8,B150=Dimension!$A$9),\"\",IF(OR(B150=Dimension!$A$3,B150=Dimension!$A$4,B150=Dimension!$A$5),\"สถานประกอบการ\",\"\"))","v":""},{"$f":"IF(OR(B150=Dimension!$A$6,B150=Dimension!$A$7,B150=Dimension!$A$8,B150=Dimension!$A$9,B150=\"\"),\"\",Payment_ID2)","v":""},"",null,null,{"$f":"IF(D150=Dimension!$C$9,IF(LEFT(UPPER(E150),2)=\"MC\",TRUE,FALSE),TRUE)","v":true}]
[null,null,null,{"$f":"IF(B151=Dimension!$A$8,Dimension!$C$9,IF(B151=Dimension!$A$6,CD,\"\"))","v":""},null,{"$f":"IF(OR(B151=Dimension!$A$3,B151=Dimension!$A$4,B151=Dimension!$A$6,B151=Dimension!$A$8),CCYA,\"\")","v":""},{"$f":"IFERROR(VLOOKUP(F151,Dimension!$G$3:$H$252,2,FALSE),\"\")","v":""},{"$f":"IF(OR(B151=Dimension!$A$3,B151=Dimension!$A$4,B151=Dimension!$A$5),\"เดินทาง/ท่องเที่ยว\",\"\")","v":""},{"$f":"IF(OR(B151=Dimension!$A$6,B151=Dimension!$A$7,B151=Dimension!$A$8,B151=Dimension!$A$9),\"\",IF(OR(B151=Dimension!$A$3,B151=Dimension!$A$4,B151=Dimension!$A$5),\"สถานประกอบการ\",\"\"))","v":""},{"$f":"IF(OR(B151=Dimension!$A$3,B151=Dimension!$A$4,B151=Dimension!$A$5,B151=Dimension!$A$6,,B151=Dimension!$A$7,B151=Dimension!$A$8,B151=Dimension!$A$9),Payment_ID2,\"\")","v":""},null,{"$f":"IFERROR(VLOOKUP(K151,Dimension!$J$3:$K$179,2,FALSE),\"\")","v":""},null,null,{"$f":"IF(OR(B151=Dimension!$A$6,B151=Dimension!$A$7,B151=Dimension!$A$8,B151=Dimension!$A$9),\"\",IF(OR(B151=Dimension!$A$3,B151=Dimension!$A$4,B151=Dimension!$A$5),\"สถานประกอบการ\",\"\"))","v":""},{"$f":"IF(OR(B151=Dimension!$A$6,B151=Dimension!$A$7,B151=Dimension!$A$8,B151=Dimension!$A$9,B151=\"\"),\"\",Payment_ID2)","v":""},"",null,null,{"$f":"IF(D151=Dimension!$C$9,IF(LEFT(UPPER(E151),2)=\"MC\",TRUE,FALSE),TRUE)","v":true}]
[null,null,null,{"$f":"IF(B152=Dimension!$A$8,Dimension!$C$9,IF(B152=Dimension!$A$6,CD,\"\"))","v":""},null,{"$f":"IF(OR(B152=Dimension!$A$3,B152=Dimension!$A$4,B152=Dimension!$A$6,B152=Dimension!$A$8),CCYA,\"\")","v":""},{"$f":"IFERROR(VLOOKUP(F152,Dimension!$G$3:$H$252,2,FALSE),\"\")","v":""},{"$f":"IF(OR(B152=Dimension!$A$3,B152=Dimension!$A$4,B152=Dimension!$A$5),\"เดินทาง/ท่องเที่ยว\",\"\")","v":""},{"$f":"IF(OR(B152=Dimension!$A$6,B152=Dimension!$A$7,B152=Dimension!$A$8,B152=Dimension!$A$9),\"\",IF(OR(B152=Dimension!$A$3,B152=Dimension!$A$4,B152=Dimension!$A$5),\"สถานประกอบการ\",\"\"))","v":""},{"$f":"IF(OR(B152=Dimension!$A$3,B152=Dimension!$A$4,B152=Dimension!$A$5,B152=Dimension!$A$6,,B152=Dimension!$A$7,B152=Dimension!$A$8,B152=Dimension!$A$9),Payment_ID2,\"\")","v":""},null,{"$f":"IFERROR(VLOOKUP(K152,Dimension!$J$3:$K$179,2,FALSE),\"\")","v":""},null,null,{"$f":"IF(OR(B152=Dimension!$A$6,B152=Dimension!$A$7,B152=Dimension!$A$8,B152=Dimension!$A$9),\"\",IF(OR(B152=Dimension!$A$3,B152=Dimension!$A$4,B152=Dimension!$A$5),\"สถานประกอบการ\",\"\"))","v":""},{"$f":"IF(OR(B152=Dimension!$A$6,B152=Dimension!$A$7,B152=Dimension!$A$8,B152=Dimension!$A$9,B152=\"\"),\"\",Payment_ID2)","v":""},"",null,null,{"$f":"IF(D152=Dimension!$C$9,IF(LEFT(UPPER(E152),2)=\"MC\",TRUE,FALSE),TRUE)","v":true}]
[null,null,null,{"$f":"IF(B153=Dimension!$A$8,Dimension!$C$9,IF(B153=Dimension!$A$6,CD,\"\"))","v":""},null,{"$f":"IF(OR(B153=Dimension!$A$3,B153=Dimension!$A$4,B153=Dimension!$A$6,B153=Dimension!$A$8),CCYA,\"\")","v":""},{"$f":"IFERROR(VLOOKUP(F153,Dimension!$G$3:$H$252,2,FALSE),\"\")","v":""},{"$f":"IF(OR(B153=Dimension!$A$3,B153=Dimension!$A$4,B153=Dimension!$A$5),\"เดินทาง/ท่องเที่ยว\",\"\")","v":""},{"$f":"IF(OR(B153=Dimension!$A$6,B153=Dimension!$A$7,B153=Dimension!$A$8,B153=Dimension!$A$9),\"\",IF(OR(B153=Dimension!$A$3,B153=Dimension!$A$4,B153=Dimension!$A$5),\"สถานประกอบการ\",\"\"))","v":""},{"$f":"IF(OR(B153=Dimension!$A$3,B153=Dimension!$A$4,B153=Dimension!$A$5,B153=Dimension!$A$6,,B153=Dimension!$A$7,B153=Dimension!$A$8,B153=Dimension!$A$9),Payment_ID2,\"\")","v":""},null,{"$f":"IFERROR(VLOOKUP(K153,Dimension!$J$3:$K$179,2,FALSE),\"\")","v":""},null,null,{"$f":"IF(OR(B153=Dimension!$A$6,B153=Dimension!$A$7,B153=Dimension!$A$8,B153=Dimension!$A$9),\"\",IF(OR(B153=Dimension!$A$3,B153=Dimension!$A$4,B153=Dimension!$A$5),\"สถานประกอบการ\",\"\"))","v":""},{"$f":"IF(OR(B153=Dimension!$A$6,B153=Dimension!$A$7,B153=Dimension!$A$8,B153=Dimension!$A$9,B153=\"\"),\"\",Payment_ID2)","v":""},"",null,null,{"$f":"IF(D153=Dimension!$C$9,IF(LEFT(UPPER(E153),2)=\"MC\",TRUE,FALSE),TRUE)","v":true}]
[null,null,null,{"$f":"IF(B154=Dimension!$A$8,Dimension!$C$9,IF(B154=Dimension!$A$6,CD,\"\"))","v":""},null,{"$f":"IF(OR(B154=Dimension!$A$3,B154=Dimension!$A$4,B154=Dimension!$A$6,B154=Dimension!$A$8),CCYA,\"\")","v":""},{"$f":"IFERROR(VLOOKUP(F154,Dimension!$G$3:$H$252,2,FALSE),\"\")","v":""},{"$f":"IF(OR(B154=Dimension!$A$3,B154=Dimension!$A$4,B154=Dimension!$A$5),\"เดินทาง/ท่องเที่ยว\",\"\")","v":""},{"$f":"IF(OR(B154=Dimension!$A$6,B154=Dimension!$A$7,B154=Dimension!$A$8,B154=Dimension!$A$9),\"\",IF(OR(B154=Dimension!$A$3,B154=Dimension!$A$4,B154=Dimension!$A$5),\"สถานประกอบการ\",\"\"))","v":""},{"$f":"IF(OR(B154=Dimension!$A$3,B154=Dimension!$A$4,B154=Dimension!$A$5,B154=Dimension!$A$6,,B154=Dimension!$A$7,B154=Dimension!$A$8,B154=Dimension!$A$9),Payment_ID2,\"\")","v":""},null,{"$f":"IFERROR(VLOOKUP(K154,Dimension!$J$3:$K$179,2,FALSE),\"\")","v":""},null,null,{"$f":"IF(OR(B154=Dimension!$A$6,B154=Dimension!$A$7,B154=Dimension!$A$8,B154=Dimension!$A$9),\"\",IF(OR(B154=Dimension!$A$3,B154=Dimension!$A$4,B154=Dimension!$A$5),\"สถานประกอบการ\",\"\"))","v":""},{"$f":"IF(OR(B154=Dimension!$A$6,B154=Dimension!$A$7,B154=Dimension!$A$8,B154=Dimension!$A$9,B154=\"\"),\"\",Payment_ID2)","v":""},"",null,null,{"$f":"IF(D154=Dimension!$C$9,IF(LEFT(UPPER(E154),2)=\"MC\",TRUE,FALSE),TRUE)","v":true}]
[null,null,null,{"$f":"IF(B155=Dimension!$A$8,Dimension!$C$9,IF(B155=Dimension!$A$6,CD,\"\"))","v":""},null,{"$f":"IF(OR(B155=Dimension!$A$3,B155=Dimension!$A$4,B155=Dimension!$A$6,B155=Dimension!$A$8),CCYA,\"\")","v":""},{"$f":"IFERROR(VLOOKUP(F155,Dimension!$G$3:$H$252,2,FALSE),\"\")","v":""},{"$f":"IF(OR(B155=Dimension!$A$3,B155=Dimension!$A$4,B155=Dimension!$A$5),\"เดินทาง/ท่องเที่ยว\",\"\")","v":""},{"$f":"IF(OR(B155=Dimension!$A$6,B155=Dimension!$A$7,B155=Dimension!$A$8,B155=Dimension!$A$9),\"\",IF(OR(B155=Dimension!$A$3,B155=Dimension!$A$4,B155=Dimension!$A$5),\"สถานประกอบการ\",\"\"))","v":""},{"$f":"IF(OR(B155=Dimension!$A$3,B155=Dimension!$A$4,B155=Dimension!$A$5,B155=Dimension!$A$6,,B155=Dimension!$A$7,B155=Dimension!$A$8,B155=Dimension!$A$9),Payment_ID2,\"\")","v":""},null,{"$f":"IFERROR(VLOOKUP(K155,Dimension!$J$3:$K$179,2,FALSE),\"\")","v":""},null,null,{"$f":"IF(OR(B155=Dimension!$A$6,B155=Dimension!$A$7,B155=Dimension!$A$8,B155=Dimension!$A$9),\"\",IF(OR(B155=Dimension!$A$3,B155=Dimension!$A$4,B155=Dimension!$A$5),\"สถานประกอบการ\",\"\"))","v":""},{"$f":"IF(OR(B155=Dimension!$A$6,B155=Dimension!$A$7,B155=Dimension!$A$8,B155=Dimension!$A$9,B155=\"\"),\"\",Payment_ID2)","v":""},"",null,null,{"$f":"IF(D155=Dimension!$C$9,IF(LEFT(UPPER(E155),2)=\"MC\",TRUE,FALSE),TRUE)","v":true}]
[null,null,null,{"$f":"IF(B156=Dimension!$A$8,Dimension!$C$9,IF(B156=Dimension!$A$6,CD,\"\"))","v":""},null,{"$f":"IF(OR(B156=Dimension!$A$3,B156=Dimension!$A$4,B156=Dimension!$A$6,B156=Dimension!$A$8),CCYA,\"\")","v":""},{"$f":"IFERROR(VLOOKUP(F156,Dimension!$G$3:$H$252,2,FALSE),\"\")","v":""},{"$f":"IF(OR(B156=Dimension!$A$3,B156=Dimension!$A$4,B156=Dimension!$A$5),\"เดินทาง/ท่องเที่ยว\",\"\")","v":""},{"$f":"IF(OR(B156=Dimension!$A$6,B156=Dimension!$A$7,B156=Dimension!$A$8,B156=Dimension!$A$9),\"\",IF(OR(B156=Dimension!$A$3,B156=Dimension!$A$4,B156=Dimension!$A$5),\"สถานประกอบการ\",\"\"))","v":""},{"$f":"IF(OR(B156=Dimension!$A$3,B156=Dimension!$A$4,B156=Dimension!$A$5,B156=Dimension!$A$6,,B156=Dimension!$A$7,B156=Dimension!$A$8,B156=Dimension!$A$9),Payment_ID2,\"\")","v":""},null,{"$f":"IFERROR(VLOOKUP(K156,Dimension!$J$3:$K$179,2,FALSE),\"\")","v":""},null,null,{"$f":"IF(OR(B156=Dimension!$A$6,B156=Dimension!$A$7,B156=Dimension!$A$8,B156=Dimension!$A$9),\"\",IF(OR(B156=Dimension!$A$3,B156=Dimension!$A$4,B156=Dimension!$A$5),\"สถานประกอบการ\",\"\"))","v":""},{"$f":"IF(OR(B156=Dimension!$A$6,B156=Dimension!$A$7,B156=Dimension!$A$8,B156=Dimension!$A$9,B156=\"\"),\"\",Payment_ID2)","v":""},"",null,null,{"$f":"IF(D156=Dimension!$C$9,IF(LEFT(UPPER(E156),2)=\"MC\",TRUE,FALSE),TRUE)","v":true}]
[null,null,null,{"$f":"IF(B157=Dimension!$A$8,Dimension!$C$9,IF(B157=Dimension!$A$6,CD,\"\"))","v":""},null,{"$f":"IF(OR(B157=Dimension!$A$3,B157=Dimension!$A$4,B157=Dimension!$A$6,B157=Dimension!$A$8),CCYA,\"\")","v":""},{"$f":"IFERROR(VLOOKUP(F157,Dimension!$G$3:$H$252,2,FALSE),\"\")","v":""},{"$f":"IF(OR(B157=Dimension!$A$3,B157=Dimension!$A$4,B157=Dimension!$A$5),\"เดินทาง/ท่องเที่ยว\",\"\")","v":""},{"$f":"IF(OR(B157=Dimension!$A$6,B157=Dimension!$A$7,B157=Dimension!$A$8,B157=Dimension!$A$9),\"\",IF(OR(B157=Dimension!$A$3,B157=Dimension!$A$4,B157=Dimension!$A$5),\"สถานประกอบการ\",\"\"))","v":""},{"$f":"IF(OR(B157=Dimension!$A$3,B157=Dimension!$A$4,B157=Dimension!$A$5,B157=Dimension!$A$6,,B157=Dimension!$A$7,B157=Dimension!$A$8,B157=Dimension!$A$9),Payment_ID2,\"\")","v":""},null,{"$f":"IFERROR(VLOOKUP(K157,Dimension!$J$3:$K$179,2,FALSE),\"\")","v":""},null,null,{"$f":"IF(OR(B157=Dimension!$A$6,B157=Dimension!$A$7,B157=Dimension!$A$8,B157=Dimension!$A$9),\"\",IF(OR(B157=Dimension!$A$3,B157=Dimension!$A$4,B157=Dimension!$A$5),\"สถานประกอบการ\",\"\"))","v":""},{"$f":"IF(OR(B157=Dimension!$A$6,B157=Dimension!$A$7,B157=Dimension!$A$8,B157=Dimension!$A$9,B157=\"\"),\"\",Payment_ID2)","v":""},"",null,null,{"$f":"IF(D157=Dimension!$C$9,IF(LEFT(UPPER(E157),2)=\"MC\",TRUE,FALSE),TRUE)","v":true}]
[null,null,null,{"$f":"IF(B158=Dimension!$A$8,Dimension!$C$9,IF(B158=Dimension!$A$6,CD,\"\"))","v":""},null,{"$f":"IF(OR(B158=Dimension!$A$3,B158=Dimension!$A$4,B158=Dimension!$A$6,B158=Dimension!$A$8),CCYA,\"\")","v":""},{"$f":"IFERROR(VLOOKUP(F158,Dimension!$G$3:$H$252,2,FALSE),\"\")","v":""},{"$f":"IF(OR(B158=Dimension!$A$3,B158=Dimension!$A$4,B158=Dimension!$A$5),\"เดินทาง/ท่องเที่ยว\",\"\")","v":""},{"$f":"IF(OR(B158=Dimension!$A$6,B158=Dimension!$A$7,B158=Dimension!$A$8,B158=Dimension!$A$9),\"\",IF(OR(B158=Dimension!$A$3,B158=Dimension!$A$4,B158=Dimension!$A$5),\"สถานประกอบการ\",\"\"))","v":""},{"$f":"IF(OR(B158=Dimension!$A$3,B158=Dimension!$A$4,B158=Dimension!$A$5,B158=Dimension!$A$6,,B158=Dimension!$A$7,B158=Dimension!$A$8,B158=Dimension!$A$9),Payment_ID2,\"\")","v":""},null,{"$f":"IFERROR(VLOOKUP(K158,Dimension!$J$3:$K$179,2,FALSE),\"\")","v":""},null,null,{"$f":"IF(OR(B158=Dimension!$A$6,B158=Dimension!$A$7,B158=Dimension!$A$8,B158=Dimension!$A$9),\"\",IF(OR(B158=Dimension!$A$3,B158=Dimension!$A$4,B158=Dimension!$A$5),\"สถานประกอบการ\",\"\"))","v":""},{"$f":"IF(OR(B158=Dimension!$A$6,B158=Dimension!$A$7,B158=Dimension!$A$8,B158=Dimension!$A$9,B158=\"\"),\"\",Payment_ID2)","v":""},"",null,null,{"$f":"IF(D158=Dimension!$C$9,IF(LEFT(UPPER(E158),2)=\"MC\",TRUE,FALSE),TRUE)","v":true}]
[null,null,null,{"$f":"IF(B159=Dimension!$A$8,Dimension!$C$9,IF(B159=Dimension!$A$6,CD,\"\"))","v":""},null,{"$f":"IF(OR(B159=Dimension!$A$3,B159=Dimension!$A$4,B159=Dimension!$A$6,B159=Dimension!$A$8),CCYA,\"\")","v":""},{"$f":"IFERROR(VLOOKUP(F159,Dimension!$G$3:$H$252,2,FALSE),\"\")","v":""},{"$f":"IF(OR(B159=Dimension!$A$3,B159=Dimension!$A$4,B159=Dimension!$A$5),\"เดินทาง/ท่องเที่ยว\",\"\")","v":""},{"$f":"IF(OR(B159=Dimension!$A$6,B159=Dimension!$A$7,B159=Dimension!$A$8,B159=Dimension!$A$9),\"\",IF(OR(B159=Dimension!$A$3,B159=Dimension!$A$4,B159=Dimension!$A$5),\"สถานประกอบการ\",\"\"))","v":""},{"$f":"IF(OR(B159=Dimension!$A$3,B159=Dimension!$A$4,B159=Dimension!$A$5,B159=Dimension!$A$6,,B159=Dimension!$A$7,B159=Dimension!$A$8,B159=Dimension!$A$9),Payment_ID2,\"\")","v":""},null,{"$f":"IFERROR(VLOOKUP(K159,Dimension!$J$3:$K$179,2,FALSE),\"\")","v":""},null,null,{"$f":"IF(OR(B159=Dimension!$A$6,B159=Dimension!$A$7,B159=Dimension!$A$8,B159=Dimension!$A$9),\"\",IF(OR(B159=Dimension!$A$3,B159=Dimension!$A$4,B159=Dimension!$A$5),\"สถานประกอบการ\",\"\"))","v":""},{"$f":"IF(OR(B159=Dimension!$A$6,B159=Dimension!$A$7,B159=Dimension!$A$8,B159=Dimension!$A$9,B159=\"\"),\"\",Payment_ID2)","v":""},"",null,null,{"$f":"IF(D159=Dimension!$C$9,IF(LEFT(UPPER(E159),2)=\"MC\",TRUE,FALSE),TRUE)","v":true}]
[null,null,null,{"$f":"IF(B160=Dimension!$A$8,Dimension!$C$9,IF(B160=Dimension!$A$6,CD,\"\"))","v":""},null,{"$f":"IF(OR(B160=Dimension!$A$3,B160=Dimension!$A$4,B160=Dimension!$A$6,B160=Dimension!$A$8),CCYA,\"\")","v":""},{"$f":"IFERROR(VLOOKUP(F160,Dimension!$G$3:$H$252,2,FALSE),\"\")","v":""},{"$f":"IF(OR(B160=Dimension!$A$3,B160=Dimension!$A$4,B160=Dimension!$A$5),\"เดินทาง/ท่องเที่ยว\",\"\")","v":""},{"$f":"IF(OR(B160=Dimension!$A$6,B160=Dimension!$A$7,B160=Dimension!$A$8,B160=Dimension!$A$9),\"\",IF(OR(B160=Dimension!$A$3,B160=Dimension!$A$4,B160=Dimension!$A$5),\"สถานประกอบการ\",\"\"))","v":""},{"$f":"IF(OR(B160=Dimension!$A$3,B160=Dimension!$A$4,B160=Dimension!$A$5,B160=Dimension!$A$6,,B160=Dimension!$A$7,B160=Dimension!$A$8,B160=Dimension!$A$9),Payment_ID2,\"\")","v":""},null,{"$f":"IFERROR(VLOOKUP(K160,Dimension!$J$3:$K$179,2,FALSE),\"\")","v":""},null,null,{"$f":"IF(OR(B160=Dimension!$A$6,B160=Dimension!$A$7,B160=Dimension!$A$8,B160=Dimension!$A$9),\"\",IF(OR(B160=Dimension!$A$3,B160=Dimension!$A$4,B160=Dimension!$A$5),\"สถานประกอบการ\",\"\"))","v":""},{"$f":"IF(OR(B160=Dimension!$A$6,B160=Dimension!$A$7,B160=Dimension!$A$8,B160=Dimension!$A$9,B160=\"\"),\"\",Payment_ID2)","v":""},"",null,null,{"$f":"IF(D160=Dimension!$C$9,IF(LEFT(UPPER(E160),2)=\"MC\",TRUE,FALSE),TRUE)","v":true}]
[null,null,null,{"$f":"IF(B161=Dimension!$A$8,Dimension!$C$9,IF(B161=Dimension!$A$6,CD,\"\"))","v":""},null,{"$f":"IF(OR(B161=Dimension!$A$3,B161=Dimension!$A$4,B161=Dimension!$A$6,B161=Dimension!$A$8),CCYA,\"\")","v":""},{"$f":"IFERROR(VLOOKUP(F161,Dimension!$G$3:$H$252,2,FALSE),\"\")","v":""},{"$f":"IF(OR(B161=Dimension!$A$3,B161=Dimension!$A$4,B161=Dimension!$A$5),\"เดินทาง/ท่องเที่ยว\",\"\")","v":""},{"$f":"IF(OR(B161=Dimension!$A$6,B161=Dimension!$A$7,B161=Dimension!$A$8,B161=Dimension!$A$9),\"\",IF(OR(B161=Dimension!$A$3,B161=Dimension!$A$4,B161=Dimension!$A$5),\"สถานประกอบการ\",\"\"))","v":""},{"$f":"IF(OR(B161=Dimension!$A$3,B161=Dimension!$A$4,B161=Dimension!$A$5,B161=Dimension!$A$6,,B161=Dimension!$A$7,B161=Dimension!$A$8,B161=Dimension!$A$9),Payment_ID2,\"\")","v":""},null,{"$f":"IFERROR(VLOOKUP(K161,Dimension!$J$3:$K$179,2,FALSE),\"\")","v":""},null,null,{"$f":"IF(OR(B161=Dimension!$A$6,B161=Dimension!$A$7,B161=Dimension!$A$8,B161=Dimension!$A$9),\"\",IF(OR(B161=Dimension!$A$3,B161=Dimension!$A$4,B161=Dimension!$A$5),\"สถานประกอบการ\",\"\"))","v":""},{"$f":"IF(OR(B161=Dimension!$A$6,B161=Dimension!$A$7,B161=Dimension!$A$8,B161=Dimension!$A$9,B161=\"\"),\"\",Payment_ID2)","v":""},"",null,null,{"$f":"IF(D161=Dimension!$C$9,IF(LEFT(UPPER(E161),2)=\"MC\",TRUE,FALSE),TRUE)","v":true}]
[null,null,null,{"$f":"IF(B162=Dimension!$A$8,Dimension!$C$9,IF(B162=Dimension!$A$6,CD,\"\"))","v":""},null,{"$f":"IF(OR(B162=Dimension!$A$3,B162=Dimension!$A$4,B162=Dimension!$A$6,B162=Dimension!$A$8),CCYA,\"\")","v":""},{"$f":"IFERROR(VLOOKUP(F162,Dimension!$G$3:$H$252,2,FALSE),\"\")","v":""},{"$f":"IF(OR(B162=Dimension!$A$3,B162=Dimension!$A$4,B162=Dimension!$A$5),\"เดินทาง/ท่องเที่ยว\",\"\")","v":""},{"$f":"IF(OR(B162=Dimension!$A$6,B162=Dimension!$A$7,B162=Dimension!$A$8,B162=Dimension!$A$9),\"\",IF(OR(B162=Dimension!$A$3,B162=Dimension!$A$4,B162=Dimension!$A$5),\"สถานประกอบการ\",\"\"))","v":""},{"$f":"IF(OR(B162=Dimension!$A$3,B162=Dimension!$A$4,B162=Dimension!$A$5,B162=Dimension!$A$6,,B162=Dimension!$A$7,B162=Dimension!$A$8,B162=Dimension!$A$9),Payment_ID2,\"\")","v":""},null,{"$f":"IFERROR(VLOOKUP(K162,Dimension!$J$3:$K$179,2,FALSE),\"\")","v":""},null,null,{"$f":"IF(OR(B162=Dimension!$A$6,B162=Dimension!$A$7,B162=Dimension!$A$8,B162=Dimension!$A$9),\"\",IF(OR(B162=Dimension!$A$3,B162=Dimension!$A$4,B162=Dimension!$A$5),\"สถานประกอบการ\",\"\"))","v":""},{"$f":"IF(OR(B162=Dimension!$A$6,B162=Dimension!$A$7,B162=Dimension!$A$8,B162=Dimension!$A$9,B162=\"\"),\"\",Payment_ID2)","v":""},"",null,null,{"$f":"IF(D162=Dimension!$C$9,IF(LEFT(UPPER(E162),2)=\"MC\",TRUE,FALSE),TRUE)","v":true}]
[null,null,null,{"$f":"IF(B163=Dimension!$A$8,Dimension!$C$9,IF(B163=Dimension!$A$6,CD,\"\"))","v":""},null,{"$f":"IF(OR(B163=Dimension!$A$3,B163=Dimension!$A$4,B163=Dimension!$A$6,B163=Dimension!$A$8),CCYA,\"\")","v":""},{"$f":"IFERROR(VLOOKUP(F163,Dimension!$G$3:$H$252,2,FALSE),\"\")","v":""},{"$f":"IF(OR(B163=Dimension!$A$3,B163=Dimension!$A$4,B163=Dimension!$A$5),\"เดินทาง/ท่องเที่ยว\",\"\")","v":""},{"$f":"IF(OR(B163=Dimension!$A$6,B163=Dimension!$A$7,B163=Dimension!$A$8,B163=Dimension!$A$9),\"\",IF(OR(B163=Dimension!$A$3,B163=Dimension!$A$4,B163=Dimension!$A$5),\"สถานประกอบการ\",\"\"))","v":""},{"$f":"IF(OR(B163=Dimension!$A$3,B163=Dimension!$A$4,B163=Dimension!$A$5,B163=Dimension!$A$6,,B163=Dimension!$A$7,B163=Dimension!$A$8,B163=Dimension!$A$9),Payment_ID2,\"\")","v":""},null,{"$f":"IFERROR(VLOOKUP(K163,Dimension!$J$3:$K$179,2,FALSE),\"\")","v":""},null,null,{"$f":"IF(OR(B163=Dimension!$A$6,B163=Dimension!$A$7,B163=Dimension!$A$8,B163=Dimension!$A$9),\"\",IF(OR(B163=Dimension!$A$3,B163=Dimension!$A$4,B163=Dimension!$A$5),\"สถานประกอบการ\",\"\"))","v":""},{"$f":"IF(OR(B163=Dimension!$A$6,B163=Dimension!$A$7,B163=Dimension!$A$8,B163=Dimension!$A$9,B163=\"\"),\"\",Payment_ID2)","v":""},"",null,null,{"$f":"IF(D163=Dimension!$C$9,IF(LEFT(UPPER(E163),2)=\"MC\",TRUE,FALSE),TRUE)","v":true}]
[null,null,null,{"$f":"IF(B164=Dimension!$A$8,Dimension!$C$9,IF(B164=Dimension!$A$6,CD,\"\"))","v":""},null,{"$f":"IF(OR(B164=Dimension!$A$3,B164=Dimension!$A$4,B164=Dimension!$A$6,B164=Dimension!$A$8),CCYA,\"\")","v":""},{"$f":"IFERROR(VLOOKUP(F164,Dimension!$G$3:$H$252,2,FALSE),\"\")","v":""},{"$f":"IF(OR(B164=Dimension!$A$3,B164=Dimension!$A$4,B164=Dimension!$A$5),\"เดินทาง/ท่องเที่ยว\",\"\")","v":""},{"$f":"IF(OR(B164=Dimension!$A$6,B164=Dimension!$A$7,B164=Dimension!$A$8,B164=Dimension!$A$9),\"\",IF(OR(B164=Dimension!$A$3,B164=Dimension!$A$4,B164=Dimension!$A$5),\"สถานประกอบการ\",\"\"))","v":""},{"$f":"IF(OR(B164=Dimension!$A$3,B164=Dimension!$A$4,B164=Dimension!$A$5,B164=Dimension!$A$6,,B164=Dimension!$A$7,B164=Dimension!$A$8,B164=Dimension!$A$9),Payment_ID2,\"\")","v":""},null,{"$f":"IFERROR(VLOOKUP(K164,Dimension!$J$3:$K$179,2,FALSE),\"\")","v":""},null,null,{"$f":"IF(OR(B164=Dimension!$A$6,B164=Dimension!$A$7,B164=Dimension!$A$8,B164=Dimension!$A$9),\"\",IF(OR(B164=Dimension!$A$3,B164=Dimension!$A$4,B164=Dimension!$A$5),\"สถานประกอบการ\",\"\"))","v":""},{"$f":"IF(OR(B164=Dimension!$A$6,B164=Dimension!$A$7,B164=Dimension!$A$8,B164=Dimension!$A$9,B164=\"\"),\"\",Payment_ID2)","v":""},"",null,null,{"$f":"IF(D164=Dimension!$C$9,IF(LEFT(UPPER(E164),2)=\"MC\",TRUE,FALSE),TRUE)","v":true}]
[null,null,null,{"$f":"IF(B165=Dimension!$A$8,Dimension!$C$9,IF(B165=Dimension!$A$6,CD,\"\"))","v":""},null,{"$f":"IF(OR(B165=Dimension!$A$3,B165=Dimension!$A$4,B165=Dimension!$A$6,B165=Dimension!$A$8),CCYA,\"\")","v":""},{"$f":"IFERROR(VLOOKUP(F165,Dimension!$G$3:$H$252,2,FALSE),\"\")","v":""},{"$f":"IF(OR(B165=Dimension!$A$3,B165=Dimension!$A$4,B165=Dimension!$A$5),\"เดินทาง/ท่องเที่ยว\",\"\")","v":""},{"$f":"IF(OR(B165=Dimension!$A$6,B165=Dimension!$A$7,B165=Dimension!$A$8,B165=Dimension!$A$9),\"\",IF(OR(B165=Dimension!$A$3,B165=Dimension!$A$4,B165=Dimension!$A$5),\"สถานประกอบการ\",\"\"))","v":""},{"$f":"IF(OR(B165=Dimension!$A$3,B165=Dimension!$A$4,B165=Dimension!$A$5,B165=Dimension!$A$6,,B165=Dimension!$A$7,B165=Dimension!$A$8,B165=Dimension!$A$9),Payment_ID2,\"\")","v":""},null,{"$f":"IFERROR(VLOOKUP(K165,Dimension!$J$3:$K$179,2,FALSE),\"\")","v":""},null,null,{"$f":"IF(OR(B165=Dimension!$A$6,B165=Dimension!$A$7,B165=Dimension!$A$8,B165=Dimension!$A$9),\"\",IF(OR(B165=Dimension!$A$3,B165=Dimension!$A$4,B165=Dimension!$A$5),\"สถานประกอบการ\",\"\"))","v":""},{"$f":"IF(OR(B165=Dimension!$A$6,B165=Dimension!$A$7,B165=Dimension!$A$8,B165=Dimension!$A$9,B165=\"\"),\"\",Payment_ID2)","v":""},"",null,null,{"$f":"IF(D165=Dimension!$C$9,IF(LEFT(UPPER(E165),2)=\"MC\",TRUE,FALSE),TRUE)","v":true}]
[null,null,null,{"$f":"IF(B166=Dimension!$A$8,Dimension!$C$9,IF(B166=Dimension!$A$6,CD,\"\"))","v":""},null,{"$f":"IF(OR(B166=Dimension!$A$3,B166=Dimension!$A$4,B166=Dimension!$A$6,B166=Dimension!$A$8),CCYA,\"\")","v":""},{"$f":"IFERROR(VLOOKUP(F166,Dimension!$G$3:$H$252,2,FALSE),\"\")","v":""},{"$f":"IF(OR(B166=Dimension!$A$3,B166=Dimension!$A$4,B166=Dimension!$A$5),\"เดินทาง/ท่องเที่ยว\",\"\")","v":""},{"$f":"IF(OR(B166=Dimension!$A$6,B166=Dimension!$A$7,B166=Dimension!$A$8,B166=Dimension!$A$9),\"\",IF(OR(B166=Dimension!$A$3,B166=Dimension!$A$4,B166=Dimension!$A$5),\"สถานประกอบการ\",\"\"))","v":""},{"$f":"IF(OR(B166=Dimension!$A$3,B166=Dimension!$A$4,B166=Dimension!$A$5,B166=Dimension!$A$6,,B166=Dimension!$A$7,B166=Dimension!$A$8,B166=Dimension!$A$9),Payment_ID2,\"\")","v":""},null,{"$f":"IFERROR(VLOOKUP(K166,Dimension!$J$3:$K$179,2,FALSE),\"\")","v":""},null,null,{"$f":"IF(OR(B166=Dimension!$A$6,B166=Dimension!$A$7,B166=Dimension!$A$8,B166=Dimension!$A$9),\"\",IF(OR(B166=Dimension!$A$3,B166=Dimension!$A$4,B166=Dimension!$A$5),\"สถานประกอบการ\",\"\"))","v":""},{"$f":"IF(OR(B166=Dimension!$A$6,B166=Dimension!$A$7,B166=Dimension!$A$8,B166=Dimension!$A$9,B166=\"\"),\"\",Payment_ID2)","v":""},"",null,null,{"$f":"IF(D166=Dimension!$C$9,IF(LEFT(UPPER(E166),2)=\"MC\",TRUE,FALSE),TRUE)","v":true}]
[null,null,null,{"$f":"IF(B167=Dimension!$A$8,Dimension!$C$9,IF(B167=Dimension!$A$6,CD,\"\"))","v":""},null,{"$f":"IF(OR(B167=Dimension!$A$3,B167=Dimension!$A$4,B167=Dimension!$A$6,B167=Dimension!$A$8),CCYA,\"\")","v":""},{"$f":"IFERROR(VLOOKUP(F167,Dimension!$G$3:$H$252,2,FALSE),\"\")","v":""},{"$f":"IF(OR(B167=Dimension!$A$3,B167=Dimension!$A$4,B167=Dimension!$A$5),\"เดินทาง/ท่องเที่ยว\",\"\")","v":""},{"$f":"IF(OR(B167=Dimension!$A$6,B167=Dimension!$A$7,B167=Dimension!$A$8,B167=Dimension!$A$9),\"\",IF(OR(B167=Dimension!$A$3,B167=Dimension!$A$4,B167=Dimension!$A$5),\"สถานประกอบการ\",\"\"))","v":""},{"$f":"IF(OR(B167=Dimension!$A$3,B167=Dimension!$A$4,B167=Dimension!$A$5,B167=Dimension!$A$6,,B167=Dimension!$A$7,B167=Dimension!$A$8,B167=Dimension!$A$9),Payment_ID2,\"\")","v":""},null,{"$f":"IFERROR(VLOOKUP(K167,Dimension!$J$3:$K$179,2,FALSE),\"\")","v":""},null,null,{"$f":"IF(OR(B167=Dimension!$A$6,B167=Dimension!$A$7,B167=Dimension!$A$8,B167=Dimension!$A$9),\"\",IF(OR(B167=Dimension!$A$3,B167=Dimension!$A$4,B167=Dimension!$A$5),\"สถานประกอบการ\",\"\"))","v":""},{"$f":"IF(OR(B167=Dimension!$A$6,B167=Dimension!$A$7,B167=Dimension!$A$8,B167=Dimension!$A$9,B167=\"\"),\"\",Payment_ID2)","v":""},"",null,null,{"$f":"IF(D167=Dimension!$C$9,IF(LEFT(UPPER(E167),2)=\"MC\",TRUE,FALSE),TRUE)","v":true}]
[null,null,null,{"$f":"IF(B168=Dimension!$A$8,Dimension!$C$9,IF(B168=Dimension!$A$6,CD,\"\"))","v":""},null,{"$f":"IF(OR(B168=Dimension!$A$3,B168=Dimension!$A$4,B168=Dimension!$A$6,B168=Dimension!$A$8),CCYA,\"\")","v":""},{"$f":"IFERROR(VLOOKUP(F168,Dimension!$G$3:$H$252,2,FALSE),\"\")","v":""},{"$f":"IF(OR(B168=Dimension!$A$3,B168=Dimension!$A$4,B168=Dimension!$A$5),\"เดินทาง/ท่องเที่ยว\",\"\")","v":""},{"$f":"IF(OR(B168=Dimension!$A$6,B168=Dimension!$A$7,B168=Dimension!$A$8,B168=Dimension!$A$9),\"\",IF(OR(B168=Dimension!$A$3,B168=Dimension!$A$4,B168=Dimension!$A$5),\"สถานประกอบการ\",\"\"))","v":""},{"$f":"IF(OR(B168=Dimension!$A$3,B168=Dimension!$A$4,B168=Dimension!$A$5,B168=Dimension!$A$6,,B168=Dimension!$A$7,B168=Dimension!$A$8,B168=Dimension!$A$9),Payment_ID2,\"\")","v":""},null,{"$f":"IFERROR(VLOOKUP(K168,Dimension!$J$3:$K$179,2,FALSE),\"\")","v":""},null,null,{"$f":"IF(OR(B168=Dimension!$A$6,B168=Dimension!$A$7,B168=Dimension!$A$8,B168=Dimension!$A$9),\"\",IF(OR(B168=Dimension!$A$3,B168=Dimension!$A$4,B168=Dimension!$A$5),\"สถานประกอบการ\",\"\"))","v":""},{"$f":"IF(OR(B168=Dimension!$A$6,B168=Dimension!$A$7,B168=Dimension!$A$8,B168=Dimension!$A$9,B168=\"\"),\"\",Payment_ID2)","v":""},"",null,null,{"$f":"IF(D168=Dimension!$C$9,IF(LEFT(UPPER(E168),2)=\"MC\",TRUE,FALSE),TRUE)","v":true}]
[null,null,null,{"$f":"IF(B169=Dimension!$A$8,Dimension!$C$9,IF(B169=Dimension!$A$6,CD,\"\"))","v":""},null,{"$f":"IF(OR(B169=Dimension!$A$3,B169=Dimension!$A$4,B169=Dimension!$A$6,B169=Dimension!$A$8),CCYA,\"\")","v":""},{"$f":"IFERROR(VLOOKUP(F169,Dimension!$G$3:$H$252,2,FALSE),\"\")","v":""},{"$f":"IF(OR(B169=Dimension!$A$3,B169=Dimension!$A$4,B169=Dimension!$A$5),\"เดินทาง/ท่องเที่ยว\",\"\")","v":""},{"$f":"IF(OR(B169=Dimension!$A$6,B169=Dimension!$A$7,B169=Dimension!$A$8,B169=Dimension!$A$9),\"\",IF(OR(B169=Dimension!$A$3,B169=Dimension!$A$4,B169=Dimension!$A$5),\"สถานประกอบการ\",\"\"))","v":""},{"$f":"IF(OR(B169=Dimension!$A$3,B169=Dimension!$A$4,B169=Dimension!$A$5,B169=Dimension!$A$6,,B169=Dimension!$A$7,B169=Dimension!$A$8,B169=Dimension!$A$9),Payment_ID2,\"\")","v":""},null,{"$f":"IFERROR(VLOOKUP(K169,Dimension!$J$3:$K$179,2,FALSE),\"\")","v":""},null,null,{"$f":"IF(OR(B169=Dimension!$A$6,B169=Dimension!$A$7,B169=Dimension!$A$8,B169=Dimension!$A$9),\"\",IF(OR(B169=Dimension!$A$3,B169=Dimension!$A$4,B169=Dimension!$A$5),\"สถานประกอบการ\",\"\"))","v":""},{"$f":"IF(OR(B169=Dimension!$A$6,B169=Dimension!$A$7,B169=Dimension!$A$8,B169=Dimension!$A$9,B169=\"\"),\"\",Payment_ID2)","v":""},"",null,null,{"$f":"IF(D169=Dimension!$C$9,IF(LEFT(UPPER(E169),2)=\"MC\",TRUE,FALSE),TRUE)","v":true}]
[null,null,null,{"$f":"IF(B170=Dimension!$A$8,Dimension!$C$9,IF(B170=Dimension!$A$6,CD,\"\"))","v":""},null,{"$f":"IF(OR(B170=Dimension!$A$3,B170=Dimension!$A$4,B170=Dimension!$A$6,B170=Dimension!$A$8),CCYA,\"\")","v":""},{"$f":"IFERROR(VLOOKUP(F170,Dimension!$G$3:$H$252,2,FALSE),\"\")","v":""},{"$f":"IF(OR(B170=Dimension!$A$3,B170=Dimension!$A$4,B170=Dimension!$A$5),\"เดินทาง/ท่องเที่ยว\",\"\")","v":""},{"$f":"IF(OR(B170=Dimension!$A$6,B170=Dimension!$A$7,B170=Dimension!$A$8,B170=Dimension!$A$9),\"\",IF(OR(B170=Dimension!$A$3,B170=Dimension!$A$4,B170=Dimension!$A$5),\"สถานประกอบการ\",\"\"))","v":""},{"$f":"IF(OR(B170=Dimension!$A$3,B170=Dimension!$A$4,B170=Dimension!$A$5,B170=Dimension!$A$6,,B170=Dimension!$A$7,B170=Dimension!$A$8,B170=Dimension!$A$9),Payment_ID2,\"\")","v":""},null,{"$f":"IFERROR(VLOOKUP(K170,Dimension!$J$3:$K$179,2,FALSE),\"\")","v":""},null,null,{"$f":"IF(OR(B170=Dimension!$A$6,B170=Dimension!$A$7,B170=Dimension!$A$8,B170=Dimension!$A$9),\"\",IF(OR(B170=Dimension!$A$3,B170=Dimension!$A$4,B170=Dimension!$A$5),\"สถานประกอบการ\",\"\"))","v":""},{"$f":"IF(OR(B170=Dimension!$A$6,B170=Dimension!$A$7,B170=Dimension!$A$8,B170=Dimension!$A$9,B170=\"\"),\"\",Payment_ID2)","v":""},"",null,null,{"$f":"IF(D170=Dimension!$C$9,IF(LEFT(UPPER(E170),2)=\"MC\",TRUE,FALSE),TRUE)","v":true}]
[null,null,null,{"$f":"IF(B171=Dimension!$A$8,Dimension!$C$9,IF(B171=Dimension!$A$6,CD,\"\"))","v":""},null,{"$f":"IF(OR(B171=Dimension!$A$3,B171=Dimension!$A$4,B171=Dimension!$A$6,B171=Dimension!$A$8),CCYA,\"\")","v":""},{"$f":"IFERROR(VLOOKUP(F171,Dimension!$G$3:$H$252,2,FALSE),\"\")","v":""},{"$f":"IF(OR(B171=Dimension!$A$3,B171=Dimension!$A$4,B171=Dimension!$A$5),\"เดินทาง/ท่องเที่ยว\",\"\")","v":""},{"$f":"IF(OR(B171=Dimension!$A$6,B171=Dimension!$A$7,B171=Dimension!$A$8,B171=Dimension!$A$9),\"\",IF(OR(B171=Dimension!$A$3,B171=Dimension!$A$4,B171=Dimension!$A$5),\"สถานประกอบการ\",\"\"))","v":""},{"$f":"IF(OR(B171=Dimension!$A$3,B171=Dimension!$A$4,B171=Dimension!$A$5,B171=Dimension!$A$6,,B171=Dimension!$A$7,B171=Dimension!$A$8,B171=Dimension!$A$9),Payment_ID2,\"\")","v":""},null,{"$f":"IFERROR(VLOOKUP(K171,Dimension!$J$3:$K$179,2,FALSE),\"\")","v":""},null,null,{"$f":"IF(OR(B171=Dimension!$A$6,B171=Dimension!$A$7,B171=Dimension!$A$8,B171=Dimension!$A$9),\"\",IF(OR(B171=Dimension!$A$3,B171=Dimension!$A$4,B171=Dimension!$A$5),\"สถานประกอบการ\",\"\"))","v":""},{"$f":"IF(OR(B171=Dimension!$A$6,B171=Dimension!$A$7,B171=Dimension!$A$8,B171=Dimension!$A$9,B171=\"\"),\"\",Payment_ID2)","v":""},"",null,null,{"$f":"IF(D171=Dimension!$C$9,IF(LEFT(UPPER(E171),2)=\"MC\",TRUE,FALSE),TRUE)","v":true}]
[null,null,null,{"$f":"IF(B172=Dimension!$A$8,Dimension!$C$9,IF(B172=Dimension!$A$6,CD,\"\"))","v":""},null,{"$f":"IF(OR(B172=Dimension!$A$3,B172=Dimension!$A$4,B172=Dimension!$A$6,B172=Dimension!$A$8),CCYA,\"\")","v":""},{"$f":"IFERROR(VLOOKUP(F172,Dimension!$G$3:$H$252,2,FALSE),\"\")","v":""},{"$f":"IF(OR(B172=Dimension!$A$3,B172=Dimension!$A$4,B172=Dimension!$A$5),\"เดินทาง/ท่องเที่ยว\",\"\")","v":""},{"$f":"IF(OR(B172=Dimension!$A$6,B172=Dimension!$A$7,B172=Dimension!$A$8,B172=Dimension!$A$9),\"\",IF(OR(B172=Dimension!$A$3,B172=Dimension!$A$4,B172=Dimension!$A$5),\"สถานประกอบการ\",\"\"))","v":""},{"$f":"IF(OR(B172=Dimension!$A$3,B172=Dimension!$A$4,B172=Dimension!$A$5,B172=Dimension!$A$6,,B172=Dimension!$A$7,B172=Dimension!$A$8,B172=Dimension!$A$9),Payment_ID2,\"\")","v":""},null,{"$f":"IFERROR(VLOOKUP(K172,Dimension!$J$3:$K$179,2,FALSE),\"\")","v":""},null,null,{"$f":"IF(OR(B172=Dimension!$A$6,B172=Dimension!$A$7,B172=Dimension!$A$8,B172=Dimension!$A$9),\"\",IF(OR(B172=Dimension!$A$3,B172=Dimension!$A$4,B172=Dimension!$A$5),\"สถานประกอบการ\",\"\"))","v":""},{"$f":"IF(OR(B172=Dimension!$A$6,B172=Dimension!$A$7,B172=Dimension!$A$8,B172=Dimension!$A$9,B172=\"\"),\"\",Payment_ID2)","v":""},"",null,null,{"$f":"IF(D172=Dimension!$C$9,IF(LEFT(UPPER(E172),2)=\"MC\",TRUE,FALSE),TRUE)","v":true}]
[null,null,null,{"$f":"IF(B173=Dimension!$A$8,Dimension!$C$9,IF(B173=Dimension!$A$6,CD,\"\"))","v":""},null,{"$f":"IF(OR(B173=Dimension!$A$3,B173=Dimension!$A$4,B173=Dimension!$A$6,B173=Dimension!$A$8),CCYA,\"\")","v":""},{"$f":"IFERROR(VLOOKUP(F173,Dimension!$G$3:$H$252,2,FALSE),\"\")","v":""},{"$f":"IF(OR(B173=Dimension!$A$3,B173=Dimension!$A$4,B173=Dimension!$A$5),\"เดินทาง/ท่องเที่ยว\",\"\")","v":""},{"$f":"IF(OR(B173=Dimension!$A$6,B173=Dimension!$A$7,B173=Dimension!$A$8,B173=Dimension!$A$9),\"\",IF(OR(B173=Dimension!$A$3,B173=Dimension!$A$4,B173=Dimension!$A$5),\"สถานประกอบการ\",\"\"))","v":""},{"$f":"IF(OR(B173=Dimension!$A$3,B173=Dimension!$A$4,B173=Dimension!$A$5,B173=Dimension!$A$6,,B173=Dimension!$A$7,B173=Dimension!$A$8,B173=Dimension!$A$9),Payment_ID2,\"\")","v":""},null,{"$f":"IFERROR(VLOOKUP(K173,Dimension!$J$3:$K$179,2,FALSE),\"\")","v":""},null,null,{"$f":"IF(OR(B173=Dimension!$A$6,B173=Dimension!$A$7,B173=Dimension!$A$8,B173=Dimension!$A$9),\"\",IF(OR(B173=Dimension!$A$3,B173=Dimension!$A$4,B173=Dimension!$A$5),\"สถานประกอบการ\",\"\"))","v":""},{"$f":"IF(OR(B173=Dimension!$A$6,B173=Dimension!$A$7,B173=Dimension!$A$8,B173=Dimension!$A$9,B173=\"\"),\"\",Payment_ID2)","v":""},"",null,null,{"$f":"IF(D173=Dimension!$C$9,IF(LEFT(UPPER(E173),2)=\"MC\",TRUE,FALSE),TRUE)","v":true}]
[null,null,null,{"$f":"IF(B174=Dimension!$A$8,Dimension!$C$9,IF(B174=Dimension!$A$6,CD,\"\"))","v":""},null,{"$f":"IF(OR(B174=Dimension!$A$3,B174=Dimension!$A$4,B174=Dimension!$A$6,B174=Dimension!$A$8),CCYA,\"\")","v":""},{"$f":"IFERROR(VLOOKUP(F174,Dimension!$G$3:$H$252,2,FALSE),\"\")","v":""},{"$f":"IF(OR(B174=Dimension!$A$3,B174=Dimension!$A$4,B174=Dimension!$A$5),\"เดินทาง/ท่องเที่ยว\",\"\")","v":""},{"$f":"IF(OR(B174=Dimension!$A$6,B174=Dimension!$A$7,B174=Dimension!$A$8,B174=Dimension!$A$9),\"\",IF(OR(B174=Dimension!$A$3,B174=Dimension!$A$4,B174=Dimension!$A$5),\"สถานประกอบการ\",\"\"))","v":""},{"$f":"IF(OR(B174=Dimension!$A$3,B174=Dimension!$A$4,B174=Dimension!$A$5,B174=Dimension!$A$6,,B174=Dimension!$A$7,B174=Dimension!$A$8,B174=Dimension!$A$9),Payment_ID2,\"\")","v":""},null,{"$f":"IFERROR(VLOOKUP(K174,Dimension!$J$3:$K$179,2,FALSE),\"\")","v":""},null,null,{"$f":"IF(OR(B174=Dimension!$A$6,B174=Dimension!$A$7,B174=Dimension!$A$8,B174=Dimension!$A$9),\"\",IF(OR(B174=Dimension!$A$3,B174=Dimension!$A$4,B174=Dimension!$A$5),\"สถานประกอบการ\",\"\"))","v":""},{"$f":"IF(OR(B174=Dimension!$A$6,B174=Dimension!$A$7,B174=Dimension!$A$8,B174=Dimension!$A$9,B174=\"\"),\"\",Payment_ID2)","v":""},"",null,null,{"$f":"IF(D174=Dimension!$C$9,IF(LEFT(UPPER(E174),2)=\"MC\",TRUE,FALSE),TRUE)","v":true}]
[null,null,null,{"$f":"IF(B175=Dimension!$A$8,Dimension!$C$9,IF(B175=Dimension!$A$6,CD,\"\"))","v":""},null,{"$f":"IF(OR(B175=Dimension!$A$3,B175=Dimension!$A$4,B175=Dimension!$A$6,B175=Dimension!$A$8),CCYA,\"\")","v":""},{"$f":"IFERROR(VLOOKUP(F175,Dimension!$G$3:$H$252,2,FALSE),\"\")","v":""},{"$f":"IF(OR(B175=Dimension!$A$3,B175=Dimension!$A$4,B175=Dimension!$A$5),\"เดินทาง/ท่องเที่ยว\",\"\")","v":""},{"$f":"IF(OR(B175=Dimension!$A$6,B175=Dimension!$A$7,B175=Dimension!$A$8,B175=Dimension!$A$9),\"\",IF(OR(B175=Dimension!$A$3,B175=Dimension!$A$4,B175=Dimension!$A$5),\"สถานประกอบการ\",\"\"))","v":""},{"$f":"IF(OR(B175=Dimension!$A$3,B175=Dimension!$A$4,B175=Dimension!$A$5,B175=Dimension!$A$6,,B175=Dimension!$A$7,B175=Dimension!$A$8,B175=Dimension!$A$9),Payment_ID2,\"\")","v":""},null,{"$f":"IFERROR(VLOOKUP(K175,Dimension!$J$3:$K$179,2,FALSE),\"\")","v":""},null,null,{"$f":"IF(OR(B175=Dimension!$A$6,B175=Dimension!$A$7,B175=Dimension!$A$8,B175=Dimension!$A$9),\"\",IF(OR(B175=Dimension!$A$3,B175=Dimension!$A$4,B175=Dimension!$A$5),\"สถานประกอบการ\",\"\"))","v":""},{"$f":"IF(OR(B175=Dimension!$A$6,B175=Dimension!$A$7,B175=Dimension!$A$8,B175=Dimension!$A$9,B175=\"\"),\"\",Payment_ID2)","v":""},"",null,null,{"$f":"IF(D175=Dimension!$C$9,IF(LEFT(UPPER(E175),2)=\"MC\",TRUE,FALSE),TRUE)","v":true}]
[null,null,null,{"$f":"IF(B176=Dimension!$A$8,Dimension!$C$9,IF(B176=Dimension!$A$6,CD,\"\"))","v":""},null,{"$f":"IF(OR(B176=Dimension!$A$3,B176=Dimension!$A$4,B176=Dimension!$A$6,B176=Dimension!$A$8),CCYA,\"\")","v":""},{"$f":"IFERROR(VLOOKUP(F176,Dimension!$G$3:$H$252,2,FALSE),\"\")","v":""},{"$f":"IF(OR(B176=Dimension!$A$3,B176=Dimension!$A$4,B176=Dimension!$A$5),\"เดินทาง/ท่องเที่ยว\",\"\")","v":""},{"$f":"IF(OR(B176=Dimension!$A$6,B176=Dimension!$A$7,B176=Dimension!$A$8,B176=Dimension!$A$9),\"\",IF(OR(B176=Dimension!$A$3,B176=Dimension!$A$4,B176=Dimension!$A$5),\"สถานประกอบการ\",\"\"))","v":""},{"$f":"IF(OR(B176=Dimension!$A$3,B176=Dimension!$A$4,B176=Dimension!$A$5,B176=Dimension!$A$6,,B176=Dimension!$A$7,B176=Dimension!$A$8,B176=Dimension!$A$9),Payment_ID2,\"\")","v":""},null,{"$f":"IFERROR(VLOOKUP(K176,Dimension!$J$3:$K$179,2,FALSE),\"\")","v":""},null,null,{"$f":"IF(OR(B176=Dimension!$A$6,B176=Dimension!$A$7,B176=Dimension!$A$8,B176=Dimension!$A$9),\"\",IF(OR(B176=Dimension!$A$3,B176=Dimension!$A$4,B176=Dimension!$A$5),\"สถานประกอบการ\",\"\"))","v":""},{"$f":"IF(OR(B176=Dimension!$A$6,B176=Dimension!$A$7,B176=Dimension!$A$8,B176=Dimension!$A$9,B176=\"\"),\"\",Payment_ID2)","v":""},"",null,null,{"$f":"IF(D176=Dimension!$C$9,IF(LEFT(UPPER(E176),2)=\"MC\",TRUE,FALSE),TRUE)","v":true}]
[null,null,null,{"$f":"IF(B177=Dimension!$A$8,Dimension!$C$9,IF(B177=Dimension!$A$6,CD,\"\"))","v":""},null,{"$f":"IF(OR(B177=Dimension!$A$3,B177=Dimension!$A$4,B177=Dimension!$A$6,B177=Dimension!$A$8),CCYA,\"\")","v":""},{"$f":"IFERROR(VLOOKUP(F177,Dimension!$G$3:$H$252,2,FALSE),\"\")","v":""},{"$f":"IF(OR(B177=Dimension!$A$3,B177=Dimension!$A$4,B177=Dimension!$A$5),\"เดินทาง/ท่องเที่ยว\",\"\")","v":""},{"$f":"IF(OR(B177=Dimension!$A$6,B177=Dimension!$A$7,B177=Dimension!$A$8,B177=Dimension!$A$9),\"\",IF(OR(B177=Dimension!$A$3,B177=Dimension!$A$4,B177=Dimension!$A$5),\"สถานประกอบการ\",\"\"))","v":""},{"$f":"IF(OR(B177=Dimension!$A$3,B177=Dimension!$A$4,B177=Dimension!$A$5,B177=Dimension!$A$6,,B177=Dimension!$A$7,B177=Dimension!$A$8,B177=Dimension!$A$9),Payment_ID2,\"\")","v":""},null,{"$f":"IFERROR(VLOOKUP(K177,Dimension!$J$3:$K$179,2,FALSE),\"\")","v":""},null,null,{"$f":"IF(OR(B177=Dimension!$A$6,B177=Dimension!$A$7,B177=Dimension!$A$8,B177=Dimension!$A$9),\"\",IF(OR(B177=Dimension!$A$3,B177=Dimension!$A$4,B177=Dimension!$A$5),\"สถานประกอบการ\",\"\"))","v":""},{"$f":"IF(OR(B177=Dimension!$A$6,B177=Dimension!$A$7,B177=Dimension!$A$8,B177=Dimension!$A$9,B177=\"\"),\"\",Payment_ID2)","v":""},"",null,null,{"$f":"IF(D177=Dimension!$C$9,IF(LEFT(UPPER(E177),2)=\"MC\",TRUE,FALSE),TRUE)","v":true}]
[null,null,null,{"$f":"IF(B178=Dimension!$A$8,Dimension!$C$9,IF(B178=Dimension!$A$6,CD,\"\"))","v":""},null,{"$f":"IF(OR(B178=Dimension!$A$3,B178=Dimension!$A$4,B178=Dimension!$A$6,B178=Dimension!$A$8),CCYA,\"\")","v":""},{"$f":"IFERROR(VLOOKUP(F178,Dimension!$G$3:$H$252,2,FALSE),\"\")","v":""},{"$f":"IF(OR(B178=Dimension!$A$3,B178=Dimension!$A$4,B178=Dimension!$A$5),\"เดินทาง/ท่องเที่ยว\",\"\")","v":""},{"$f":"IF(OR(B178=Dimension!$A$6,B178=Dimension!$A$7,B178=Dimension!$A$8,B178=Dimension!$A$9),\"\",IF(OR(B178=Dimension!$A$3,B178=Dimension!$A$4,B178=Dimension!$A$5),\"สถานประกอบการ\",\"\"))","v":""},{"$f":"IF(OR(B178=Dimension!$A$3,B178=Dimension!$A$4,B178=Dimension!$A$5,B178=Dimension!$A$6,,B178=Dimension!$A$7,B178=Dimension!$A$8,B178=Dimension!$A$9),Payment_ID2,\"\")","v":""},null,{"$f":"IFERROR(VLOOKUP(K178,Dimension!$J$3:$K$179,2,FALSE),\"\")","v":""},null,null,{"$f":"IF(OR(B178=Dimension!$A$6,B178=Dimension!$A$7,B178=Dimension!$A$8,B178=Dimension!$A$9),\"\",IF(OR(B178=Dimension!$A$3,B178=Dimension!$A$4,B178=Dimension!$A$5),\"สถานประกอบการ\",\"\"))","v":""},{"$f":"IF(OR(B178=Dimension!$A$6,B178=Dimension!$A$7,B178=Dimension!$A$8,B178=Dimension!$A$9,B178=\"\"),\"\",Payment_ID2)","v":""},"",null,null,{"$f":"IF(D178=Dimension!$C$9,IF(LEFT(UPPER(E178),2)=\"MC\",TRUE,FALSE),TRUE)","v":true}]
[null,null,null,{"$f":"IF(B179=Dimension!$A$8,Dimension!$C$9,IF(B179=Dimension!$A$6,CD,\"\"))","v":""},null,{"$f":"IF(OR(B179=Dimension!$A$3,B179=Dimension!$A$4,B179=Dimension!$A$6,B179=Dimension!$A$8),CCYA,\"\")","v":""},{"$f":"IFERROR(VLOOKUP(F179,Dimension!$G$3:$H$252,2,FALSE),\"\")","v":""},{"$f":"IF(OR(B179=Dimension!$A$3,B179=Dimension!$A$4,B179=Dimension!$A$5),\"เดินทาง/ท่องเที่ยว\",\"\")","v":""},{"$f":"IF(OR(B179=Dimension!$A$6,B179=Dimension!$A$7,B179=Dimension!$A$8,B179=Dimension!$A$9),\"\",IF(OR(B179=Dimension!$A$3,B179=Dimension!$A$4,B179=Dimension!$A$5),\"สถานประกอบการ\",\"\"))","v":""},{"$f":"IF(OR(B179=Dimension!$A$3,B179=Dimension!$A$4,B179=Dimension!$A$5,B179=Dimension!$A$6,,B179=Dimension!$A$7,B179=Dimension!$A$8,B179=Dimension!$A$9),Payment_ID2,\"\")","v":""},null,{"$f":"IFERROR(VLOOKUP(K179,Dimension!$J$3:$K$179,2,FALSE),\"\")","v":""},null,null,{"$f":"IF(OR(B179=Dimension!$A$6,B179=Dimension!$A$7,B179=Dimension!$A$8,B179=Dimension!$A$9),\"\",IF(OR(B179=Dimension!$A$3,B179=Dimension!$A$4,B179=Dimension!$A$5),\"สถานประกอบการ\",\"\"))","v":""},{"$f":"IF(OR(B179=Dimension!$A$6,B179=Dimension!$A$7,B179=Dimension!$A$8,B179=Dimension!$A$9,B179=\"\"),\"\",Payment_ID2)","v":""},"",null,null,{"$f":"IF(D179=Dimension!$C$9,IF(LEFT(UPPER(E179),2)=\"MC\",TRUE,FALSE),TRUE)","v":true}]
[null,null,null,{"$f":"IF(B180=Dimension!$A$8,Dimension!$C$9,IF(B180=Dimension!$A$6,CD,\"\"))","v":""},null,{"$f":"IF(OR(B180=Dimension!$A$3,B180=Dimension!$A$4,B180=Dimension!$A$6,B180=Dimension!$A$8),CCYA,\"\")","v":""},{"$f":"IFERROR(VLOOKUP(F180,Dimension!$G$3:$H$252,2,FALSE),\"\")","v":""},{"$f":"IF(OR(B180=Dimension!$A$3,B180=Dimension!$A$4,B180=Dimension!$A$5),\"เดินทาง/ท่องเที่ยว\",\"\")","v":""},{"$f":"IF(OR(B180=Dimension!$A$6,B180=Dimension!$A$7,B180=Dimension!$A$8,B180=Dimension!$A$9),\"\",IF(OR(B180=Dimension!$A$3,B180=Dimension!$A$4,B180=Dimension!$A$5),\"สถานประกอบการ\",\"\"))","v":""},{"$f":"IF(OR(B180=Dimension!$A$3,B180=Dimension!$A$4,B180=Dimension!$A$5,B180=Dimension!$A$6,,B180=Dimension!$A$7,B180=Dimension!$A$8,B180=Dimension!$A$9),Payment_ID2,\"\")","v":""},null,{"$f":"IFERROR(VLOOKUP(K180,Dimension!$J$3:$K$179,2,FALSE),\"\")","v":""},null,null,{"$f":"IF(OR(B180=Dimension!$A$6,B180=Dimension!$A$7,B180=Dimension!$A$8,B180=Dimension!$A$9),\"\",IF(OR(B180=Dimension!$A$3,B180=Dimension!$A$4,B180=Dimension!$A$5),\"สถานประกอบการ\",\"\"))","v":""},{"$f":"IF(OR(B180=Dimension!$A$6,B180=Dimension!$A$7,B180=Dimension!$A$8,B180=Dimension!$A$9,B180=\"\"),\"\",Payment_ID2)","v":""},"",null,null,{"$f":"IF(D180=Dimension!$C$9,IF(LEFT(UPPER(E180),2)=\"MC\",TRUE,FALSE),TRUE)","v":true}]
[null,null,null,{"$f":"IF(B181=Dimension!$A$8,Dimension!$C$9,IF(B181=Dimension!$A$6,CD,\"\"))","v":""},null,{"$f":"IF(OR(B181=Dimension!$A$3,B181=Dimension!$A$4,B181=Dimension!$A$6,B181=Dimension!$A$8),CCYA,\"\")","v":""},{"$f":"IFERROR(VLOOKUP(F181,Dimension!$G$3:$H$252,2,FALSE),\"\")","v":""},{"$f":"IF(OR(B181=Dimension!$A$3,B181=Dimension!$A$4,B181=Dimension!$A$5),\"เดินทาง/ท่องเที่ยว\",\"\")","v":""},{"$f":"IF(OR(B181=Dimension!$A$6,B181=Dimension!$A$7,B181=Dimension!$A$8,B181=Dimension!$A$9),\"\",IF(OR(B181=Dimension!$A$3,B181=Dimension!$A$4,B181=Dimension!$A$5),\"สถานประกอบการ\",\"\"))","v":""},{"$f":"IF(OR(B181=Dimension!$A$3,B181=Dimension!$A$4,B181=Dimension!$A$5,B181=Dimension!$A$6,,B181=Dimension!$A$7,B181=Dimension!$A$8,B181=Dimension!$A$9),Payment_ID2,\"\")","v":""},null,{"$f":"IFERROR(VLOOKUP(K181,Dimension!$J$3:$K$179,2,FALSE),\"\")","v":""},null,null,{"$f":"IF(OR(B181=Dimension!$A$6,B181=Dimension!$A$7,B181=Dimension!$A$8,B181=Dimension!$A$9),\"\",IF(OR(B181=Dimension!$A$3,B181=Dimension!$A$4,B181=Dimension!$A$5),\"สถานประกอบการ\",\"\"))","v":""},{"$f":"IF(OR(B181=Dimension!$A$6,B181=Dimension!$A$7,B181=Dimension!$A$8,B181=Dimension!$A$9,B181=\"\"),\"\",Payment_ID2)","v":""},"",null,null,{"$f":"IF(D181=Dimension!$C$9,IF(LEFT(UPPER(E181),2)=\"MC\",TRUE,FALSE),TRUE)","v":true}]
[null,null,null,{"$f":"IF(B182=Dimension!$A$8,Dimension!$C$9,IF(B182=Dimension!$A$6,CD,\"\"))","v":""},null,{"$f":"IF(OR(B182=Dimension!$A$3,B182=Dimension!$A$4,B182=Dimension!$A$6,B182=Dimension!$A$8),CCYA,\"\")","v":""},{"$f":"IFERROR(VLOOKUP(F182,Dimension!$G$3:$H$252,2,FALSE),\"\")","v":""},{"$f":"IF(OR(B182=Dimension!$A$3,B182=Dimension!$A$4,B182=Dimension!$A$5),\"เดินทาง/ท่องเที่ยว\",\"\")","v":""},{"$f":"IF(OR(B182=Dimension!$A$6,B182=Dimension!$A$7,B182=Dimension!$A$8,B182=Dimension!$A$9),\"\",IF(OR(B182=Dimension!$A$3,B182=Dimension!$A$4,B182=Dimension!$A$5),\"สถานประกอบการ\",\"\"))","v":""},{"$f":"IF(OR(B182=Dimension!$A$3,B182=Dimension!$A$4,B182=Dimension!$A$5,B182=Dimension!$A$6,,B182=Dimension!$A$7,B182=Dimension!$A$8,B182=Dimension!$A$9),Payment_ID2,\"\")","v":""},null,{"$f":"IFERROR(VLOOKUP(K182,Dimension!$J$3:$K$179,2,FALSE),\"\")","v":""},null,null,{"$f":"IF(OR(B182=Dimension!$A$6,B182=Dimension!$A$7,B182=Dimension!$A$8,B182=Dimension!$A$9),\"\",IF(OR(B182=Dimension!$A$3,B182=Dimension!$A$4,B182=Dimension!$A$5),\"สถานประกอบการ\",\"\"))","v":""},{"$f":"IF(OR(B182=Dimension!$A$6,B182=Dimension!$A$7,B182=Dimension!$A$8,B182=Dimension!$A$9,B182=\"\"),\"\",Payment_ID2)","v":""},"",null,null,{"$f":"IF(D182=Dimension!$C$9,IF(LEFT(UPPER(E182),2)=\"MC\",TRUE,FALSE),TRUE)","v":true}]
[null,null,null,{"$f":"IF(B183=Dimension!$A$8,Dimension!$C$9,IF(B183=Dimension!$A$6,CD,\"\"))","v":""},null,{"$f":"IF(OR(B183=Dimension!$A$3,B183=Dimension!$A$4,B183=Dimension!$A$6,B183=Dimension!$A$8),CCYA,\"\")","v":""},{"$f":"IFERROR(VLOOKUP(F183,Dimension!$G$3:$H$252,2,FALSE),\"\")","v":""},{"$f":"IF(OR(B183=Dimension!$A$3,B183=Dimension!$A$4,B183=Dimension!$A$5),\"เดินทาง/ท่องเที่ยว\",\"\")","v":""},{"$f":"IF(OR(B183=Dimension!$A$6,B183=Dimension!$A$7,B183=Dimension!$A$8,B183=Dimension!$A$9),\"\",IF(OR(B183=Dimension!$A$3,B183=Dimension!$A$4,B183=Dimension!$A$5),\"สถานประกอบการ\",\"\"))","v":""},{"$f":"IF(OR(B183=Dimension!$A$3,B183=Dimension!$A$4,B183=Dimension!$A$5,B183=Dimension!$A$6,,B183=Dimension!$A$7,B183=Dimension!$A$8,B183=Dimension!$A$9),Payment_ID2,\"\")","v":""},null,{"$f":"IFERROR(VLOOKUP(K183,Dimension!$J$3:$K$179,2,FALSE),\"\")","v":""},null,null,{"$f":"IF(OR(B183=Dimension!$A$6,B183=Dimension!$A$7,B183=Dimension!$A$8,B183=Dimension!$A$9),\"\",IF(OR(B183=Dimension!$A$3,B183=Dimension!$A$4,B183=Dimension!$A$5),\"สถานประกอบการ\",\"\"))","v":""},{"$f":"IF(OR(B183=Dimension!$A$6,B183=Dimension!$A$7,B183=Dimension!$A$8,B183=Dimension!$A$9,B183=\"\"),\"\",Payment_ID2)","v":""},"",null,null,{"$f":"IF(D183=Dimension!$C$9,IF(LEFT(UPPER(E183),2)=\"MC\",TRUE,FALSE),TRUE)","v":true}]
[null,null,null,{"$f":"IF(B184=Dimension!$A$8,Dimension!$C$9,IF(B184=Dimension!$A$6,CD,\"\"))","v":""},null,{"$f":"IF(OR(B184=Dimension!$A$3,B184=Dimension!$A$4,B184=Dimension!$A$6,B184=Dimension!$A$8),CCYA,\"\")","v":""},{"$f":"IFERROR(VLOOKUP(F184,Dimension!$G$3:$H$252,2,FALSE),\"\")","v":""},{"$f":"IF(OR(B184=Dimension!$A$3,B184=Dimension!$A$4,B184=Dimension!$A$5),\"เดินทาง/ท่องเที่ยว\",\"\")","v":""},{"$f":"IF(OR(B184=Dimension!$A$6,B184=Dimension!$A$7,B184=Dimension!$A$8,B184=Dimension!$A$9),\"\",IF(OR(B184=Dimension!$A$3,B184=Dimension!$A$4,B184=Dimension!$A$5),\"สถานประกอบการ\",\"\"))","v":""},{"$f":"IF(OR(B184=Dimension!$A$3,B184=Dimension!$A$4,B184=Dimension!$A$5,B184=Dimension!$A$6,,B184=Dimension!$A$7,B184=Dimension!$A$8,B184=Dimension!$A$9),Payment_ID2,\"\")","v":""},null,{"$f":"IFERROR(VLOOKUP(K184,Dimension!$J$3:$K$179,2,FALSE),\"\")","v":""},null,null,{"$f":"IF(OR(B184=Dimension!$A$6,B184=Dimension!$A$7,B184=Dimension!$A$8,B184=Dimension!$A$9),\"\",IF(OR(B184=Dimension!$A$3,B184=Dimension!$A$4,B184=Dimension!$A$5),\"สถานประกอบการ\",\"\"))","v":""},{"$f":"IF(OR(B184=Dimension!$A$6,B184=Dimension!$A$7,B184=Dimension!$A$8,B184=Dimension!$A$9,B184=\"\"),\"\",Payment_ID2)","v":""},"",null,null,{"$f":"IF(D184=Dimension!$C$9,IF(LEFT(UPPER(E184),2)=\"MC\",TRUE,FALSE),TRUE)","v":true}]
[null,null,null,{"$f":"IF(B185=Dimension!$A$8,Dimension!$C$9,IF(B185=Dimension!$A$6,CD,\"\"))","v":""},null,{"$f":"IF(OR(B185=Dimension!$A$3,B185=Dimension!$A$4,B185=Dimension!$A$6,B185=Dimension!$A$8),CCYA,\"\")","v":""},{"$f":"IFERROR(VLOOKUP(F185,Dimension!$G$3:$H$252,2,FALSE),\"\")","v":""},{"$f":"IF(OR(B185=Dimension!$A$3,B185=Dimension!$A$4,B185=Dimension!$A$5),\"เดินทาง/ท่องเที่ยว\",\"\")","v":""},{"$f":"IF(OR(B185=Dimension!$A$6,B185=Dimension!$A$7,B185=Dimension!$A$8,B185=Dimension!$A$9),\"\",IF(OR(B185=Dimension!$A$3,B185=Dimension!$A$4,B185=Dimension!$A$5),\"สถานประกอบการ\",\"\"))","v":""},{"$f":"IF(OR(B185=Dimension!$A$3,B185=Dimension!$A$4,B185=Dimension!$A$5,B185=Dimension!$A$6,,B185=Dimension!$A$7,B185=Dimension!$A$8,B185=Dimension!$A$9),Payment_ID2,\"\")","v":""},null,{"$f":"IFERROR(VLOOKUP(K185,Dimension!$J$3:$K$179,2,FALSE),\"\")","v":""},null,null,{"$f":"IF(OR(B185=Dimension!$A$6,B185=Dimension!$A$7,B185=Dimension!$A$8,B185=Dimension!$A$9),\"\",IF(OR(B185=Dimension!$A$3,B185=Dimension!$A$4,B185=Dimension!$A$5),\"สถานประกอบการ\",\"\"))","v":""},{"$f":"IF(OR(B185=Dimension!$A$6,B185=Dimension!$A$7,B185=Dimension!$A$8,B185=Dimension!$A$9,B185=\"\"),\"\",Payment_ID2)","v":""},"",null,null,{"$f":"IF(D185=Dimension!$C$9,IF(LEFT(UPPER(E185),2)=\"MC\",TRUE,FALSE),TRUE)","v":true}]
[null,null,null,{"$f":"IF(B186=Dimension!$A$8,Dimension!$C$9,IF(B186=Dimension!$A$6,CD,\"\"))","v":""},null,{"$f":"IF(OR(B186=Dimension!$A$3,B186=Dimension!$A$4,B186=Dimension!$A$6,B186=Dimension!$A$8),CCYA,\"\")","v":""},{"$f":"IFERROR(VLOOKUP(F186,Dimension!$G$3:$H$252,2,FALSE),\"\")","v":""},{"$f":"IF(OR(B186=Dimension!$A$3,B186=Dimension!$A$4,B186=Dimension!$A$5),\"เดินทาง/ท่องเที่ยว\",\"\")","v":""},{"$f":"IF(OR(B186=Dimension!$A$6,B186=Dimension!$A$7,B186=Dimension!$A$8,B186=Dimension!$A$9),\"\",IF(OR(B186=Dimension!$A$3,B186=Dimension!$A$4,B186=Dimension!$A$5),\"สถานประกอบการ\",\"\"))","v":""},{"$f":"IF(OR(B186=Dimension!$A$3,B186=Dimension!$A$4,B186=Dimension!$A$5,B186=Dimension!$A$6,,B186=Dimension!$A$7,B186=Dimension!$A$8,B186=Dimension!$A$9),Payment_ID2,\"\")","v":""},null,{"$f":"IFERROR(VLOOKUP(K186,Dimension!$J$3:$K$179,2,FALSE),\"\")","v":""},null,null,{"$f":"IF(OR(B186=Dimension!$A$6,B186=Dimension!$A$7,B186=Dimension!$A$8,B186=Dimension!$A$9),\"\",IF(OR(B186=Dimension!$A$3,B186=Dimension!$A$4,B186=Dimension!$A$5),\"สถานประกอบการ\",\"\"))","v":""},{"$f":"IF(OR(B186=Dimension!$A$6,B186=Dimension!$A$7,B186=Dimension!$A$8,B186=Dimension!$A$9,B186=\"\"),\"\",Payment_ID2)","v":""},"",null,null,{"$f":"IF(D186=Dimension!$C$9,IF(LEFT(UPPER(E186),2)=\"MC\",TRUE,FALSE),TRUE)","v":true}]
[null,null,null,{"$f":"IF(B187=Dimension!$A$8,Dimension!$C$9,IF(B187=Dimension!$A$6,CD,\"\"))","v":""},null,{"$f":"IF(OR(B187=Dimension!$A$3,B187=Dimension!$A$4,B187=Dimension!$A$6,B187=Dimension!$A$8),CCYA,\"\")","v":""},{"$f":"IFERROR(VLOOKUP(F187,Dimension!$G$3:$H$252,2,FALSE),\"\")","v":""},{"$f":"IF(OR(B187=Dimension!$A$3,B187=Dimension!$A$4,B187=Dimension!$A$5),\"เดินทาง/ท่องเที่ยว\",\"\")","v":""},{"$f":"IF(OR(B187=Dimension!$A$6,B187=Dimension!$A$7,B187=Dimension!$A$8,B187=Dimension!$A$9),\"\",IF(OR(B187=Dimension!$A$3,B187=Dimension!$A$4,B187=Dimension!$A$5),\"สถานประกอบการ\",\"\"))","v":""},{"$f":"IF(OR(B187=Dimension!$A$3,B187=Dimension!$A$4,B187=Dimension!$A$5,B187=Dimension!$A$6,,B187=Dimension!$A$7,B187=Dimension!$A$8,B187=Dimension!$A$9),Payment_ID2,\"\")","v":""},null,{"$f":"IFERROR(VLOOKUP(K187,Dimension!$J$3:$K$179,2,FALSE),\"\")","v":""},null,null,{"$f":"IF(OR(B187=Dimension!$A$6,B187=Dimension!$A$7,B187=Dimension!$A$8,B187=Dimension!$A$9),\"\",IF(OR(B187=Dimension!$A$3,B187=Dimension!$A$4,B187=Dimension!$A$5),\"สถานประกอบการ\",\"\"))","v":""},{"$f":"IF(OR(B187=Dimension!$A$6,B187=Dimension!$A$7,B187=Dimension!$A$8,B187=Dimension!$A$9,B187=\"\"),\"\",Payment_ID2)","v":""},"",null,null,{"$f":"IF(D187=Dimension!$C$9,IF(LEFT(UPPER(E187),2)=\"MC\",TRUE,FALSE),TRUE)","v":true}]
[null,null,null,{"$f":"IF(B188=Dimension!$A$8,Dimension!$C$9,IF(B188=Dimension!$A$6,CD,\"\"))","v":""},null,{"$f":"IF(OR(B188=Dimension!$A$3,B188=Dimension!$A$4,B188=Dimension!$A$6,B188=Dimension!$A$8),CCYA,\"\")","v":""},{"$f":"IFERROR(VLOOKUP(F188,Dimension!$G$3:$H$252,2,FALSE),\"\")","v":""},{"$f":"IF(OR(B188=Dimension!$A$3,B188=Dimension!$A$4,B188=Dimension!$A$5),\"เดินทาง/ท่องเที่ยว\",\"\")","v":""},{"$f":"IF(OR(B188=Dimension!$A$6,B188=Dimension!$A$7,B188=Dimension!$A$8,B188=Dimension!$A$9),\"\",IF(OR(B188=Dimension!$A$3,B188=Dimension!$A$4,B188=Dimension!$A$5),\"สถานประกอบการ\",\"\"))","v":""},{"$f":"IF(OR(B188=Dimension!$A$3,B188=Dimension!$A$4,B188=Dimension!$A$5,B188=Dimension!$A$6,,B188=Dimension!$A$7,B188=Dimension!$A$8,B188=Dimension!$A$9),Payment_ID2,\"\")","v":""},null,{"$f":"IFERROR(VLOOKUP(K188,Dimension!$J$3:$K$179,2,FALSE),\"\")","v":""},null,null,{"$f":"IF(OR(B188=Dimension!$A$6,B188=Dimension!$A$7,B188=Dimension!$A$8,B188=Dimension!$A$9),\"\",IF(OR(B188=Dimension!$A$3,B188=Dimension!$A$4,B188=Dimension!$A$5),\"สถานประกอบการ\",\"\"))","v":""},{"$f":"IF(OR(B188=Dimension!$A$6,B188=Dimension!$A$7,B188=Dimension!$A$8,B188=Dimension!$A$9,B188=\"\"),\"\",Payment_ID2)","v":""},"",null,null,{"$f":"IF(D188=Dimension!$C$9,IF(LEFT(UPPER(E188),2)=\"MC\",TRUE,FALSE),TRUE)","v":true}]
[null,null,null,{"$f":"IF(B189=Dimension!$A$8,Dimension!$C$9,IF(B189=Dimension!$A$6,CD,\"\"))","v":""},null,{"$f":"IF(OR(B189=Dimension!$A$3,B189=Dimension!$A$4,B189=Dimension!$A$6,B189=Dimension!$A$8),CCYA,\"\")","v":""},{"$f":"IFERROR(VLOOKUP(F189,Dimension!$G$3:$H$252,2,FALSE),\"\")","v":""},{"$f":"IF(OR(B189=Dimension!$A$3,B189=Dimension!$A$4,B189=Dimension!$A$5),\"เดินทาง/ท่องเที่ยว\",\"\")","v":""},{"$f":"IF(OR(B189=Dimension!$A$6,B189=Dimension!$A$7,B189=Dimension!$A$8,B189=Dimension!$A$9),\"\",IF(OR(B189=Dimension!$A$3,B189=Dimension!$A$4,B189=Dimension!$A$5),\"สถานประกอบการ\",\"\"))","v":""},{"$f":"IF(OR(B189=Dimension!$A$3,B189=Dimension!$A$4,B189=Dimension!$A$5,B189=Dimension!$A$6,,B189=Dimension!$A$7,B189=Dimension!$A$8,B189=Dimension!$A$9),Payment_ID2,\"\")","v":""},null,{"$f":"IFERROR(VLOOKUP(K189,Dimension!$J$3:$K$179,2,FALSE),\"\")","v":""},null,null,{"$f":"IF(OR(B189=Dimension!$A$6,B189=Dimension!$A$7,B189=Dimension!$A$8,B189=Dimension!$A$9),\"\",IF(OR(B189=Dimension!$A$3,B189=Dimension!$A$4,B189=Dimension!$A$5),\"สถานประกอบการ\",\"\"))","v":""},{"$f":"IF(OR(B189=Dimension!$A$6,B189=Dimension!$A$7,B189=Dimension!$A$8,B189=Dimension!$A$9,B189=\"\"),\"\",Payment_ID2)","v":""},"",null,null,{"$f":"IF(D189=Dimension!$C$9,IF(LEFT(UPPER(E189),2)=\"MC\",TRUE,FALSE),TRUE)","v":true}]
[null,null,null,{"$f":"IF(B190=Dimension!$A$8,Dimension!$C$9,IF(B190=Dimension!$A$6,CD,\"\"))","v":""},null,{"$f":"IF(OR(B190=Dimension!$A$3,B190=Dimension!$A$4,B190=Dimension!$A$6,B190=Dimension!$A$8),CCYA,\"\")","v":""},{"$f":"IFERROR(VLOOKUP(F190,Dimension!$G$3:$H$252,2,FALSE),\"\")","v":""},{"$f":"IF(OR(B190=Dimension!$A$3,B190=Dimension!$A$4,B190=Dimension!$A$5),\"เดินทาง/ท่องเที่ยว\",\"\")","v":""},{"$f":"IF(OR(B190=Dimension!$A$6,B190=Dimension!$A$7,B190=Dimension!$A$8,B190=Dimension!$A$9),\"\",IF(OR(B190=Dimension!$A$3,B190=Dimension!$A$4,B190=Dimension!$A$5),\"สถานประกอบการ\",\"\"))","v":""},{"$f":"IF(OR(B190=Dimension!$A$3,B190=Dimension!$A$4,B190=Dimension!$A$5,B190=Dimension!$A$6,,B190=Dimension!$A$7,B190=Dimension!$A$8,B190=Dimension!$A$9),Payment_ID2,\"\")","v":""},null,{"$f":"IFERROR(VLOOKUP(K190,Dimension!$J$3:$K$179,2,FALSE),\"\")","v":""},null,null,{"$f":"IF(OR(B190=Dimension!$A$6,B190=Dimension!$A$7,B190=Dimension!$A$8,B190=Dimension!$A$9),\"\",IF(OR(B190=Dimension!$A$3,B190=Dimension!$A$4,B190=Dimension!$A$5),\"สถานประกอบการ\",\"\"))","v":""},{"$f":"IF(OR(B190=Dimension!$A$6,B190=Dimension!$A$7,B190=Dimension!$A$8,B190=Dimension!$A$9,B190=\"\"),\"\",Payment_ID2)","v":""},"",null,null,{"$f":"IF(D190=Dimension!$C$9,IF(LEFT(UPPER(E190),2)=\"MC\",TRUE,FALSE),TRUE)","v":true}]
[null,null,null,{"$f":"IF(B191=Dimension!$A$8,Dimension!$C$9,IF(B191=Dimension!$A$6,CD,\"\"))","v":""},null,{"$f":"IF(OR(B191=Dimension!$A$3,B191=Dimension!$A$4,B191=Dimension!$A$6,B191=Dimension!$A$8),CCYA,\"\")","v":""},{"$f":"IFERROR(VLOOKUP(F191,Dimension!$G$3:$H$252,2,FALSE),\"\")","v":""},{"$f":"IF(OR(B191=Dimension!$A$3,B191=Dimension!$A$4,B191=Dimension!$A$5),\"เดินทาง/ท่องเที่ยว\",\"\")","v":""},{"$f":"IF(OR(B191=Dimension!$A$6,B191=Dimension!$A$7,B191=Dimension!$A$8,B191=Dimension!$A$9),\"\",IF(OR(B191=Dimension!$A$3,B191=Dimension!$A$4,B191=Dimension!$A$5),\"สถานประกอบการ\",\"\"))","v":""},{"$f":"IF(OR(B191=Dimension!$A$3,B191=Dimension!$A$4,B191=Dimension!$A$5,B191=Dimension!$A$6,,B191=Dimension!$A$7,B191=Dimension!$A$8,B191=Dimension!$A$9),Payment_ID2,\"\")","v":""},null,{"$f":"IFERROR(VLOOKUP(K191,Dimension!$J$3:$K$179,2,FALSE),\"\")","v":""},null,null,{"$f":"IF(OR(B191=Dimension!$A$6,B191=Dimension!$A$7,B191=Dimension!$A$8,B191=Dimension!$A$9),\"\",IF(OR(B191=Dimension!$A$3,B191=Dimension!$A$4,B191=Dimension!$A$5),\"สถานประกอบการ\",\"\"))","v":""},{"$f":"IF(OR(B191=Dimension!$A$6,B191=Dimension!$A$7,B191=Dimension!$A$8,B191=Dimension!$A$9,B191=\"\"),\"\",Payment_ID2)","v":""},"",null,null,{"$f":"IF(D191=Dimension!$C$9,IF(LEFT(UPPER(E191),2)=\"MC\",TRUE,FALSE),TRUE)","v":true}]
[null,null,null,{"$f":"IF(B192=Dimension!$A$8,Dimension!$C$9,IF(B192=Dimension!$A$6,CD,\"\"))","v":""},null,{"$f":"IF(OR(B192=Dimension!$A$3,B192=Dimension!$A$4,B192=Dimension!$A$6,B192=Dimension!$A$8),CCYA,\"\")","v":""},{"$f":"IFERROR(VLOOKUP(F192,Dimension!$G$3:$H$252,2,FALSE),\"\")","v":""},{"$f":"IF(OR(B192=Dimension!$A$3,B192=Dimension!$A$4,B192=Dimension!$A$5),\"เดินทาง/ท่องเที่ยว\",\"\")","v":""},{"$f":"IF(OR(B192=Dimension!$A$6,B192=Dimension!$A$7,B192=Dimension!$A$8,B192=Dimension!$A$9),\"\",IF(OR(B192=Dimension!$A$3,B192=Dimension!$A$4,B192=Dimension!$A$5),\"สถานประกอบการ\",\"\"))","v":""},{"$f":"IF(OR(B192=Dimension!$A$3,B192=Dimension!$A$4,B192=Dimension!$A$5,B192=Dimension!$A$6,,B192=Dimension!$A$7,B192=Dimension!$A$8,B192=Dimension!$A$9),Payment_ID2,\"\")","v":""},null,{"$f":"IFERROR(VLOOKUP(K192,Dimension!$J$3:$K$179,2,FALSE),\"\")","v":""},null,null,{"$f":"IF(OR(B192=Dimension!$A$6,B192=Dimension!$A$7,B192=Dimension!$A$8,B192=Dimension!$A$9),\"\",IF(OR(B192=Dimension!$A$3,B192=Dimension!$A$4,B192=Dimension!$A$5),\"สถานประกอบการ\",\"\"))","v":""},{"$f":"IF(OR(B192=Dimension!$A$6,B192=Dimension!$A$7,B192=Dimension!$A$8,B192=Dimension!$A$9,B192=\"\"),\"\",Payment_ID2)","v":""},"",null,null,{"$f":"IF(D192=Dimension!$C$9,IF(LEFT(UPPER(E192),2)=\"MC\",TRUE,FALSE),TRUE)","v":true}]
[null,null,null,{"$f":"IF(B193=Dimension!$A$8,Dimension!$C$9,IF(B193=Dimension!$A$6,CD,\"\"))","v":""},null,{"$f":"IF(OR(B193=Dimension!$A$3,B193=Dimension!$A$4,B193=Dimension!$A$6,B193=Dimension!$A$8),CCYA,\"\")","v":""},{"$f":"IFERROR(VLOOKUP(F193,Dimension!$G$3:$H$252,2,FALSE),\"\")","v":""},{"$f":"IF(OR(B193=Dimension!$A$3,B193=Dimension!$A$4,B193=Dimension!$A$5),\"เดินทาง/ท่องเที่ยว\",\"\")","v":""},{"$f":"IF(OR(B193=Dimension!$A$6,B193=Dimension!$A$7,B193=Dimension!$A$8,B193=Dimension!$A$9),\"\",IF(OR(B193=Dimension!$A$3,B193=Dimension!$A$4,B193=Dimension!$A$5),\"สถานประกอบการ\",\"\"))","v":""},{"$f":"IF(OR(B193=Dimension!$A$3,B193=Dimension!$A$4,B193=Dimension!$A$5,B193=Dimension!$A$6,,B193=Dimension!$A$7,B193=Dimension!$A$8,B193=Dimension!$A$9),Payment_ID2,\"\")","v":""},null,{"$f":"IFERROR(VLOOKUP(K193,Dimension!$J$3:$K$179,2,FALSE),\"\")","v":""},null,null,{"$f":"IF(OR(B193=Dimension!$A$6,B193=Dimension!$A$7,B193=Dimension!$A$8,B193=Dimension!$A$9),\"\",IF(OR(B193=Dimension!$A$3,B193=Dimension!$A$4,B193=Dimension!$A$5),\"สถานประกอบการ\",\"\"))","v":""},{"$f":"IF(OR(B193=Dimension!$A$6,B193=Dimension!$A$7,B193=Dimension!$A$8,B193=Dimension!$A$9,B193=\"\"),\"\",Payment_ID2)","v":""},"",null,null,{"$f":"IF(D193=Dimension!$C$9,IF(LEFT(UPPER(E193),2)=\"MC\",TRUE,FALSE),TRUE)","v":true}]
[null,null,null,{"$f":"IF(B194=Dimension!$A$8,Dimension!$C$9,IF(B194=Dimension!$A$6,CD,\"\"))","v":""},null,{"$f":"IF(OR(B194=Dimension!$A$3,B194=Dimension!$A$4,B194=Dimension!$A$6,B194=Dimension!$A$8),CCYA,\"\")","v":""},{"$f":"IFERROR(VLOOKUP(F194,Dimension!$G$3:$H$252,2,FALSE),\"\")","v":""},{"$f":"IF(OR(B194=Dimension!$A$3,B194=Dimension!$A$4,B194=Dimension!$A$5),\"เดินทาง/ท่องเที่ยว\",\"\")","v":""},{"$f":"IF(OR(B194=Dimension!$A$6,B194=Dimension!$A$7,B194=Dimension!$A$8,B194=Dimension!$A$9),\"\",IF(OR(B194=Dimension!$A$3,B194=Dimension!$A$4,B194=Dimension!$A$5),\"สถานประกอบการ\",\"\"))","v":""},{"$f":"IF(OR(B194=Dimension!$A$3,B194=Dimension!$A$4,B194=Dimension!$A$5,B194=Dimension!$A$6,,B194=Dimension!$A$7,B194=Dimension!$A$8,B194=Dimension!$A$9),Payment_ID2,\"\")","v":""},null,{"$f":"IFERROR(VLOOKUP(K194,Dimension!$J$3:$K$179,2,FALSE),\"\")","v":""},null,null,{"$f":"IF(OR(B194=Dimension!$A$6,B194=Dimension!$A$7,B194=Dimension!$A$8,B194=Dimension!$A$9),\"\",IF(OR(B194=Dimension!$A$3,B194=Dimension!$A$4,B194=Dimension!$A$5),\"สถานประกอบการ\",\"\"))","v":""},{"$f":"IF(OR(B194=Dimension!$A$6,B194=Dimension!$A$7,B194=Dimension!$A$8,B194=Dimension!$A$9,B194=\"\"),\"\",Payment_ID2)","v":""},"",null,null,{"$f":"IF(D194=Dimension!$C$9,IF(LEFT(UPPER(E194),2)=\"MC\",TRUE,FALSE),TRUE)","v":true}]
[null,null,null,{"$f":"IF(B195=Dimension!$A$8,Dimension!$C$9,IF(B195=Dimension!$A$6,CD,\"\"))","v":""},null,{"$f":"IF(OR(B195=Dimension!$A$3,B195=Dimension!$A$4,B195=Dimension!$A$6,B195=Dimension!$A$8),CCYA,\"\")","v":""},{"$f":"IFERROR(VLOOKUP(F195,Dimension!$G$3:$H$252,2,FALSE),\"\")","v":""},{"$f":"IF(OR(B195=Dimension!$A$3,B195=Dimension!$A$4,B195=Dimension!$A$5),\"เดินทาง/ท่องเที่ยว\",\"\")","v":""},{"$f":"IF(OR(B195=Dimension!$A$6,B195=Dimension!$A$7,B195=Dimension!$A$8,B195=Dimension!$A$9),\"\",IF(OR(B195=Dimension!$A$3,B195=Dimension!$A$4,B195=Dimension!$A$5),\"สถานประกอบการ\",\"\"))","v":""},{"$f":"IF(OR(B195=Dimension!$A$3,B195=Dimension!$A$4,B195=Dimension!$A$5,B195=Dimension!$A$6,,B195=Dimension!$A$7,B195=Dimension!$A$8,B195=Dimension!$A$9),Payment_ID2,\"\")","v":""},null,{"$f":"IFERROR(VLOOKUP(K195,Dimension!$J$3:$K$179,2,FALSE),\"\")","v":""},null,null,{"$f":"IF(OR(B195=Dimension!$A$6,B195=Dimension!$A$7,B195=Dimension!$A$8,B195=Dimension!$A$9),\"\",IF(OR(B195=Dimension!$A$3,B195=Dimension!$A$4,B195=Dimension!$A$5),\"สถานประกอบการ\",\"\"))","v":""},{"$f":"IF(OR(B195=Dimension!$A$6,B195=Dimension!$A$7,B195=Dimension!$A$8,B195=Dimension!$A$9,B195=\"\"),\"\",Payment_ID2)","v":""},"",null,null,{"$f":"IF(D195=Dimension!$C$9,IF(LEFT(UPPER(E195),2)=\"MC\",TRUE,FALSE),TRUE)","v":true}]
[null,null,null,{"$f":"IF(B196=Dimension!$A$8,Dimension!$C$9,IF(B196=Dimension!$A$6,CD,\"\"))","v":""},null,{"$f":"IF(OR(B196=Dimension!$A$3,B196=Dimension!$A$4,B196=Dimension!$A$6,B196=Dimension!$A$8),CCYA,\"\")","v":""},{"$f":"IFERROR(VLOOKUP(F196,Dimension!$G$3:$H$252,2,FALSE),\"\")","v":""},{"$f":"IF(OR(B196=Dimension!$A$3,B196=Dimension!$A$4,B196=Dimension!$A$5),\"เดินทาง/ท่องเที่ยว\",\"\")","v":""},{"$f":"IF(OR(B196=Dimension!$A$6,B196=Dimension!$A$7,B196=Dimension!$A$8,B196=Dimension!$A$9),\"\",IF(OR(B196=Dimension!$A$3,B196=Dimension!$A$4,B196=Dimension!$A$5),\"สถานประกอบการ\",\"\"))","v":""},{"$f":"IF(OR(B196=Dimension!$A$3,B196=Dimension!$A$4,B196=Dimension!$A$5,B196=Dimension!$A$6,,B196=Dimension!$A$7,B196=Dimension!$A$8,B196=Dimension!$A$9),Payment_ID2,\"\")","v":""},null,{"$f":"IFERROR(VLOOKUP(K196,Dimension!$J$3:$K$179,2,FALSE),\"\")","v":""},null,null,{"$f":"IF(OR(B196=Dimension!$A$6,B196=Dimension!$A$7,B196=Dimension!$A$8,B196=Dimension!$A$9),\"\",IF(OR(B196=Dimension!$A$3,B196=Dimension!$A$4,B196=Dimension!$A$5),\"สถานประกอบการ\",\"\"))","v":""},{"$f":"IF(OR(B196=Dimension!$A$6,B196=Dimension!$A$7,B196=Dimension!$A$8,B196=Dimension!$A$9,B196=\"\"),\"\",Payment_ID2)","v":""},"",null,null,{"$f":"IF(D196=Dimension!$C$9,IF(LEFT(UPPER(E196),2)=\"MC\",TRUE,FALSE),TRUE)","v":true}]
[null,null,null,{"$f":"IF(B197=Dimension!$A$8,Dimension!$C$9,IF(B197=Dimension!$A$6,CD,\"\"))","v":""},null,{"$f":"IF(OR(B197=Dimension!$A$3,B197=Dimension!$A$4,B197=Dimension!$A$6,B197=Dimension!$A$8),CCYA,\"\")","v":""},{"$f":"IFERROR(VLOOKUP(F197,Dimension!$G$3:$H$252,2,FALSE),\"\")","v":""},{"$f":"IF(OR(B197=Dimension!$A$3,B197=Dimension!$A$4,B197=Dimension!$A$5),\"เดินทาง/ท่องเที่ยว\",\"\")","v":""},{"$f":"IF(OR(B197=Dimension!$A$6,B197=Dimension!$A$7,B197=Dimension!$A$8,B197=Dimension!$A$9),\"\",IF(OR(B197=Dimension!$A$3,B197=Dimension!$A$4,B197=Dimension!$A$5),\"สถานประกอบการ\",\"\"))","v":""},{"$f":"IF(OR(B197=Dimension!$A$3,B197=Dimension!$A$4,B197=Dimension!$A$5,B197=Dimension!$A$6,,B197=Dimension!$A$7,B197=Dimension!$A$8,B197=Dimension!$A$9),Payment_ID2,\"\")","v":""},null,{"$f":"IFERROR(VLOOKUP(K197,Dimension!$J$3:$K$179,2,FALSE),\"\")","v":""},null,null,{"$f":"IF(OR(B197=Dimension!$A$6,B197=Dimension!$A$7,B197=Dimension!$A$8,B197=Dimension!$A$9),\"\",IF(OR(B197=Dimension!$A$3,B197=Dimension!$A$4,B197=Dimension!$A$5),\"สถานประกอบการ\",\"\"))","v":""},{"$f":"IF(OR(B197=Dimension!$A$6,B197=Dimension!$A$7,B197=Dimension!$A$8,B197=Dimension!$A$9,B197=\"\"),\"\",Payment_ID2)","v":""},"",null,null,{"$f":"IF(D197=Dimension!$C$9,IF(LEFT(UPPER(E197),2)=\"MC\",TRUE,FALSE),TRUE)","v":true}]
[null,null,null,{"$f":"IF(B198=Dimension!$A$8,Dimension!$C$9,IF(B198=Dimension!$A$6,CD,\"\"))","v":""},null,{"$f":"IF(OR(B198=Dimension!$A$3,B198=Dimension!$A$4,B198=Dimension!$A$6,B198=Dimension!$A$8),CCYA,\"\")","v":""},{"$f":"IFERROR(VLOOKUP(F198,Dimension!$G$3:$H$252,2,FALSE),\"\")","v":""},{"$f":"IF(OR(B198=Dimension!$A$3,B198=Dimension!$A$4,B198=Dimension!$A$5),\"เดินทาง/ท่องเที่ยว\",\"\")","v":""},{"$f":"IF(OR(B198=Dimension!$A$6,B198=Dimension!$A$7,B198=Dimension!$A$8,B198=Dimension!$A$9),\"\",IF(OR(B198=Dimension!$A$3,B198=Dimension!$A$4,B198=Dimension!$A$5),\"สถานประกอบการ\",\"\"))","v":""},{"$f":"IF(OR(B198=Dimension!$A$3,B198=Dimension!$A$4,B198=Dimension!$A$5,B198=Dimension!$A$6,,B198=Dimension!$A$7,B198=Dimension!$A$8,B198=Dimension!$A$9),Payment_ID2,\"\")","v":""},null,{"$f":"IFERROR(VLOOKUP(K198,Dimension!$J$3:$K$179,2,FALSE),\"\")","v":""},null,null,{"$f":"IF(OR(B198=Dimension!$A$6,B198=Dimension!$A$7,B198=Dimension!$A$8,B198=Dimension!$A$9),\"\",IF(OR(B198=Dimension!$A$3,B198=Dimension!$A$4,B198=Dimension!$A$5),\"สถานประกอบการ\",\"\"))","v":""},{"$f":"IF(OR(B198=Dimension!$A$6,B198=Dimension!$A$7,B198=Dimension!$A$8,B198=Dimension!$A$9,B198=\"\"),\"\",Payment_ID2)","v":""},"",null,null,{"$f":"IF(D198=Dimension!$C$9,IF(LEFT(UPPER(E198),2)=\"MC\",TRUE,FALSE),TRUE)","v":true}]
[null,null,null,{"$f":"IF(B199=Dimension!$A$8,Dimension!$C$9,IF(B199=Dimension!$A$6,CD,\"\"))","v":""},null,{"$f":"IF(OR(B199=Dimension!$A$3,B199=Dimension!$A$4,B199=Dimension!$A$6,B199=Dimension!$A$8),CCYA,\"\")","v":""},{"$f":"IFERROR(VLOOKUP(F199,Dimension!$G$3:$H$252,2,FALSE),\"\")","v":""},{"$f":"IF(OR(B199=Dimension!$A$3,B199=Dimension!$A$4,B199=Dimension!$A$5),\"เดินทาง/ท่องเที่ยว\",\"\")","v":""},{"$f":"IF(OR(B199=Dimension!$A$6,B199=Dimension!$A$7,B199=Dimension!$A$8,B199=Dimension!$A$9),\"\",IF(OR(B199=Dimension!$A$3,B199=Dimension!$A$4,B199=Dimension!$A$5),\"สถานประกอบการ\",\"\"))","v":""},{"$f":"IF(OR(B199=Dimension!$A$3,B199=Dimension!$A$4,B199=Dimension!$A$5,B199=Dimension!$A$6,,B199=Dimension!$A$7,B199=Dimension!$A$8,B199=Dimension!$A$9),Payment_ID2,\"\")","v":""},null,{"$f":"IFERROR(VLOOKUP(K199,Dimension!$J$3:$K$179,2,FALSE),\"\")","v":""},null,null,{"$f":"IF(OR(B199=Dimension!$A$6,B199=Dimension!$A$7,B199=Dimension!$A$8,B199=Dimension!$A$9),\"\",IF(OR(B199=Dimension!$A$3,B199=Dimension!$A$4,B199=Dimension!$A$5),\"สถานประกอบการ\",\"\"))","v":""},{"$f":"IF(OR(B199=Dimension!$A$6,B199=Dimension!$A$7,B199=Dimension!$A$8,B199=Dimension!$A$9,B199=\"\"),\"\",Payment_ID2)","v":""},"",null,null,{"$f":"IF(D199=Dimension!$C$9,IF(LEFT(UPPER(E199),2)=\"MC\",TRUE,FALSE),TRUE)","v":true}]
[null,null,null,{"$f":"IF(B200=Dimension!$A$8,Dimension!$C$9,IF(B200=Dimension!$A$6,CD,\"\"))","v":""},null,{"$f":"IF(OR(B200=Dimension!$A$3,B200=Dimension!$A$4,B200=Dimension!$A$6,B200=Dimension!$A$8),CCYA,\"\")","v":""},{"$f":"IFERROR(VLOOKUP(F200,Dimension!$G$3:$H$252,2,FALSE),\"\")","v":""},{"$f":"IF(OR(B200=Dimension!$A$3,B200=Dimension!$A$4,B200=Dimension!$A$5),\"เดินทาง/ท่องเที่ยว\",\"\")","v":""},{"$f":"IF(OR(B200=Dimension!$A$6,B200=Dimension!$A$7,B200=Dimension!$A$8,B200=Dimension!$A$9),\"\",IF(OR(B200=Dimension!$A$3,B200=Dimension!$A$4,B200=Dimension!$A$5),\"สถานประกอบการ\",\"\"))","v":""},{"$f":"IF(OR(B200=Dimension!$A$3,B200=Dimension!$A$4,B200=Dimension!$A$5,B200=Dimension!$A$6,,B200=Dimension!$A$7,B200=Dimension!$A$8,B200=Dimension!$A$9),Payment_ID2,\"\")","v":""},null,{"$f":"IFERROR(VLOOKUP(K200,Dimension!$J$3:$K$179,2,FALSE),\"\")","v":""},null,null,{"$f":"IF(OR(B200=Dimension!$A$6,B200=Dimension!$A$7,B200=Dimension!$A$8,B200=Dimension!$A$9),\"\",IF(OR(B200=Dimension!$A$3,B200=Dimension!$A$4,B200=Dimension!$A$5),\"สถานประกอบการ\",\"\"))","v":""},{"$f":"IF(OR(B200=Dimension!$A$6,B200=Dimension!$A$7,B200=Dimension!$A$8,B200=Dimension!$A$9,B200=\"\"),\"\",Payment_ID2)","v":""},"",null,null,{"$f":"IF(D200=Dimension!$C$9,IF(LEFT(UPPER(E200),2)=\"MC\",TRUE,FALSE),TRUE)","v":true}]
[null,null,null,{"$f":"IF(B201=Dimension!$A$8,Dimension!$C$9,IF(B201=Dimension!$A$6,CD,\"\"))","v":""},null,{"$f":"IF(OR(B201=Dimension!$A$3,B201=Dimension!$A$4,B201=Dimension!$A$6,B201=Dimension!$A$8),CCYA,\"\")","v":""},{"$f":"IFERROR(VLOOKUP(F201,Dimension!$G$3:$H$252,2,FALSE),\"\")","v":""},{"$f":"IF(OR(B201=Dimension!$A$3,B201=Dimension!$A$4,B201=Dimension!$A$5),\"เดินทาง/ท่องเที่ยว\",\"\")","v":""},{"$f":"IF(OR(B201=Dimension!$A$6,B201=Dimension!$A$7,B201=Dimension!$A$8,B201=Dimension!$A$9),\"\",IF(OR(B201=Dimension!$A$3,B201=Dimension!$A$4,B201=Dimension!$A$5),\"สถานประกอบการ\",\"\"))","v":""},{"$f":"IF(OR(B201=Dimension!$A$3,B201=Dimension!$A$4,B201=Dimension!$A$5,B201=Dimension!$A$6,,B201=Dimension!$A$7,B201=Dimension!$A$8,B201=Dimension!$A$9),Payment_ID2,\"\")","v":""},null,{"$f":"IFERROR(VLOOKUP(K201,Dimension!$J$3:$K$179,2,FALSE),\"\")","v":""},null,null,{"$f":"IF(OR(B201=Dimension!$A$6,B201=Dimension!$A$7,B201=Dimension!$A$8,B201=Dimension!$A$9),\"\",IF(OR(B201=Dimension!$A$3,B201=Dimension!$A$4,B201=Dimension!$A$5),\"สถานประกอบการ\",\"\"))","v":""},{"$f":"IF(OR(B201=Dimension!$A$6,B201=Dimension!$A$7,B201=Dimension!$A$8,B201=Dimension!$A$9,B201=\"\"),\"\",Payment_ID2)","v":""},"",null,null,{"$f":"IF(D201=Dimension!$C$9,IF(LEFT(UPPER(E201),2)=\"MC\",TRUE,FALSE),TRUE)","v":true}]
[null,null,null,{"$f":"IF(B202=Dimension!$A$8,Dimension!$C$9,IF(B202=Dimension!$A$6,CD,\"\"))","v":""},null,{"$f":"IF(OR(B202=Dimension!$A$3,B202=Dimension!$A$4,B202=Dimension!$A$6,B202=Dimension!$A$8),CCYA,\"\")","v":""},{"$f":"IFERROR(VLOOKUP(F202,Dimension!$G$3:$H$252,2,FALSE),\"\")","v":""},{"$f":"IF(OR(B202=Dimension!$A$3,B202=Dimension!$A$4,B202=Dimension!$A$5),\"เดินทาง/ท่องเที่ยว\",\"\")","v":""},{"$f":"IF(OR(B202=Dimension!$A$6,B202=Dimension!$A$7,B202=Dimension!$A$8,B202=Dimension!$A$9),\"\",IF(OR(B202=Dimension!$A$3,B202=Dimension!$A$4,B202=Dimension!$A$5),\"สถานประกอบการ\",\"\"))","v":""},{"$f":"IF(OR(B202=Dimension!$A$3,B202=Dimension!$A$4,B202=Dimension!$A$5,B202=Dimension!$A$6,,B202=Dimension!$A$7,B202=Dimension!$A$8,B202=Dimension!$A$9),Payment_ID2,\"\")","v":""},null,{"$f":"IFERROR(VLOOKUP(K202,Dimension!$J$3:$K$179,2,FALSE),\"\")","v":""},null,null,{"$f":"IF(OR(B202=Dimension!$A$6,B202=Dimension!$A$7,B202=Dimension!$A$8,B202=Dimension!$A$9),\"\",IF(OR(B202=Dimension!$A$3,B202=Dimension!$A$4,B202=Dimension!$A$5),\"สถานประกอบการ\",\"\"))","v":""},{"$f":"IF(OR(B202=Dimension!$A$6,B202=Dimension!$A$7,B202=Dimension!$A$8,B202=Dimension!$A$9,B202=\"\"),\"\",Payment_ID2)","v":""},{"$f":"IF(OR(M202=\"\",N202=\"\"),\"\",ROUND(M202*N202,2))","v":""},null,null,{"$f":"IF(D202=Dimension!$C$9,IF(LEFT(UPPER(E202),2)=\"MC\",TRUE,FALSE),TRUE)","v":true}]
[null,null,null,{"$f":"IF(B203=Dimension!$A$8,Dimension!$C$9,IF(B203=Dimension!$A$6,CD,\"\"))","v":""},null,{"$f":"IF(OR(B203=Dimension!$A$3,B203=Dimension!$A$4,B203=Dimension!$A$6,B203=Dimension!$A$8),CCYA,\"\")","v":""},{"$f":"IFERROR(VLOOKUP(F203,Dimension!$G$3:$H$252,2,FALSE),\"\")","v":""},{"$f":"IF(OR(B203=Dimension!$A$3,B203=Dimension!$A$4,B203=Dimension!$A$5),\"เดินทาง/ท่องเที่ยว\",\"\")","v":""},{"$f":"IF(OR(B203=Dimension!$A$6,B203=Dimension!$A$7,B203=Dimension!$A$8,B203=Dimension!$A$9),\"\",IF(OR(B203=Dimension!$A$3,B203=Dimension!$A$4,B203=Dimension!$A$5),\"สถานประกอบการ\",\"\"))","v":""},{"$f":"IF(OR(B203=Dimension!$A$3,B203=Dimension!$A$4,B203=Dimension!$A$5,B203=Dimension!$A$6,,B203=Dimension!$A$7,B203=Dimension!$A$8,B203=Dimension!$A$9),Payment_ID2,\"\")","v":""},null,{"$f":"IFERROR(VLOOKUP(K203,Dimension!$J$3:$K$179,2,FALSE),\"\")","v":""},null,null,{"$f":"IF(OR(B203=Dimension!$A$6,B203=Dimension!$A$7,B203=Dimension!$A$8,B203=Dimension!$A$9),\"\",IF(OR(B203=Dimension!$A$3,B203=Dimension!$A$4,B203=Dimension!$A$5),\"สถานประกอบการ\",\"\"))","v":""},{"$f":"IF(OR(B203=Dimension!$A$6,B203=Dimension!$A$7,B203=Dimension!$A$8,B203=Dimension!$A$9,B203=\"\"),\"\",Payment_ID2)","v":""},"",null,null,{"$f":"IF(D203=Dimension!$C$9,IF(LEFT(UPPER(E203),2)=\"MC\",TRUE,FALSE),TRUE)","v":true}]
[null,null,null,{"$f":"IF(B204=Dimension!$A$8,Dimension!$C$9,IF(B204=Dimension!$A$6,CD,\"\"))","v":""},null,{"$f":"IF(OR(B204=Dimension!$A$3,B204=Dimension!$A$4,B204=Dimension!$A$6,B204=Dimension!$A$8),CCYA,\"\")","v":""},{"$f":"IFERROR(VLOOKUP(F204,Dimension!$G$3:$H$252,2,FALSE),\"\")","v":""},{"$f":"IF(OR(B204=Dimension!$A$3,B204=Dimension!$A$4,B204=Dimension!$A$5),\"เดินทาง/ท่องเที่ยว\",\"\")","v":""},{"$f":"IF(OR(B204=Dimension!$A$6,B204=Dimension!$A$7,B204=Dimension!$A$8,B204=Dimension!$A$9),\"\",IF(OR(B204=Dimension!$A$3,B204=Dimension!$A$4,B204=Dimension!$A$5),\"สถานประกอบการ\",\"\"))","v":""},{"$f":"IF(OR(B204=Dimension!$A$3,B204=Dimension!$A$4,B204=Dimension!$A$5,B204=Dimension!$A$6,,B204=Dimension!$A$7,B204=Dimension!$A$8,B204=Dimension!$A$9),Payment_ID2,\"\")","v":""},null,{"$f":"IFERROR(VLOOKUP(K204,Dimension!$J$3:$K$179,2,FALSE),\"\")","v":""},null,null,{"$f":"IF(OR(B204=Dimension!$A$6,B204=Dimension!$A$7,B204=Dimension!$A$8,B204=Dimension!$A$9),\"\",IF(OR(B204=Dimension!$A$3,B204=Dimension!$A$4,B204=Dimension!$A$5),\"สถานประกอบการ\",\"\"))","v":""},{"$f":"IF(OR(B204=Dimension!$A$6,B204=Dimension!$A$7,B204=Dimension!$A$8,B204=Dimension!$A$9,B204=\"\"),\"\",Payment_ID2)","v":""},"",null,null,{"$f":"IF(D204=Dimension!$C$9,IF(LEFT(UPPER(E204),2)=\"MC\",TRUE,FALSE),TRUE)","v":true}]
[null,null,null,{"$f":"IF(B205=Dimension!$A$8,Dimension!$C$9,IF(B205=Dimension!$A$6,CD,\"\"))","v":""},null,{"$f":"IF(OR(B205=Dimension!$A$3,B205=Dimension!$A$4,B205=Dimension!$A$6,B205=Dimension!$A$8),CCYA,\"\")","v":""},{"$f":"IFERROR(VLOOKUP(F205,Dimension!$G$3:$H$252,2,FALSE),\"\")","v":""},{"$f":"IF(OR(B205=Dimension!$A$3,B205=Dimension!$A$4,B205=Dimension!$A$5),\"เดินทาง/ท่องเที่ยว\",\"\")","v":""},{"$f":"IF(OR(B205=Dimension!$A$6,B205=Dimension!$A$7,B205=Dimension!$A$8,B205=Dimension!$A$9),\"\",IF(OR(B205=Dimension!$A$3,B205=Dimension!$A$4,B205=Dimension!$A$5),\"สถานประกอบการ\",\"\"))","v":""},{"$f":"IF(OR(B205=Dimension!$A$3,B205=Dimension!$A$4,B205=Dimension!$A$5,B205=Dimension!$A$6,,B205=Dimension!$A$7,B205=Dimension!$A$8,B205=Dimension!$A$9),Payment_ID2,\"\")","v":""},null,{"$f":"IFERROR(VLOOKUP(K205,Dimension!$J$3:$K$179,2,FALSE),\"\")","v":""},null,null,{"$f":"IF(OR(B205=Dimension!$A$6,B205=Dimension!$A$7,B205=Dimension!$A$8,B205=Dimension!$A$9),\"\",IF(OR(B205=Dimension!$A$3,B205=Dimension!$A$4,B205=Dimension!$A$5),\"สถานประกอบการ\",\"\"))","v":""},{"$f":"IF(OR(B205=Dimension!$A$6,B205=Dimension!$A$7,B205=Dimension!$A$8,B205=Dimension!$A$9,B205=\"\"),\"\",Payment_ID2)","v":""},"",null,null,{"$f":"IF(D205=Dimension!$C$9,IF(LEFT(UPPER(E205),2)=\"MC\",TRUE,FALSE),TRUE)","v":true}]
[null,null,null,{"$f":"IF(B206=Dimension!$A$8,Dimension!$C$9,IF(B206=Dimension!$A$6,CD,\"\"))","v":""},null,{"$f":"IF(OR(B206=Dimension!$A$3,B206=Dimension!$A$4,B206=Dimension!$A$6,B206=Dimension!$A$8),CCYA,\"\")","v":""},{"$f":"IFERROR(VLOOKUP(F206,Dimension!$G$3:$H$252,2,FALSE),\"\")","v":""},{"$f":"IF(OR(B206=Dimension!$A$3,B206=Dimension!$A$4,B206=Dimension!$A$5),\"เดินทาง/ท่องเที่ยว\",\"\")","v":""},{"$f":"IF(OR(B206=Dimension!$A$6,B206=Dimension!$A$7,B206=Dimension!$A$8,B206=Dimension!$A$9),\"\",IF(OR(B206=Dimension!$A$3,B206=Dimension!$A$4,B206=Dimension!$A$5),\"สถานประกอบการ\",\"\"))","v":""},{"$f":"IF(OR(B206=Dimension!$A$3,B206=Dimension!$A$4,B206=Dimension!$A$5,B206=Dimension!$A$6,,B206=Dimension!$A$7,B206=Dimension!$A$8,B206=Dimension!$A$9),Payment_ID2,\"\")","v":""},null,{"$f":"IFERROR(VLOOKUP(K206,Dimension!$J$3:$K$179,2,FALSE),\"\")","v":""},null,null,{"$f":"IF(OR(B206=Dimension!$A$6,B206=Dimension!$A$7,B206=Dimension!$A$8,B206=Dimension!$A$9),\"\",IF(OR(B206=Dimension!$A$3,B206=Dimension!$A$4,B206=Dimension!$A$5),\"สถานประกอบการ\",\"\"))","v":""},{"$f":"IF(OR(B206=Dimension!$A$6,B206=Dimension!$A$7,B206=Dimension!$A$8,B206=Dimension!$A$9,B206=\"\"),\"\",Payment_ID2)","v":""},"",null,null,{"$f":"IF(D206=Dimension!$C$9,IF(LEFT(UPPER(E206),2)=\"MC\",TRUE,FALSE),TRUE)","v":true}]
[null,null,null,{"$f":"IF(B207=Dimension!$A$8,Dimension!$C$9,IF(B207=Dimension!$A$6,CD,\"\"))","v":""},null,{"$f":"IF(OR(B207=Dimension!$A$3,B207=Dimension!$A$4,B207=Dimension!$A$6,B207=Dimension!$A$8),CCYA,\"\")","v":""},{"$f":"IFERROR(VLOOKUP(F207,Dimension!$G$3:$H$252,2,FALSE),\"\")","v":""},{"$f":"IF(OR(B207=Dimension!$A$3,B207=Dimension!$A$4,B207=Dimension!$A$5),\"เดินทาง/ท่องเที่ยว\",\"\")","v":""},{"$f":"IF(OR(B207=Dimension!$A$6,B207=Dimension!$A$7,B207=Dimension!$A$8,B207=Dimension!$A$9),\"\",IF(OR(B207=Dimension!$A$3,B207=Dimension!$A$4,B207=Dimension!$A$5),\"สถานประกอบการ\",\"\"))","v":""},{"$f":"IF(OR(B207=Dimension!$A$3,B207=Dimension!$A$4,B207=Dimension!$A$5,B207=Dimension!$A$6,,B207=Dimension!$A$7,B207=Dimension!$A$8,B207=Dimension!$A$9),Payment_ID2,\"\")","v":""},null,{"$f":"IFERROR(VLOOKUP(K207,Dimension!$J$3:$K$179,2,FALSE),\"\")","v":""},null,null,{"$f":"IF(OR(B207=Dimension!$A$6,B207=Dimension!$A$7,B207=Dimension!$A$8,B207=Dimension!$A$9),\"\",IF(OR(B207=Dimension!$A$3,B207=Dimension!$A$4,B207=Dimension!$A$5),\"สถานประกอบการ\",\"\"))","v":""},{"$f":"IF(OR(B207=Dimension!$A$6,B207=Dimension!$A$7,B207=Dimension!$A$8,B207=Dimension!$A$9,B207=\"\"),\"\",Payment_ID2)","v":""},"",null,null,{"$f":"IF(D207=Dimension!$C$9,IF(LEFT(UPPER(E207),2)=\"MC\",TRUE,FALSE),TRUE)","v":true}]
[null,null,null,{"$f":"IF(B208=Dimension!$A$8,Dimension!$C$9,IF(B208=Dimension!$A$6,CD,\"\"))","v":""},null,{"$f":"IF(OR(B208=Dimension!$A$3,B208=Dimension!$A$4,B208=Dimension!$A$6,B208=Dimension!$A$8),CCYA,\"\")","v":""},{"$f":"IFERROR(VLOOKUP(F208,Dimension!$G$3:$H$252,2,FALSE),\"\")","v":""},{"$f":"IF(OR(B208=Dimension!$A$3,B208=Dimension!$A$4,B208=Dimension!$A$5),\"เดินทาง/ท่องเที่ยว\",\"\")","v":""},{"$f":"IF(OR(B208=Dimension!$A$6,B208=Dimension!$A$7,B208=Dimension!$A$8,B208=Dimension!$A$9),\"\",IF(OR(B208=Dimension!$A$3,B208=Dimension!$A$4,B208=Dimension!$A$5),\"สถานประกอบการ\",\"\"))","v":""},{"$f":"IF(OR(B208=Dimension!$A$3,B208=Dimension!$A$4,B208=Dimension!$A$5,B208=Dimension!$A$6,,B208=Dimension!$A$7,B208=Dimension!$A$8,B208=Dimension!$A$9),Payment_ID2,\"\")","v":""},null,{"$f":"IFERROR(VLOOKUP(K208,Dimension!$J$3:$K$179,2,FALSE),\"\")","v":""},null,null,{"$f":"IF(OR(B208=Dimension!$A$6,B208=Dimension!$A$7,B208=Dimension!$A$8,B208=Dimension!$A$9),\"\",IF(OR(B208=Dimension!$A$3,B208=Dimension!$A$4,B208=Dimension!$A$5),\"สถานประกอบการ\",\"\"))","v":""},{"$f":"IF(OR(B208=Dimension!$A$6,B208=Dimension!$A$7,B208=Dimension!$A$8,B208=Dimension!$A$9,B208=\"\"),\"\",Payment_ID2)","v":""},"",null,null,{"$f":"IF(D208=Dimension!$C$9,IF(LEFT(UPPER(E208),2)=\"MC\",TRUE,FALSE),TRUE)","v":true}]
[null,null,null,{"$f":"IF(B209=Dimension!$A$8,Dimension!$C$9,IF(B209=Dimension!$A$6,CD,\"\"))","v":""},null,{"$f":"IF(OR(B209=Dimension!$A$3,B209=Dimension!$A$4,B209=Dimension!$A$6,B209=Dimension!$A$8),CCYA,\"\")","v":""},{"$f":"IFERROR(VLOOKUP(F209,Dimension!$G$3:$H$252,2,FALSE),\"\")","v":""},{"$f":"IF(OR(B209=Dimension!$A$3,B209=Dimension!$A$4,B209=Dimension!$A$5),\"เดินทาง/ท่องเที่ยว\",\"\")","v":""},{"$f":"IF(OR(B209=Dimension!$A$6,B209=Dimension!$A$7,B209=Dimension!$A$8,B209=Dimension!$A$9),\"\",IF(OR(B209=Dimension!$A$3,B209=Dimension!$A$4,B209=Dimension!$A$5),\"สถานประกอบการ\",\"\"))","v":""},{"$f":"IF(OR(B209=Dimension!$A$3,B209=Dimension!$A$4,B209=Dimension!$A$5,B209=Dimension!$A$6,,B209=Dimension!$A$7,B209=Dimension!$A$8,B209=Dimension!$A$9),Payment_ID2,\"\")","v":""},null,{"$f":"IFERROR(VLOOKUP(K209,Dimension!$J$3:$K$179,2,FALSE),\"\")","v":""},null,null,{"$f":"IF(OR(B209=Dimension!$A$6,B209=Dimension!$A$7,B209=Dimension!$A$8,B209=Dimension!$A$9),\"\",IF(OR(B209=Dimension!$A$3,B209=Dimension!$A$4,B209=Dimension!$A$5),\"สถานประกอบการ\",\"\"))","v":""},{"$f":"IF(OR(B209=Dimension!$A$6,B209=Dimension!$A$7,B209=Dimension!$A$8,B209=Dimension!$A$9,B209=\"\"),\"\",Payment_ID2)","v":""},"",null,null,{"$f":"IF(D209=Dimension!$C$9,IF(LEFT(UPPER(E209),2)=\"MC\",TRUE,FALSE),TRUE)","v":true}]
[null,null,null,{"$f":"IF(B210=Dimension!$A$8,Dimension!$C$9,IF(B210=Dimension!$A$6,CD,\"\"))","v":""},null,{"$f":"IF(OR(B210=Dimension!$A$3,B210=Dimension!$A$4,B210=Dimension!$A$6,B210=Dimension!$A$8),CCYA,\"\")","v":""},{"$f":"IFERROR(VLOOKUP(F210,Dimension!$G$3:$H$252,2,FALSE),\"\")","v":""},{"$f":"IF(OR(B210=Dimension!$A$3,B210=Dimension!$A$4,B210=Dimension!$A$5),\"เดินทาง/ท่องเที่ยว\",\"\")","v":""},{"$f":"IF(OR(B210=Dimension!$A$6,B210=Dimension!$A$7,B210=Dimension!$A$8,B210=Dimension!$A$9),\"\",IF(OR(B210=Dimension!$A$3,B210=Dimension!$A$4,B210=Dimension!$A$5),\"สถานประกอบการ\",\"\"))","v":""},{"$f":"IF(OR(B210=Dimension!$A$3,B210=Dimension!$A$4,B210=Dimension!$A$5,B210=Dimension!$A$6,,B210=Dimension!$A$7,B210=Dimension!$A$8,B210=Dimension!$A$9),Payment_ID2,\"\")","v":""},null,{"$f":"IFERROR(VLOOKUP(K210,Dimension!$J$3:$K$179,2,FALSE),\"\")","v":""},null,null,{"$f":"IF(OR(B210=Dimension!$A$6,B210=Dimension!$A$7,B210=Dimension!$A$8,B210=Dimension!$A$9),\"\",IF(OR(B210=Dimension!$A$3,B210=Dimension!$A$4,B210=Dimension!$A$5),\"สถานประกอบการ\",\"\"))","v":""},{"$f":"IF(OR(B210=Dimension!$A$6,B210=Dimension!$A$7,B210=Dimension!$A$8,B210=Dimension!$A$9,B210=\"\"),\"\",Payment_ID2)","v":""},"",null,null,{"$f":"IF(D210=Dimension!$C$9,IF(LEFT(UPPER(E210),2)=\"MC\",TRUE,FALSE),TRUE)","v":true}]
[null,null,null,{"$f":"IF(B211=Dimension!$A$8,Dimension!$C$9,IF(B211=Dimension!$A$6,CD,\"\"))","v":""},null,{"$f":"IF(OR(B211=Dimension!$A$3,B211=Dimension!$A$4,B211=Dimension!$A$6,B211=Dimension!$A$8),CCYA,\"\")","v":""},{"$f":"IFERROR(VLOOKUP(F211,Dimension!$G$3:$H$252,2,FALSE),\"\")","v":""},{"$f":"IF(OR(B211=Dimension!$A$3,B211=Dimension!$A$4,B211=Dimension!$A$5),\"เดินทาง/ท่องเที่ยว\",\"\")","v":""},{"$f":"IF(OR(B211=Dimension!$A$6,B211=Dimension!$A$7,B211=Dimension!$A$8,B211=Dimension!$A$9),\"\",IF(OR(B211=Dimension!$A$3,B211=Dimension!$A$4,B211=Dimension!$A$5),\"สถานประกอบการ\",\"\"))","v":""},{"$f":"IF(OR(B211=Dimension!$A$3,B211=Dimension!$A$4,B211=Dimension!$A$5,B211=Dimension!$A$6,,B211=Dimension!$A$7,B211=Dimension!$A$8,B211=Dimension!$A$9),Payment_ID2,\"\")","v":""},null,{"$f":"IFERROR(VLOOKUP(K211,Dimension!$J$3:$K$179,2,FALSE),\"\")","v":""},null,null,{"$f":"IF(OR(B211=Dimension!$A$6,B211=Dimension!$A$7,B211=Dimension!$A$8,B211=Dimension!$A$9),\"\",IF(OR(B211=Dimension!$A$3,B211=Dimension!$A$4,B211=Dimension!$A$5),\"สถานประกอบการ\",\"\"))","v":""},{"$f":"IF(OR(B211=Dimension!$A$6,B211=Dimension!$A$7,B211=Dimension!$A$8,B211=Dimension!$A$9,B211=\"\"),\"\",Payment_ID2)","v":""},"",null,null,{"$f":"IF(D211=Dimension!$C$9,IF(LEFT(UPPER(E211),2)=\"MC\",TRUE,FALSE),TRUE)","v":true}]
[null,null,null,{"$f":"IF(B212=Dimension!$A$8,Dimension!$C$9,IF(B212=Dimension!$A$6,CD,\"\"))","v":""},null,{"$f":"IF(OR(B212=Dimension!$A$3,B212=Dimension!$A$4,B212=Dimension!$A$6,B212=Dimension!$A$8),CCYA,\"\")","v":""},{"$f":"IFERROR(VLOOKUP(F212,Dimension!$G$3:$H$252,2,FALSE),\"\")","v":""},{"$f":"IF(OR(B212=Dimension!$A$3,B212=Dimension!$A$4,B212=Dimension!$A$5),\"เดินทาง/ท่องเที่ยว\",\"\")","v":""},{"$f":"IF(OR(B212=Dimension!$A$6,B212=Dimension!$A$7,B212=Dimension!$A$8,B212=Dimension!$A$9),\"\",IF(OR(B212=Dimension!$A$3,B212=Dimension!$A$4,B212=Dimension!$A$5),\"สถานประกอบการ\",\"\"))","v":""},{"$f":"IF(OR(B212=Dimension!$A$3,B212=Dimension!$A$4,B212=Dimension!$A$5,B212=Dimension!$A$6,,B212=Dimension!$A$7,B212=Dimension!$A$8,B212=Dimension!$A$9),Payment_ID2,\"\")","v":""},null,{"$f":"IFERROR(VLOOKUP(K212,Dimension!$J$3:$K$179,2,FALSE),\"\")","v":""},null,null,{"$f":"IF(OR(B212=Dimension!$A$6,B212=Dimension!$A$7,B212=Dimension!$A$8,B212=Dimension!$A$9),\"\",IF(OR(B212=Dimension!$A$3,B212=Dimension!$A$4,B212=Dimension!$A$5),\"สถานประกอบการ\",\"\"))","v":""},{"$f":"IF(OR(B212=Dimension!$A$6,B212=Dimension!$A$7,B212=Dimension!$A$8,B212=Dimension!$A$9,B212=\"\"),\"\",Payment_ID2)","v":""},"",null,null,{"$f":"IF(D212=Dimension!$C$9,IF(LEFT(UPPER(E212),2)=\"MC\",TRUE,FALSE),TRUE)","v":true}]
[null,null,null,{"$f":"IF(B213=Dimension!$A$8,Dimension!$C$9,IF(B213=Dimension!$A$6,CD,\"\"))","v":""},null,{"$f":"IF(OR(B213=Dimension!$A$3,B213=Dimension!$A$4,B213=Dimension!$A$6,B213=Dimension!$A$8),CCYA,\"\")","v":""},{"$f":"IFERROR(VLOOKUP(F213,Dimension!$G$3:$H$252,2,FALSE),\"\")","v":""},{"$f":"IF(OR(B213=Dimension!$A$3,B213=Dimension!$A$4,B213=Dimension!$A$5),\"เดินทาง/ท่องเที่ยว\",\"\")","v":""},{"$f":"IF(OR(B213=Dimension!$A$6,B213=Dimension!$A$7,B213=Dimension!$A$8,B213=Dimension!$A$9),\"\",IF(OR(B213=Dimension!$A$3,B213=Dimension!$A$4,B213=Dimension!$A$5),\"สถานประกอบการ\",\"\"))","v":""},{"$f":"IF(OR(B213=Dimension!$A$3,B213=Dimension!$A$4,B213=Dimension!$A$5,B213=Dimension!$A$6,,B213=Dimension!$A$7,B213=Dimension!$A$8,B213=Dimension!$A$9),Payment_ID2,\"\")","v":""},null,{"$f":"IFERROR(VLOOKUP(K213,Dimension!$J$3:$K$179,2,FALSE),\"\")","v":""},null,null,{"$f":"IF(OR(B213=Dimension!$A$6,B213=Dimension!$A$7,B213=Dimension!$A$8,B213=Dimension!$A$9),\"\",IF(OR(B213=Dimension!$A$3,B213=Dimension!$A$4,B213=Dimension!$A$5),\"สถานประกอบการ\",\"\"))","v":""},{"$f":"IF(OR(B213=Dimension!$A$6,B213=Dimension!$A$7,B213=Dimension!$A$8,B213=Dimension!$A$9,B213=\"\"),\"\",Payment_ID2)","v":""},"",null,null,{"$f":"IF(D213=Dimension!$C$9,IF(LEFT(UPPER(E213),2)=\"MC\",TRUE,FALSE),TRUE)","v":true}]
[null,null,null,{"$f":"IF(B214=Dimension!$A$8,Dimension!$C$9,IF(B214=Dimension!$A$6,CD,\"\"))","v":""},null,{"$f":"IF(OR(B214=Dimension!$A$3,B214=Dimension!$A$4,B214=Dimension!$A$6,B214=Dimension!$A$8),CCYA,\"\")","v":""},{"$f":"IFERROR(VLOOKUP(F214,Dimension!$G$3:$H$252,2,FALSE),\"\")","v":""},{"$f":"IF(OR(B214=Dimension!$A$3,B214=Dimension!$A$4,B214=Dimension!$A$5),\"เดินทาง/ท่องเที่ยว\",\"\")","v":""},{"$f":"IF(OR(B214=Dimension!$A$6,B214=Dimension!$A$7,B214=Dimension!$A$8,B214=Dimension!$A$9),\"\",IF(OR(B214=Dimension!$A$3,B214=Dimension!$A$4,B214=Dimension!$A$5),\"สถานประกอบการ\",\"\"))","v":""},{"$f":"IF(OR(B214=Dimension!$A$3,B214=Dimension!$A$4,B214=Dimension!$A$5,B214=Dimension!$A$6,,B214=Dimension!$A$7,B214=Dimension!$A$8,B214=Dimension!$A$9),Payment_ID2,\"\")","v":""},null,{"$f":"IFERROR(VLOOKUP(K214,Dimension!$J$3:$K$179,2,FALSE),\"\")","v":""},null,null,{"$f":"IF(OR(B214=Dimension!$A$6,B214=Dimension!$A$7,B214=Dimension!$A$8,B214=Dimension!$A$9),\"\",IF(OR(B214=Dimension!$A$3,B214=Dimension!$A$4,B214=Dimension!$A$5),\"สถานประกอบการ\",\"\"))","v":""},{"$f":"IF(OR(B214=Dimension!$A$6,B214=Dimension!$A$7,B214=Dimension!$A$8,B214=Dimension!$A$9,B214=\"\"),\"\",Payment_ID2)","v":""},"",null,null,{"$f":"IF(D214=Dimension!$C$9,IF(LEFT(UPPER(E214),2)=\"MC\",TRUE,FALSE),TRUE)","v":true}]
[null,null,null,{"$f":"IF(B215=Dimension!$A$8,Dimension!$C$9,IF(B215=Dimension!$A$6,CD,\"\"))","v":""},null,{"$f":"IF(OR(B215=Dimension!$A$3,B215=Dimension!$A$4,B215=Dimension!$A$6,B215=Dimension!$A$8),CCYA,\"\")","v":""},{"$f":"IFERROR(VLOOKUP(F215,Dimension!$G$3:$H$252,2,FALSE),\"\")","v":""},{"$f":"IF(OR(B215=Dimension!$A$3,B215=Dimension!$A$4,B215=Dimension!$A$5),\"เดินทาง/ท่องเที่ยว\",\"\")","v":""},{"$f":"IF(OR(B215=Dimension!$A$6,B215=Dimension!$A$7,B215=Dimension!$A$8,B215=Dimension!$A$9),\"\",IF(OR(B215=Dimension!$A$3,B215=Dimension!$A$4,B215=Dimension!$A$5),\"สถานประกอบการ\",\"\"))","v":""},{"$f":"IF(OR(B215=Dimension!$A$3,B215=Dimension!$A$4,B215=Dimension!$A$5,B215=Dimension!$A$6,,B215=Dimension!$A$7,B215=Dimension!$A$8,B215=Dimension!$A$9),Payment_ID2,\"\")","v":""},null,{"$f":"IFERROR(VLOOKUP(K215,Dimension!$J$3:$K$179,2,FALSE),\"\")","v":""},null,null,{"$f":"IF(OR(B215=Dimension!$A$6,B215=Dimension!$A$7,B215=Dimension!$A$8,B215=Dimension!$A$9),\"\",IF(OR(B215=Dimension!$A$3,B215=Dimension!$A$4,B215=Dimension!$A$5),\"สถานประกอบการ\",\"\"))","v":""},{"$f":"IF(OR(B215=Dimension!$A$6,B215=Dimension!$A$7,B215=Dimension!$A$8,B215=Dimension!$A$9,B215=\"\"),\"\",Payment_ID2)","v":""},"",null,null,{"$f":"IF(D215=Dimension!$C$9,IF(LEFT(UPPER(E215),2)=\"MC\",TRUE,FALSE),TRUE)","v":true}]
[null,null,null,{"$f":"IF(B216=Dimension!$A$8,Dimension!$C$9,IF(B216=Dimension!$A$6,CD,\"\"))","v":""},null,{"$f":"IF(OR(B216=Dimension!$A$3,B216=Dimension!$A$4,B216=Dimension!$A$6,B216=Dimension!$A$8),CCYA,\"\")","v":""},{"$f":"IFERROR(VLOOKUP(F216,Dimension!$G$3:$H$252,2,FALSE),\"\")","v":""},{"$f":"IF(OR(B216=Dimension!$A$3,B216=Dimension!$A$4,B216=Dimension!$A$5),\"เดินทาง/ท่องเที่ยว\",\"\")","v":""},{"$f":"IF(OR(B216=Dimension!$A$6,B216=Dimension!$A$7,B216=Dimension!$A$8,B216=Dimension!$A$9),\"\",IF(OR(B216=Dimension!$A$3,B216=Dimension!$A$4,B216=Dimension!$A$5),\"สถานประกอบการ\",\"\"))","v":""},{"$f":"IF(OR(B216=Dimension!$A$3,B216=Dimension!$A$4,B216=Dimension!$A$5,B216=Dimension!$A$6,,B216=Dimension!$A$7,B216=Dimension!$A$8,B216=Dimension!$A$9),Payment_ID2,\"\")","v":""},null,{"$f":"IFERROR(VLOOKUP(K216,Dimension!$J$3:$K$179,2,FALSE),\"\")","v":""},null,null,{"$f":"IF(OR(B216=Dimension!$A$6,B216=Dimension!$A$7,B216=Dimension!$A$8,B216=Dimension!$A$9),\"\",IF(OR(B216=Dimension!$A$3,B216=Dimension!$A$4,B216=Dimension!$A$5),\"สถานประกอบการ\",\"\"))","v":""},{"$f":"IF(OR(B216=Dimension!$A$6,B216=Dimension!$A$7,B216=Dimension!$A$8,B216=Dimension!$A$9,B216=\"\"),\"\",Payment_ID2)","v":""},"",null,null,{"$f":"IF(D216=Dimension!$C$9,IF(LEFT(UPPER(E216),2)=\"MC\",TRUE,FALSE),TRUE)","v":true}]
[null,null,null,{"$f":"IF(B217=Dimension!$A$8,Dimension!$C$9,IF(B217=Dimension!$A$6,CD,\"\"))","v":""},null,{"$f":"IF(OR(B217=Dimension!$A$3,B217=Dimension!$A$4,B217=Dimension!$A$6,B217=Dimension!$A$8),CCYA,\"\")","v":""},{"$f":"IFERROR(VLOOKUP(F217,Dimension!$G$3:$H$252,2,FALSE),\"\")","v":""},{"$f":"IF(OR(B217=Dimension!$A$3,B217=Dimension!$A$4,B217=Dimension!$A$5),\"เดินทาง/ท่องเที่ยว\",\"\")","v":""},{"$f":"IF(OR(B217=Dimension!$A$6,B217=Dimension!$A$7,B217=Dimension!$A$8,B217=Dimension!$A$9),\"\",IF(OR(B217=Dimension!$A$3,B217=Dimension!$A$4,B217=Dimension!$A$5),\"สถานประกอบการ\",\"\"))","v":""},{"$f":"IF(OR(B217=Dimension!$A$3,B217=Dimension!$A$4,B217=Dimension!$A$5,B217=Dimension!$A$6,,B217=Dimension!$A$7,B217=Dimension!$A$8,B217=Dimension!$A$9),Payment_ID2,\"\")","v":""},null,{"$f":"IFERROR(VLOOKUP(K217,Dimension!$J$3:$K$179,2,FALSE),\"\")","v":""},null,null,{"$f":"IF(OR(B217=Dimension!$A$6,B217=Dimension!$A$7,B217=Dimension!$A$8,B217=Dimension!$A$9),\"\",IF(OR(B217=Dimension!$A$3,B217=Dimension!$A$4,B217=Dimension!$A$5),\"สถานประกอบการ\",\"\"))","v":""},{"$f":"IF(OR(B217=Dimension!$A$6,B217=Dimension!$A$7,B217=Dimension!$A$8,B217=Dimension!$A$9,B217=\"\"),\"\",Payment_ID2)","v":""},"",null,null,{"$f":"IF(D217=Dimension!$C$9,IF(LEFT(UPPER(E217),2)=\"MC\",TRUE,FALSE),TRUE)","v":true}]
[null,null,null,{"$f":"IF(B218=Dimension!$A$8,Dimension!$C$9,IF(B218=Dimension!$A$6,CD,\"\"))","v":""},null,{"$f":"IF(OR(B218=Dimension!$A$3,B218=Dimension!$A$4,B218=Dimension!$A$6,B218=Dimension!$A$8),CCYA,\"\")","v":""},{"$f":"IFERROR(VLOOKUP(F218,Dimension!$G$3:$H$252,2,FALSE),\"\")","v":""},{"$f":"IF(OR(B218=Dimension!$A$3,B218=Dimension!$A$4,B218=Dimension!$A$5),\"เดินทาง/ท่องเที่ยว\",\"\")","v":""},{"$f":"IF(OR(B218=Dimension!$A$6,B218=Dimension!$A$7,B218=Dimension!$A$8,B218=Dimension!$A$9),\"\",IF(OR(B218=Dimension!$A$3,B218=Dimension!$A$4,B218=Dimension!$A$5),\"สถานประกอบการ\",\"\"))","v":""},{"$f":"IF(OR(B218=Dimension!$A$3,B218=Dimension!$A$4,B218=Dimension!$A$5,B218=Dimension!$A$6,,B218=Dimension!$A$7,B218=Dimension!$A$8,B218=Dimension!$A$9),Payment_ID2,\"\")","v":""},null,{"$f":"IFERROR(VLOOKUP(K218,Dimension!$J$3:$K$179,2,FALSE),\"\")","v":""},null,null,{"$f":"IF(OR(B218=Dimension!$A$6,B218=Dimension!$A$7,B218=Dimension!$A$8,B218=Dimension!$A$9),\"\",IF(OR(B218=Dimension!$A$3,B218=Dimension!$A$4,B218=Dimension!$A$5),\"สถานประกอบการ\",\"\"))","v":""},{"$f":"IF(OR(B218=Dimension!$A$6,B218=Dimension!$A$7,B218=Dimension!$A$8,B218=Dimension!$A$9,B218=\"\"),\"\",Payment_ID2)","v":""},"",null,null,{"$f":"IF(D218=Dimension!$C$9,IF(LEFT(UPPER(E218),2)=\"MC\",TRUE,FALSE),TRUE)","v":true}]
[null,null,null,{"$f":"IF(B219=Dimension!$A$8,Dimension!$C$9,IF(B219=Dimension!$A$6,CD,\"\"))","v":""},null,{"$f":"IF(OR(B219=Dimension!$A$3,B219=Dimension!$A$4,B219=Dimension!$A$6,B219=Dimension!$A$8),CCYA,\"\")","v":""},{"$f":"IFERROR(VLOOKUP(F219,Dimension!$G$3:$H$252,2,FALSE),\"\")","v":""},{"$f":"IF(OR(B219=Dimension!$A$3,B219=Dimension!$A$4,B219=Dimension!$A$5),\"เดินทาง/ท่องเที่ยว\",\"\")","v":""},{"$f":"IF(OR(B219=Dimension!$A$6,B219=Dimension!$A$7,B219=Dimension!$A$8,B219=Dimension!$A$9),\"\",IF(OR(B219=Dimension!$A$3,B219=Dimension!$A$4,B219=Dimension!$A$5),\"สถานประกอบการ\",\"\"))","v":""},{"$f":"IF(OR(B219=Dimension!$A$3,B219=Dimension!$A$4,B219=Dimension!$A$5,B219=Dimension!$A$6,,B219=Dimension!$A$7,B219=Dimension!$A$8,B219=Dimension!$A$9),Payment_ID2,\"\")","v":""},null,{"$f":"IFERROR(VLOOKUP(K219,Dimension!$J$3:$K$179,2,FALSE),\"\")","v":""},null,null,{"$f":"IF(OR(B219=Dimension!$A$6,B219=Dimension!$A$7,B219=Dimension!$A$8,B219=Dimension!$A$9),\"\",IF(OR(B219=Dimension!$A$3,B219=Dimension!$A$4,B219=Dimension!$A$5),\"สถานประกอบการ\",\"\"))","v":""},{"$f":"IF(OR(B219=Dimension!$A$6,B219=Dimension!$A$7,B219=Dimension!$A$8,B219=Dimension!$A$9,B219=\"\"),\"\",Payment_ID2)","v":""},"",null,null,{"$f":"IF(D219=Dimension!$C$9,IF(LEFT(UPPER(E219),2)=\"MC\",TRUE,FALSE),TRUE)","v":true}]
[null,null,null,{"$f":"IF(B220=Dimension!$A$8,Dimension!$C$9,IF(B220=Dimension!$A$6,CD,\"\"))","v":""},null,{"$f":"IF(OR(B220=Dimension!$A$3,B220=Dimension!$A$4,B220=Dimension!$A$6,B220=Dimension!$A$8),CCYA,\"\")","v":""},{"$f":"IFERROR(VLOOKUP(F220,Dimension!$G$3:$H$252,2,FALSE),\"\")","v":""},{"$f":"IF(OR(B220=Dimension!$A$3,B220=Dimension!$A$4,B220=Dimension!$A$5),\"เดินทาง/ท่องเที่ยว\",\"\")","v":""},{"$f":"IF(OR(B220=Dimension!$A$6,B220=Dimension!$A$7,B220=Dimension!$A$8,B220=Dimension!$A$9),\"\",IF(OR(B220=Dimension!$A$3,B220=Dimension!$A$4,B220=Dimension!$A$5),\"สถานประกอบการ\",\"\"))","v":""},{"$f":"IF(OR(B220=Dimension!$A$3,B220=Dimension!$A$4,B220=Dimension!$A$5,B220=Dimension!$A$6,,B220=Dimension!$A$7,B220=Dimension!$A$8,B220=Dimension!$A$9),Payment_ID2,\"\")","v":""},null,{"$f":"IFERROR(VLOOKUP(K220,Dimension!$J$3:$K$179,2,FALSE),\"\")","v":""},null,null,{"$f":"IF(OR(B220=Dimension!$A$6,B220=Dimension!$A$7,B220=Dimension!$A$8,B220=Dimension!$A$9),\"\",IF(OR(B220=Dimension!$A$3,B220=Dimension!$A$4,B220=Dimension!$A$5),\"สถานประกอบการ\",\"\"))","v":""},{"$f":"IF(OR(B220=Dimension!$A$6,B220=Dimension!$A$7,B220=Dimension!$A$8,B220=Dimension!$A$9,B220=\"\"),\"\",Payment_ID2)","v":""},"",null,null,{"$f":"IF(D220=Dimension!$C$9,IF(LEFT(UPPER(E220),2)=\"MC\",TRUE,FALSE),TRUE)","v":true}]
[null,null,null,{"$f":"IF(B221=Dimension!$A$8,Dimension!$C$9,IF(B221=Dimension!$A$6,CD,\"\"))","v":""},null,{"$f":"IF(OR(B221=Dimension!$A$3,B221=Dimension!$A$4,B221=Dimension!$A$6,B221=Dimension!$A$8),CCYA,\"\")","v":""},{"$f":"IFERROR(VLOOKUP(F221,Dimension!$G$3:$H$252,2,FALSE),\"\")","v":""},{"$f":"IF(OR(B221=Dimension!$A$3,B221=Dimension!$A$4,B221=Dimension!$A$5),\"เดินทาง/ท่องเที่ยว\",\"\")","v":""},{"$f":"IF(OR(B221=Dimension!$A$6,B221=Dimension!$A$7,B221=Dimension!$A$8,B221=Dimension!$A$9),\"\",IF(OR(B221=Dimension!$A$3,B221=Dimension!$A$4,B221=Dimension!$A$5),\"สถานประกอบการ\",\"\"))","v":""},{"$f":"IF(OR(B221=Dimension!$A$3,B221=Dimension!$A$4,B221=Dimension!$A$5,B221=Dimension!$A$6,,B221=Dimension!$A$7,B221=Dimension!$A$8,B221=Dimension!$A$9),Payment_ID2,\"\")","v":""},null,{"$f":"IFERROR(VLOOKUP(K221,Dimension!$J$3:$K$179,2,FALSE),\"\")","v":""},null,null,{"$f":"IF(OR(B221=Dimension!$A$6,B221=Dimension!$A$7,B221=Dimension!$A$8,B221=Dimension!$A$9),\"\",IF(OR(B221=Dimension!$A$3,B221=Dimension!$A$4,B221=Dimension!$A$5),\"สถานประกอบการ\",\"\"))","v":""},{"$f":"IF(OR(B221=Dimension!$A$6,B221=Dimension!$A$7,B221=Dimension!$A$8,B221=Dimension!$A$9,B221=\"\"),\"\",Payment_ID2)","v":""},"",null,null,{"$f":"IF(D221=Dimension!$C$9,IF(LEFT(UPPER(E221),2)=\"MC\",TRUE,FALSE),TRUE)","v":true}]
[null,null,null,{"$f":"IF(B222=Dimension!$A$8,Dimension!$C$9,IF(B222=Dimension!$A$6,CD,\"\"))","v":""},null,{"$f":"IF(OR(B222=Dimension!$A$3,B222=Dimension!$A$4,B222=Dimension!$A$6,B222=Dimension!$A$8),CCYA,\"\")","v":""},{"$f":"IFERROR(VLOOKUP(F222,Dimension!$G$3:$H$252,2,FALSE),\"\")","v":""},{"$f":"IF(OR(B222=Dimension!$A$3,B222=Dimension!$A$4,B222=Dimension!$A$5),\"เดินทาง/ท่องเที่ยว\",\"\")","v":""},{"$f":"IF(OR(B222=Dimension!$A$6,B222=Dimension!$A$7,B222=Dimension!$A$8,B222=Dimension!$A$9),\"\",IF(OR(B222=Dimension!$A$3,B222=Dimension!$A$4,B222=Dimension!$A$5),\"สถานประกอบการ\",\"\"))","v":""},{"$f":"IF(OR(B222=Dimension!$A$3,B222=Dimension!$A$4,B222=Dimension!$A$5,B222=Dimension!$A$6,,B222=Dimension!$A$7,B222=Dimension!$A$8,B222=Dimension!$A$9),Payment_ID2,\"\")","v":""},null,{"$f":"IFERROR(VLOOKUP(K222,Dimension!$J$3:$K$179,2,FALSE),\"\")","v":""},null,null,{"$f":"IF(OR(B222=Dimension!$A$6,B222=Dimension!$A$7,B222=Dimension!$A$8,B222=Dimension!$A$9),\"\",IF(OR(B222=Dimension!$A$3,B222=Dimension!$A$4,B222=Dimension!$A$5),\"สถานประกอบการ\",\"\"))","v":""},{"$f":"IF(OR(B222=Dimension!$A$6,B222=Dimension!$A$7,B222=Dimension!$A$8,B222=Dimension!$A$9,B222=\"\"),\"\",Payment_ID2)","v":""},"",null,null,{"$f":"IF(D222=Dimension!$C$9,IF(LEFT(UPPER(E222),2)=\"MC\",TRUE,FALSE),TRUE)","v":true}]
[null,null,null,{"$f":"IF(B223=Dimension!$A$8,Dimension!$C$9,IF(B223=Dimension!$A$6,CD,\"\"))","v":""},null,{"$f":"IF(OR(B223=Dimension!$A$3,B223=Dimension!$A$4,B223=Dimension!$A$6,B223=Dimension!$A$8),CCYA,\"\")","v":""},{"$f":"IFERROR(VLOOKUP(F223,Dimension!$G$3:$H$252,2,FALSE),\"\")","v":""},{"$f":"IF(OR(B223=Dimension!$A$3,B223=Dimension!$A$4,B223=Dimension!$A$5),\"เดินทาง/ท่องเที่ยว\",\"\")","v":""},{"$f":"IF(OR(B223=Dimension!$A$6,B223=Dimension!$A$7,B223=Dimension!$A$8,B223=Dimension!$A$9),\"\",IF(OR(B223=Dimension!$A$3,B223=Dimension!$A$4,B223=Dimension!$A$5),\"สถานประกอบการ\",\"\"))","v":""},{"$f":"IF(OR(B223=Dimension!$A$3,B223=Dimension!$A$4,B223=Dimension!$A$5,B223=Dimension!$A$6,,B223=Dimension!$A$7,B223=Dimension!$A$8,B223=Dimension!$A$9),Payment_ID2,\"\")","v":""},null,{"$f":"IFERROR(VLOOKUP(K223,Dimension!$J$3:$K$179,2,FALSE),\"\")","v":""},null,null,{"$f":"IF(OR(B223=Dimension!$A$6,B223=Dimension!$A$7,B223=Dimension!$A$8,B223=Dimension!$A$9),\"\",IF(OR(B223=Dimension!$A$3,B223=Dimension!$A$4,B223=Dimension!$A$5),\"สถานประกอบการ\",\"\"))","v":""},{"$f":"IF(OR(B223=Dimension!$A$6,B223=Dimension!$A$7,B223=Dimension!$A$8,B223=Dimension!$A$9,B223=\"\"),\"\",Payment_ID2)","v":""},"",null,null,{"$f":"IF(D223=Dimension!$C$9,IF(LEFT(UPPER(E223),2)=\"MC\",TRUE,FALSE),TRUE)","v":true}]
[null,null,null,{"$f":"IF(B224=Dimension!$A$8,Dimension!$C$9,IF(B224=Dimension!$A$6,CD,\"\"))","v":""},null,{"$f":"IF(OR(B224=Dimension!$A$3,B224=Dimension!$A$4,B224=Dimension!$A$6,B224=Dimension!$A$8),CCYA,\"\")","v":""},{"$f":"IFERROR(VLOOKUP(F224,Dimension!$G$3:$H$252,2,FALSE),\"\")","v":""},{"$f":"IF(OR(B224=Dimension!$A$3,B224=Dimension!$A$4,B224=Dimension!$A$5),\"เดินทาง/ท่องเที่ยว\",\"\")","v":""},{"$f":"IF(OR(B224=Dimension!$A$6,B224=Dimension!$A$7,B224=Dimension!$A$8,B224=Dimension!$A$9),\"\",IF(OR(B224=Dimension!$A$3,B224=Dimension!$A$4,B224=Dimension!$A$5),\"สถานประกอบการ\",\"\"))","v":""},{"$f":"IF(OR(B224=Dimension!$A$3,B224=Dimension!$A$4,B224=Dimension!$A$5,B224=Dimension!$A$6,,B224=Dimension!$A$7,B224=Dimension!$A$8,B224=Dimension!$A$9),Payment_ID2,\"\")","v":""},null,{"$f":"IFERROR(VLOOKUP(K224,Dimension!$J$3:$K$179,2,FALSE),\"\")","v":""},null,null,{"$f":"IF(OR(B224=Dimension!$A$6,B224=Dimension!$A$7,B224=Dimension!$A$8,B224=Dimension!$A$9),\"\",IF(OR(B224=Dimension!$A$3,B224=Dimension!$A$4,B224=Dimension!$A$5),\"สถานประกอบการ\",\"\"))","v":""},{"$f":"IF(OR(B224=Dimension!$A$6,B224=Dimension!$A$7,B224=Dimension!$A$8,B224=Dimension!$A$9,B224=\"\"),\"\",Payment_ID2)","v":""},"",null,null,{"$f":"IF(D224=Dimension!$C$9,IF(LEFT(UPPER(E224),2)=\"MC\",TRUE,FALSE),TRUE)","v":true}]
[null,null,null,{"$f":"IF(B225=Dimension!$A$8,Dimension!$C$9,IF(B225=Dimension!$A$6,CD,\"\"))","v":""},null,{"$f":"IF(OR(B225=Dimension!$A$3,B225=Dimension!$A$4,B225=Dimension!$A$6,B225=Dimension!$A$8),CCYA,\"\")","v":""},{"$f":"IFERROR(VLOOKUP(F225,Dimension!$G$3:$H$252,2,FALSE),\"\")","v":""},{"$f":"IF(OR(B225=Dimension!$A$3,B225=Dimension!$A$4,B225=Dimension!$A$5),\"เดินทาง/ท่องเที่ยว\",\"\")","v":""},{"$f":"IF(OR(B225=Dimension!$A$6,B225=Dimension!$A$7,B225=Dimension!$A$8,B225=Dimension!$A$9),\"\",IF(OR(B225=Dimension!$A$3,B225=Dimension!$A$4,B225=Dimension!$A$5),\"สถานประกอบการ\",\"\"))","v":""},{"$f":"IF(OR(B225=Dimension!$A$3,B225=Dimension!$A$4,B225=Dimension!$A$5,B225=Dimension!$A$6,,B225=Dimension!$A$7,B225=Dimension!$A$8,B225=Dimension!$A$9),Payment_ID2,\"\")","v":""},null,{"$f":"IFERROR(VLOOKUP(K225,Dimension!$J$3:$K$179,2,FALSE),\"\")","v":""},null,null,{"$f":"IF(OR(B225=Dimension!$A$6,B225=Dimension!$A$7,B225=Dimension!$A$8,B225=Dimension!$A$9),\"\",IF(OR(B225=Dimension!$A$3,B225=Dimension!$A$4,B225=Dimension!$A$5),\"สถานประกอบการ\",\"\"))","v":""},{"$f":"IF(OR(B225=Dimension!$A$6,B225=Dimension!$A$7,B225=Dimension!$A$8,B225=Dimension!$A$9,B225=\"\"),\"\",Payment_ID2)","v":""},"",null,null,{"$f":"IF(D225=Dimension!$C$9,IF(LEFT(UPPER(E225),2)=\"MC\",TRUE,FALSE),TRUE)","v":true}]
[null,null,null,{"$f":"IF(B226=Dimension!$A$8,Dimension!$C$9,IF(B226=Dimension!$A$6,CD,\"\"))","v":""},null,{"$f":"IF(OR(B226=Dimension!$A$3,B226=Dimension!$A$4,B226=Dimension!$A$6,B226=Dimension!$A$8),CCYA,\"\")","v":""},{"$f":"IFERROR(VLOOKUP(F226,Dimension!$G$3:$H$252,2,FALSE),\"\")","v":""},{"$f":"IF(OR(B226=Dimension!$A$3,B226=Dimension!$A$4,B226=Dimension!$A$5),\"เดินทาง/ท่องเที่ยว\",\"\")","v":""},{"$f":"IF(OR(B226=Dimension!$A$6,B226=Dimension!$A$7,B226=Dimension!$A$8,B226=Dimension!$A$9),\"\",IF(OR(B226=Dimension!$A$3,B226=Dimension!$A$4,B226=Dimension!$A$5),\"สถานประกอบการ\",\"\"))","v":""},{"$f":"IF(OR(B226=Dimension!$A$3,B226=Dimension!$A$4,B226=Dimension!$A$5,B226=Dimension!$A$6,,B226=Dimension!$A$7,B226=Dimension!$A$8,B226=Dimension!$A$9),Payment_ID2,\"\")","v":""},null,{"$f":"IFERROR(VLOOKUP(K226,Dimension!$J$3:$K$179,2,FALSE),\"\")","v":""},null,null,{"$f":"IF(OR(B226=Dimension!$A$6,B226=Dimension!$A$7,B226=Dimension!$A$8,B226=Dimension!$A$9),\"\",IF(OR(B226=Dimension!$A$3,B226=Dimension!$A$4,B226=Dimension!$A$5),\"สถานประกอบการ\",\"\"))","v":""},{"$f":"IF(OR(B226=Dimension!$A$6,B226=Dimension!$A$7,B226=Dimension!$A$8,B226=Dimension!$A$9,B226=\"\"),\"\",Payment_ID2)","v":""},"",null,null,{"$f":"IF(D226=Dimension!$C$9,IF(LEFT(UPPER(E226),2)=\"MC\",TRUE,FALSE),TRUE)","v":true}]
[null,null,null,{"$f":"IF(B227=Dimension!$A$8,Dimension!$C$9,IF(B227=Dimension!$A$6,CD,\"\"))","v":""},null,{"$f":"IF(OR(B227=Dimension!$A$3,B227=Dimension!$A$4,B227=Dimension!$A$6,B227=Dimension!$A$8),CCYA,\"\")","v":""},{"$f":"IFERROR(VLOOKUP(F227,Dimension!$G$3:$H$252,2,FALSE),\"\")","v":""},{"$f":"IF(OR(B227=Dimension!$A$3,B227=Dimension!$A$4,B227=Dimension!$A$5),\"เดินทาง/ท่องเที่ยว\",\"\")","v":""},{"$f":"IF(OR(B227=Dimension!$A$6,B227=Dimension!$A$7,B227=Dimension!$A$8,B227=Dimension!$A$9),\"\",IF(OR(B227=Dimension!$A$3,B227=Dimension!$A$4,B227=Dimension!$A$5),\"สถานประกอบการ\",\"\"))","v":""},{"$f":"IF(OR(B227=Dimension!$A$3,B227=Dimension!$A$4,B227=Dimension!$A$5,B227=Dimension!$A$6,,B227=Dimension!$A$7,B227=Dimension!$A$8,B227=Dimension!$A$9),Payment_ID2,\"\")","v":""},null,{"$f":"IFERROR(VLOOKUP(K227,Dimension!$J$3:$K$179,2,FALSE),\"\")","v":""},null,null,{"$f":"IF(OR(B227=Dimension!$A$6,B227=Dimension!$A$7,B227=Dimension!$A$8,B227=Dimension!$A$9),\"\",IF(OR(B227=Dimension!$A$3,B227=Dimension!$A$4,B227=Dimension!$A$5),\"สถานประกอบการ\",\"\"))","v":""},{"$f":"IF(OR(B227=Dimension!$A$6,B227=Dimension!$A$7,B227=Dimension!$A$8,B227=Dimension!$A$9,B227=\"\"),\"\",Payment_ID2)","v":""},"",null,null,{"$f":"IF(D227=Dimension!$C$9,IF(LEFT(UPPER(E227),2)=\"MC\",TRUE,FALSE),TRUE)","v":true}]
[null,null,null,{"$f":"IF(B228=Dimension!$A$8,Dimension!$C$9,IF(B228=Dimension!$A$6,CD,\"\"))","v":""},null,{"$f":"IF(OR(B228=Dimension!$A$3,B228=Dimension!$A$4,B228=Dimension!$A$6,B228=Dimension!$A$8),CCYA,\"\")","v":""},{"$f":"IFERROR(VLOOKUP(F228,Dimension!$G$3:$H$252,2,FALSE),\"\")","v":""},{"$f":"IF(OR(B228=Dimension!$A$3,B228=Dimension!$A$4,B228=Dimension!$A$5),\"เดินทาง/ท่องเที่ยว\",\"\")","v":""},{"$f":"IF(OR(B228=Dimension!$A$6,B228=Dimension!$A$7,B228=Dimension!$A$8,B228=Dimension!$A$9),\"\",IF(OR(B228=Dimension!$A$3,B228=Dimension!$A$4,B228=Dimension!$A$5),\"สถานประกอบการ\",\"\"))","v":""},{"$f":"IF(OR(B228=Dimension!$A$3,B228=Dimension!$A$4,B228=Dimension!$A$5,B228=Dimension!$A$6,,B228=Dimension!$A$7,B228=Dimension!$A$8,B228=Dimension!$A$9),Payment_ID2,\"\")","v":""},null,{"$f":"IFERROR(VLOOKUP(K228,Dimension!$J$3:$K$179,2,FALSE),\"\")","v":""},null,null,{"$f":"IF(OR(B228=Dimension!$A$6,B228=Dimension!$A$7,B228=Dimension!$A$8,B228=Dimension!$A$9),\"\",IF(OR(B228=Dimension!$A$3,B228=Dimension!$A$4,B228=Dimension!$A$5),\"สถานประกอบการ\",\"\"))","v":""},{"$f":"IF(OR(B228=Dimension!$A$6,B228=Dimension!$A$7,B228=Dimension!$A$8,B228=Dimension!$A$9,B228=\"\"),\"\",Payment_ID2)","v":""},"",null,null,{"$f":"IF(D228=Dimension!$C$9,IF(LEFT(UPPER(E228),2)=\"MC\",TRUE,FALSE),TRUE)","v":true}]
[null,null,null,{"$f":"IF(B229=Dimension!$A$8,Dimension!$C$9,IF(B229=Dimension!$A$6,CD,\"\"))","v":""},null,{"$f":"IF(OR(B229=Dimension!$A$3,B229=Dimension!$A$4,B229=Dimension!$A$6,B229=Dimension!$A$8),CCYA,\"\")","v":""},{"$f":"IFERROR(VLOOKUP(F229,Dimension!$G$3:$H$252,2,FALSE),\"\")","v":""},{"$f":"IF(OR(B229=Dimension!$A$3,B229=Dimension!$A$4,B229=Dimension!$A$5),\"เดินทาง/ท่องเที่ยว\",\"\")","v":""},{"$f":"IF(OR(B229=Dimension!$A$6,B229=Dimension!$A$7,B229=Dimension!$A$8,B229=Dimension!$A$9),\"\",IF(OR(B229=Dimension!$A$3,B229=Dimension!$A$4,B229=Dimension!$A$5),\"สถานประกอบการ\",\"\"))","v":""},{"$f":"IF(OR(B229=Dimension!$A$3,B229=Dimension!$A$4,B229=Dimension!$A$5,B229=Dimension!$A$6,,B229=Dimension!$A$7,B229=Dimension!$A$8,B229=Dimension!$A$9),Payment_ID2,\"\")","v":""},null,{"$f":"IFERROR(VLOOKUP(K229,Dimension!$J$3:$K$179,2,FALSE),\"\")","v":""},null,null,{"$f":"IF(OR(B229=Dimension!$A$6,B229=Dimension!$A$7,B229=Dimension!$A$8,B229=Dimension!$A$9),\"\",IF(OR(B229=Dimension!$A$3,B229=Dimension!$A$4,B229=Dimension!$A$5),\"สถานประกอบการ\",\"\"))","v":""},{"$f":"IF(OR(B229=Dimension!$A$6,B229=Dimension!$A$7,B229=Dimension!$A$8,B229=Dimension!$A$9,B229=\"\"),\"\",Payment_ID2)","v":""},"",null,null,{"$f":"IF(D229=Dimension!$C$9,IF(LEFT(UPPER(E229),2)=\"MC\",TRUE,FALSE),TRUE)","v":true}]
[null,null,null,{"$f":"IF(B230=Dimension!$A$8,Dimension!$C$9,IF(B230=Dimension!$A$6,CD,\"\"))","v":""},null,{"$f":"IF(OR(B230=Dimension!$A$3,B230=Dimension!$A$4,B230=Dimension!$A$6,B230=Dimension!$A$8),CCYA,\"\")","v":""},{"$f":"IFERROR(VLOOKUP(F230,Dimension!$G$3:$H$252,2,FALSE),\"\")","v":""},{"$f":"IF(OR(B230=Dimension!$A$3,B230=Dimension!$A$4,B230=Dimension!$A$5),\"เดินทาง/ท่องเที่ยว\",\"\")","v":""},{"$f":"IF(OR(B230=Dimension!$A$6,B230=Dimension!$A$7,B230=Dimension!$A$8,B230=Dimension!$A$9),\"\",IF(OR(B230=Dimension!$A$3,B230=Dimension!$A$4,B230=Dimension!$A$5),\"สถานประกอบการ\",\"\"))","v":""},{"$f":"IF(OR(B230=Dimension!$A$3,B230=Dimension!$A$4,B230=Dimension!$A$5,B230=Dimension!$A$6,,B230=Dimension!$A$7,B230=Dimension!$A$8,B230=Dimension!$A$9),Payment_ID2,\"\")","v":""},null,{"$f":"IFERROR(VLOOKUP(K230,Dimension!$J$3:$K$179,2,FALSE),\"\")","v":""},null,null,{"$f":"IF(OR(B230=Dimension!$A$6,B230=Dimension!$A$7,B230=Dimension!$A$8,B230=Dimension!$A$9),\"\",IF(OR(B230=Dimension!$A$3,B230=Dimension!$A$4,B230=Dimension!$A$5),\"สถานประกอบการ\",\"\"))","v":""},{"$f":"IF(OR(B230=Dimension!$A$6,B230=Dimension!$A$7,B230=Dimension!$A$8,B230=Dimension!$A$9,B230=\"\"),\"\",Payment_ID2)","v":""},"",null,null,{"$f":"IF(D230=Dimension!$C$9,IF(LEFT(UPPER(E230),2)=\"MC\",TRUE,FALSE),TRUE)","v":true}]
[null,null,null,{"$f":"IF(B231=Dimension!$A$8,Dimension!$C$9,IF(B231=Dimension!$A$6,CD,\"\"))","v":""},null,{"$f":"IF(OR(B231=Dimension!$A$3,B231=Dimension!$A$4,B231=Dimension!$A$6,B231=Dimension!$A$8),CCYA,\"\")","v":""},{"$f":"IFERROR(VLOOKUP(F231,Dimension!$G$3:$H$252,2,FALSE),\"\")","v":""},{"$f":"IF(OR(B231=Dimension!$A$3,B231=Dimension!$A$4,B231=Dimension!$A$5),\"เดินทาง/ท่องเที่ยว\",\"\")","v":""},{"$f":"IF(OR(B231=Dimension!$A$6,B231=Dimension!$A$7,B231=Dimension!$A$8,B231=Dimension!$A$9),\"\",IF(OR(B231=Dimension!$A$3,B231=Dimension!$A$4,B231=Dimension!$A$5),\"สถานประกอบการ\",\"\"))","v":""},{"$f":"IF(OR(B231=Dimension!$A$3,B231=Dimension!$A$4,B231=Dimension!$A$5,B231=Dimension!$A$6,,B231=Dimension!$A$7,B231=Dimension!$A$8,B231=Dimension!$A$9),Payment_ID2,\"\")","v":""},null,{"$f":"IFERROR(VLOOKUP(K231,Dimension!$J$3:$K$179,2,FALSE),\"\")","v":""},null,null,{"$f":"IF(OR(B231=Dimension!$A$6,B231=Dimension!$A$7,B231=Dimension!$A$8,B231=Dimension!$A$9),\"\",IF(OR(B231=Dimension!$A$3,B231=Dimension!$A$4,B231=Dimension!$A$5),\"สถานประกอบการ\",\"\"))","v":""},{"$f":"IF(OR(B231=Dimension!$A$6,B231=Dimension!$A$7,B231=Dimension!$A$8,B231=Dimension!$A$9,B231=\"\"),\"\",Payment_ID2)","v":""},"",null,null,{"$f":"IF(D231=Dimension!$C$9,IF(LEFT(UPPER(E231),2)=\"MC\",TRUE,FALSE),TRUE)","v":true}]
[null,null,null,{"$f":"IF(B232=Dimension!$A$8,Dimension!$C$9,IF(B232=Dimension!$A$6,CD,\"\"))","v":""},null,{"$f":"IF(OR(B232=Dimension!$A$3,B232=Dimension!$A$4,B232=Dimension!$A$6,B232=Dimension!$A$8),CCYA,\"\")","v":""},{"$f":"IFERROR(VLOOKUP(F232,Dimension!$G$3:$H$252,2,FALSE),\"\")","v":""},{"$f":"IF(OR(B232=Dimension!$A$3,B232=Dimension!$A$4,B232=Dimension!$A$5),\"เดินทาง/ท่องเที่ยว\",\"\")","v":""},{"$f":"IF(OR(B232=Dimension!$A$6,B232=Dimension!$A$7,B232=Dimension!$A$8,B232=Dimension!$A$9),\"\",IF(OR(B232=Dimension!$A$3,B232=Dimension!$A$4,B232=Dimension!$A$5),\"สถานประกอบการ\",\"\"))","v":""},{"$f":"IF(OR(B232=Dimension!$A$3,B232=Dimension!$A$4,B232=Dimension!$A$5,B232=Dimension!$A$6,,B232=Dimension!$A$7,B232=Dimension!$A$8,B232=Dimension!$A$9),Payment_ID2,\"\")","v":""},null,{"$f":"IFERROR(VLOOKUP(K232,Dimension!$J$3:$K$179,2,FALSE),\"\")","v":""},null,null,{"$f":"IF(OR(B232=Dimension!$A$6,B232=Dimension!$A$7,B232=Dimension!$A$8,B232=Dimension!$A$9),\"\",IF(OR(B232=Dimension!$A$3,B232=Dimension!$A$4,B232=Dimension!$A$5),\"สถานประกอบการ\",\"\"))","v":""},{"$f":"IF(OR(B232=Dimension!$A$6,B232=Dimension!$A$7,B232=Dimension!$A$8,B232=Dimension!$A$9,B232=\"\"),\"\",Payment_ID2)","v":""},"",null,null,{"$f":"IF(D232=Dimension!$C$9,IF(LEFT(UPPER(E232),2)=\"MC\",TRUE,FALSE),TRUE)","v":true}]
[null,null,null,{"$f":"IF(B233=Dimension!$A$8,Dimension!$C$9,IF(B233=Dimension!$A$6,CD,\"\"))","v":""},null,{"$f":"IF(OR(B233=Dimension!$A$3,B233=Dimension!$A$4,B233=Dimension!$A$6,B233=Dimension!$A$8),CCYA,\"\")","v":""},{"$f":"IFERROR(VLOOKUP(F233,Dimension!$G$3:$H$252,2,FALSE),\"\")","v":""},{"$f":"IF(OR(B233=Dimension!$A$3,B233=Dimension!$A$4,B233=Dimension!$A$5),\"เดินทาง/ท่องเที่ยว\",\"\")","v":""},{"$f":"IF(OR(B233=Dimension!$A$6,B233=Dimension!$A$7,B233=Dimension!$A$8,B233=Dimension!$A$9),\"\",IF(OR(B233=Dimension!$A$3,B233=Dimension!$A$4,B233=Dimension!$A$5),\"สถานประกอบการ\",\"\"))","v":""},{"$f":"IF(OR(B233=Dimension!$A$3,B233=Dimension!$A$4,B233=Dimension!$A$5,B233=Dimension!$A$6,,B233=Dimension!$A$7,B233=Dimension!$A$8,B233=Dimension!$A$9),Payment_ID2,\"\")","v":""},null,{"$f":"IFERROR(VLOOKUP(K233,Dimension!$J$3:$K$179,2,FALSE),\"\")","v":""},null,null,{"$f":"IF(OR(B233=Dimension!$A$6,B233=Dimension!$A$7,B233=Dimension!$A$8,B233=Dimension!$A$9),\"\",IF(OR(B233=Dimension!$A$3,B233=Dimension!$A$4,B233=Dimension!$A$5),\"สถานประกอบการ\",\"\"))","v":""},{"$f":"IF(OR(B233=Dimension!$A$6,B233=Dimension!$A$7,B233=Dimension!$A$8,B233=Dimension!$A$9,B233=\"\"),\"\",Payment_ID2)","v":""},"",null,null,{"$f":"IF(D233=Dimension!$C$9,IF(LEFT(UPPER(E233),2)=\"MC\",TRUE,FALSE),TRUE)","v":true}]
[null,null,null,{"$f":"IF(B234=Dimension!$A$8,Dimension!$C$9,IF(B234=Dimension!$A$6,CD,\"\"))","v":""},null,{"$f":"IF(OR(B234=Dimension!$A$3,B234=Dimension!$A$4,B234=Dimension!$A$6,B234=Dimension!$A$8),CCYA,\"\")","v":""},{"$f":"IFERROR(VLOOKUP(F234,Dimension!$G$3:$H$252,2,FALSE),\"\")","v":""},{"$f":"IF(OR(B234=Dimension!$A$3,B234=Dimension!$A$4,B234=Dimension!$A$5),\"เดินทาง/ท่องเที่ยว\",\"\")","v":""},{"$f":"IF(OR(B234=Dimension!$A$6,B234=Dimension!$A$7,B234=Dimension!$A$8,B234=Dimension!$A$9),\"\",IF(OR(B234=Dimension!$A$3,B234=Dimension!$A$4,B234=Dimension!$A$5),\"สถานประกอบการ\",\"\"))","v":""},{"$f":"IF(OR(B234=Dimension!$A$3,B234=Dimension!$A$4,B234=Dimension!$A$5,B234=Dimension!$A$6,,B234=Dimension!$A$7,B234=Dimension!$A$8,B234=Dimension!$A$9),Payment_ID2,\"\")","v":""},null,{"$f":"IFERROR(VLOOKUP(K234,Dimension!$J$3:$K$179,2,FALSE),\"\")","v":""},null,null,{"$f":"IF(OR(B234=Dimension!$A$6,B234=Dimension!$A$7,B234=Dimension!$A$8,B234=Dimension!$A$9),\"\",IF(OR(B234=Dimension!$A$3,B234=Dimension!$A$4,B234=Dimension!$A$5),\"สถานประกอบการ\",\"\"))","v":""},{"$f":"IF(OR(B234=Dimension!$A$6,B234=Dimension!$A$7,B234=Dimension!$A$8,B234=Dimension!$A$9,B234=\"\"),\"\",Payment_ID2)","v":""},"",null,null,{"$f":"IF(D234=Dimension!$C$9,IF(LEFT(UPPER(E234),2)=\"MC\",TRUE,FALSE),TRUE)","v":true}]
[null,null,null,{"$f":"IF(B235=Dimension!$A$8,Dimension!$C$9,IF(B235=Dimension!$A$6,CD,\"\"))","v":""},null,{"$f":"IF(OR(B235=Dimension!$A$3,B235=Dimension!$A$4,B235=Dimension!$A$6,B235=Dimension!$A$8),CCYA,\"\")","v":""},{"$f":"IFERROR(VLOOKUP(F235,Dimension!$G$3:$H$252,2,FALSE),\"\")","v":""},{"$f":"IF(OR(B235=Dimension!$A$3,B235=Dimension!$A$4,B235=Dimension!$A$5),\"เดินทาง/ท่องเที่ยว\",\"\")","v":""},{"$f":"IF(OR(B235=Dimension!$A$6,B235=Dimension!$A$7,B235=Dimension!$A$8,B235=Dimension!$A$9),\"\",IF(OR(B235=Dimension!$A$3,B235=Dimension!$A$4,B235=Dimension!$A$5),\"สถานประกอบการ\",\"\"))","v":""},{"$f":"IF(OR(B235=Dimension!$A$3,B235=Dimension!$A$4,B235=Dimension!$A$5,B235=Dimension!$A$6,,B235=Dimension!$A$7,B235=Dimension!$A$8,B235=Dimension!$A$9),Payment_ID2,\"\")","v":""},null,{"$f":"IFERROR(VLOOKUP(K235,Dimension!$J$3:$K$179,2,FALSE),\"\")","v":""},null,null,{"$f":"IF(OR(B235=Dimension!$A$6,B235=Dimension!$A$7,B235=Dimension!$A$8,B235=Dimension!$A$9),\"\",IF(OR(B235=Dimension!$A$3,B235=Dimension!$A$4,B235=Dimension!$A$5),\"สถานประกอบการ\",\"\"))","v":""},{"$f":"IF(OR(B235=Dimension!$A$6,B235=Dimension!$A$7,B235=Dimension!$A$8,B235=Dimension!$A$9,B235=\"\"),\"\",Payment_ID2)","v":""},"",null,null,{"$f":"IF(D235=Dimension!$C$9,IF(LEFT(UPPER(E235),2)=\"MC\",TRUE,FALSE),TRUE)","v":true}]
[null,null,null,{"$f":"IF(B236=Dimension!$A$8,Dimension!$C$9,IF(B236=Dimension!$A$6,CD,\"\"))","v":""},null,{"$f":"IF(OR(B236=Dimension!$A$3,B236=Dimension!$A$4,B236=Dimension!$A$6,B236=Dimension!$A$8),CCYA,\"\")","v":""},{"$f":"IFERROR(VLOOKUP(F236,Dimension!$G$3:$H$252,2,FALSE),\"\")","v":""},{"$f":"IF(OR(B236=Dimension!$A$3,B236=Dimension!$A$4,B236=Dimension!$A$5),\"เดินทาง/ท่องเที่ยว\",\"\")","v":""},{"$f":"IF(OR(B236=Dimension!$A$6,B236=Dimension!$A$7,B236=Dimension!$A$8,B236=Dimension!$A$9),\"\",IF(OR(B236=Dimension!$A$3,B236=Dimension!$A$4,B236=Dimension!$A$5),\"สถานประกอบการ\",\"\"))","v":""},{"$f":"IF(OR(B236=Dimension!$A$3,B236=Dimension!$A$4,B236=Dimension!$A$5,B236=Dimension!$A$6,,B236=Dimension!$A$7,B236=Dimension!$A$8,B236=Dimension!$A$9),Payment_ID2,\"\")","v":""},null,{"$f":"IFERROR(VLOOKUP(K236,Dimension!$J$3:$K$179,2,FALSE),\"\")","v":""},null,null,{"$f":"IF(OR(B236=Dimension!$A$6,B236=Dimension!$A$7,B236=Dimension!$A$8,B236=Dimension!$A$9),\"\",IF(OR(B236=Dimension!$A$3,B236=Dimension!$A$4,B236=Dimension!$A$5),\"สถานประกอบการ\",\"\"))","v":""},{"$f":"IF(OR(B236=Dimension!$A$6,B236=Dimension!$A$7,B236=Dimension!$A$8,B236=Dimension!$A$9,B236=\"\"),\"\",Payment_ID2)","v":""},"",null,null,{"$f":"IF(D236=Dimension!$C$9,IF(LEFT(UPPER(E236),2)=\"MC\",TRUE,FALSE),TRUE)","v":true}]
[null,null,null,{"$f":"IF(B237=Dimension!$A$8,Dimension!$C$9,IF(B237=Dimension!$A$6,CD,\"\"))","v":""},null,{"$f":"IF(OR(B237=Dimension!$A$3,B237=Dimension!$A$4,B237=Dimension!$A$6,B237=Dimension!$A$8),CCYA,\"\")","v":""},{"$f":"IFERROR(VLOOKUP(F237,Dimension!$G$3:$H$252,2,FALSE),\"\")","v":""},{"$f":"IF(OR(B237=Dimension!$A$3,B237=Dimension!$A$4,B237=Dimension!$A$5),\"เดินทาง/ท่องเที่ยว\",\"\")","v":""},{"$f":"IF(OR(B237=Dimension!$A$6,B237=Dimension!$A$7,B237=Dimension!$A$8,B237=Dimension!$A$9),\"\",IF(OR(B237=Dimension!$A$3,B237=Dimension!$A$4,B237=Dimension!$A$5),\"สถานประกอบการ\",\"\"))","v":""},{"$f":"IF(OR(B237=Dimension!$A$3,B237=Dimension!$A$4,B237=Dimension!$A$5,B237=Dimension!$A$6,,B237=Dimension!$A$7,B237=Dimension!$A$8,B237=Dimension!$A$9),Payment_ID2,\"\")","v":""},null,{"$f":"IFERROR(VLOOKUP(K237,Dimension!$J$3:$K$179,2,FALSE),\"\")","v":""},null,null,{"$f":"IF(OR(B237=Dimension!$A$6,B237=Dimension!$A$7,B237=Dimension!$A$8,B237=Dimension!$A$9),\"\",IF(OR(B237=Dimension!$A$3,B237=Dimension!$A$4,B237=Dimension!$A$5),\"สถานประกอบการ\",\"\"))","v":""},{"$f":"IF(OR(B237=Dimension!$A$6,B237=Dimension!$A$7,B237=Dimension!$A$8,B237=Dimension!$A$9,B237=\"\"),\"\",Payment_ID2)","v":""},"",null,null,{"$f":"IF(D237=Dimension!$C$9,IF(LEFT(UPPER(E237),2)=\"MC\",TRUE,FALSE),TRUE)","v":true}]
[null,null,null,{"$f":"IF(B238=Dimension!$A$8,Dimension!$C$9,IF(B238=Dimension!$A$6,CD,\"\"))","v":""},null,{"$f":"IF(OR(B238=Dimension!$A$3,B238=Dimension!$A$4,B238=Dimension!$A$6,B238=Dimension!$A$8),CCYA,\"\")","v":""},{"$f":"IFERROR(VLOOKUP(F238,Dimension!$G$3:$H$252,2,FALSE),\"\")","v":""},{"$f":"IF(OR(B238=Dimension!$A$3,B238=Dimension!$A$4,B238=Dimension!$A$5),\"เดินทาง/ท่องเที่ยว\",\"\")","v":""},{"$f":"IF(OR(B238=Dimension!$A$6,B238=Dimension!$A$7,B238=Dimension!$A$8,B238=Dimension!$A$9),\"\",IF(OR(B238=Dimension!$A$3,B238=Dimension!$A$4,B238=Dimension!$A$5),\"สถานประกอบการ\",\"\"))","v":""},{"$f":"IF(OR(B238=Dimension!$A$3,B238=Dimension!$A$4,B238=Dimension!$A$5,B238=Dimension!$A$6,,B238=Dimension!$A$7,B238=Dimension!$A$8,B238=Dimension!$A$9),Payment_ID2,\"\")","v":""},null,{"$f":"IFERROR(VLOOKUP(K238,Dimension!$J$3:$K$179,2,FALSE),\"\")","v":""},null,null,{"$f":"IF(OR(B238=Dimension!$A$6,B238=Dimension!$A$7,B238=Dimension!$A$8,B238=Dimension!$A$9),\"\",IF(OR(B238=Dimension!$A$3,B238=Dimension!$A$4,B238=Dimension!$A$5),\"สถานประกอบการ\",\"\"))","v":""},{"$f":"IF(OR(B238=Dimension!$A$6,B238=Dimension!$A$7,B238=Dimension!$A$8,B238=Dimension!$A$9,B238=\"\"),\"\",Payment_ID2)","v":""},"",null,null,{"$f":"IF(D238=Dimension!$C$9,IF(LEFT(UPPER(E238),2)=\"MC\",TRUE,FALSE),TRUE)","v":true}]
[null,null,null,{"$f":"IF(B239=Dimension!$A$8,Dimension!$C$9,IF(B239=Dimension!$A$6,CD,\"\"))","v":""},null,{"$f":"IF(OR(B239=Dimension!$A$3,B239=Dimension!$A$4,B239=Dimension!$A$6,B239=Dimension!$A$8),CCYA,\"\")","v":""},{"$f":"IFERROR(VLOOKUP(F239,Dimension!$G$3:$H$252,2,FALSE),\"\")","v":""},{"$f":"IF(OR(B239=Dimension!$A$3,B239=Dimension!$A$4,B239=Dimension!$A$5),\"เดินทาง/ท่องเที่ยว\",\"\")","v":""},{"$f":"IF(OR(B239=Dimension!$A$6,B239=Dimension!$A$7,B239=Dimension!$A$8,B239=Dimension!$A$9),\"\",IF(OR(B239=Dimension!$A$3,B239=Dimension!$A$4,B239=Dimension!$A$5),\"สถานประกอบการ\",\"\"))","v":""},{"$f":"IF(OR(B239=Dimension!$A$3,B239=Dimension!$A$4,B239=Dimension!$A$5,B239=Dimension!$A$6,,B239=Dimension!$A$7,B239=Dimension!$A$8,B239=Dimension!$A$9),Payment_ID2,\"\")","v":""},null,{"$f":"IFERROR(VLOOKUP(K239,Dimension!$J$3:$K$179,2,FALSE),\"\")","v":""},null,null,{"$f":"IF(OR(B239=Dimension!$A$6,B239=Dimension!$A$7,B239=Dimension!$A$8,B239=Dimension!$A$9),\"\",IF(OR(B239=Dimension!$A$3,B239=Dimension!$A$4,B239=Dimension!$A$5),\"สถานประกอบการ\",\"\"))","v":""},{"$f":"IF(OR(B239=Dimension!$A$6,B239=Dimension!$A$7,B239=Dimension!$A$8,B239=Dimension!$A$9,B239=\"\"),\"\",Payment_ID2)","v":""},"",null,null,{"$f":"IF(D239=Dimension!$C$9,IF(LEFT(UPPER(E239),2)=\"MC\",TRUE,FALSE),TRUE)","v":true}]
[null,null,null,{"$f":"IF(B240=Dimension!$A$8,Dimension!$C$9,IF(B240=Dimension!$A$6,CD,\"\"))","v":""},null,{"$f":"IF(OR(B240=Dimension!$A$3,B240=Dimension!$A$4,B240=Dimension!$A$6,B240=Dimension!$A$8),CCYA,\"\")","v":""},{"$f":"IFERROR(VLOOKUP(F240,Dimension!$G$3:$H$252,2,FALSE),\"\")","v":""},{"$f":"IF(OR(B240=Dimension!$A$3,B240=Dimension!$A$4,B240=Dimension!$A$5),\"เดินทาง/ท่องเที่ยว\",\"\")","v":""},{"$f":"IF(OR(B240=Dimension!$A$6,B240=Dimension!$A$7,B240=Dimension!$A$8,B240=Dimension!$A$9),\"\",IF(OR(B240=Dimension!$A$3,B240=Dimension!$A$4,B240=Dimension!$A$5),\"สถานประกอบการ\",\"\"))","v":""},{"$f":"IF(OR(B240=Dimension!$A$3,B240=Dimension!$A$4,B240=Dimension!$A$5,B240=Dimension!$A$6,,B240=Dimension!$A$7,B240=Dimension!$A$8,B240=Dimension!$A$9),Payment_ID2,\"\")","v":""},null,{"$f":"IFERROR(VLOOKUP(K240,Dimension!$J$3:$K$179,2,FALSE),\"\")","v":""},null,null,{"$f":"IF(OR(B240=Dimension!$A$6,B240=Dimension!$A$7,B240=Dimension!$A$8,B240=Dimension!$A$9),\"\",IF(OR(B240=Dimension!$A$3,B240=Dimension!$A$4,B240=Dimension!$A$5),\"สถานประกอบการ\",\"\"))","v":""},{"$f":"IF(OR(B240=Dimension!$A$6,B240=Dimension!$A$7,B240=Dimension!$A$8,B240=Dimension!$A$9,B240=\"\"),\"\",Payment_ID2)","v":""},"",null,null,{"$f":"IF(D240=Dimension!$C$9,IF(LEFT(UPPER(E240),2)=\"MC\",TRUE,FALSE),TRUE)","v":true}]
[null,null,null,{"$f":"IF(B241=Dimension!$A$8,Dimension!$C$9,IF(B241=Dimension!$A$6,CD,\"\"))","v":""},null,{"$f":"IF(OR(B241=Dimension!$A$3,B241=Dimension!$A$4,B241=Dimension!$A$6,B241=Dimension!$A$8),CCYA,\"\")","v":""},{"$f":"IFERROR(VLOOKUP(F241,Dimension!$G$3:$H$252,2,FALSE),\"\")","v":""},{"$f":"IF(OR(B241=Dimension!$A$3,B241=Dimension!$A$4,B241=Dimension!$A$5),\"เดินทาง/ท่องเที่ยว\",\"\")","v":""},{"$f":"IF(OR(B241=Dimension!$A$6,B241=Dimension!$A$7,B241=Dimension!$A$8,B241=Dimension!$A$9),\"\",IF(OR(B241=Dimension!$A$3,B241=Dimension!$A$4,B241=Dimension!$A$5),\"สถานประกอบการ\",\"\"))","v":""},{"$f":"IF(OR(B241=Dimension!$A$3,B241=Dimension!$A$4,B241=Dimension!$A$5,B241=Dimension!$A$6,,B241=Dimension!$A$7,B241=Dimension!$A$8,B241=Dimension!$A$9),Payment_ID2,\"\")","v":""},null,{"$f":"IFERROR(VLOOKUP(K241,Dimension!$J$3:$K$179,2,FALSE),\"\")","v":""},null,null,{"$f":"IF(OR(B241=Dimension!$A$6,B241=Dimension!$A$7,B241=Dimension!$A$8,B241=Dimension!$A$9),\"\",IF(OR(B241=Dimension!$A$3,B241=Dimension!$A$4,B241=Dimension!$A$5),\"สถานประกอบการ\",\"\"))","v":""},{"$f":"IF(OR(B241=Dimension!$A$6,B241=Dimension!$A$7,B241=Dimension!$A$8,B241=Dimension!$A$9,B241=\"\"),\"\",Payment_ID2)","v":""},"",null,null,{"$f":"IF(D241=Dimension!$C$9,IF(LEFT(UPPER(E241),2)=\"MC\",TRUE,FALSE),TRUE)","v":true}]
[null,null,null,{"$f":"IF(B242=Dimension!$A$8,Dimension!$C$9,IF(B242=Dimension!$A$6,CD,\"\"))","v":""},null,{"$f":"IF(OR(B242=Dimension!$A$3,B242=Dimension!$A$4,B242=Dimension!$A$6,B242=Dimension!$A$8),CCYA,\"\")","v":""},{"$f":"IFERROR(VLOOKUP(F242,Dimension!$G$3:$H$252,2,FALSE),\"\")","v":""},{"$f":"IF(OR(B242=Dimension!$A$3,B242=Dimension!$A$4,B242=Dimension!$A$5),\"เดินทาง/ท่องเที่ยว\",\"\")","v":""},{"$f":"IF(OR(B242=Dimension!$A$6,B242=Dimension!$A$7,B242=Dimension!$A$8,B242=Dimension!$A$9),\"\",IF(OR(B242=Dimension!$A$3,B242=Dimension!$A$4,B242=Dimension!$A$5),\"สถานประกอบการ\",\"\"))","v":""},{"$f":"IF(OR(B242=Dimension!$A$3,B242=Dimension!$A$4,B242=Dimension!$A$5,B242=Dimension!$A$6,,B242=Dimension!$A$7,B242=Dimension!$A$8,B242=Dimension!$A$9),Payment_ID2,\"\")","v":""},null,{"$f":"IFERROR(VLOOKUP(K242,Dimension!$J$3:$K$179,2,FALSE),\"\")","v":""},null,null,{"$f":"IF(OR(B242=Dimension!$A$6,B242=Dimension!$A$7,B242=Dimension!$A$8,B242=Dimension!$A$9),\"\",IF(OR(B242=Dimension!$A$3,B242=Dimension!$A$4,B242=Dimension!$A$5),\"สถานประกอบการ\",\"\"))","v":""},{"$f":"IF(OR(B242=Dimension!$A$6,B242=Dimension!$A$7,B242=Dimension!$A$8,B242=Dimension!$A$9,B242=\"\"),\"\",Payment_ID2)","v":""},"",null,null,{"$f":"IF(D242=Dimension!$C$9,IF(LEFT(UPPER(E242),2)=\"MC\",TRUE,FALSE),TRUE)","v":true}]
[null,null,null,{"$f":"IF(B243=Dimension!$A$8,Dimension!$C$9,IF(B243=Dimension!$A$6,CD,\"\"))","v":""},null,{"$f":"IF(OR(B243=Dimension!$A$3,B243=Dimension!$A$4,B243=Dimension!$A$6,B243=Dimension!$A$8),CCYA,\"\")","v":""},{"$f":"IFERROR(VLOOKUP(F243,Dimension!$G$3:$H$252,2,FALSE),\"\")","v":""},{"$f":"IF(OR(B243=Dimension!$A$3,B243=Dimension!$A$4,B243=Dimension!$A$5),\"เดินทาง/ท่องเที่ยว\",\"\")","v":""},{"$f":"IF(OR(B243=Dimension!$A$6,B243=Dimension!$A$7,B243=Dimension!$A$8,B243=Dimension!$A$9),\"\",IF(OR(B243=Dimension!$A$3,B243=Dimension!$A$4,B243=Dimension!$A$5),\"สถานประกอบการ\",\"\"))","v":""},{"$f":"IF(OR(B243=Dimension!$A$3,B243=Dimension!$A$4,B243=Dimension!$A$5,B243=Dimension!$A$6,,B243=Dimension!$A$7,B243=Dimension!$A$8,B243=Dimension!$A$9),Payment_ID2,\"\")","v":""},null,{"$f":"IFERROR(VLOOKUP(K243,Dimension!$J$3:$K$179,2,FALSE),\"\")","v":""},null,null,{"$f":"IF(OR(B243=Dimension!$A$6,B243=Dimension!$A$7,B243=Dimension!$A$8,B243=Dimension!$A$9),\"\",IF(OR(B243=Dimension!$A$3,B243=Dimension!$A$4,B243=Dimension!$A$5),\"สถานประกอบการ\",\"\"))","v":""},{"$f":"IF(OR(B243=Dimension!$A$6,B243=Dimension!$A$7,B243=Dimension!$A$8,B243=Dimension!$A$9,B243=\"\"),\"\",Payment_ID2)","v":""},"",null,null,{"$f":"IF(D243=Dimension!$C$9,IF(LEFT(UPPER(E243),2)=\"MC\",TRUE,FALSE),TRUE)","v":true}]
[null,null,null,{"$f":"IF(B244=Dimension!$A$8,Dimension!$C$9,IF(B244=Dimension!$A$6,CD,\"\"))","v":""},null,{"$f":"IF(OR(B244=Dimension!$A$3,B244=Dimension!$A$4,B244=Dimension!$A$6,B244=Dimension!$A$8),CCYA,\"\")","v":""},{"$f":"IFERROR(VLOOKUP(F244,Dimension!$G$3:$H$252,2,FALSE),\"\")","v":""},{"$f":"IF(OR(B244=Dimension!$A$3,B244=Dimension!$A$4,B244=Dimension!$A$5),\"เดินทาง/ท่องเที่ยว\",\"\")","v":""},{"$f":"IF(OR(B244=Dimension!$A$6,B244=Dimension!$A$7,B244=Dimension!$A$8,B244=Dimension!$A$9),\"\",IF(OR(B244=Dimension!$A$3,B244=Dimension!$A$4,B244=Dimension!$A$5),\"สถานประกอบการ\",\"\"))","v":""},{"$f":"IF(OR(B244=Dimension!$A$3,B244=Dimension!$A$4,B244=Dimension!$A$5,B244=Dimension!$A$6,,B244=Dimension!$A$7,B244=Dimension!$A$8,B244=Dimension!$A$9),Payment_ID2,\"\")","v":""},null,{"$f":"IFERROR(VLOOKUP(K244,Dimension!$J$3:$K$179,2,FALSE),\"\")","v":""},null,null,{"$f":"IF(OR(B244=Dimension!$A$6,B244=Dimension!$A$7,B244=Dimension!$A$8,B244=Dimension!$A$9),\"\",IF(OR(B244=Dimension!$A$3,B244=Dimension!$A$4,B244=Dimension!$A$5),\"สถานประกอบการ\",\"\"))","v":""},{"$f":"IF(OR(B244=Dimension!$A$6,B244=Dimension!$A$7,B244=Dimension!$A$8,B244=Dimension!$A$9,B244=\"\"),\"\",Payment_ID2)","v":""},"",null,null,{"$f":"IF(D244=Dimension!$C$9,IF(LEFT(UPPER(E244),2)=\"MC\",TRUE,FALSE),TRUE)","v":true}]
[null,null,null,{"$f":"IF(B245=Dimension!$A$8,Dimension!$C$9,IF(B245=Dimension!$A$6,CD,\"\"))","v":""},null,{"$f":"IF(OR(B245=Dimension!$A$3,B245=Dimension!$A$4,B245=Dimension!$A$6,B245=Dimension!$A$8),CCYA,\"\")","v":""},{"$f":"IFERROR(VLOOKUP(F245,Dimension!$G$3:$H$252,2,FALSE),\"\")","v":""},{"$f":"IF(OR(B245=Dimension!$A$3,B245=Dimension!$A$4,B245=Dimension!$A$5),\"เดินทาง/ท่องเที่ยว\",\"\")","v":""},{"$f":"IF(OR(B245=Dimension!$A$6,B245=Dimension!$A$7,B245=Dimension!$A$8,B245=Dimension!$A$9),\"\",IF(OR(B245=Dimension!$A$3,B245=Dimension!$A$4,B245=Dimension!$A$5),\"สถานประกอบการ\",\"\"))","v":""},{"$f":"IF(OR(B245=Dimension!$A$3,B245=Dimension!$A$4,B245=Dimension!$A$5,B245=Dimension!$A$6,,B245=Dimension!$A$7,B245=Dimension!$A$8,B245=Dimension!$A$9),Payment_ID2,\"\")","v":""},null,{"$f":"IFERROR(VLOOKUP(K245,Dimension!$J$3:$K$179,2,FALSE),\"\")","v":""},null,null,{"$f":"IF(OR(B245=Dimension!$A$6,B245=Dimension!$A$7,B245=Dimension!$A$8,B245=Dimension!$A$9),\"\",IF(OR(B245=Dimension!$A$3,B245=Dimension!$A$4,B245=Dimension!$A$5),\"สถานประกอบการ\",\"\"))","v":""},{"$f":"IF(OR(B245=Dimension!$A$6,B245=Dimension!$A$7,B245=Dimension!$A$8,B245=Dimension!$A$9,B245=\"\"),\"\",Payment_ID2)","v":""},"",null,null,{"$f":"IF(D245=Dimension!$C$9,IF(LEFT(UPPER(E245),2)=\"MC\",TRUE,FALSE),TRUE)","v":true}]
[null,null,null,{"$f":"IF(B246=Dimension!$A$8,Dimension!$C$9,IF(B246=Dimension!$A$6,CD,\"\"))","v":""},null,{"$f":"IF(OR(B246=Dimension!$A$3,B246=Dimension!$A$4,B246=Dimension!$A$6,B246=Dimension!$A$8),CCYA,\"\")","v":""},{"$f":"IFERROR(VLOOKUP(F246,Dimension!$G$3:$H$252,2,FALSE),\"\")","v":""},{"$f":"IF(OR(B246=Dimension!$A$3,B246=Dimension!$A$4,B246=Dimension!$A$5),\"เดินทาง/ท่องเที่ยว\",\"\")","v":""},{"$f":"IF(OR(B246=Dimension!$A$6,B246=Dimension!$A$7,B246=Dimension!$A$8,B246=Dimension!$A$9),\"\",IF(OR(B246=Dimension!$A$3,B246=Dimension!$A$4,B246=Dimension!$A$5),\"สถานประกอบการ\",\"\"))","v":""},{"$f":"IF(OR(B246=Dimension!$A$3,B246=Dimension!$A$4,B246=Dimension!$A$5,B246=Dimension!$A$6,,B246=Dimension!$A$7,B246=Dimension!$A$8,B246=Dimension!$A$9),Payment_ID2,\"\")","v":""},null,{"$f":"IFERROR(VLOOKUP(K246,Dimension!$J$3:$K$179,2,FALSE),\"\")","v":""},null,null,{"$f":"IF(OR(B246=Dimension!$A$6,B246=Dimension!$A$7,B246=Dimension!$A$8,B246=Dimension!$A$9),\"\",IF(OR(B246=Dimension!$A$3,B246=Dimension!$A$4,B246=Dimension!$A$5),\"สถานประกอบการ\",\"\"))","v":""},{"$f":"IF(OR(B246=Dimension!$A$6,B246=Dimension!$A$7,B246=Dimension!$A$8,B246=Dimension!$A$9,B246=\"\"),\"\",Payment_ID2)","v":""},"",null,null,{"$f":"IF(D246=Dimension!$C$9,IF(LEFT(UPPER(E246),2)=\"MC\",TRUE,FALSE),TRUE)","v":true}]
[null,null,null,{"$f":"IF(B247=Dimension!$A$8,Dimension!$C$9,IF(B247=Dimension!$A$6,CD,\"\"))","v":""},null,{"$f":"IF(OR(B247=Dimension!$A$3,B247=Dimension!$A$4,B247=Dimension!$A$6,B247=Dimension!$A$8),CCYA,\"\")","v":""},{"$f":"IFERROR(VLOOKUP(F247,Dimension!$G$3:$H$252,2,FALSE),\"\")","v":""},{"$f":"IF(OR(B247=Dimension!$A$3,B247=Dimension!$A$4,B247=Dimension!$A$5),\"เดินทาง/ท่องเที่ยว\",\"\")","v":""},{"$f":"IF(OR(B247=Dimension!$A$6,B247=Dimension!$A$7,B247=Dimension!$A$8,B247=Dimension!$A$9),\"\",IF(OR(B247=Dimension!$A$3,B247=Dimension!$A$4,B247=Dimension!$A$5),\"สถานประกอบการ\",\"\"))","v":""},{"$f":"IF(OR(B247=Dimension!$A$3,B247=Dimension!$A$4,B247=Dimension!$A$5,B247=Dimension!$A$6,,B247=Dimension!$A$7,B247=Dimension!$A$8,B247=Dimension!$A$9),Payment_ID2,\"\")","v":""},null,{"$f":"IFERROR(VLOOKUP(K247,Dimension!$J$3:$K$179,2,FALSE),\"\")","v":""},null,null,{"$f":"IF(OR(B247=Dimension!$A$6,B247=Dimension!$A$7,B247=Dimension!$A$8,B247=Dimension!$A$9),\"\",IF(OR(B247=Dimension!$A$3,B247=Dimension!$A$4,B247=Dimension!$A$5),\"สถานประกอบการ\",\"\"))","v":""},{"$f":"IF(OR(B247=Dimension!$A$6,B247=Dimension!$A$7,B247=Dimension!$A$8,B247=Dimension!$A$9,B247=\"\"),\"\",Payment_ID2)","v":""},"",null,null,{"$f":"IF(D247=Dimension!$C$9,IF(LEFT(UPPER(E247),2)=\"MC\",TRUE,FALSE),TRUE)","v":true}]
[null,null,null,{"$f":"IF(B248=Dimension!$A$8,Dimension!$C$9,IF(B248=Dimension!$A$6,CD,\"\"))","v":""},null,{"$f":"IF(OR(B248=Dimension!$A$3,B248=Dimension!$A$4,B248=Dimension!$A$6,B248=Dimension!$A$8),CCYA,\"\")","v":""},{"$f":"IFERROR(VLOOKUP(F248,Dimension!$G$3:$H$252,2,FALSE),\"\")","v":""},{"$f":"IF(OR(B248=Dimension!$A$3,B248=Dimension!$A$4,B248=Dimension!$A$5),\"เดินทาง/ท่องเที่ยว\",\"\")","v":""},{"$f":"IF(OR(B248=Dimension!$A$6,B248=Dimension!$A$7,B248=Dimension!$A$8,B248=Dimension!$A$9),\"\",IF(OR(B248=Dimension!$A$3,B248=Dimension!$A$4,B248=Dimension!$A$5),\"สถานประกอบการ\",\"\"))","v":""},{"$f":"IF(OR(B248=Dimension!$A$3,B248=Dimension!$A$4,B248=Dimension!$A$5,B248=Dimension!$A$6,,B248=Dimension!$A$7,B248=Dimension!$A$8,B248=Dimension!$A$9),Payment_ID2,\"\")","v":""},null,{"$f":"IFERROR(VLOOKUP(K248,Dimension!$J$3:$K$179,2,FALSE),\"\")","v":""},null,null,{"$f":"IF(OR(B248=Dimension!$A$6,B248=Dimension!$A$7,B248=Dimension!$A$8,B248=Dimension!$A$9),\"\",IF(OR(B248=Dimension!$A$3,B248=Dimension!$A$4,B248=Dimension!$A$5),\"สถานประกอบการ\",\"\"))","v":""},{"$f":"IF(OR(B248=Dimension!$A$6,B248=Dimension!$A$7,B248=Dimension!$A$8,B248=Dimension!$A$9,B248=\"\"),\"\",Payment_ID2)","v":""},"",null,null,{"$f":"IF(D248=Dimension!$C$9,IF(LEFT(UPPER(E248),2)=\"MC\",TRUE,FALSE),TRUE)","v":true}]
[null,null,null,{"$f":"IF(B249=Dimension!$A$8,Dimension!$C$9,IF(B249=Dimension!$A$6,CD,\"\"))","v":""},null,{"$f":"IF(OR(B249=Dimension!$A$3,B249=Dimension!$A$4,B249=Dimension!$A$6,B249=Dimension!$A$8),CCYA,\"\")","v":""},{"$f":"IFERROR(VLOOKUP(F249,Dimension!$G$3:$H$252,2,FALSE),\"\")","v":""},{"$f":"IF(OR(B249=Dimension!$A$3,B249=Dimension!$A$4,B249=Dimension!$A$5),\"เดินทาง/ท่องเที่ยว\",\"\")","v":""},{"$f":"IF(OR(B249=Dimension!$A$6,B249=Dimension!$A$7,B249=Dimension!$A$8,B249=Dimension!$A$9),\"\",IF(OR(B249=Dimension!$A$3,B249=Dimension!$A$4,B249=Dimension!$A$5),\"สถานประกอบการ\",\"\"))","v":""},{"$f":"IF(OR(B249=Dimension!$A$3,B249=Dimension!$A$4,B249=Dimension!$A$5,B249=Dimension!$A$6,,B249=Dimension!$A$7,B249=Dimension!$A$8,B249=Dimension!$A$9),Payment_ID2,\"\")","v":""},null,{"$f":"IFERROR(VLOOKUP(K249,Dimension!$J$3:$K$179,2,FALSE),\"\")","v":""},null,null,{"$f":"IF(OR(B249=Dimension!$A$6,B249=Dimension!$A$7,B249=Dimension!$A$8,B249=Dimension!$A$9),\"\",IF(OR(B249=Dimension!$A$3,B249=Dimension!$A$4,B249=Dimension!$A$5),\"สถานประกอบการ\",\"\"))","v":""},{"$f":"IF(OR(B249=Dimension!$A$6,B249=Dimension!$A$7,B249=Dimension!$A$8,B249=Dimension!$A$9,B249=\"\"),\"\",Payment_ID2)","v":""},"",null,null,{"$f":"IF(D249=Dimension!$C$9,IF(LEFT(UPPER(E249),2)=\"MC\",TRUE,FALSE),TRUE)","v":true}]
[null,null,null,{"$f":"IF(B250=Dimension!$A$8,Dimension!$C$9,IF(B250=Dimension!$A$6,CD,\"\"))","v":""},null,{"$f":"IF(OR(B250=Dimension!$A$3,B250=Dimension!$A$4,B250=Dimension!$A$6,B250=Dimension!$A$8),CCYA,\"\")","v":""},{"$f":"IFERROR(VLOOKUP(F250,Dimension!$G$3:$H$252,2,FALSE),\"\")","v":""},{"$f":"IF(OR(B250=Dimension!$A$3,B250=Dimension!$A$4,B250=Dimension!$A$5),\"เดินทาง/ท่องเที่ยว\",\"\")","v":""},{"$f":"IF(OR(B250=Dimension!$A$6,B250=Dimension!$A$7,B250=Dimension!$A$8,B250=Dimension!$A$9),\"\",IF(OR(B250=Dimension!$A$3,B250=Dimension!$A$4,B250=Dimension!$A$5),\"สถานประกอบการ\",\"\"))","v":""},{"$f":"IF(OR(B250=Dimension!$A$3,B250=Dimension!$A$4,B250=Dimension!$A$5,B250=Dimension!$A$6,,B250=Dimension!$A$7,B250=Dimension!$A$8,B250=Dimension!$A$9),Payment_ID2,\"\")","v":""},null,{"$f":"IFERROR(VLOOKUP(K250,Dimension!$J$3:$K$179,2,FALSE),\"\")","v":""},null,null,{"$f":"IF(OR(B250=Dimension!$A$6,B250=Dimension!$A$7,B250=Dimension!$A$8,B250=Dimension!$A$9),\"\",IF(OR(B250=Dimension!$A$3,B250=Dimension!$A$4,B250=Dimension!$A$5),\"สถานประกอบการ\",\"\"))","v":""},{"$f":"IF(OR(B250=Dimension!$A$6,B250=Dimension!$A$7,B250=Dimension!$A$8,B250=Dimension!$A$9,B250=\"\"),\"\",Payment_ID2)","v":""},"",null,null,{"$f":"IF(D250=Dimension!$C$9,IF(LEFT(UPPER(E250),2)=\"MC\",TRUE,FALSE),TRUE)","v":true}]
[null,null,null,{"$f":"IF(B251=Dimension!$A$8,Dimension!$C$9,IF(B251=Dimension!$A$6,CD,\"\"))","v":""},null,{"$f":"IF(OR(B251=Dimension!$A$3,B251=Dimension!$A$4,B251=Dimension!$A$6,B251=Dimension!$A$8),CCYA,\"\")","v":""},{"$f":"IFERROR(VLOOKUP(F251,Dimension!$G$3:$H$252,2,FALSE),\"\")","v":""},{"$f":"IF(OR(B251=Dimension!$A$3,B251=Dimension!$A$4,B251=Dimension!$A$5),\"เดินทาง/ท่องเที่ยว\",\"\")","v":""},{"$f":"IF(OR(B251=Dimension!$A$6,B251=Dimension!$A$7,B251=Dimension!$A$8,B251=Dimension!$A$9),\"\",IF(OR(B251=Dimension!$A$3,B251=Dimension!$A$4,B251=Dimension!$A$5),\"สถานประกอบการ\",\"\"))","v":""},{"$f":"IF(OR(B251=Dimension!$A$3,B251=Dimension!$A$4,B251=Dimension!$A$5,B251=Dimension!$A$6,,B251=Dimension!$A$7,B251=Dimension!$A$8,B251=Dimension!$A$9),Payment_ID2,\"\")","v":""},null,{"$f":"IFERROR(VLOOKUP(K251,Dimension!$J$3:$K$179,2,FALSE),\"\")","v":""},null,null,{"$f":"IF(OR(B251=Dimension!$A$6,B251=Dimension!$A$7,B251=Dimension!$A$8,B251=Dimension!$A$9),\"\",IF(OR(B251=Dimension!$A$3,B251=Dimension!$A$4,B251=Dimension!$A$5),\"สถานประกอบการ\",\"\"))","v":""},{"$f":"IF(OR(B251=Dimension!$A$6,B251=Dimension!$A$7,B251=Dimension!$A$8,B251=Dimension!$A$9,B251=\"\"),\"\",Payment_ID2)","v":""},"",null,null,{"$f":"IF(D251=Dimension!$C$9,IF(LEFT(UPPER(E251),2)=\"MC\",TRUE,FALSE),TRUE)","v":true}]
[null,null,null,{"$f":"IF(B252=Dimension!$A$8,Dimension!$C$9,IF(B252=Dimension!$A$6,CD,\"\"))","v":""},null,{"$f":"IF(OR(B252=Dimension!$A$3,B252=Dimension!$A$4,B252=Dimension!$A$6,B252=Dimension!$A$8),CCYA,\"\")","v":""},{"$f":"IFERROR(VLOOKUP(F252,Dimension!$G$3:$H$252,2,FALSE),\"\")","v":""},{"$f":"IF(OR(B252=Dimension!$A$3,B252=Dimension!$A$4,B252=Dimension!$A$5),\"เดินทาง/ท่องเที่ยว\",\"\")","v":""},{"$f":"IF(OR(B252=Dimension!$A$6,B252=Dimension!$A$7,B252=Dimension!$A$8,B252=Dimension!$A$9),\"\",IF(OR(B252=Dimension!$A$3,B252=Dimension!$A$4,B252=Dimension!$A$5),\"สถานประกอบการ\",\"\"))","v":""},{"$f":"IF(OR(B252=Dimension!$A$3,B252=Dimension!$A$4,B252=Dimension!$A$5,B252=Dimension!$A$6,,B252=Dimension!$A$7,B252=Dimension!$A$8,B252=Dimension!$A$9),Payment_ID2,\"\")","v":""},null,{"$f":"IFERROR(VLOOKUP(K252,Dimension!$J$3:$K$179,2,FALSE),\"\")","v":""},null,null,{"$f":"IF(OR(B252=Dimension!$A$6,B252=Dimension!$A$7,B252=Dimension!$A$8,B252=Dimension!$A$9),\"\",IF(OR(B252=Dimension!$A$3,B252=Dimension!$A$4,B252=Dimension!$A$5),\"สถานประกอบการ\",\"\"))","v":""},{"$f":"IF(OR(B252=Dimension!$A$6,B252=Dimension!$A$7,B252=Dimension!$A$8,B252=Dimension!$A$9,B252=\"\"),\"\",Payment_ID2)","v":""},"",null,null,{"$f":"IF(D252=Dimension!$C$9,IF(LEFT(UPPER(E252),2)=\"MC\",TRUE,FALSE),TRUE)","v":true}]
[null,null,null,{"$f":"IF(B253=Dimension!$A$8,Dimension!$C$9,IF(B253=Dimension!$A$6,CD,\"\"))","v":""},null,{"$f":"IF(OR(B253=Dimension!$A$3,B253=Dimension!$A$4,B253=Dimension!$A$6,B253=Dimension!$A$8),CCYA,\"\")","v":""},{"$f":"IFERROR(VLOOKUP(F253,Dimension!$G$3:$H$252,2,FALSE),\"\")","v":""},{"$f":"IF(OR(B253=Dimension!$A$3,B253=Dimension!$A$4,B253=Dimension!$A$5),\"เดินทาง/ท่องเที่ยว\",\"\")","v":""},{"$f":"IF(OR(B253=Dimension!$A$6,B253=Dimension!$A$7,B253=Dimension!$A$8,B253=Dimension!$A$9),\"\",IF(OR(B253=Dimension!$A$3,B253=Dimension!$A$4,B253=Dimension!$A$5),\"สถานประกอบการ\",\"\"))","v":""},{"$f":"IF(OR(B253=Dimension!$A$3,B253=Dimension!$A$4,B253=Dimension!$A$5,B253=Dimension!$A$6,,B253=Dimension!$A$7,B253=Dimension!$A$8,B253=Dimension!$A$9),Payment_ID2,\"\")","v":""},null,{"$f":"IFERROR(VLOOKUP(K253,Dimension!$J$3:$K$179,2,FALSE),\"\")","v":""},null,null,{"$f":"IF(OR(B253=Dimension!$A$6,B253=Dimension!$A$7,B253=Dimension!$A$8,B253=Dimension!$A$9),\"\",IF(OR(B253=Dimension!$A$3,B253=Dimension!$A$4,B253=Dimension!$A$5),\"สถานประกอบการ\",\"\"))","v":""},{"$f":"IF(OR(B253=Dimension!$A$6,B253=Dimension!$A$7,B253=Dimension!$A$8,B253=Dimension!$A$9,B253=\"\"),\"\",Payment_ID2)","v":""},"",null,null,{"$f":"IF(D253=Dimension!$C$9,IF(LEFT(UPPER(E253),2)=\"MC\",TRUE,FALSE),TRUE)","v":true}]
[null,null,null,{"$f":"IF(B254=Dimension!$A$8,Dimension!$C$9,IF(B254=Dimension!$A$6,CD,\"\"))","v":""},null,{"$f":"IF(OR(B254=Dimension!$A$3,B254=Dimension!$A$4,B254=Dimension!$A$6,B254=Dimension!$A$8),CCYA,\"\")","v":""},{"$f":"IFERROR(VLOOKUP(F254,Dimension!$G$3:$H$252,2,FALSE),\"\")","v":""},{"$f":"IF(OR(B254=Dimension!$A$3,B254=Dimension!$A$4,B254=Dimension!$A$5),\"เดินทาง/ท่องเที่ยว\",\"\")","v":""},{"$f":"IF(OR(B254=Dimension!$A$6,B254=Dimension!$A$7,B254=Dimension!$A$8,B254=Dimension!$A$9),\"\",IF(OR(B254=Dimension!$A$3,B254=Dimension!$A$4,B254=Dimension!$A$5),\"สถานประกอบการ\",\"\"))","v":""},{"$f":"IF(OR(B254=Dimension!$A$3,B254=Dimension!$A$4,B254=Dimension!$A$5,B254=Dimension!$A$6,,B254=Dimension!$A$7,B254=Dimension!$A$8,B254=Dimension!$A$9),Payment_ID2,\"\")","v":""},null,{"$f":"IFERROR(VLOOKUP(K254,Dimension!$J$3:$K$179,2,FALSE),\"\")","v":""},null,null,{"$f":"IF(OR(B254=Dimension!$A$6,B254=Dimension!$A$7,B254=Dimension!$A$8,B254=Dimension!$A$9),\"\",IF(OR(B254=Dimension!$A$3,B254=Dimension!$A$4,B254=Dimension!$A$5),\"สถานประกอบการ\",\"\"))","v":""},{"$f":"IF(OR(B254=Dimension!$A$6,B254=Dimension!$A$7,B254=Dimension!$A$8,B254=Dimension!$A$9,B254=\"\"),\"\",Payment_ID2)","v":""},"",null,null,{"$f":"IF(D254=Dimension!$C$9,IF(LEFT(UPPER(E254),2)=\"MC\",TRUE,FALSE),TRUE)","v":true}]
[null,null,null,{"$f":"IF(B255=Dimension!$A$8,Dimension!$C$9,IF(B255=Dimension!$A$6,CD,\"\"))","v":""},null,{"$f":"IF(OR(B255=Dimension!$A$3,B255=Dimension!$A$4,B255=Dimension!$A$6,B255=Dimension!$A$8),CCYA,\"\")","v":""},{"$f":"IFERROR(VLOOKUP(F255,Dimension!$G$3:$H$252,2,FALSE),\"\")","v":""},{"$f":"IF(OR(B255=Dimension!$A$3,B255=Dimension!$A$4,B255=Dimension!$A$5),\"เดินทาง/ท่องเที่ยว\",\"\")","v":""},{"$f":"IF(OR(B255=Dimension!$A$6,B255=Dimension!$A$7,B255=Dimension!$A$8,B255=Dimension!$A$9),\"\",IF(OR(B255=Dimension!$A$3,B255=Dimension!$A$4,B255=Dimension!$A$5),\"สถานประกอบการ\",\"\"))","v":""},{"$f":"IF(OR(B255=Dimension!$A$3,B255=Dimension!$A$4,B255=Dimension!$A$5,B255=Dimension!$A$6,,B255=Dimension!$A$7,B255=Dimension!$A$8,B255=Dimension!$A$9),Payment_ID2,\"\")","v":""},null,{"$f":"IFERROR(VLOOKUP(K255,Dimension!$J$3:$K$179,2,FALSE),\"\")","v":""},null,null,{"$f":"IF(OR(B255=Dimension!$A$6,B255=Dimension!$A$7,B255=Dimension!$A$8,B255=Dimension!$A$9),\"\",IF(OR(B255=Dimension!$A$3,B255=Dimension!$A$4,B255=Dimension!$A$5),\"สถานประกอบการ\",\"\"))","v":""},{"$f":"IF(OR(B255=Dimension!$A$6,B255=Dimension!$A$7,B255=Dimension!$A$8,B255=Dimension!$A$9,B255=\"\"),\"\",Payment_ID2)","v":""},"",null,null,{"$f":"IF(D255=Dimension!$C$9,IF(LEFT(UPPER(E255),2)=\"MC\",TRUE,FALSE),TRUE)","v":true}]
[null,null,null,{"$f":"IF(B256=Dimension!$A$8,Dimension!$C$9,IF(B256=Dimension!$A$6,CD,\"\"))","v":""},null,{"$f":"IF(OR(B256=Dimension!$A$3,B256=Dimension!$A$4,B256=Dimension!$A$6,B256=Dimension!$A$8),CCYA,\"\")","v":""},{"$f":"IFERROR(VLOOKUP(F256,Dimension!$G$3:$H$252,2,FALSE),\"\")","v":""},{"$f":"IF(OR(B256=Dimension!$A$3,B256=Dimension!$A$4,B256=Dimension!$A$5),\"เดินทาง/ท่องเที่ยว\",\"\")","v":""},{"$f":"IF(OR(B256=Dimension!$A$6,B256=Dimension!$A$7,B256=Dimension!$A$8,B256=Dimension!$A$9),\"\",IF(OR(B256=Dimension!$A$3,B256=Dimension!$A$4,B256=Dimension!$A$5),\"สถานประกอบการ\",\"\"))","v":""},{"$f":"IF(OR(B256=Dimension!$A$3,B256=Dimension!$A$4,B256=Dimension!$A$5,B256=Dimension!$A$6,,B256=Dimension!$A$7,B256=Dimension!$A$8,B256=Dimension!$A$9),Payment_ID2,\"\")","v":""},null,{"$f":"IFERROR(VLOOKUP(K256,Dimension!$J$3:$K$179,2,FALSE),\"\")","v":""},null,null,{"$f":"IF(OR(B256=Dimension!$A$6,B256=Dimension!$A$7,B256=Dimension!$A$8,B256=Dimension!$A$9),\"\",IF(OR(B256=Dimension!$A$3,B256=Dimension!$A$4,B256=Dimension!$A$5),\"สถานประกอบการ\",\"\"))","v":""},{"$f":"IF(OR(B256=Dimension!$A$6,B256=Dimension!$A$7,B256=Dimension!$A$8,B256=Dimension!$A$9,B256=\"\"),\"\",Payment_ID2)","v":""},"",null,null,{"$f":"IF(D256=Dimension!$C$9,IF(LEFT(UPPER(E256),2)=\"MC\",TRUE,FALSE),TRUE)","v":true}]
[null,null,null,{"$f":"IF(B257=Dimension!$A$8,Dimension!$C$9,IF(B257=Dimension!$A$6,CD,\"\"))","v":""},null,{"$f":"IF(OR(B257=Dimension!$A$3,B257=Dimension!$A$4,B257=Dimension!$A$6,B257=Dimension!$A$8),CCYA,\"\")","v":""},{"$f":"IFERROR(VLOOKUP(F257,Dimension!$G$3:$H$252,2,FALSE),\"\")","v":""},{"$f":"IF(OR(B257=Dimension!$A$3,B257=Dimension!$A$4,B257=Dimension!$A$5),\"เดินทาง/ท่องเที่ยว\",\"\")","v":""},{"$f":"IF(OR(B257=Dimension!$A$6,B257=Dimension!$A$7,B257=Dimension!$A$8,B257=Dimension!$A$9),\"\",IF(OR(B257=Dimension!$A$3,B257=Dimension!$A$4,B257=Dimension!$A$5),\"สถานประกอบการ\",\"\"))","v":""},{"$f":"IF(OR(B257=Dimension!$A$3,B257=Dimension!$A$4,B257=Dimension!$A$5,B257=Dimension!$A$6,,B257=Dimension!$A$7,B257=Dimension!$A$8,B257=Dimension!$A$9),Payment_ID2,\"\")","v":""},null,{"$f":"IFERROR(VLOOKUP(K257,Dimension!$J$3:$K$179,2,FALSE),\"\")","v":""},null,null,{"$f":"IF(OR(B257=Dimension!$A$6,B257=Dimension!$A$7,B257=Dimension!$A$8,B257=Dimension!$A$9),\"\",IF(OR(B257=Dimension!$A$3,B257=Dimension!$A$4,B257=Dimension!$A$5),\"สถานประกอบการ\",\"\"))","v":""},{"$f":"IF(OR(B257=Dimension!$A$6,B257=Dimension!$A$7,B257=Dimension!$A$8,B257=Dimension!$A$9,B257=\"\"),\"\",Payment_ID2)","v":""},"",null,null,{"$f":"IF(D257=Dimension!$C$9,IF(LEFT(UPPER(E257),2)=\"MC\",TRUE,FALSE),TRUE)","v":true}]
[null,null,null,{"$f":"IF(B258=Dimension!$A$8,Dimension!$C$9,IF(B258=Dimension!$A$6,CD,\"\"))","v":""},null,{"$f":"IF(OR(B258=Dimension!$A$3,B258=Dimension!$A$4,B258=Dimension!$A$6,B258=Dimension!$A$8),CCYA,\"\")","v":""},{"$f":"IFERROR(VLOOKUP(F258,Dimension!$G$3:$H$252,2,FALSE),\"\")","v":""},{"$f":"IF(OR(B258=Dimension!$A$3,B258=Dimension!$A$4,B258=Dimension!$A$5),\"เดินทาง/ท่องเที่ยว\",\"\")","v":""},{"$f":"IF(OR(B258=Dimension!$A$6,B258=Dimension!$A$7,B258=Dimension!$A$8,B258=Dimension!$A$9),\"\",IF(OR(B258=Dimension!$A$3,B258=Dimension!$A$4,B258=Dimension!$A$5),\"สถานประกอบการ\",\"\"))","v":""},{"$f":"IF(OR(B258=Dimension!$A$3,B258=Dimension!$A$4,B258=Dimension!$A$5,B258=Dimension!$A$6,,B258=Dimension!$A$7,B258=Dimension!$A$8,B258=Dimension!$A$9),Payment_ID2,\"\")","v":""},null,{"$f":"IFERROR(VLOOKUP(K258,Dimension!$J$3:$K$179,2,FALSE),\"\")","v":""},null,null,{"$f":"IF(OR(B258=Dimension!$A$6,B258=Dimension!$A$7,B258=Dimension!$A$8,B258=Dimension!$A$9),\"\",IF(OR(B258=Dimension!$A$3,B258=Dimension!$A$4,B258=Dimension!$A$5),\"สถานประกอบการ\",\"\"))","v":""},{"$f":"IF(OR(B258=Dimension!$A$6,B258=Dimension!$A$7,B258=Dimension!$A$8,B258=Dimension!$A$9,B258=\"\"),\"\",Payment_ID2)","v":""},"",null,null,{"$f":"IF(D258=Dimension!$C$9,IF(LEFT(UPPER(E258),2)=\"MC\",TRUE,FALSE),TRUE)","v":true}]
[null,null,null,{"$f":"IF(B259=Dimension!$A$8,Dimension!$C$9,IF(B259=Dimension!$A$6,CD,\"\"))","v":""},null,{"$f":"IF(OR(B259=Dimension!$A$3,B259=Dimension!$A$4,B259=Dimension!$A$6,B259=Dimension!$A$8),CCYA,\"\")","v":""},{"$f":"IFERROR(VLOOKUP(F259,Dimension!$G$3:$H$252,2,FALSE),\"\")","v":""},{"$f":"IF(OR(B259=Dimension!$A$3,B259=Dimension!$A$4,B259=Dimension!$A$5),\"เดินทาง/ท่องเที่ยว\",\"\")","v":""},{"$f":"IF(OR(B259=Dimension!$A$6,B259=Dimension!$A$7,B259=Dimension!$A$8,B259=Dimension!$A$9),\"\",IF(OR(B259=Dimension!$A$3,B259=Dimension!$A$4,B259=Dimension!$A$5),\"สถานประกอบการ\",\"\"))","v":""},{"$f":"IF(OR(B259=Dimension!$A$3,B259=Dimension!$A$4,B259=Dimension!$A$5,B259=Dimension!$A$6,,B259=Dimension!$A$7,B259=Dimension!$A$8,B259=Dimension!$A$9),Payment_ID2,\"\")","v":""},null,{"$f":"IFERROR(VLOOKUP(K259,Dimension!$J$3:$K$179,2,FALSE),\"\")","v":""},null,null,{"$f":"IF(OR(B259=Dimension!$A$6,B259=Dimension!$A$7,B259=Dimension!$A$8,B259=Dimension!$A$9),\"\",IF(OR(B259=Dimension!$A$3,B259=Dimension!$A$4,B259=Dimension!$A$5),\"สถานประกอบการ\",\"\"))","v":""},{"$f":"IF(OR(B259=Dimension!$A$6,B259=Dimension!$A$7,B259=Dimension!$A$8,B259=Dimension!$A$9,B259=\"\"),\"\",Payment_ID2)","v":""},"",null,null,{"$f":"IF(D259=Dimension!$C$9,IF(LEFT(UPPER(E259),2)=\"MC\",TRUE,FALSE),TRUE)","v":true}]
[null,null,null,{"$f":"IF(B260=Dimension!$A$8,Dimension!$C$9,IF(B260=Dimension!$A$6,CD,\"\"))","v":""},null,{"$f":"IF(OR(B260=Dimension!$A$3,B260=Dimension!$A$4,B260=Dimension!$A$6,B260=Dimension!$A$8),CCYA,\"\")","v":""},{"$f":"IFERROR(VLOOKUP(F260,Dimension!$G$3:$H$252,2,FALSE),\"\")","v":""},{"$f":"IF(OR(B260=Dimension!$A$3,B260=Dimension!$A$4,B260=Dimension!$A$5),\"เดินทาง/ท่องเที่ยว\",\"\")","v":""},{"$f":"IF(OR(B260=Dimension!$A$6,B260=Dimension!$A$7,B260=Dimension!$A$8,B260=Dimension!$A$9),\"\",IF(OR(B260=Dimension!$A$3,B260=Dimension!$A$4,B260=Dimension!$A$5),\"สถานประกอบการ\",\"\"))","v":""},{"$f":"IF(OR(B260=Dimension!$A$3,B260=Dimension!$A$4,B260=Dimension!$A$5,B260=Dimension!$A$6,,B260=Dimension!$A$7,B260=Dimension!$A$8,B260=Dimension!$A$9),Payment_ID2,\"\")","v":""},null,{"$f":"IFERROR(VLOOKUP(K260,Dimension!$J$3:$K$179,2,FALSE),\"\")","v":""},null,null,{"$f":"IF(OR(B260=Dimension!$A$6,B260=Dimension!$A$7,B260=Dimension!$A$8,B260=Dimension!$A$9),\"\",IF(OR(B260=Dimension!$A$3,B260=Dimension!$A$4,B260=Dimension!$A$5),\"สถานประกอบการ\",\"\"))","v":""},{"$f":"IF(OR(B260=Dimension!$A$6,B260=Dimension!$A$7,B260=Dimension!$A$8,B260=Dimension!$A$9,B260=\"\"),\"\",Payment_ID2)","v":""},"",null,null,{"$f":"IF(D260=Dimension!$C$9,IF(LEFT(UPPER(E260),2)=\"MC\",TRUE,FALSE),TRUE)","v":true}]
[null,null,null,{"$f":"IF(B261=Dimension!$A$8,Dimension!$C$9,IF(B261=Dimension!$A$6,CD,\"\"))","v":""},null,{"$f":"IF(OR(B261=Dimension!$A$3,B261=Dimension!$A$4,B261=Dimension!$A$6,B261=Dimension!$A$8),CCYA,\"\")","v":""},{"$f":"IFERROR(VLOOKUP(F261,Dimension!$G$3:$H$252,2,FALSE),\"\")","v":""},{"$f":"IF(OR(B261=Dimension!$A$3,B261=Dimension!$A$4,B261=Dimension!$A$5),\"เดินทาง/ท่องเที่ยว\",\"\")","v":""},{"$f":"IF(OR(B261=Dimension!$A$6,B261=Dimension!$A$7,B261=Dimension!$A$8,B261=Dimension!$A$9),\"\",IF(OR(B261=Dimension!$A$3,B261=Dimension!$A$4,B261=Dimension!$A$5),\"สถานประกอบการ\",\"\"))","v":""},{"$f":"IF(OR(B261=Dimension!$A$3,B261=Dimension!$A$4,B261=Dimension!$A$5,B261=Dimension!$A$6,,B261=Dimension!$A$7,B261=Dimension!$A$8,B261=Dimension!$A$9),Payment_ID2,\"\")","v":""},null,{"$f":"IFERROR(VLOOKUP(K261,Dimension!$J$3:$K$179,2,FALSE),\"\")","v":""},null,null,{"$f":"IF(OR(B261=Dimension!$A$6,B261=Dimension!$A$7,B261=Dimension!$A$8,B261=Dimension!$A$9),\"\",IF(OR(B261=Dimension!$A$3,B261=Dimension!$A$4,B261=Dimension!$A$5),\"สถานประกอบการ\",\"\"))","v":""},{"$f":"IF(OR(B261=Dimension!$A$6,B261=Dimension!$A$7,B261=Dimension!$A$8,B261=Dimension!$A$9,B261=\"\"),\"\",Payment_ID2)","v":""},"",null,null,{"$f":"IF(D261=Dimension!$C$9,IF(LEFT(UPPER(E261),2)=\"MC\",TRUE,FALSE),TRUE)","v":true}]
[null,null,null,{"$f":"IF(B262=Dimension!$A$8,Dimension!$C$9,IF(B262=Dimension!$A$6,CD,\"\"))","v":""},null,{"$f":"IF(OR(B262=Dimension!$A$3,B262=Dimension!$A$4,B262=Dimension!$A$6,B262=Dimension!$A$8),CCYA,\"\")","v":""},{"$f":"IFERROR(VLOOKUP(F262,Dimension!$G$3:$H$252,2,FALSE),\"\")","v":""},{"$f":"IF(OR(B262=Dimension!$A$3,B262=Dimension!$A$4,B262=Dimension!$A$5),\"เดินทาง/ท่องเที่ยว\",\"\")","v":""},{"$f":"IF(OR(B262=Dimension!$A$6,B262=Dimension!$A$7,B262=Dimension!$A$8,B262=Dimension!$A$9),\"\",IF(OR(B262=Dimension!$A$3,B262=Dimension!$A$4,B262=Dimension!$A$5),\"สถานประกอบการ\",\"\"))","v":""},{"$f":"IF(OR(B262=Dimension!$A$3,B262=Dimension!$A$4,B262=Dimension!$A$5,B262=Dimension!$A$6,,B262=Dimension!$A$7,B262=Dimension!$A$8,B262=Dimension!$A$9),Payment_ID2,\"\")","v":""},null,{"$f":"IFERROR(VLOOKUP(K262,Dimension!$J$3:$K$179,2,FALSE),\"\")","v":""},null,null,{"$f":"IF(OR(B262=Dimension!$A$6,B262=Dimension!$A$7,B262=Dimension!$A$8,B262=Dimension!$A$9),\"\",IF(OR(B262=Dimension!$A$3,B262=Dimension!$A$4,B262=Dimension!$A$5),\"สถานประกอบการ\",\"\"))","v":""},{"$f":"IF(OR(B262=Dimension!$A$6,B262=Dimension!$A$7,B262=Dimension!$A$8,B262=Dimension!$A$9,B262=\"\"),\"\",Payment_ID2)","v":""},"",null,null,{"$f":"IF(D262=Dimension!$C$9,IF(LEFT(UPPER(E262),2)=\"MC\",TRUE,FALSE),TRUE)","v":true}]
[null,null,null,{"$f":"IF(B263=Dimension!$A$8,Dimension!$C$9,IF(B263=Dimension!$A$6,CD,\"\"))","v":""},null,{"$f":"IF(OR(B263=Dimension!$A$3,B263=Dimension!$A$4,B263=Dimension!$A$6,B263=Dimension!$A$8),CCYA,\"\")","v":""},{"$f":"IFERROR(VLOOKUP(F263,Dimension!$G$3:$H$252,2,FALSE),\"\")","v":""},{"$f":"IF(OR(B263=Dimension!$A$3,B263=Dimension!$A$4,B263=Dimension!$A$5),\"เดินทาง/ท่องเที่ยว\",\"\")","v":""},{"$f":"IF(OR(B263=Dimension!$A$6,B263=Dimension!$A$7,B263=Dimension!$A$8,B263=Dimension!$A$9),\"\",IF(OR(B263=Dimension!$A$3,B263=Dimension!$A$4,B263=Dimension!$A$5),\"สถานประกอบการ\",\"\"))","v":""},{"$f":"IF(OR(B263=Dimension!$A$3,B263=Dimension!$A$4,B263=Dimension!$A$5,B263=Dimension!$A$6,,B263=Dimension!$A$7,B263=Dimension!$A$8,B263=Dimension!$A$9),Payment_ID2,\"\")","v":""},null,{"$f":"IFERROR(VLOOKUP(K263,Dimension!$J$3:$K$179,2,FALSE),\"\")","v":""},null,null,{"$f":"IF(OR(B263=Dimension!$A$6,B263=Dimension!$A$7,B263=Dimension!$A$8,B263=Dimension!$A$9),\"\",IF(OR(B263=Dimension!$A$3,B263=Dimension!$A$4,B263=Dimension!$A$5),\"สถานประกอบการ\",\"\"))","v":""},{"$f":"IF(OR(B263=Dimension!$A$6,B263=Dimension!$A$7,B263=Dimension!$A$8,B263=Dimension!$A$9,B263=\"\"),\"\",Payment_ID2)","v":""},"",null,null,{"$f":"IF(D263=Dimension!$C$9,IF(LEFT(UPPER(E263),2)=\"MC\",TRUE,FALSE),TRUE)","v":true}]
[null,null,null,{"$f":"IF(B264=Dimension!$A$8,Dimension!$C$9,IF(B264=Dimension!$A$6,CD,\"\"))","v":""},null,{"$f":"IF(OR(B264=Dimension!$A$3,B264=Dimension!$A$4,B264=Dimension!$A$6,B264=Dimension!$A$8),CCYA,\"\")","v":""},{"$f":"IFERROR(VLOOKUP(F264,Dimension!$G$3:$H$252,2,FALSE),\"\")","v":""},{"$f":"IF(OR(B264=Dimension!$A$3,B264=Dimension!$A$4,B264=Dimension!$A$5),\"เดินทาง/ท่องเที่ยว\",\"\")","v":""},{"$f":"IF(OR(B264=Dimension!$A$6,B264=Dimension!$A$7,B264=Dimension!$A$8,B264=Dimension!$A$9),\"\",IF(OR(B264=Dimension!$A$3,B264=Dimension!$A$4,B264=Dimension!$A$5),\"สถานประกอบการ\",\"\"))","v":""},{"$f":"IF(OR(B264=Dimension!$A$3,B264=Dimension!$A$4,B264=Dimension!$A$5,B264=Dimension!$A$6,,B264=Dimension!$A$7,B264=Dimension!$A$8,B264=Dimension!$A$9),Payment_ID2,\"\")","v":""},null,{"$f":"IFERROR(VLOOKUP(K264,Dimension!$J$3:$K$179,2,FALSE),\"\")","v":""},null,null,{"$f":"IF(OR(B264=Dimension!$A$6,B264=Dimension!$A$7,B264=Dimension!$A$8,B264=Dimension!$A$9),\"\",IF(OR(B264=Dimension!$A$3,B264=Dimension!$A$4,B264=Dimension!$A$5),\"สถานประกอบการ\",\"\"))","v":""},{"$f":"IF(OR(B264=Dimension!$A$6,B264=Dimension!$A$7,B264=Dimension!$A$8,B264=Dimension!$A$9,B264=\"\"),\"\",Payment_ID2)","v":""},"",null,null,{"$f":"IF(D264=Dimension!$C$9,IF(LEFT(UPPER(E264),2)=\"MC\",TRUE,FALSE),TRUE)","v":true}]
[null,null,null,{"$f":"IF(B265=Dimension!$A$8,Dimension!$C$9,IF(B265=Dimension!$A$6,CD,\"\"))","v":""},null,{"$f":"IF(OR(B265=Dimension!$A$3,B265=Dimension!$A$4,B265=Dimension!$A$6,B265=Dimension!$A$8),CCYA,\"\")","v":""},{"$f":"IFERROR(VLOOKUP(F265,Dimension!$G$3:$H$252,2,FALSE),\"\")","v":""},{"$f":"IF(OR(B265=Dimension!$A$3,B265=Dimension!$A$4,B265=Dimension!$A$5),\"เดินทาง/ท่องเที่ยว\",\"\")","v":""},{"$f":"IF(OR(B265=Dimension!$A$6,B265=Dimension!$A$7,B265=Dimension!$A$8,B265=Dimension!$A$9),\"\",IF(OR(B265=Dimension!$A$3,B265=Dimension!$A$4,B265=Dimension!$A$5),\"สถานประกอบการ\",\"\"))","v":""},{"$f":"IF(OR(B265=Dimension!$A$3,B265=Dimension!$A$4,B265=Dimension!$A$5,B265=Dimension!$A$6,,B265=Dimension!$A$7,B265=Dimension!$A$8,B265=Dimension!$A$9),Payment_ID2,\"\")","v":""},null,{"$f":"IFERROR(VLOOKUP(K265,Dimension!$J$3:$K$179,2,FALSE),\"\")","v":""},null,null,{"$f":"IF(OR(B265=Dimension!$A$6,B265=Dimension!$A$7,B265=Dimension!$A$8,B265=Dimension!$A$9),\"\",IF(OR(B265=Dimension!$A$3,B265=Dimension!$A$4,B265=Dimension!$A$5),\"สถานประกอบการ\",\"\"))","v":""},{"$f":"IF(OR(B265=Dimension!$A$6,B265=Dimension!$A$7,B265=Dimension!$A$8,B265=Dimension!$A$9,B265=\"\"),\"\",Payment_ID2)","v":""},"",null,null,{"$f":"IF(D265=Dimension!$C$9,IF(LEFT(UPPER(E265),2)=\"MC\",TRUE,FALSE),TRUE)","v":true}]
[null,null,null,{"$f":"IF(B266=Dimension!$A$8,Dimension!$C$9,IF(B266=Dimension!$A$6,CD,\"\"))","v":""},null,{"$f":"IF(OR(B266=Dimension!$A$3,B266=Dimension!$A$4,B266=Dimension!$A$6,B266=Dimension!$A$8),CCYA,\"\")","v":""},{"$f":"IFERROR(VLOOKUP(F266,Dimension!$G$3:$H$252,2,FALSE),\"\")","v":""},{"$f":"IF(OR(B266=Dimension!$A$3,B266=Dimension!$A$4,B266=Dimension!$A$5),\"เดินทาง/ท่องเที่ยว\",\"\")","v":""},{"$f":"IF(OR(B266=Dimension!$A$6,B266=Dimension!$A$7,B266=Dimension!$A$8,B266=Dimension!$A$9),\"\",IF(OR(B266=Dimension!$A$3,B266=Dimension!$A$4,B266=Dimension!$A$5),\"สถานประกอบการ\",\"\"))","v":""},{"$f":"IF(OR(B266=Dimension!$A$3,B266=Dimension!$A$4,B266=Dimension!$A$5,B266=Dimension!$A$6,,B266=Dimension!$A$7,B266=Dimension!$A$8,B266=Dimension!$A$9),Payment_ID2,\"\")","v":""},null,{"$f":"IFERROR(VLOOKUP(K266,Dimension!$J$3:$K$179,2,FALSE),\"\")","v":""},null,null,{"$f":"IF(OR(B266=Dimension!$A$6,B266=Dimension!$A$7,B266=Dimension!$A$8,B266=Dimension!$A$9),\"\",IF(OR(B266=Dimension!$A$3,B266=Dimension!$A$4,B266=Dimension!$A$5),\"สถานประกอบการ\",\"\"))","v":""},{"$f":"IF(OR(B266=Dimension!$A$6,B266=Dimension!$A$7,B266=Dimension!$A$8,B266=Dimension!$A$9,B266=\"\"),\"\",Payment_ID2)","v":""},{"$f":"IF(OR(M266=\"\",N266=\"\"),\"\",ROUND(M266*N266,2))","v":""},null,null,{"$f":"IF(D266=Dimension!$C$9,IF(LEFT(UPPER(E266),2)=\"MC\",TRUE,FALSE),TRUE)","v":true}]
[null,null,null,{"$f":"IF(B267=Dimension!$A$8,Dimension!$C$9,IF(B267=Dimension!$A$6,CD,\"\"))","v":""},null,{"$f":"IF(OR(B267=Dimension!$A$3,B267=Dimension!$A$4,B267=Dimension!$A$6,B267=Dimension!$A$8),CCYA,\"\")","v":""},{"$f":"IFERROR(VLOOKUP(F267,Dimension!$G$3:$H$252,2,FALSE),\"\")","v":""},{"$f":"IF(OR(B267=Dimension!$A$3,B267=Dimension!$A$4,B267=Dimension!$A$5),\"เดินทาง/ท่องเที่ยว\",\"\")","v":""},{"$f":"IF(OR(B267=Dimension!$A$6,B267=Dimension!$A$7,B267=Dimension!$A$8,B267=Dimension!$A$9),\"\",IF(OR(B267=Dimension!$A$3,B267=Dimension!$A$4,B267=Dimension!$A$5),\"สถานประกอบการ\",\"\"))","v":""},{"$f":"IF(OR(B267=Dimension!$A$3,B267=Dimension!$A$4,B267=Dimension!$A$5,B267=Dimension!$A$6,,B267=Dimension!$A$7,B267=Dimension!$A$8,B267=Dimension!$A$9),Payment_ID2,\"\")","v":""},null,{"$f":"IFERROR(VLOOKUP(K267,Dimension!$J$3:$K$179,2,FALSE),\"\")","v":""},null,null,{"$f":"IF(OR(B267=Dimension!$A$6,B267=Dimension!$A$7,B267=Dimension!$A$8,B267=Dimension!$A$9),\"\",IF(OR(B267=Dimension!$A$3,B267=Dimension!$A$4,B267=Dimension!$A$5),\"สถานประกอบการ\",\"\"))","v":""},{"$f":"IF(OR(B267=Dimension!$A$6,B267=Dimension!$A$7,B267=Dimension!$A$8,B267=Dimension!$A$9,B267=\"\"),\"\",Payment_ID2)","v":""},"",null,null,{"$f":"IF(D267=Dimension!$C$9,IF(LEFT(UPPER(E267),2)=\"MC\",TRUE,FALSE),TRUE)","v":true}]
[null,null,null,{"$f":"IF(B268=Dimension!$A$8,Dimension!$C$9,IF(B268=Dimension!$A$6,CD,\"\"))","v":""},null,{"$f":"IF(OR(B268=Dimension!$A$3,B268=Dimension!$A$4,B268=Dimension!$A$6,B268=Dimension!$A$8),CCYA,\"\")","v":""},{"$f":"IFERROR(VLOOKUP(F268,Dimension!$G$3:$H$252,2,FALSE),\"\")","v":""},{"$f":"IF(OR(B268=Dimension!$A$3,B268=Dimension!$A$4,B268=Dimension!$A$5),\"เดินทาง/ท่องเที่ยว\",\"\")","v":""},{"$f":"IF(OR(B268=Dimension!$A$6,B268=Dimension!$A$7,B268=Dimension!$A$8,B268=Dimension!$A$9),\"\",IF(OR(B268=Dimension!$A$3,B268=Dimension!$A$4,B268=Dimension!$A$5),\"สถานประกอบการ\",\"\"))","v":""},{"$f":"IF(OR(B268=Dimension!$A$3,B268=Dimension!$A$4,B268=Dimension!$A$5,B268=Dimension!$A$6,,B268=Dimension!$A$7,B268=Dimension!$A$8,B268=Dimension!$A$9),Payment_ID2,\"\")","v":""},null,{"$f":"IFERROR(VLOOKUP(K268,Dimension!$J$3:$K$179,2,FALSE),\"\")","v":""},null,null,{"$f":"IF(OR(B268=Dimension!$A$6,B268=Dimension!$A$7,B268=Dimension!$A$8,B268=Dimension!$A$9),\"\",IF(OR(B268=Dimension!$A$3,B268=Dimension!$A$4,B268=Dimension!$A$5),\"สถานประกอบการ\",\"\"))","v":""},{"$f":"IF(OR(B268=Dimension!$A$6,B268=Dimension!$A$7,B268=Dimension!$A$8,B268=Dimension!$A$9,B268=\"\"),\"\",Payment_ID2)","v":""},"",null,null,{"$f":"IF(D268=Dimension!$C$9,IF(LEFT(UPPER(E268),2)=\"MC\",TRUE,FALSE),TRUE)","v":true}]
[null,null,null,{"$f":"IF(B269=Dimension!$A$8,Dimension!$C$9,IF(B269=Dimension!$A$6,CD,\"\"))","v":""},null,{"$f":"IF(OR(B269=Dimension!$A$3,B269=Dimension!$A$4,B269=Dimension!$A$6,B269=Dimension!$A$8),CCYA,\"\")","v":""},{"$f":"IFERROR(VLOOKUP(F269,Dimension!$G$3:$H$252,2,FALSE),\"\")","v":""},{"$f":"IF(OR(B269=Dimension!$A$3,B269=Dimension!$A$4,B269=Dimension!$A$5),\"เดินทาง/ท่องเที่ยว\",\"\")","v":""},{"$f":"IF(OR(B269=Dimension!$A$6,B269=Dimension!$A$7,B269=Dimension!$A$8,B269=Dimension!$A$9),\"\",IF(OR(B269=Dimension!$A$3,B269=Dimension!$A$4,B269=Dimension!$A$5),\"สถานประกอบการ\",\"\"))","v":""},{"$f":"IF(OR(B269=Dimension!$A$3,B269=Dimension!$A$4,B269=Dimension!$A$5,B269=Dimension!$A$6,,B269=Dimension!$A$7,B269=Dimension!$A$8,B269=Dimension!$A$9),Payment_ID2,\"\")","v":""},null,{"$f":"IFERROR(VLOOKUP(K269,Dimension!$J$3:$K$179,2,FALSE),\"\")","v":""},null,null,{"$f":"IF(OR(B269=Dimension!$A$6,B269=Dimension!$A$7,B269=Dimension!$A$8,B269=Dimension!$A$9),\"\",IF(OR(B269=Dimension!$A$3,B269=Dimension!$A$4,B269=Dimension!$A$5),\"สถานประกอบการ\",\"\"))","v":""},{"$f":"IF(OR(B269=Dimension!$A$6,B269=Dimension!$A$7,B269=Dimension!$A$8,B269=Dimension!$A$9,B269=\"\"),\"\",Payment_ID2)","v":""},"",null,null,{"$f":"IF(D269=Dimension!$C$9,IF(LEFT(UPPER(E269),2)=\"MC\",TRUE,FALSE),TRUE)","v":true}]
[null,null,null,{"$f":"IF(B270=Dimension!$A$8,Dimension!$C$9,IF(B270=Dimension!$A$6,CD,\"\"))","v":""},null,{"$f":"IF(OR(B270=Dimension!$A$3,B270=Dimension!$A$4,B270=Dimension!$A$6,B270=Dimension!$A$8),CCYA,\"\")","v":""},{"$f":"IFERROR(VLOOKUP(F270,Dimension!$G$3:$H$252,2,FALSE),\"\")","v":""},{"$f":"IF(OR(B270=Dimension!$A$3,B270=Dimension!$A$4,B270=Dimension!$A$5),\"เดินทาง/ท่องเที่ยว\",\"\")","v":""},{"$f":"IF(OR(B270=Dimension!$A$6,B270=Dimension!$A$7,B270=Dimension!$A$8,B270=Dimension!$A$9),\"\",IF(OR(B270=Dimension!$A$3,B270=Dimension!$A$4,B270=Dimension!$A$5),\"สถานประกอบการ\",\"\"))","v":""},{"$f":"IF(OR(B270=Dimension!$A$3,B270=Dimension!$A$4,B270=Dimension!$A$5,B270=Dimension!$A$6,,B270=Dimension!$A$7,B270=Dimension!$A$8,B270=Dimension!$A$9),Payment_ID2,\"\")","v":""},null,{"$f":"IFERROR(VLOOKUP(K270,Dimension!$J$3:$K$179,2,FALSE),\"\")","v":""},null,null,{"$f":"IF(OR(B270=Dimension!$A$6,B270=Dimension!$A$7,B270=Dimension!$A$8,B270=Dimension!$A$9),\"\",IF(OR(B270=Dimension!$A$3,B270=Dimension!$A$4,B270=Dimension!$A$5),\"สถานประกอบการ\",\"\"))","v":""},{"$f":"IF(OR(B270=Dimension!$A$6,B270=Dimension!$A$7,B270=Dimension!$A$8,B270=Dimension!$A$9,B270=\"\"),\"\",Payment_ID2)","v":""},"",null,null,{"$f":"IF(D270=Dimension!$C$9,IF(LEFT(UPPER(E270),2)=\"MC\",TRUE,FALSE),TRUE)","v":true}]
[null,null,null,{"$f":"IF(B271=Dimension!$A$8,Dimension!$C$9,IF(B271=Dimension!$A$6,CD,\"\"))","v":""},null,{"$f":"IF(OR(B271=Dimension!$A$3,B271=Dimension!$A$4,B271=Dimension!$A$6,B271=Dimension!$A$8),CCYA,\"\")","v":""},{"$f":"IFERROR(VLOOKUP(F271,Dimension!$G$3:$H$252,2,FALSE),\"\")","v":""},{"$f":"IF(OR(B271=Dimension!$A$3,B271=Dimension!$A$4,B271=Dimension!$A$5),\"เดินทาง/ท่องเที่ยว\",\"\")","v":""},{"$f":"IF(OR(B271=Dimension!$A$6,B271=Dimension!$A$7,B271=Dimension!$A$8,B271=Dimension!$A$9),\"\",IF(OR(B271=Dimension!$A$3,B271=Dimension!$A$4,B271=Dimension!$A$5),\"สถานประกอบการ\",\"\"))","v":""},{"$f":"IF(OR(B271=Dimension!$A$3,B271=Dimension!$A$4,B271=Dimension!$A$5,B271=Dimension!$A$6,,B271=Dimension!$A$7,B271=Dimension!$A$8,B271=Dimension!$A$9),Payment_ID2,\"\")","v":""},null,{"$f":"IFERROR(VLOOKUP(K271,Dimension!$J$3:$K$179,2,FALSE),\"\")","v":""},null,null,{"$f":"IF(OR(B271=Dimension!$A$6,B271=Dimension!$A$7,B271=Dimension!$A$8,B271=Dimension!$A$9),\"\",IF(OR(B271=Dimension!$A$3,B271=Dimension!$A$4,B271=Dimension!$A$5),\"สถานประกอบการ\",\"\"))","v":""},{"$f":"IF(OR(B271=Dimension!$A$6,B271=Dimension!$A$7,B271=Dimension!$A$8,B271=Dimension!$A$9,B271=\"\"),\"\",Payment_ID2)","v":""},"",null,null,{"$f":"IF(D271=Dimension!$C$9,IF(LEFT(UPPER(E271),2)=\"MC\",TRUE,FALSE),TRUE)","v":true}]
[null,null,null,{"$f":"IF(B272=Dimension!$A$8,Dimension!$C$9,IF(B272=Dimension!$A$6,CD,\"\"))","v":""},null,{"$f":"IF(OR(B272=Dimension!$A$3,B272=Dimension!$A$4,B272=Dimension!$A$6,B272=Dimension!$A$8),CCYA,\"\")","v":""},{"$f":"IFERROR(VLOOKUP(F272,Dimension!$G$3:$H$252,2,FALSE),\"\")","v":""},{"$f":"IF(OR(B272=Dimension!$A$3,B272=Dimension!$A$4,B272=Dimension!$A$5),\"เดินทาง/ท่องเที่ยว\",\"\")","v":""},{"$f":"IF(OR(B272=Dimension!$A$6,B272=Dimension!$A$7,B272=Dimension!$A$8,B272=Dimension!$A$9),\"\",IF(OR(B272=Dimension!$A$3,B272=Dimension!$A$4,B272=Dimension!$A$5),\"สถานประกอบการ\",\"\"))","v":""},{"$f":"IF(OR(B272=Dimension!$A$3,B272=Dimension!$A$4,B272=Dimension!$A$5,B272=Dimension!$A$6,,B272=Dimension!$A$7,B272=Dimension!$A$8,B272=Dimension!$A$9),Payment_ID2,\"\")","v":""},null,{"$f":"IFERROR(VLOOKUP(K272,Dimension!$J$3:$K$179,2,FALSE),\"\")","v":""},null,null,{"$f":"IF(OR(B272=Dimension!$A$6,B272=Dimension!$A$7,B272=Dimension!$A$8,B272=Dimension!$A$9),\"\",IF(OR(B272=Dimension!$A$3,B272=Dimension!$A$4,B272=Dimension!$A$5),\"สถานประกอบการ\",\"\"))","v":""},{"$f":"IF(OR(B272=Dimension!$A$6,B272=Dimension!$A$7,B272=Dimension!$A$8,B272=Dimension!$A$9,B272=\"\"),\"\",Payment_ID2)","v":""},"",null,null,{"$f":"IF(D272=Dimension!$C$9,IF(LEFT(UPPER(E272),2)=\"MC\",TRUE,FALSE),TRUE)","v":true}]
[null,null,null,{"$f":"IF(B273=Dimension!$A$8,Dimension!$C$9,IF(B273=Dimension!$A$6,CD,\"\"))","v":""},null,{"$f":"IF(OR(B273=Dimension!$A$3,B273=Dimension!$A$4,B273=Dimension!$A$6,B273=Dimension!$A$8),CCYA,\"\")","v":""},{"$f":"IFERROR(VLOOKUP(F273,Dimension!$G$3:$H$252,2,FALSE),\"\")","v":""},{"$f":"IF(OR(B273=Dimension!$A$3,B273=Dimension!$A$4,B273=Dimension!$A$5),\"เดินทาง/ท่องเที่ยว\",\"\")","v":""},{"$f":"IF(OR(B273=Dimension!$A$6,B273=Dimension!$A$7,B273=Dimension!$A$8,B273=Dimension!$A$9),\"\",IF(OR(B273=Dimension!$A$3,B273=Dimension!$A$4,B273=Dimension!$A$5),\"สถานประกอบการ\",\"\"))","v":""},{"$f":"IF(OR(B273=Dimension!$A$3,B273=Dimension!$A$4,B273=Dimension!$A$5,B273=Dimension!$A$6,,B273=Dimension!$A$7,B273=Dimension!$A$8,B273=Dimension!$A$9),Payment_ID2,\"\")","v":""},null,{"$f":"IFERROR(VLOOKUP(K273,Dimension!$J$3:$K$179,2,FALSE),\"\")","v":""},null,null,{"$f":"IF(OR(B273=Dimension!$A$6,B273=Dimension!$A$7,B273=Dimension!$A$8,B273=Dimension!$A$9),\"\",IF(OR(B273=Dimension!$A$3,B273=Dimension!$A$4,B273=Dimension!$A$5),\"สถานประกอบการ\",\"\"))","v":""},{"$f":"IF(OR(B273=Dimension!$A$6,B273=Dimension!$A$7,B273=Dimension!$A$8,B273=Dimension!$A$9,B273=\"\"),\"\",Payment_ID2)","v":""},"",null,null,{"$f":"IF(D273=Dimension!$C$9,IF(LEFT(UPPER(E273),2)=\"MC\",TRUE,FALSE),TRUE)","v":true}]
[null,null,null,{"$f":"IF(B274=Dimension!$A$8,Dimension!$C$9,IF(B274=Dimension!$A$6,CD,\"\"))","v":""},null,{"$f":"IF(OR(B274=Dimension!$A$3,B274=Dimension!$A$4,B274=Dimension!$A$6,B274=Dimension!$A$8),CCYA,\"\")","v":""},{"$f":"IFERROR(VLOOKUP(F274,Dimension!$G$3:$H$252,2,FALSE),\"\")","v":""},{"$f":"IF(OR(B274=Dimension!$A$3,B274=Dimension!$A$4,B274=Dimension!$A$5),\"เดินทาง/ท่องเที่ยว\",\"\")","v":""},{"$f":"IF(OR(B274=Dimension!$A$6,B274=Dimension!$A$7,B274=Dimension!$A$8,B274=Dimension!$A$9),\"\",IF(OR(B274=Dimension!$A$3,B274=Dimension!$A$4,B274=Dimension!$A$5),\"สถานประกอบการ\",\"\"))","v":""},{"$f":"IF(OR(B274=Dimension!$A$3,B274=Dimension!$A$4,B274=Dimension!$A$5,B274=Dimension!$A$6,,B274=Dimension!$A$7,B274=Dimension!$A$8,B274=Dimension!$A$9),Payment_ID2,\"\")","v":""},null,{"$f":"IFERROR(VLOOKUP(K274,Dimension!$J$3:$K$179,2,FALSE),\"\")","v":""},null,null,{"$f":"IF(OR(B274=Dimension!$A$6,B274=Dimension!$A$7,B274=Dimension!$A$8,B274=Dimension!$A$9),\"\",IF(OR(B274=Dimension!$A$3,B274=Dimension!$A$4,B274=Dimension!$A$5),\"สถานประกอบการ\",\"\"))","v":""},{"$f":"IF(OR(B274=Dimension!$A$6,B274=Dimension!$A$7,B274=Dimension!$A$8,B274=Dimension!$A$9,B274=\"\"),\"\",Payment_ID2)","v":""},"",null,null,{"$f":"IF(D274=Dimension!$C$9,IF(LEFT(UPPER(E274),2)=\"MC\",TRUE,FALSE),TRUE)","v":true}]
[null,null,null,{"$f":"IF(B275=Dimension!$A$8,Dimension!$C$9,IF(B275=Dimension!$A$6,CD,\"\"))","v":""},null,{"$f":"IF(OR(B275=Dimension!$A$3,B275=Dimension!$A$4,B275=Dimension!$A$6,B275=Dimension!$A$8),CCYA,\"\")","v":""},{"$f":"IFERROR(VLOOKUP(F275,Dimension!$G$3:$H$252,2,FALSE),\"\")","v":""},{"$f":"IF(OR(B275=Dimension!$A$3,B275=Dimension!$A$4,B275=Dimension!$A$5),\"เดินทาง/ท่องเที่ยว\",\"\")","v":""},{"$f":"IF(OR(B275=Dimension!$A$6,B275=Dimension!$A$7,B275=Dimension!$A$8,B275=Dimension!$A$9),\"\",IF(OR(B275=Dimension!$A$3,B275=Dimension!$A$4,B275=Dimension!$A$5),\"สถานประกอบการ\",\"\"))","v":""},{"$f":"IF(OR(B275=Dimension!$A$3,B275=Dimension!$A$4,B275=Dimension!$A$5,B275=Dimension!$A$6,,B275=Dimension!$A$7,B275=Dimension!$A$8,B275=Dimension!$A$9),Payment_ID2,\"\")","v":""},null,{"$f":"IFERROR(VLOOKUP(K275,Dimension!$J$3:$K$179,2,FALSE),\"\")","v":""},null,null,{"$f":"IF(OR(B275=Dimension!$A$6,B275=Dimension!$A$7,B275=Dimension!$A$8,B275=Dimension!$A$9),\"\",IF(OR(B275=Dimension!$A$3,B275=Dimension!$A$4,B275=Dimension!$A$5),\"สถานประกอบการ\",\"\"))","v":""},{"$f":"IF(OR(B275=Dimension!$A$6,B275=Dimension!$A$7,B275=Dimension!$A$8,B275=Dimension!$A$9,B275=\"\"),\"\",Payment_ID2)","v":""},"",null,null,{"$f":"IF(D275=Dimension!$C$9,IF(LEFT(UPPER(E275),2)=\"MC\",TRUE,FALSE),TRUE)","v":true}]
[null,null,null,{"$f":"IF(B276=Dimension!$A$8,Dimension!$C$9,IF(B276=Dimension!$A$6,CD,\"\"))","v":""},null,{"$f":"IF(OR(B276=Dimension!$A$3,B276=Dimension!$A$4,B276=Dimension!$A$6,B276=Dimension!$A$8),CCYA,\"\")","v":""},{"$f":"IFERROR(VLOOKUP(F276,Dimension!$G$3:$H$252,2,FALSE),\"\")","v":""},{"$f":"IF(OR(B276=Dimension!$A$3,B276=Dimension!$A$4,B276=Dimension!$A$5),\"เดินทาง/ท่องเที่ยว\",\"\")","v":""},{"$f":"IF(OR(B276=Dimension!$A$6,B276=Dimension!$A$7,B276=Dimension!$A$8,B276=Dimension!$A$9),\"\",IF(OR(B276=Dimension!$A$3,B276=Dimension!$A$4,B276=Dimension!$A$5),\"สถานประกอบการ\",\"\"))","v":""},{"$f":"IF(OR(B276=Dimension!$A$3,B276=Dimension!$A$4,B276=Dimension!$A$5,B276=Dimension!$A$6,,B276=Dimension!$A$7,B276=Dimension!$A$8,B276=Dimension!$A$9),Payment_ID2,\"\")","v":""},null,{"$f":"IFERROR(VLOOKUP(K276,Dimension!$J$3:$K$179,2,FALSE),\"\")","v":""},null,null,{"$f":"IF(OR(B276=Dimension!$A$6,B276=Dimension!$A$7,B276=Dimension!$A$8,B276=Dimension!$A$9),\"\",IF(OR(B276=Dimension!$A$3,B276=Dimension!$A$4,B276=Dimension!$A$5),\"สถานประกอบการ\",\"\"))","v":""},{"$f":"IF(OR(B276=Dimension!$A$6,B276=Dimension!$A$7,B276=Dimension!$A$8,B276=Dimension!$A$9,B276=\"\"),\"\",Payment_ID2)","v":""},"",null,null,{"$f":"IF(D276=Dimension!$C$9,IF(LEFT(UPPER(E276),2)=\"MC\",TRUE,FALSE),TRUE)","v":true}]
[null,null,null,{"$f":"IF(B277=Dimension!$A$8,Dimension!$C$9,IF(B277=Dimension!$A$6,CD,\"\"))","v":""},null,{"$f":"IF(OR(B277=Dimension!$A$3,B277=Dimension!$A$4,B277=Dimension!$A$6,B277=Dimension!$A$8),CCYA,\"\")","v":""},{"$f":"IFERROR(VLOOKUP(F277,Dimension!$G$3:$H$252,2,FALSE),\"\")","v":""},{"$f":"IF(OR(B277=Dimension!$A$3,B277=Dimension!$A$4,B277=Dimension!$A$5),\"เดินทาง/ท่องเที่ยว\",\"\")","v":""},{"$f":"IF(OR(B277=Dimension!$A$6,B277=Dimension!$A$7,B277=Dimension!$A$8,B277=Dimension!$A$9),\"\",IF(OR(B277=Dimension!$A$3,B277=Dimension!$A$4,B277=Dimension!$A$5),\"สถานประกอบการ\",\"\"))","v":""},{"$f":"IF(OR(B277=Dimension!$A$3,B277=Dimension!$A$4,B277=Dimension!$A$5,B277=Dimension!$A$6,,B277=Dimension!$A$7,B277=Dimension!$A$8,B277=Dimension!$A$9),Payment_ID2,\"\")","v":""},null,{"$f":"IFERROR(VLOOKUP(K277,Dimension!$J$3:$K$179,2,FALSE),\"\")","v":""},null,null,{"$f":"IF(OR(B277=Dimension!$A$6,B277=Dimension!$A$7,B277=Dimension!$A$8,B277=Dimension!$A$9),\"\",IF(OR(B277=Dimension!$A$3,B277=Dimension!$A$4,B277=Dimension!$A$5),\"สถานประกอบการ\",\"\"))","v":""},{"$f":"IF(OR(B277=Dimension!$A$6,B277=Dimension!$A$7,B277=Dimension!$A$8,B277=Dimension!$A$9,B277=\"\"),\"\",Payment_ID2)","v":""},"",null,null,{"$f":"IF(D277=Dimension!$C$9,IF(LEFT(UPPER(E277),2)=\"MC\",TRUE,FALSE),TRUE)","v":true}]
[null,null,null,{"$f":"IF(B278=Dimension!$A$8,Dimension!$C$9,IF(B278=Dimension!$A$6,CD,\"\"))","v":""},null,{"$f":"IF(OR(B278=Dimension!$A$3,B278=Dimension!$A$4,B278=Dimension!$A$6,B278=Dimension!$A$8),CCYA,\"\")","v":""},{"$f":"IFERROR(VLOOKUP(F278,Dimension!$G$3:$H$252,2,FALSE),\"\")","v":""},{"$f":"IF(OR(B278=Dimension!$A$3,B278=Dimension!$A$4,B278=Dimension!$A$5),\"เดินทาง/ท่องเที่ยว\",\"\")","v":""},{"$f":"IF(OR(B278=Dimension!$A$6,B278=Dimension!$A$7,B278=Dimension!$A$8,B278=Dimension!$A$9),\"\",IF(OR(B278=Dimension!$A$3,B278=Dimension!$A$4,B278=Dimension!$A$5),\"สถานประกอบการ\",\"\"))","v":""},{"$f":"IF(OR(B278=Dimension!$A$3,B278=Dimension!$A$4,B278=Dimension!$A$5,B278=Dimension!$A$6,,B278=Dimension!$A$7,B278=Dimension!$A$8,B278=Dimension!$A$9),Payment_ID2,\"\")","v":""},null,{"$f":"IFERROR(VLOOKUP(K278,Dimension!$J$3:$K$179,2,FALSE),\"\")","v":""},null,null,{"$f":"IF(OR(B278=Dimension!$A$6,B278=Dimension!$A$7,B278=Dimension!$A$8,B278=Dimension!$A$9),\"\",IF(OR(B278=Dimension!$A$3,B278=Dimension!$A$4,B278=Dimension!$A$5),\"สถานประกอบการ\",\"\"))","v":""},{"$f":"IF(OR(B278=Dimension!$A$6,B278=Dimension!$A$7,B278=Dimension!$A$8,B278=Dimension!$A$9,B278=\"\"),\"\",Payment_ID2)","v":""},"",null,null,{"$f":"IF(D278=Dimension!$C$9,IF(LEFT(UPPER(E278),2)=\"MC\",TRUE,FALSE),TRUE)","v":true}]
[null,null,null,{"$f":"IF(B279=Dimension!$A$8,Dimension!$C$9,IF(B279=Dimension!$A$6,CD,\"\"))","v":""},null,{"$f":"IF(OR(B279=Dimension!$A$3,B279=Dimension!$A$4,B279=Dimension!$A$6,B279=Dimension!$A$8),CCYA,\"\")","v":""},{"$f":"IFERROR(VLOOKUP(F279,Dimension!$G$3:$H$252,2,FALSE),\"\")","v":""},{"$f":"IF(OR(B279=Dimension!$A$3,B279=Dimension!$A$4,B279=Dimension!$A$5),\"เดินทาง/ท่องเที่ยว\",\"\")","v":""},{"$f":"IF(OR(B279=Dimension!$A$6,B279=Dimension!$A$7,B279=Dimension!$A$8,B279=Dimension!$A$9),\"\",IF(OR(B279=Dimension!$A$3,B279=Dimension!$A$4,B279=Dimension!$A$5),\"สถานประกอบการ\",\"\"))","v":""},{"$f":"IF(OR(B279=Dimension!$A$3,B279=Dimension!$A$4,B279=Dimension!$A$5,B279=Dimension!$A$6,,B279=Dimension!$A$7,B279=Dimension!$A$8,B279=Dimension!$A$9),Payment_ID2,\"\")","v":""},null,{"$f":"IFERROR(VLOOKUP(K279,Dimension!$J$3:$K$179,2,FALSE),\"\")","v":""},null,null,{"$f":"IF(OR(B279=Dimension!$A$6,B279=Dimension!$A$7,B279=Dimension!$A$8,B279=Dimension!$A$9),\"\",IF(OR(B279=Dimension!$A$3,B279=Dimension!$A$4,B279=Dimension!$A$5),\"สถานประกอบการ\",\"\"))","v":""},{"$f":"IF(OR(B279=Dimension!$A$6,B279=Dimension!$A$7,B279=Dimension!$A$8,B279=Dimension!$A$9,B279=\"\"),\"\",Payment_ID2)","v":""},"",null,null,{"$f":"IF(D279=Dimension!$C$9,IF(LEFT(UPPER(E279),2)=\"MC\",TRUE,FALSE),TRUE)","v":true}]
[null,null,null,{"$f":"IF(B280=Dimension!$A$8,Dimension!$C$9,IF(B280=Dimension!$A$6,CD,\"\"))","v":""},null,{"$f":"IF(OR(B280=Dimension!$A$3,B280=Dimension!$A$4,B280=Dimension!$A$6,B280=Dimension!$A$8),CCYA,\"\")","v":""},{"$f":"IFERROR(VLOOKUP(F280,Dimension!$G$3:$H$252,2,FALSE),\"\")","v":""},{"$f":"IF(OR(B280=Dimension!$A$3,B280=Dimension!$A$4,B280=Dimension!$A$5),\"เดินทาง/ท่องเที่ยว\",\"\")","v":""},{"$f":"IF(OR(B280=Dimension!$A$6,B280=Dimension!$A$7,B280=Dimension!$A$8,B280=Dimension!$A$9),\"\",IF(OR(B280=Dimension!$A$3,B280=Dimension!$A$4,B280=Dimension!$A$5),\"สถานประกอบการ\",\"\"))","v":""},{"$f":"IF(OR(B280=Dimension!$A$3,B280=Dimension!$A$4,B280=Dimension!$A$5,B280=Dimension!$A$6,,B280=Dimension!$A$7,B280=Dimension!$A$8,B280=Dimension!$A$9),Payment_ID2,\"\")","v":""},null,{"$f":"IFERROR(VLOOKUP(K280,Dimension!$J$3:$K$179,2,FALSE),\"\")","v":""},null,null,{"$f":"IF(OR(B280=Dimension!$A$6,B280=Dimension!$A$7,B280=Dimension!$A$8,B280=Dimension!$A$9),\"\",IF(OR(B280=Dimension!$A$3,B280=Dimension!$A$4,B280=Dimension!$A$5),\"สถานประกอบการ\",\"\"))","v":""},{"$f":"IF(OR(B280=Dimension!$A$6,B280=Dimension!$A$7,B280=Dimension!$A$8,B280=Dimension!$A$9,B280=\"\"),\"\",Payment_ID2)","v":""},"",null,null,{"$f":"IF(D280=Dimension!$C$9,IF(LEFT(UPPER(E280),2)=\"MC\",TRUE,FALSE),TRUE)","v":true}]
[null,null,null,{"$f":"IF(B281=Dimension!$A$8,Dimension!$C$9,IF(B281=Dimension!$A$6,CD,\"\"))","v":""},null,{"$f":"IF(OR(B281=Dimension!$A$3,B281=Dimension!$A$4,B281=Dimension!$A$6,B281=Dimension!$A$8),CCYA,\"\")","v":""},{"$f":"IFERROR(VLOOKUP(F281,Dimension!$G$3:$H$252,2,FALSE),\"\")","v":""},{"$f":"IF(OR(B281=Dimension!$A$3,B281=Dimension!$A$4,B281=Dimension!$A$5),\"เดินทาง/ท่องเที่ยว\",\"\")","v":""},{"$f":"IF(OR(B281=Dimension!$A$6,B281=Dimension!$A$7,B281=Dimension!$A$8,B281=Dimension!$A$9),\"\",IF(OR(B281=Dimension!$A$3,B281=Dimension!$A$4,B281=Dimension!$A$5),\"สถานประกอบการ\",\"\"))","v":""},{"$f":"IF(OR(B281=Dimension!$A$3,B281=Dimension!$A$4,B281=Dimension!$A$5,B281=Dimension!$A$6,,B281=Dimension!$A$7,B281=Dimension!$A$8,B281=Dimension!$A$9),Payment_ID2,\"\")","v":""},null,{"$f":"IFERROR(VLOOKUP(K281,Dimension!$J$3:$K$179,2,FALSE),\"\")","v":""},null,null,{"$f":"IF(OR(B281=Dimension!$A$6,B281=Dimension!$A$7,B281=Dimension!$A$8,B281=Dimension!$A$9),\"\",IF(OR(B281=Dimension!$A$3,B281=Dimension!$A$4,B281=Dimension!$A$5),\"สถานประกอบการ\",\"\"))","v":""},{"$f":"IF(OR(B281=Dimension!$A$6,B281=Dimension!$A$7,B281=Dimension!$A$8,B281=Dimension!$A$9,B281=\"\"),\"\",Payment_ID2)","v":""},"",null,null,{"$f":"IF(D281=Dimension!$C$9,IF(LEFT(UPPER(E281),2)=\"MC\",TRUE,FALSE),TRUE)","v":true}]
[null,null,null,{"$f":"IF(B282=Dimension!$A$8,Dimension!$C$9,IF(B282=Dimension!$A$6,CD,\"\"))","v":""},null,{"$f":"IF(OR(B282=Dimension!$A$3,B282=Dimension!$A$4,B282=Dimension!$A$6,B282=Dimension!$A$8),CCYA,\"\")","v":""},{"$f":"IFERROR(VLOOKUP(F282,Dimension!$G$3:$H$252,2,FALSE),\"\")","v":""},{"$f":"IF(OR(B282=Dimension!$A$3,B282=Dimension!$A$4,B282=Dimension!$A$5),\"เดินทาง/ท่องเที่ยว\",\"\")","v":""},{"$f":"IF(OR(B282=Dimension!$A$6,B282=Dimension!$A$7,B282=Dimension!$A$8,B282=Dimension!$A$9),\"\",IF(OR(B282=Dimension!$A$3,B282=Dimension!$A$4,B282=Dimension!$A$5),\"สถานประกอบการ\",\"\"))","v":""},{"$f":"IF(OR(B282=Dimension!$A$3,B282=Dimension!$A$4,B282=Dimension!$A$5,B282=Dimension!$A$6,,B282=Dimension!$A$7,B282=Dimension!$A$8,B282=Dimension!$A$9),Payment_ID2,\"\")","v":""},null,{"$f":"IFERROR(VLOOKUP(K282,Dimension!$J$3:$K$179,2,FALSE),\"\")","v":""},null,null,{"$f":"IF(OR(B282=Dimension!$A$6,B282=Dimension!$A$7,B282=Dimension!$A$8,B282=Dimension!$A$9),\"\",IF(OR(B282=Dimension!$A$3,B282=Dimension!$A$4,B282=Dimension!$A$5),\"สถานประกอบการ\",\"\"))","v":""},{"$f":"IF(OR(B282=Dimension!$A$6,B282=Dimension!$A$7,B282=Dimension!$A$8,B282=Dimension!$A$9,B282=\"\"),\"\",Payment_ID2)","v":""},"",null,null,{"$f":"IF(D282=Dimension!$C$9,IF(LEFT(UPPER(E282),2)=\"MC\",TRUE,FALSE),TRUE)","v":true}]
[null,null,null,{"$f":"IF(B283=Dimension!$A$8,Dimension!$C$9,IF(B283=Dimension!$A$6,CD,\"\"))","v":""},null,{"$f":"IF(OR(B283=Dimension!$A$3,B283=Dimension!$A$4,B283=Dimension!$A$6,B283=Dimension!$A$8),CCYA,\"\")","v":""},{"$f":"IFERROR(VLOOKUP(F283,Dimension!$G$3:$H$252,2,FALSE),\"\")","v":""},{"$f":"IF(OR(B283=Dimension!$A$3,B283=Dimension!$A$4,B283=Dimension!$A$5),\"เดินทาง/ท่องเที่ยว\",\"\")","v":""},{"$f":"IF(OR(B283=Dimension!$A$6,B283=Dimension!$A$7,B283=Dimension!$A$8,B283=Dimension!$A$9),\"\",IF(OR(B283=Dimension!$A$3,B283=Dimension!$A$4,B283=Dimension!$A$5),\"สถานประกอบการ\",\"\"))","v":""},{"$f":"IF(OR(B283=Dimension!$A$3,B283=Dimension!$A$4,B283=Dimension!$A$5,B283=Dimension!$A$6,,B283=Dimension!$A$7,B283=Dimension!$A$8,B283=Dimension!$A$9),Payment_ID2,\"\")","v":""},null,{"$f":"IFERROR(VLOOKUP(K283,Dimension!$J$3:$K$179,2,FALSE),\"\")","v":""},null,null,{"$f":"IF(OR(B283=Dimension!$A$6,B283=Dimension!$A$7,B283=Dimension!$A$8,B283=Dimension!$A$9),\"\",IF(OR(B283=Dimension!$A$3,B283=Dimension!$A$4,B283=Dimension!$A$5),\"สถานประกอบการ\",\"\"))","v":""},{"$f":"IF(OR(B283=Dimension!$A$6,B283=Dimension!$A$7,B283=Dimension!$A$8,B283=Dimension!$A$9,B283=\"\"),\"\",Payment_ID2)","v":""},"",null,null,{"$f":"IF(D283=Dimension!$C$9,IF(LEFT(UPPER(E283),2)=\"MC\",TRUE,FALSE),TRUE)","v":true}]
[null,null,null,{"$f":"IF(B284=Dimension!$A$8,Dimension!$C$9,IF(B284=Dimension!$A$6,CD,\"\"))","v":""},null,{"$f":"IF(OR(B284=Dimension!$A$3,B284=Dimension!$A$4,B284=Dimension!$A$6,B284=Dimension!$A$8),CCYA,\"\")","v":""},{"$f":"IFERROR(VLOOKUP(F284,Dimension!$G$3:$H$252,2,FALSE),\"\")","v":""},{"$f":"IF(OR(B284=Dimension!$A$3,B284=Dimension!$A$4,B284=Dimension!$A$5),\"เดินทาง/ท่องเที่ยว\",\"\")","v":""},{"$f":"IF(OR(B284=Dimension!$A$6,B284=Dimension!$A$7,B284=Dimension!$A$8,B284=Dimension!$A$9),\"\",IF(OR(B284=Dimension!$A$3,B284=Dimension!$A$4,B284=Dimension!$A$5),\"สถานประกอบการ\",\"\"))","v":""},{"$f":"IF(OR(B284=Dimension!$A$3,B284=Dimension!$A$4,B284=Dimension!$A$5,B284=Dimension!$A$6,,B284=Dimension!$A$7,B284=Dimension!$A$8,B284=Dimension!$A$9),Payment_ID2,\"\")","v":""},null,{"$f":"IFERROR(VLOOKUP(K284,Dimension!$J$3:$K$179,2,FALSE),\"\")","v":""},null,null,{"$f":"IF(OR(B284=Dimension!$A$6,B284=Dimension!$A$7,B284=Dimension!$A$8,B284=Dimension!$A$9),\"\",IF(OR(B284=Dimension!$A$3,B284=Dimension!$A$4,B284=Dimension!$A$5),\"สถานประกอบการ\",\"\"))","v":""},{"$f":"IF(OR(B284=Dimension!$A$6,B284=Dimension!$A$7,B284=Dimension!$A$8,B284=Dimension!$A$9,B284=\"\"),\"\",Payment_ID2)","v":""},"",null,null,{"$f":"IF(D284=Dimension!$C$9,IF(LEFT(UPPER(E284),2)=\"MC\",TRUE,FALSE),TRUE)","v":true}]
[null,null,null,{"$f":"IF(B285=Dimension!$A$8,Dimension!$C$9,IF(B285=Dimension!$A$6,CD,\"\"))","v":""},null,{"$f":"IF(OR(B285=Dimension!$A$3,B285=Dimension!$A$4,B285=Dimension!$A$6,B285=Dimension!$A$8),CCYA,\"\")","v":""},{"$f":"IFERROR(VLOOKUP(F285,Dimension!$G$3:$H$252,2,FALSE),\"\")","v":""},{"$f":"IF(OR(B285=Dimension!$A$3,B285=Dimension!$A$4,B285=Dimension!$A$5),\"เดินทาง/ท่องเที่ยว\",\"\")","v":""},{"$f":"IF(OR(B285=Dimension!$A$6,B285=Dimension!$A$7,B285=Dimension!$A$8,B285=Dimension!$A$9),\"\",IF(OR(B285=Dimension!$A$3,B285=Dimension!$A$4,B285=Dimension!$A$5),\"สถานประกอบการ\",\"\"))","v":""},{"$f":"IF(OR(B285=Dimension!$A$3,B285=Dimension!$A$4,B285=Dimension!$A$5,B285=Dimension!$A$6,,B285=Dimension!$A$7,B285=Dimension!$A$8,B285=Dimension!$A$9),Payment_ID2,\"\")","v":""},null,{"$f":"IFERROR(VLOOKUP(K285,Dimension!$J$3:$K$179,2,FALSE),\"\")","v":""},null,null,{"$f":"IF(OR(B285=Dimension!$A$6,B285=Dimension!$A$7,B285=Dimension!$A$8,B285=Dimension!$A$9),\"\",IF(OR(B285=Dimension!$A$3,B285=Dimension!$A$4,B285=Dimension!$A$5),\"สถานประกอบการ\",\"\"))","v":""},{"$f":"IF(OR(B285=Dimension!$A$6,B285=Dimension!$A$7,B285=Dimension!$A$8,B285=Dimension!$A$9,B285=\"\"),\"\",Payment_ID2)","v":""},"",null,null,{"$f":"IF(D285=Dimension!$C$9,IF(LEFT(UPPER(E285),2)=\"MC\",TRUE,FALSE),TRUE)","v":true}]
[null,null,null,{"$f":"IF(B286=Dimension!$A$8,Dimension!$C$9,IF(B286=Dimension!$A$6,CD,\"\"))","v":""},null,{"$f":"IF(OR(B286=Dimension!$A$3,B286=Dimension!$A$4,B286=Dimension!$A$6,B286=Dimension!$A$8),CCYA,\"\")","v":""},{"$f":"IFERROR(VLOOKUP(F286,Dimension!$G$3:$H$252,2,FALSE),\"\")","v":""},{"$f":"IF(OR(B286=Dimension!$A$3,B286=Dimension!$A$4,B286=Dimension!$A$5),\"เดินทาง/ท่องเที่ยว\",\"\")","v":""},{"$f":"IF(OR(B286=Dimension!$A$6,B286=Dimension!$A$7,B286=Dimension!$A$8,B286=Dimension!$A$9),\"\",IF(OR(B286=Dimension!$A$3,B286=Dimension!$A$4,B286=Dimension!$A$5),\"สถานประกอบการ\",\"\"))","v":""},{"$f":"IF(OR(B286=Dimension!$A$3,B286=Dimension!$A$4,B286=Dimension!$A$5,B286=Dimension!$A$6,,B286=Dimension!$A$7,B286=Dimension!$A$8,B286=Dimension!$A$9),Payment_ID2,\"\")","v":""},null,{"$f":"IFERROR(VLOOKUP(K286,Dimension!$J$3:$K$179,2,FALSE),\"\")","v":""},null,null,{"$f":"IF(OR(B286=Dimension!$A$6,B286=Dimension!$A$7,B286=Dimension!$A$8,B286=Dimension!$A$9),\"\",IF(OR(B286=Dimension!$A$3,B286=Dimension!$A$4,B286=Dimension!$A$5),\"สถานประกอบการ\",\"\"))","v":""},{"$f":"IF(OR(B286=Dimension!$A$6,B286=Dimension!$A$7,B286=Dimension!$A$8,B286=Dimension!$A$9,B286=\"\"),\"\",Payment_ID2)","v":""},"",null,null,{"$f":"IF(D286=Dimension!$C$9,IF(LEFT(UPPER(E286),2)=\"MC\",TRUE,FALSE),TRUE)","v":true}]
[null,null,null,{"$f":"IF(B287=Dimension!$A$8,Dimension!$C$9,IF(B287=Dimension!$A$6,CD,\"\"))","v":""},null,{"$f":"IF(OR(B287=Dimension!$A$3,B287=Dimension!$A$4,B287=Dimension!$A$6,B287=Dimension!$A$8),CCYA,\"\")","v":""},{"$f":"IFERROR(VLOOKUP(F287,Dimension!$G$3:$H$252,2,FALSE),\"\")","v":""},{"$f":"IF(OR(B287=Dimension!$A$3,B287=Dimension!$A$4,B287=Dimension!$A$5),\"เดินทาง/ท่องเที่ยว\",\"\")","v":""},{"$f":"IF(OR(B287=Dimension!$A$6,B287=Dimension!$A$7,B287=Dimension!$A$8,B287=Dimension!$A$9),\"\",IF(OR(B287=Dimension!$A$3,B287=Dimension!$A$4,B287=Dimension!$A$5),\"สถานประกอบการ\",\"\"))","v":""},{"$f":"IF(OR(B287=Dimension!$A$3,B287=Dimension!$A$4,B287=Dimension!$A$5,B287=Dimension!$A$6,,B287=Dimension!$A$7,B287=Dimension!$A$8,B287=Dimension!$A$9),Payment_ID2,\"\")","v":""},null,{"$f":"IFERROR(VLOOKUP(K287,Dimension!$J$3:$K$179,2,FALSE),\"\")","v":""},null,null,{"$f":"IF(OR(B287=Dimension!$A$6,B287=Dimension!$A$7,B287=Dimension!$A$8,B287=Dimension!$A$9),\"\",IF(OR(B287=Dimension!$A$3,B287=Dimension!$A$4,B287=Dimension!$A$5),\"สถานประกอบการ\",\"\"))","v":""},{"$f":"IF(OR(B287=Dimension!$A$6,B287=Dimension!$A$7,B287=Dimension!$A$8,B287=Dimension!$A$9,B287=\"\"),\"\",Payment_ID2)","v":""},"",null,null,{"$f":"IF(D287=Dimension!$C$9,IF(LEFT(UPPER(E287),2)=\"MC\",TRUE,FALSE),TRUE)","v":true}]
[null,null,null,{"$f":"IF(B288=Dimension!$A$8,Dimension!$C$9,IF(B288=Dimension!$A$6,CD,\"\"))","v":""},null,{"$f":"IF(OR(B288=Dimension!$A$3,B288=Dimension!$A$4,B288=Dimension!$A$6,B288=Dimension!$A$8),CCYA,\"\")","v":""},{"$f":"IFERROR(VLOOKUP(F288,Dimension!$G$3:$H$252,2,FALSE),\"\")","v":""},{"$f":"IF(OR(B288=Dimension!$A$3,B288=Dimension!$A$4,B288=Dimension!$A$5),\"เดินทาง/ท่องเที่ยว\",\"\")","v":""},{"$f":"IF(OR(B288=Dimension!$A$6,B288=Dimension!$A$7,B288=Dimension!$A$8,B288=Dimension!$A$9),\"\",IF(OR(B288=Dimension!$A$3,B288=Dimension!$A$4,B288=Dimension!$A$5),\"สถานประกอบการ\",\"\"))","v":""},{"$f":"IF(OR(B288=Dimension!$A$3,B288=Dimension!$A$4,B288=Dimension!$A$5,B288=Dimension!$A$6,,B288=Dimension!$A$7,B288=Dimension!$A$8,B288=Dimension!$A$9),Payment_ID2,\"\")","v":""},null,{"$f":"IFERROR(VLOOKUP(K288,Dimension!$J$3:$K$179,2,FALSE),\"\")","v":""},null,null,{"$f":"IF(OR(B288=Dimension!$A$6,B288=Dimension!$A$7,B288=Dimension!$A$8,B288=Dimension!$A$9),\"\",IF(OR(B288=Dimension!$A$3,B288=Dimension!$A$4,B288=Dimension!$A$5),\"สถานประกอบการ\",\"\"))","v":""},{"$f":"IF(OR(B288=Dimension!$A$6,B288=Dimension!$A$7,B288=Dimension!$A$8,B288=Dimension!$A$9,B288=\"\"),\"\",Payment_ID2)","v":""},"",null,null,{"$f":"IF(D288=Dimension!$C$9,IF(LEFT(UPPER(E288),2)=\"MC\",TRUE,FALSE),TRUE)","v":true}]
[null,null,null,{"$f":"IF(B289=Dimension!$A$8,Dimension!$C$9,IF(B289=Dimension!$A$6,CD,\"\"))","v":""},null,{"$f":"IF(OR(B289=Dimension!$A$3,B289=Dimension!$A$4,B289=Dimension!$A$6,B289=Dimension!$A$8),CCYA,\"\")","v":""},{"$f":"IFERROR(VLOOKUP(F289,Dimension!$G$3:$H$252,2,FALSE),\"\")","v":""},{"$f":"IF(OR(B289=Dimension!$A$3,B289=Dimension!$A$4,B289=Dimension!$A$5),\"เดินทาง/ท่องเที่ยว\",\"\")","v":""},{"$f":"IF(OR(B289=Dimension!$A$6,B289=Dimension!$A$7,B289=Dimension!$A$8,B289=Dimension!$A$9),\"\",IF(OR(B289=Dimension!$A$3,B289=Dimension!$A$4,B289=Dimension!$A$5),\"สถานประกอบการ\",\"\"))","v":""},{"$f":"IF(OR(B289=Dimension!$A$3,B289=Dimension!$A$4,B289=Dimension!$A$5,B289=Dimension!$A$6,,B289=Dimension!$A$7,B289=Dimension!$A$8,B289=Dimension!$A$9),Payment_ID2,\"\")","v":""},null,{"$f":"IFERROR(VLOOKUP(K289,Dimension!$J$3:$K$179,2,FALSE),\"\")","v":""},null,null,{"$f":"IF(OR(B289=Dimension!$A$6,B289=Dimension!$A$7,B289=Dimension!$A$8,B289=Dimension!$A$9),\"\",IF(OR(B289=Dimension!$A$3,B289=Dimension!$A$4,B289=Dimension!$A$5),\"สถานประกอบการ\",\"\"))","v":""},{"$f":"IF(OR(B289=Dimension!$A$6,B289=Dimension!$A$7,B289=Dimension!$A$8,B289=Dimension!$A$9,B289=\"\"),\"\",Payment_ID2)","v":""},"",null,null,{"$f":"IF(D289=Dimension!$C$9,IF(LEFT(UPPER(E289),2)=\"MC\",TRUE,FALSE),TRUE)","v":true}]
[null,null,null,{"$f":"IF(B290=Dimension!$A$8,Dimension!$C$9,IF(B290=Dimension!$A$6,CD,\"\"))","v":""},null,{"$f":"IF(OR(B290=Dimension!$A$3,B290=Dimension!$A$4,B290=Dimension!$A$6,B290=Dimension!$A$8),CCYA,\"\")","v":""},{"$f":"IFERROR(VLOOKUP(F290,Dimension!$G$3:$H$252,2,FALSE),\"\")","v":""},{"$f":"IF(OR(B290=Dimension!$A$3,B290=Dimension!$A$4,B290=Dimension!$A$5),\"เดินทาง/ท่องเที่ยว\",\"\")","v":""},{"$f":"IF(OR(B290=Dimension!$A$6,B290=Dimension!$A$7,B290=Dimension!$A$8,B290=Dimension!$A$9),\"\",IF(OR(B290=Dimension!$A$3,B290=Dimension!$A$4,B290=Dimension!$A$5),\"สถานประกอบการ\",\"\"))","v":""},{"$f":"IF(OR(B290=Dimension!$A$3,B290=Dimension!$A$4,B290=Dimension!$A$5,B290=Dimension!$A$6,,B290=Dimension!$A$7,B290=Dimension!$A$8,B290=Dimension!$A$9),Payment_ID2,\"\")","v":""},null,{"$f":"IFERROR(VLOOKUP(K290,Dimension!$J$3:$K$179,2,FALSE),\"\")","v":""},null,null,{"$f":"IF(OR(B290=Dimension!$A$6,B290=Dimension!$A$7,B290=Dimension!$A$8,B290=Dimension!$A$9),\"\",IF(OR(B290=Dimension!$A$3,B290=Dimension!$A$4,B290=Dimension!$A$5),\"สถานประกอบการ\",\"\"))","v":""},{"$f":"IF(OR(B290=Dimension!$A$6,B290=Dimension!$A$7,B290=Dimension!$A$8,B290=Dimension!$A$9,B290=\"\"),\"\",Payment_ID2)","v":""},"",null,null,{"$f":"IF(D290=Dimension!$C$9,IF(LEFT(UPPER(E290),2)=\"MC\",TRUE,FALSE),TRUE)","v":true}]
[null,null,null,{"$f":"IF(B291=Dimension!$A$8,Dimension!$C$9,IF(B291=Dimension!$A$6,CD,\"\"))","v":""},null,{"$f":"IF(OR(B291=Dimension!$A$3,B291=Dimension!$A$4,B291=Dimension!$A$6,B291=Dimension!$A$8),CCYA,\"\")","v":""},{"$f":"IFERROR(VLOOKUP(F291,Dimension!$G$3:$H$252,2,FALSE),\"\")","v":""},{"$f":"IF(OR(B291=Dimension!$A$3,B291=Dimension!$A$4,B291=Dimension!$A$5),\"เดินทาง/ท่องเที่ยว\",\"\")","v":""},{"$f":"IF(OR(B291=Dimension!$A$6,B291=Dimension!$A$7,B291=Dimension!$A$8,B291=Dimension!$A$9),\"\",IF(OR(B291=Dimension!$A$3,B291=Dimension!$A$4,B291=Dimension!$A$5),\"สถานประกอบการ\",\"\"))","v":""},{"$f":"IF(OR(B291=Dimension!$A$3,B291=Dimension!$A$4,B291=Dimension!$A$5,B291=Dimension!$A$6,,B291=Dimension!$A$7,B291=Dimension!$A$8,B291=Dimension!$A$9),Payment_ID2,\"\")","v":""},null,{"$f":"IFERROR(VLOOKUP(K291,Dimension!$J$3:$K$179,2,FALSE),\"\")","v":""},null,null,{"$f":"IF(OR(B291=Dimension!$A$6,B291=Dimension!$A$7,B291=Dimension!$A$8,B291=Dimension!$A$9),\"\",IF(OR(B291=Dimension!$A$3,B291=Dimension!$A$4,B291=Dimension!$A$5),\"สถานประกอบการ\",\"\"))","v":""},{"$f":"IF(OR(B291=Dimension!$A$6,B291=Dimension!$A$7,B291=Dimension!$A$8,B291=Dimension!$A$9,B291=\"\"),\"\",Payment_ID2)","v":""},"",null,null,{"$f":"IF(D291=Dimension!$C$9,IF(LEFT(UPPER(E291),2)=\"MC\",TRUE,FALSE),TRUE)","v":true}]
[null,null,null,{"$f":"IF(B292=Dimension!$A$8,Dimension!$C$9,IF(B292=Dimension!$A$6,CD,\"\"))","v":""},null,{"$f":"IF(OR(B292=Dimension!$A$3,B292=Dimension!$A$4,B292=Dimension!$A$6,B292=Dimension!$A$8),CCYA,\"\")","v":""},{"$f":"IFERROR(VLOOKUP(F292,Dimension!$G$3:$H$252,2,FALSE),\"\")","v":""},{"$f":"IF(OR(B292=Dimension!$A$3,B292=Dimension!$A$4,B292=Dimension!$A$5),\"เดินทาง/ท่องเที่ยว\",\"\")","v":""},{"$f":"IF(OR(B292=Dimension!$A$6,B292=Dimension!$A$7,B292=Dimension!$A$8,B292=Dimension!$A$9),\"\",IF(OR(B292=Dimension!$A$3,B292=Dimension!$A$4,B292=Dimension!$A$5),\"สถานประกอบการ\",\"\"))","v":""},{"$f":"IF(OR(B292=Dimension!$A$3,B292=Dimension!$A$4,B292=Dimension!$A$5,B292=Dimension!$A$6,,B292=Dimension!$A$7,B292=Dimension!$A$8,B292=Dimension!$A$9),Payment_ID2,\"\")","v":""},null,{"$f":"IFERROR(VLOOKUP(K292,Dimension!$J$3:$K$179,2,FALSE),\"\")","v":""},null,null,{"$f":"IF(OR(B292=Dimension!$A$6,B292=Dimension!$A$7,B292=Dimension!$A$8,B292=Dimension!$A$9),\"\",IF(OR(B292=Dimension!$A$3,B292=Dimension!$A$4,B292=Dimension!$A$5),\"สถานประกอบการ\",\"\"))","v":""},{"$f":"IF(OR(B292=Dimension!$A$6,B292=Dimension!$A$7,B292=Dimension!$A$8,B292=Dimension!$A$9,B292=\"\"),\"\",Payment_ID2)","v":""},"",null,null,{"$f":"IF(D292=Dimension!$C$9,IF(LEFT(UPPER(E292),2)=\"MC\",TRUE,FALSE),TRUE)","v":true}]
[null,null,null,{"$f":"IF(B293=Dimension!$A$8,Dimension!$C$9,IF(B293=Dimension!$A$6,CD,\"\"))","v":""},null,{"$f":"IF(OR(B293=Dimension!$A$3,B293=Dimension!$A$4,B293=Dimension!$A$6,B293=Dimension!$A$8),CCYA,\"\")","v":""},{"$f":"IFERROR(VLOOKUP(F293,Dimension!$G$3:$H$252,2,FALSE),\"\")","v":""},{"$f":"IF(OR(B293=Dimension!$A$3,B293=Dimension!$A$4,B293=Dimension!$A$5),\"เดินทาง/ท่องเที่ยว\",\"\")","v":""},{"$f":"IF(OR(B293=Dimension!$A$6,B293=Dimension!$A$7,B293=Dimension!$A$8,B293=Dimension!$A$9),\"\",IF(OR(B293=Dimension!$A$3,B293=Dimension!$A$4,B293=Dimension!$A$5),\"สถานประกอบการ\",\"\"))","v":""},{"$f":"IF(OR(B293=Dimension!$A$3,B293=Dimension!$A$4,B293=Dimension!$A$5,B293=Dimension!$A$6,,B293=Dimension!$A$7,B293=Dimension!$A$8,B293=Dimension!$A$9),Payment_ID2,\"\")","v":""},null,{"$f":"IFERROR(VLOOKUP(K293,Dimension!$J$3:$K$179,2,FALSE),\"\")","v":""},null,null,{"$f":"IF(OR(B293=Dimension!$A$6,B293=Dimension!$A$7,B293=Dimension!$A$8,B293=Dimension!$A$9),\"\",IF(OR(B293=Dimension!$A$3,B293=Dimension!$A$4,B293=Dimension!$A$5),\"สถานประกอบการ\",\"\"))","v":""},{"$f":"IF(OR(B293=Dimension!$A$6,B293=Dimension!$A$7,B293=Dimension!$A$8,B293=Dimension!$A$9,B293=\"\"),\"\",Payment_ID2)","v":""},"",null,null,{"$f":"IF(D293=Dimension!$C$9,IF(LEFT(UPPER(E293),2)=\"MC\",TRUE,FALSE),TRUE)","v":true}]
[null,null,null,{"$f":"IF(B294=Dimension!$A$8,Dimension!$C$9,IF(B294=Dimension!$A$6,CD,\"\"))","v":""},null,{"$f":"IF(OR(B294=Dimension!$A$3,B294=Dimension!$A$4,B294=Dimension!$A$6,B294=Dimension!$A$8),CCYA,\"\")","v":""},{"$f":"IFERROR(VLOOKUP(F294,Dimension!$G$3:$H$252,2,FALSE),\"\")","v":""},{"$f":"IF(OR(B294=Dimension!$A$3,B294=Dimension!$A$4,B294=Dimension!$A$5),\"เดินทาง/ท่องเที่ยว\",\"\")","v":""},{"$f":"IF(OR(B294=Dimension!$A$6,B294=Dimension!$A$7,B294=Dimension!$A$8,B294=Dimension!$A$9),\"\",IF(OR(B294=Dimension!$A$3,B294=Dimension!$A$4,B294=Dimension!$A$5),\"สถานประกอบการ\",\"\"))","v":""},{"$f":"IF(OR(B294=Dimension!$A$3,B294=Dimension!$A$4,B294=Dimension!$A$5,B294=Dimension!$A$6,,B294=Dimension!$A$7,B294=Dimension!$A$8,B294=Dimension!$A$9),Payment_ID2,\"\")","v":""},null,{"$f":"IFERROR(VLOOKUP(K294,Dimension!$J$3:$K$179,2,FALSE),\"\")","v":""},null,null,{"$f":"IF(OR(B294=Dimension!$A$6,B294=Dimension!$A$7,B294=Dimension!$A$8,B294=Dimension!$A$9),\"\",IF(OR(B294=Dimension!$A$3,B294=Dimension!$A$4,B294=Dimension!$A$5),\"สถานประกอบการ\",\"\"))","v":""},{"$f":"IF(OR(B294=Dimension!$A$6,B294=Dimension!$A$7,B294=Dimension!$A$8,B294=Dimension!$A$9,B294=\"\"),\"\",Payment_ID2)","v":""},"",null,null,{"$f":"IF(D294=Dimension!$C$9,IF(LEFT(UPPER(E294),2)=\"MC\",TRUE,FALSE),TRUE)","v":true}]
[null,null,null,{"$f":"IF(B295=Dimension!$A$8,Dimension!$C$9,IF(B295=Dimension!$A$6,CD,\"\"))","v":""},null,{"$f":"IF(OR(B295=Dimension!$A$3,B295=Dimension!$A$4,B295=Dimension!$A$6,B295=Dimension!$A$8),CCYA,\"\")","v":""},{"$f":"IFERROR(VLOOKUP(F295,Dimension!$G$3:$H$252,2,FALSE),\"\")","v":""},{"$f":"IF(OR(B295=Dimension!$A$3,B295=Dimension!$A$4,B295=Dimension!$A$5),\"เดินทาง/ท่องเที่ยว\",\"\")","v":""},{"$f":"IF(OR(B295=Dimension!$A$6,B295=Dimension!$A$7,B295=Dimension!$A$8,B295=Dimension!$A$9),\"\",IF(OR(B295=Dimension!$A$3,B295=Dimension!$A$4,B295=Dimension!$A$5),\"สถานประกอบการ\",\"\"))","v":""},{"$f":"IF(OR(B295=Dimension!$A$3,B295=Dimension!$A$4,B295=Dimension!$A$5,B295=Dimension!$A$6,,B295=Dimension!$A$7,B295=Dimension!$A$8,B295=Dimension!$A$9),Payment_ID2,\"\")","v":""},null,{"$f":"IFERROR(VLOOKUP(K295,Dimension!$J$3:$K$179,2,FALSE),\"\")","v":""},null,null,{"$f":"IF(OR(B295=Dimension!$A$6,B295=Dimension!$A$7,B295=Dimension!$A$8,B295=Dimension!$A$9),\"\",IF(OR(B295=Dimension!$A$3,B295=Dimension!$A$4,B295=Dimension!$A$5),\"สถานประกอบการ\",\"\"))","v":""},{"$f":"IF(OR(B295=Dimension!$A$6,B295=Dimension!$A$7,B295=Dimension!$A$8,B295=Dimension!$A$9,B295=\"\"),\"\",Payment_ID2)","v":""},"",null,null,{"$f":"IF(D295=Dimension!$C$9,IF(LEFT(UPPER(E295),2)=\"MC\",TRUE,FALSE),TRUE)","v":true}]
[null,null,null,{"$f":"IF(B296=Dimension!$A$8,Dimension!$C$9,IF(B296=Dimension!$A$6,CD,\"\"))","v":""},null,{"$f":"IF(OR(B296=Dimension!$A$3,B296=Dimension!$A$4,B296=Dimension!$A$6,B296=Dimension!$A$8),CCYA,\"\")","v":""},{"$f":"IFERROR(VLOOKUP(F296,Dimension!$G$3:$H$252,2,FALSE),\"\")","v":""},{"$f":"IF(OR(B296=Dimension!$A$3,B296=Dimension!$A$4,B296=Dimension!$A$5),\"เดินทาง/ท่องเที่ยว\",\"\")","v":""},{"$f":"IF(OR(B296=Dimension!$A$6,B296=Dimension!$A$7,B296=Dimension!$A$8,B296=Dimension!$A$9),\"\",IF(OR(B296=Dimension!$A$3,B296=Dimension!$A$4,B296=Dimension!$A$5),\"สถานประกอบการ\",\"\"))","v":""},{"$f":"IF(OR(B296=Dimension!$A$3,B296=Dimension!$A$4,B296=Dimension!$A$5,B296=Dimension!$A$6,,B296=Dimension!$A$7,B296=Dimension!$A$8,B296=Dimension!$A$9),Payment_ID2,\"\")","v":""},null,{"$f":"IFERROR(VLOOKUP(K296,Dimension!$J$3:$K$179,2,FALSE),\"\")","v":""},null,null,{"$f":"IF(OR(B296=Dimension!$A$6,B296=Dimension!$A$7,B296=Dimension!$A$8,B296=Dimension!$A$9),\"\",IF(OR(B296=Dimension!$A$3,B296=Dimension!$A$4,B296=Dimension!$A$5),\"สถานประกอบการ\",\"\"))","v":""},{"$f":"IF(OR(B296=Dimension!$A$6,B296=Dimension!$A$7,B296=Dimension!$A$8,B296=Dimension!$A$9,B296=\"\"),\"\",Payment_ID2)","v":""},"",null,null,{"$f":"IF(D296=Dimension!$C$9,IF(LEFT(UPPER(E296),2)=\"MC\",TRUE,FALSE),TRUE)","v":true}]
[null,null,null,{"$f":"IF(B297=Dimension!$A$8,Dimension!$C$9,IF(B297=Dimension!$A$6,CD,\"\"))","v":""},null,{"$f":"IF(OR(B297=Dimension!$A$3,B297=Dimension!$A$4,B297=Dimension!$A$6,B297=Dimension!$A$8),CCYA,\"\")","v":""},{"$f":"IFERROR(VLOOKUP(F297,Dimension!$G$3:$H$252,2,FALSE),\"\")","v":""},{"$f":"IF(OR(B297=Dimension!$A$3,B297=Dimension!$A$4,B297=Dimension!$A$5),\"เดินทาง/ท่องเที่ยว\",\"\")","v":""},{"$f":"IF(OR(B297=Dimension!$A$6,B297=Dimension!$A$7,B297=Dimension!$A$8,B297=Dimension!$A$9),\"\",IF(OR(B297=Dimension!$A$3,B297=Dimension!$A$4,B297=Dimension!$A$5),\"สถานประกอบการ\",\"\"))","v":""},{"$f":"IF(OR(B297=Dimension!$A$3,B297=Dimension!$A$4,B297=Dimension!$A$5,B297=Dimension!$A$6,,B297=Dimension!$A$7,B297=Dimension!$A$8,B297=Dimension!$A$9),Payment_ID2,\"\")","v":""},null,{"$f":"IFERROR(VLOOKUP(K297,Dimension!$J$3:$K$179,2,FALSE),\"\")","v":""},null,null,{"$f":"IF(OR(B297=Dimension!$A$6,B297=Dimension!$A$7,B297=Dimension!$A$8,B297=Dimension!$A$9),\"\",IF(OR(B297=Dimension!$A$3,B297=Dimension!$A$4,B297=Dimension!$A$5),\"สถานประกอบการ\",\"\"))","v":""},{"$f":"IF(OR(B297=Dimension!$A$6,B297=Dimension!$A$7,B297=Dimension!$A$8,B297=Dimension!$A$9,B297=\"\"),\"\",Payment_ID2)","v":""},"",null,null,{"$f":"IF(D297=Dimension!$C$9,IF(LEFT(UPPER(E297),2)=\"MC\",TRUE,FALSE),TRUE)","v":true}]
[null,null,null,{"$f":"IF(B298=Dimension!$A$8,Dimension!$C$9,IF(B298=Dimension!$A$6,CD,\"\"))","v":""},null,{"$f":"IF(OR(B298=Dimension!$A$3,B298=Dimension!$A$4,B298=Dimension!$A$6,B298=Dimension!$A$8),CCYA,\"\")","v":""},{"$f":"IFERROR(VLOOKUP(F298,Dimension!$G$3:$H$252,2,FALSE),\"\")","v":""},{"$f":"IF(OR(B298=Dimension!$A$3,B298=Dimension!$A$4,B298=Dimension!$A$5),\"เดินทาง/ท่องเที่ยว\",\"\")","v":""},{"$f":"IF(OR(B298=Dimension!$A$6,B298=Dimension!$A$7,B298=Dimension!$A$8,B298=Dimension!$A$9),\"\",IF(OR(B298=Dimension!$A$3,B298=Dimension!$A$4,B298=Dimension!$A$5),\"สถานประกอบการ\",\"\"))","v":""},{"$f":"IF(OR(B298=Dimension!$A$3,B298=Dimension!$A$4,B298=Dimension!$A$5,B298=Dimension!$A$6,,B298=Dimension!$A$7,B298=Dimension!$A$8,B298=Dimension!$A$9),Payment_ID2,\"\")","v":""},null,{"$f":"IFERROR(VLOOKUP(K298,Dimension!$J$3:$K$179,2,FALSE),\"\")","v":""},null,null,{"$f":"IF(OR(B298=Dimension!$A$6,B298=Dimension!$A$7,B298=Dimension!$A$8,B298=Dimension!$A$9),\"\",IF(OR(B298=Dimension!$A$3,B298=Dimension!$A$4,B298=Dimension!$A$5),\"สถานประกอบการ\",\"\"))","v":""},{"$f":"IF(OR(B298=Dimension!$A$6,B298=Dimension!$A$7,B298=Dimension!$A$8,B298=Dimension!$A$9,B298=\"\"),\"\",Payment_ID2)","v":""},"",null,null,{"$f":"IF(D298=Dimension!$C$9,IF(LEFT(UPPER(E298),2)=\"MC\",TRUE,FALSE),TRUE)","v":true}]
[null,null,null,{"$f":"IF(B299=Dimension!$A$8,Dimension!$C$9,IF(B299=Dimension!$A$6,CD,\"\"))","v":""},null,{"$f":"IF(OR(B299=Dimension!$A$3,B299=Dimension!$A$4,B299=Dimension!$A$6,B299=Dimension!$A$8),CCYA,\"\")","v":""},{"$f":"IFERROR(VLOOKUP(F299,Dimension!$G$3:$H$252,2,FALSE),\"\")","v":""},{"$f":"IF(OR(B299=Dimension!$A$3,B299=Dimension!$A$4,B299=Dimension!$A$5),\"เดินทาง/ท่องเที่ยว\",\"\")","v":""},{"$f":"IF(OR(B299=Dimension!$A$6,B299=Dimension!$A$7,B299=Dimension!$A$8,B299=Dimension!$A$9),\"\",IF(OR(B299=Dimension!$A$3,B299=Dimension!$A$4,B299=Dimension!$A$5),\"สถานประกอบการ\",\"\"))","v":""},{"$f":"IF(OR(B299=Dimension!$A$3,B299=Dimension!$A$4,B299=Dimension!$A$5,B299=Dimension!$A$6,,B299=Dimension!$A$7,B299=Dimension!$A$8,B299=Dimension!$A$9),Payment_ID2,\"\")","v":""},null,{"$f":"IFERROR(VLOOKUP(K299,Dimension!$J$3:$K$179,2,FALSE),\"\")","v":""},null,null,{"$f":"IF(OR(B299=Dimension!$A$6,B299=Dimension!$A$7,B299=Dimension!$A$8,B299=Dimension!$A$9),\"\",IF(OR(B299=Dimension!$A$3,B299=Dimension!$A$4,B299=Dimension!$A$5),\"สถานประกอบการ\",\"\"))","v":""},{"$f":"IF(OR(B299=Dimension!$A$6,B299=Dimension!$A$7,B299=Dimension!$A$8,B299=Dimension!$A$9,B299=\"\"),\"\",Payment_ID2)","v":""},"",null,null,{"$f":"IF(D299=Dimension!$C$9,IF(LEFT(UPPER(E299),2)=\"MC\",TRUE,FALSE),TRUE)","v":true}]
[null,null,null,{"$f":"IF(B300=Dimension!$A$8,Dimension!$C$9,IF(B300=Dimension!$A$6,CD,\"\"))","v":""},null,{"$f":"IF(OR(B300=Dimension!$A$3,B300=Dimension!$A$4,B300=Dimension!$A$6,B300=Dimension!$A$8),CCYA,\"\")","v":""},{"$f":"IFERROR(VLOOKUP(F300,Dimension!$G$3:$H$252,2,FALSE),\"\")","v":""},{"$f":"IF(OR(B300=Dimension!$A$3,B300=Dimension!$A$4,B300=Dimension!$A$5),\"เดินทาง/ท่องเที่ยว\",\"\")","v":""},{"$f":"IF(OR(B300=Dimension!$A$6,B300=Dimension!$A$7,B300=Dimension!$A$8,B300=Dimension!$A$9),\"\",IF(OR(B300=Dimension!$A$3,B300=Dimension!$A$4,B300=Dimension!$A$5),\"สถานประกอบการ\",\"\"))","v":""},{"$f":"IF(OR(B300=Dimension!$A$3,B300=Dimension!$A$4,B300=Dimension!$A$5,B300=Dimension!$A$6,,B300=Dimension!$A$7,B300=Dimension!$A$8,B300=Dimension!$A$9),Payment_ID2,\"\")","v":""},null,{"$f":"IFERROR(VLOOKUP(K300,Dimension!$J$3:$K$179,2,FALSE),\"\")","v":""},null,null,{"$f":"IF(OR(B300=Dimension!$A$6,B300=Dimension!$A$7,B300=Dimension!$A$8,B300=Dimension!$A$9),\"\",IF(OR(B300=Dimension!$A$3,B300=Dimension!$A$4,B300=Dimension!$A$5),\"สถานประกอบการ\",\"\"))","v":""},{"$f":"IF(OR(B300=Dimension!$A$6,B300=Dimension!$A$7,B300=Dimension!$A$8,B300=Dimension!$A$9,B300=\"\"),\"\",Payment_ID2)","v":""},"",null,null,{"$f":"IF(D300=Dimension!$C$9,IF(LEFT(UPPER(E300),2)=\"MC\",TRUE,FALSE),TRUE)","v":true}]
[null,null,null,{"$f":"IF(B301=Dimension!$A$8,Dimension!$C$9,IF(B301=Dimension!$A$6,CD,\"\"))","v":""},null,{"$f":"IF(OR(B301=Dimension!$A$3,B301=Dimension!$A$4,B301=Dimension!$A$6,B301=Dimension!$A$8),CCYA,\"\")","v":""},{"$f":"IFERROR(VLOOKUP(F301,Dimension!$G$3:$H$252,2,FALSE),\"\")","v":""},{"$f":"IF(OR(B301=Dimension!$A$3,B301=Dimension!$A$4,B301=Dimension!$A$5),\"เดินทาง/ท่องเที่ยว\",\"\")","v":""},{"$f":"IF(OR(B301=Dimension!$A$6,B301=Dimension!$A$7,B301=Dimension!$A$8,B301=Dimension!$A$9),\"\",IF(OR(B301=Dimension!$A$3,B301=Dimension!$A$4,B301=Dimension!$A$5),\"สถานประกอบการ\",\"\"))","v":""},{"$f":"IF(OR(B301=Dimension!$A$3,B301=Dimension!$A$4,B301=Dimension!$A$5,B301=Dimension!$A$6,,B301=Dimension!$A$7,B301=Dimension!$A$8,B301=Dimension!$A$9),Payment_ID2,\"\")","v":""},null,{"$f":"IFERROR(VLOOKUP(K301,Dimension!$J$3:$K$179,2,FALSE),\"\")","v":""},null,null,{"$f":"IF(OR(B301=Dimension!$A$6,B301=Dimension!$A$7,B301=Dimension!$A$8,B301=Dimension!$A$9),\"\",IF(OR(B301=Dimension!$A$3,B301=Dimension!$A$4,B301=Dimension!$A$5),\"สถานประกอบการ\",\"\"))","v":""},{"$f":"IF(OR(B301=Dimension!$A$6,B301=Dimension!$A$7,B301=Dimension!$A$8,B301=Dimension!$A$9,B301=\"\"),\"\",Payment_ID2)","v":""},"",null,null,{"$f":"IF(D301=Dimension!$C$9,IF(LEFT(UPPER(E301),2)=\"MC\",TRUE,FALSE),TRUE)","v":true}]
[null,null,null,{"$f":"IF(B302=Dimension!$A$8,Dimension!$C$9,IF(B302=Dimension!$A$6,CD,\"\"))","v":""},null,{"$f":"IF(OR(B302=Dimension!$A$3,B302=Dimension!$A$4,B302=Dimension!$A$6,B302=Dimension!$A$8),CCYA,\"\")","v":""},{"$f":"IFERROR(VLOOKUP(F302,Dimension!$G$3:$H$252,2,FALSE),\"\")","v":""},{"$f":"IF(OR(B302=Dimension!$A$3,B302=Dimension!$A$4,B302=Dimension!$A$5),\"เดินทาง/ท่องเที่ยว\",\"\")","v":""},{"$f":"IF(OR(B302=Dimension!$A$6,B302=Dimension!$A$7,B302=Dimension!$A$8,B302=Dimension!$A$9),\"\",IF(OR(B302=Dimension!$A$3,B302=Dimension!$A$4,B302=Dimension!$A$5),\"สถานประกอบการ\",\"\"))","v":""},{"$f":"IF(OR(B302=Dimension!$A$3,B302=Dimension!$A$4,B302=Dimension!$A$5,B302=Dimension!$A$6,,B302=Dimension!$A$7,B302=Dimension!$A$8,B302=Dimension!$A$9),Payment_ID2,\"\")","v":""},null,{"$f":"IFERROR(VLOOKUP(K302,Dimension!$J$3:$K$179,2,FALSE),\"\")","v":""},null,null,{"$f":"IF(OR(B302=Dimension!$A$6,B302=Dimension!$A$7,B302=Dimension!$A$8,B302=Dimension!$A$9),\"\",IF(OR(B302=Dimension!$A$3,B302=Dimension!$A$4,B302=Dimension!$A$5),\"สถานประกอบการ\",\"\"))","v":""},{"$f":"IF(OR(B302=Dimension!$A$6,B302=Dimension!$A$7,B302=Dimension!$A$8,B302=Dimension!$A$9,B302=\"\"),\"\",Payment_ID2)","v":""},"",null,null,{"$f":"IF(D302=Dimension!$C$9,IF(LEFT(UPPER(E302),2)=\"MC\",TRUE,FALSE),TRUE)","v":true}]
[null,null,null,{"$f":"IF(B303=Dimension!$A$8,Dimension!$C$9,IF(B303=Dimension!$A$6,CD,\"\"))","v":""},null,{"$f":"IF(OR(B303=Dimension!$A$3,B303=Dimension!$A$4,B303=Dimension!$A$6,B303=Dimension!$A$8),CCYA,\"\")","v":""},{"$f":"IFERROR(VLOOKUP(F303,Dimension!$G$3:$H$252,2,FALSE),\"\")","v":""},{"$f":"IF(OR(B303=Dimension!$A$3,B303=Dimension!$A$4,B303=Dimension!$A$5),\"เดินทาง/ท่องเที่ยว\",\"\")","v":""},{"$f":"IF(OR(B303=Dimension!$A$6,B303=Dimension!$A$7,B303=Dimension!$A$8,B303=Dimension!$A$9),\"\",IF(OR(B303=Dimension!$A$3,B303=Dimension!$A$4,B303=Dimension!$A$5),\"สถานประกอบการ\",\"\"))","v":""},{"$f":"IF(OR(B303=Dimension!$A$3,B303=Dimension!$A$4,B303=Dimension!$A$5,B303=Dimension!$A$6,,B303=Dimension!$A$7,B303=Dimension!$A$8,B303=Dimension!$A$9),Payment_ID2,\"\")","v":""},null,{"$f":"IFERROR(VLOOKUP(K303,Dimension!$J$3:$K$179,2,FALSE),\"\")","v":""},null,null,{"$f":"IF(OR(B303=Dimension!$A$6,B303=Dimension!$A$7,B303=Dimension!$A$8,B303=Dimension!$A$9),\"\",IF(OR(B303=Dimension!$A$3,B303=Dimension!$A$4,B303=Dimension!$A$5),\"สถานประกอบการ\",\"\"))","v":""},{"$f":"IF(OR(B303=Dimension!$A$6,B303=Dimension!$A$7,B303=Dimension!$A$8,B303=Dimension!$A$9,B303=\"\"),\"\",Payment_ID2)","v":""},"",null,null,{"$f":"IF(D303=Dimension!$C$9,IF(LEFT(UPPER(E303),2)=\"MC\",TRUE,FALSE),TRUE)","v":true}]
[null,null,null,{"$f":"IF(B304=Dimension!$A$8,Dimension!$C$9,IF(B304=Dimension!$A$6,CD,\"\"))","v":""},null,{"$f":"IF(OR(B304=Dimension!$A$3,B304=Dimension!$A$4,B304=Dimension!$A$6,B304=Dimension!$A$8),CCYA,\"\")","v":""},{"$f":"IFERROR(VLOOKUP(F304,Dimension!$G$3:$H$252,2,FALSE),\"\")","v":""},{"$f":"IF(OR(B304=Dimension!$A$3,B304=Dimension!$A$4,B304=Dimension!$A$5),\"เดินทาง/ท่องเที่ยว\",\"\")","v":""},{"$f":"IF(OR(B304=Dimension!$A$6,B304=Dimension!$A$7,B304=Dimension!$A$8,B304=Dimension!$A$9),\"\",IF(OR(B304=Dimension!$A$3,B304=Dimension!$A$4,B304=Dimension!$A$5),\"สถานประกอบการ\",\"\"))","v":""},{"$f":"IF(OR(B304=Dimension!$A$3,B304=Dimension!$A$4,B304=Dimension!$A$5,B304=Dimension!$A$6,,B304=Dimension!$A$7,B304=Dimension!$A$8,B304=Dimension!$A$9),Payment_ID2,\"\")","v":""},null,{"$f":"IFERROR(VLOOKUP(K304,Dimension!$J$3:$K$179,2,FALSE),\"\")","v":""},null,null,{"$f":"IF(OR(B304=Dimension!$A$6,B304=Dimension!$A$7,B304=Dimension!$A$8,B304=Dimension!$A$9),\"\",IF(OR(B304=Dimension!$A$3,B304=Dimension!$A$4,B304=Dimension!$A$5),\"สถานประกอบการ\",\"\"))","v":""},{"$f":"IF(OR(B304=Dimension!$A$6,B304=Dimension!$A$7,B304=Dimension!$A$8,B304=Dimension!$A$9,B304=\"\"),\"\",Payment_ID2)","v":""},"",null,null,{"$f":"IF(D304=Dimension!$C$9,IF(LEFT(UPPER(E304),2)=\"MC\",TRUE,FALSE),TRUE)","v":true}]
[null,null,null,{"$f":"IF(B305=Dimension!$A$8,Dimension!$C$9,IF(B305=Dimension!$A$6,CD,\"\"))","v":""},null,{"$f":"IF(OR(B305=Dimension!$A$3,B305=Dimension!$A$4,B305=Dimension!$A$6,B305=Dimension!$A$8),CCYA,\"\")","v":""},{"$f":"IFERROR(VLOOKUP(F305,Dimension!$G$3:$H$252,2,FALSE),\"\")","v":""},{"$f":"IF(OR(B305=Dimension!$A$3,B305=Dimension!$A$4,B305=Dimension!$A$5),\"เดินทาง/ท่องเที่ยว\",\"\")","v":""},{"$f":"IF(OR(B305=Dimension!$A$6,B305=Dimension!$A$7,B305=Dimension!$A$8,B305=Dimension!$A$9),\"\",IF(OR(B305=Dimension!$A$3,B305=Dimension!$A$4,B305=Dimension!$A$5),\"สถานประกอบการ\",\"\"))","v":""},{"$f":"IF(OR(B305=Dimension!$A$3,B305=Dimension!$A$4,B305=Dimension!$A$5,B305=Dimension!$A$6,,B305=Dimension!$A$7,B305=Dimension!$A$8,B305=Dimension!$A$9),Payment_ID2,\"\")","v":""},null,{"$f":"IFERROR(VLOOKUP(K305,Dimension!$J$3:$K$179,2,FALSE),\"\")","v":""},null,null,{"$f":"IF(OR(B305=Dimension!$A$6,B305=Dimension!$A$7,B305=Dimension!$A$8,B305=Dimension!$A$9),\"\",IF(OR(B305=Dimension!$A$3,B305=Dimension!$A$4,B305=Dimension!$A$5),\"สถานประกอบการ\",\"\"))","v":""},{"$f":"IF(OR(B305=Dimension!$A$6,B305=Dimension!$A$7,B305=Dimension!$A$8,B305=Dimension!$A$9,B305=\"\"),\"\",Payment_ID2)","v":""},"",null,null,{"$f":"IF(D305=Dimension!$C$9,IF(LEFT(UPPER(E305),2)=\"MC\",TRUE,FALSE),TRUE)","v":true}]
[null,null,null,{"$f":"IF(B306=Dimension!$A$8,Dimension!$C$9,IF(B306=Dimension!$A$6,CD,\"\"))","v":""},null,{"$f":"IF(OR(B306=Dimension!$A$3,B306=Dimension!$A$4,B306=Dimension!$A$6,B306=Dimension!$A$8),CCYA,\"\")","v":""},{"$f":"IFERROR(VLOOKUP(F306,Dimension!$G$3:$H$252,2,FALSE),\"\")","v":""},{"$f":"IF(OR(B306=Dimension!$A$3,B306=Dimension!$A$4,B306=Dimension!$A$5),\"เดินทาง/ท่องเที่ยว\",\"\")","v":""},{"$f":"IF(OR(B306=Dimension!$A$6,B306=Dimension!$A$7,B306=Dimension!$A$8,B306=Dimension!$A$9),\"\",IF(OR(B306=Dimension!$A$3,B306=Dimension!$A$4,B306=Dimension!$A$5),\"สถานประกอบการ\",\"\"))","v":""},{"$f":"IF(OR(B306=Dimension!$A$3,B306=Dimension!$A$4,B306=Dimension!$A$5,B306=Dimension!$A$6,,B306=Dimension!$A$7,B306=Dimension!$A$8,B306=Dimension!$A$9),Payment_ID2,\"\")","v":""},null,{"$f":"IFERROR(VLOOKUP(K306,Dimension!$J$3:$K$179,2,FALSE),\"\")","v":""},null,null,{"$f":"IF(OR(B306=Dimension!$A$6,B306=Dimension!$A$7,B306=Dimension!$A$8,B306=Dimension!$A$9),\"\",IF(OR(B306=Dimension!$A$3,B306=Dimension!$A$4,B306=Dimension!$A$5),\"สถานประกอบการ\",\"\"))","v":""},{"$f":"IF(OR(B306=Dimension!$A$6,B306=Dimension!$A$7,B306=Dimension!$A$8,B306=Dimension!$A$9,B306=\"\"),\"\",Payment_ID2)","v":""},"",null,null,{"$f":"IF(D306=Dimension!$C$9,IF(LEFT(UPPER(E306),2)=\"MC\",TRUE,FALSE),TRUE)","v":true}]
[null,null,null,{"$f":"IF(B307=Dimension!$A$8,Dimension!$C$9,IF(B307=Dimension!$A$6,CD,\"\"))","v":""},null,{"$f":"IF(OR(B307=Dimension!$A$3,B307=Dimension!$A$4,B307=Dimension!$A$6,B307=Dimension!$A$8),CCYA,\"\")","v":""},{"$f":"IFERROR(VLOOKUP(F307,Dimension!$G$3:$H$252,2,FALSE),\"\")","v":""},{"$f":"IF(OR(B307=Dimension!$A$3,B307=Dimension!$A$4,B307=Dimension!$A$5),\"เดินทาง/ท่องเที่ยว\",\"\")","v":""},{"$f":"IF(OR(B307=Dimension!$A$6,B307=Dimension!$A$7,B307=Dimension!$A$8,B307=Dimension!$A$9),\"\",IF(OR(B307=Dimension!$A$3,B307=Dimension!$A$4,B307=Dimension!$A$5),\"สถานประกอบการ\",\"\"))","v":""},{"$f":"IF(OR(B307=Dimension!$A$3,B307=Dimension!$A$4,B307=Dimension!$A$5,B307=Dimension!$A$6,,B307=Dimension!$A$7,B307=Dimension!$A$8,B307=Dimension!$A$9),Payment_ID2,\"\")","v":""},null,{"$f":"IFERROR(VLOOKUP(K307,Dimension!$J$3:$K$179,2,FALSE),\"\")","v":""},null,null,{"$f":"IF(OR(B307=Dimension!$A$6,B307=Dimension!$A$7,B307=Dimension!$A$8,B307=Dimension!$A$9),\"\",IF(OR(B307=Dimension!$A$3,B307=Dimension!$A$4,B307=Dimension!$A$5),\"สถานประกอบการ\",\"\"))","v":""},{"$f":"IF(OR(B307=Dimension!$A$6,B307=Dimension!$A$7,B307=Dimension!$A$8,B307=Dimension!$A$9,B307=\"\"),\"\",Payment_ID2)","v":""},"",null,null,{"$f":"IF(D307=Dimension!$C$9,IF(LEFT(UPPER(E307),2)=\"MC\",TRUE,FALSE),TRUE)","v":true}]
[null,null,null,{"$f":"IF(B308=Dimension!$A$8,Dimension!$C$9,IF(B308=Dimension!$A$6,CD,\"\"))","v":""},null,{"$f":"IF(OR(B308=Dimension!$A$3,B308=Dimension!$A$4,B308=Dimension!$A$6,B308=Dimension!$A$8),CCYA,\"\")","v":""},{"$f":"IFERROR(VLOOKUP(F308,Dimension!$G$3:$H$252,2,FALSE),\"\")","v":""},{"$f":"IF(OR(B308=Dimension!$A$3,B308=Dimension!$A$4,B308=Dimension!$A$5),\"เดินทาง/ท่องเที่ยว\",\"\")","v":""},{"$f":"IF(OR(B308=Dimension!$A$6,B308=Dimension!$A$7,B308=Dimension!$A$8,B308=Dimension!$A$9),\"\",IF(OR(B308=Dimension!$A$3,B308=Dimension!$A$4,B308=Dimension!$A$5),\"สถานประกอบการ\",\"\"))","v":""},{"$f":"IF(OR(B308=Dimension!$A$3,B308=Dimension!$A$4,B308=Dimension!$A$5,B308=Dimension!$A$6,,B308=Dimension!$A$7,B308=Dimension!$A$8,B308=Dimension!$A$9),Payment_ID2,\"\")","v":""},null,{"$f":"IFERROR(VLOOKUP(K308,Dimension!$J$3:$K$179,2,FALSE),\"\")","v":""},null,null,{"$f":"IF(OR(B308=Dimension!$A$6,B308=Dimension!$A$7,B308=Dimension!$A$8,B308=Dimension!$A$9),\"\",IF(OR(B308=Dimension!$A$3,B308=Dimension!$A$4,B308=Dimension!$A$5),\"สถานประกอบการ\",\"\"))","v":""},{"$f":"IF(OR(B308=Dimension!$A$6,B308=Dimension!$A$7,B308=Dimension!$A$8,B308=Dimension!$A$9,B308=\"\"),\"\",Payment_ID2)","v":""},"",null,null,{"$f":"IF(D308=Dimension!$C$9,IF(LEFT(UPPER(E308),2)=\"MC\",TRUE,FALSE),TRUE)","v":true}]
[null,null,null,{"$f":"IF(B309=Dimension!$A$8,Dimension!$C$9,IF(B309=Dimension!$A$6,CD,\"\"))","v":""},null,{"$f":"IF(OR(B309=Dimension!$A$3,B309=Dimension!$A$4,B309=Dimension!$A$6,B309=Dimension!$A$8),CCYA,\"\")","v":""},{"$f":"IFERROR(VLOOKUP(F309,Dimension!$G$3:$H$252,2,FALSE),\"\")","v":""},{"$f":"IF(OR(B309=Dimension!$A$3,B309=Dimension!$A$4,B309=Dimension!$A$5),\"เดินทาง/ท่องเที่ยว\",\"\")","v":""},{"$f":"IF(OR(B309=Dimension!$A$6,B309=Dimension!$A$7,B309=Dimension!$A$8,B309=Dimension!$A$9),\"\",IF(OR(B309=Dimension!$A$3,B309=Dimension!$A$4,B309=Dimension!$A$5),\"สถานประกอบการ\",\"\"))","v":""},{"$f":"IF(OR(B309=Dimension!$A$3,B309=Dimension!$A$4,B309=Dimension!$A$5,B309=Dimension!$A$6,,B309=Dimension!$A$7,B309=Dimension!$A$8,B309=Dimension!$A$9),Payment_ID2,\"\")","v":""},null,{"$f":"IFERROR(VLOOKUP(K309,Dimension!$J$3:$K$179,2,FALSE),\"\")","v":""},null,null,{"$f":"IF(OR(B309=Dimension!$A$6,B309=Dimension!$A$7,B309=Dimension!$A$8,B309=Dimension!$A$9),\"\",IF(OR(B309=Dimension!$A$3,B309=Dimension!$A$4,B309=Dimension!$A$5),\"สถานประกอบการ\",\"\"))","v":""},{"$f":"IF(OR(B309=Dimension!$A$6,B309=Dimension!$A$7,B309=Dimension!$A$8,B309=Dimension!$A$9,B309=\"\"),\"\",Payment_ID2)","v":""},"",null,null,{"$f":"IF(D309=Dimension!$C$9,IF(LEFT(UPPER(E309),2)=\"MC\",TRUE,FALSE),TRUE)","v":true}]
[null,null,null,{"$f":"IF(B310=Dimension!$A$8,Dimension!$C$9,IF(B310=Dimension!$A$6,CD,\"\"))","v":""},null,{"$f":"IF(OR(B310=Dimension!$A$3,B310=Dimension!$A$4,B310=Dimension!$A$6,B310=Dimension!$A$8),CCYA,\"\")","v":""},{"$f":"IFERROR(VLOOKUP(F310,Dimension!$G$3:$H$252,2,FALSE),\"\")","v":""},{"$f":"IF(OR(B310=Dimension!$A$3,B310=Dimension!$A$4,B310=Dimension!$A$5),\"เดินทาง/ท่องเที่ยว\",\"\")","v":""},{"$f":"IF(OR(B310=Dimension!$A$6,B310=Dimension!$A$7,B310=Dimension!$A$8,B310=Dimension!$A$9),\"\",IF(OR(B310=Dimension!$A$3,B310=Dimension!$A$4,B310=Dimension!$A$5),\"สถานประกอบการ\",\"\"))","v":""},{"$f":"IF(OR(B310=Dimension!$A$3,B310=Dimension!$A$4,B310=Dimension!$A$5,B310=Dimension!$A$6,,B310=Dimension!$A$7,B310=Dimension!$A$8,B310=Dimension!$A$9),Payment_ID2,\"\")","v":""},null,{"$f":"IFERROR(VLOOKUP(K310,Dimension!$J$3:$K$179,2,FALSE),\"\")","v":""},null,null,{"$f":"IF(OR(B310=Dimension!$A$6,B310=Dimension!$A$7,B310=Dimension!$A$8,B310=Dimension!$A$9),\"\",IF(OR(B310=Dimension!$A$3,B310=Dimension!$A$4,B310=Dimension!$A$5),\"สถานประกอบการ\",\"\"))","v":""},{"$f":"IF(OR(B310=Dimension!$A$6,B310=Dimension!$A$7,B310=Dimension!$A$8,B310=Dimension!$A$9,B310=\"\"),\"\",Payment_ID2)","v":""},"",null,null,{"$f":"IF(D310=Dimension!$C$9,IF(LEFT(UPPER(E310),2)=\"MC\",TRUE,FALSE),TRUE)","v":true}]
[null,null,null,{"$f":"IF(B311=Dimension!$A$8,Dimension!$C$9,IF(B311=Dimension!$A$6,CD,\"\"))","v":""},null,{"$f":"IF(OR(B311=Dimension!$A$3,B311=Dimension!$A$4,B311=Dimension!$A$6,B311=Dimension!$A$8),CCYA,\"\")","v":""},{"$f":"IFERROR(VLOOKUP(F311,Dimension!$G$3:$H$252,2,FALSE),\"\")","v":""},{"$f":"IF(OR(B311=Dimension!$A$3,B311=Dimension!$A$4,B311=Dimension!$A$5),\"เดินทาง/ท่องเที่ยว\",\"\")","v":""},{"$f":"IF(OR(B311=Dimension!$A$6,B311=Dimension!$A$7,B311=Dimension!$A$8,B311=Dimension!$A$9),\"\",IF(OR(B311=Dimension!$A$3,B311=Dimension!$A$4,B311=Dimension!$A$5),\"สถานประกอบการ\",\"\"))","v":""},{"$f":"IF(OR(B311=Dimension!$A$3,B311=Dimension!$A$4,B311=Dimension!$A$5,B311=Dimension!$A$6,,B311=Dimension!$A$7,B311=Dimension!$A$8,B311=Dimension!$A$9),Payment_ID2,\"\")","v":""},null,{"$f":"IFERROR(VLOOKUP(K311,Dimension!$J$3:$K$179,2,FALSE),\"\")","v":""},null,null,{"$f":"IF(OR(B311=Dimension!$A$6,B311=Dimension!$A$7,B311=Dimension!$A$8,B311=Dimension!$A$9),\"\",IF(OR(B311=Dimension!$A$3,B311=Dimension!$A$4,B311=Dimension!$A$5),\"สถานประกอบการ\",\"\"))","v":""},{"$f":"IF(OR(B311=Dimension!$A$6,B311=Dimension!$A$7,B311=Dimension!$A$8,B311=Dimension!$A$9,B311=\"\"),\"\",Payment_ID2)","v":""},"",null,null,{"$f":"IF(D311=Dimension!$C$9,IF(LEFT(UPPER(E311),2)=\"MC\",TRUE,FALSE),TRUE)","v":true}]
[null,null,null,{"$f":"IF(B312=Dimension!$A$8,Dimension!$C$9,IF(B312=Dimension!$A$6,CD,\"\"))","v":""},null,{"$f":"IF(OR(B312=Dimension!$A$3,B312=Dimension!$A$4,B312=Dimension!$A$6,B312=Dimension!$A$8),CCYA,\"\")","v":""},{"$f":"IFERROR(VLOOKUP(F312,Dimension!$G$3:$H$252,2,FALSE),\"\")","v":""},{"$f":"IF(OR(B312=Dimension!$A$3,B312=Dimension!$A$4,B312=Dimension!$A$5),\"เดินทาง/ท่องเที่ยว\",\"\")","v":""},{"$f":"IF(OR(B312=Dimension!$A$6,B312=Dimension!$A$7,B312=Dimension!$A$8,B312=Dimension!$A$9),\"\",IF(OR(B312=Dimension!$A$3,B312=Dimension!$A$4,B312=Dimension!$A$5),\"สถานประกอบการ\",\"\"))","v":""},{"$f":"IF(OR(B312=Dimension!$A$3,B312=Dimension!$A$4,B312=Dimension!$A$5,B312=Dimension!$A$6,,B312=Dimension!$A$7,B312=Dimension!$A$8,B312=Dimension!$A$9),Payment_ID2,\"\")","v":""},null,{"$f":"IFERROR(VLOOKUP(K312,Dimension!$J$3:$K$179,2,FALSE),\"\")","v":""},null,null,{"$f":"IF(OR(B312=Dimension!$A$6,B312=Dimension!$A$7,B312=Dimension!$A$8,B312=Dimension!$A$9),\"\",IF(OR(B312=Dimension!$A$3,B312=Dimension!$A$4,B312=Dimension!$A$5),\"สถานประกอบการ\",\"\"))","v":""},{"$f":"IF(OR(B312=Dimension!$A$6,B312=Dimension!$A$7,B312=Dimension!$A$8,B312=Dimension!$A$9,B312=\"\"),\"\",Payment_ID2)","v":""},"",null,null,{"$f":"IF(D312=Dimension!$C$9,IF(LEFT(UPPER(E312),2)=\"MC\",TRUE,FALSE),TRUE)","v":true}]
[null,null,null,{"$f":"IF(B313=Dimension!$A$8,Dimension!$C$9,IF(B313=Dimension!$A$6,CD,\"\"))","v":""},null,{"$f":"IF(OR(B313=Dimension!$A$3,B313=Dimension!$A$4,B313=Dimension!$A$6,B313=Dimension!$A$8),CCYA,\"\")","v":""},{"$f":"IFERROR(VLOOKUP(F313,Dimension!$G$3:$H$252,2,FALSE),\"\")","v":""},{"$f":"IF(OR(B313=Dimension!$A$3,B313=Dimension!$A$4,B313=Dimension!$A$5),\"เดินทาง/ท่องเที่ยว\",\"\")","v":""},{"$f":"IF(OR(B313=Dimension!$A$6,B313=Dimension!$A$7,B313=Dimension!$A$8,B313=Dimension!$A$9),\"\",IF(OR(B313=Dimension!$A$3,B313=Dimension!$A$4,B313=Dimension!$A$5),\"สถานประกอบการ\",\"\"))","v":""},{"$f":"IF(OR(B313=Dimension!$A$3,B313=Dimension!$A$4,B313=Dimension!$A$5,B313=Dimension!$A$6,,B313=Dimension!$A$7,B313=Dimension!$A$8,B313=Dimension!$A$9),Payment_ID2,\"\")","v":""},null,{"$f":"IFERROR(VLOOKUP(K313,Dimension!$J$3:$K$179,2,FALSE),\"\")","v":""},null,null,{"$f":"IF(OR(B313=Dimension!$A$6,B313=Dimension!$A$7,B313=Dimension!$A$8,B313=Dimension!$A$9),\"\",IF(OR(B313=Dimension!$A$3,B313=Dimension!$A$4,B313=Dimension!$A$5),\"สถานประกอบการ\",\"\"))","v":""},{"$f":"IF(OR(B313=Dimension!$A$6,B313=Dimension!$A$7,B313=Dimension!$A$8,B313=Dimension!$A$9,B313=\"\"),\"\",Payment_ID2)","v":""},"",null,null,{"$f":"IF(D313=Dimension!$C$9,IF(LEFT(UPPER(E313),2)=\"MC\",TRUE,FALSE),TRUE)","v":true}]
[null,null,null,{"$f":"IF(B314=Dimension!$A$8,Dimension!$C$9,IF(B314=Dimension!$A$6,CD,\"\"))","v":""},null,{"$f":"IF(OR(B314=Dimension!$A$3,B314=Dimension!$A$4,B314=Dimension!$A$6,B314=Dimension!$A$8),CCYA,\"\")","v":""},{"$f":"IFERROR(VLOOKUP(F314,Dimension!$G$3:$H$252,2,FALSE),\"\")","v":""},{"$f":"IF(OR(B314=Dimension!$A$3,B314=Dimension!$A$4,B314=Dimension!$A$5),\"เดินทาง/ท่องเที่ยว\",\"\")","v":""},{"$f":"IF(OR(B314=Dimension!$A$6,B314=Dimension!$A$7,B314=Dimension!$A$8,B314=Dimension!$A$9),\"\",IF(OR(B314=Dimension!$A$3,B314=Dimension!$A$4,B314=Dimension!$A$5),\"สถานประกอบการ\",\"\"))","v":""},{"$f":"IF(OR(B314=Dimension!$A$3,B314=Dimension!$A$4,B314=Dimension!$A$5,B314=Dimension!$A$6,,B314=Dimension!$A$7,B314=Dimension!$A$8,B314=Dimension!$A$9),Payment_ID2,\"\")","v":""},null,{"$f":"IFERROR(VLOOKUP(K314,Dimension!$J$3:$K$179,2,FALSE),\"\")","v":""},null,null,{"$f":"IF(OR(B314=Dimension!$A$6,B314=Dimension!$A$7,B314=Dimension!$A$8,B314=Dimension!$A$9),\"\",IF(OR(B314=Dimension!$A$3,B314=Dimension!$A$4,B314=Dimension!$A$5),\"สถานประกอบการ\",\"\"))","v":""},{"$f":"IF(OR(B314=Dimension!$A$6,B314=Dimension!$A$7,B314=Dimension!$A$8,B314=Dimension!$A$9,B314=\"\"),\"\",Payment_ID2)","v":""},"",null,null,{"$f":"IF(D314=Dimension!$C$9,IF(LEFT(UPPER(E314),2)=\"MC\",TRUE,FALSE),TRUE)","v":true}]
[null,null,null,{"$f":"IF(B315=Dimension!$A$8,Dimension!$C$9,IF(B315=Dimension!$A$6,CD,\"\"))","v":""},null,{"$f":"IF(OR(B315=Dimension!$A$3,B315=Dimension!$A$4,B315=Dimension!$A$6,B315=Dimension!$A$8),CCYA,\"\")","v":""},{"$f":"IFERROR(VLOOKUP(F315,Dimension!$G$3:$H$252,2,FALSE),\"\")","v":""},{"$f":"IF(OR(B315=Dimension!$A$3,B315=Dimension!$A$4,B315=Dimension!$A$5),\"เดินทาง/ท่องเที่ยว\",\"\")","v":""},{"$f":"IF(OR(B315=Dimension!$A$6,B315=Dimension!$A$7,B315=Dimension!$A$8,B315=Dimension!$A$9),\"\",IF(OR(B315=Dimension!$A$3,B315=Dimension!$A$4,B315=Dimension!$A$5),\"สถานประกอบการ\",\"\"))","v":""},{"$f":"IF(OR(B315=Dimension!$A$3,B315=Dimension!$A$4,B315=Dimension!$A$5,B315=Dimension!$A$6,,B315=Dimension!$A$7,B315=Dimension!$A$8,B315=Dimension!$A$9),Payment_ID2,\"\")","v":""},null,{"$f":"IFERROR(VLOOKUP(K315,Dimension!$J$3:$K$179,2,FALSE),\"\")","v":""},null,null,{"$f":"IF(OR(B315=Dimension!$A$6,B315=Dimension!$A$7,B315=Dimension!$A$8,B315=Dimension!$A$9),\"\",IF(OR(B315=Dimension!$A$3,B315=Dimension!$A$4,B315=Dimension!$A$5),\"สถานประกอบการ\",\"\"))","v":""},{"$f":"IF(OR(B315=Dimension!$A$6,B315=Dimension!$A$7,B315=Dimension!$A$8,B315=Dimension!$A$9,B315=\"\"),\"\",Payment_ID2)","v":""},"",null,null,{"$f":"IF(D315=Dimension!$C$9,IF(LEFT(UPPER(E315),2)=\"MC\",TRUE,FALSE),TRUE)","v":true}]
[null,null,null,{"$f":"IF(B316=Dimension!$A$8,Dimension!$C$9,IF(B316=Dimension!$A$6,CD,\"\"))","v":""},null,{"$f":"IF(OR(B316=Dimension!$A$3,B316=Dimension!$A$4,B316=Dimension!$A$6,B316=Dimension!$A$8),CCYA,\"\")","v":""},{"$f":"IFERROR(VLOOKUP(F316,Dimension!$G$3:$H$252,2,FALSE),\"\")","v":""},{"$f":"IF(OR(B316=Dimension!$A$3,B316=Dimension!$A$4,B316=Dimension!$A$5),\"เดินทาง/ท่องเที่ยว\",\"\")","v":""},{"$f":"IF(OR(B316=Dimension!$A$6,B316=Dimension!$A$7,B316=Dimension!$A$8,B316=Dimension!$A$9),\"\",IF(OR(B316=Dimension!$A$3,B316=Dimension!$A$4,B316=Dimension!$A$5),\"สถานประกอบการ\",\"\"))","v":""},{"$f":"IF(OR(B316=Dimension!$A$3,B316=Dimension!$A$4,B316=Dimension!$A$5,B316=Dimension!$A$6,,B316=Dimension!$A$7,B316=Dimension!$A$8,B316=Dimension!$A$9),Payment_ID2,\"\")","v":""},null,{"$f":"IFERROR(VLOOKUP(K316,Dimension!$J$3:$K$179,2,FALSE),\"\")","v":""},null,null,{"$f":"IF(OR(B316=Dimension!$A$6,B316=Dimension!$A$7,B316=Dimension!$A$8,B316=Dimension!$A$9),\"\",IF(OR(B316=Dimension!$A$3,B316=Dimension!$A$4,B316=Dimension!$A$5),\"สถานประกอบการ\",\"\"))","v":""},{"$f":"IF(OR(B316=Dimension!$A$6,B316=Dimension!$A$7,B316=Dimension!$A$8,B316=Dimension!$A$9,B316=\"\"),\"\",Payment_ID2)","v":""},"",null,null,{"$f":"IF(D316=Dimension!$C$9,IF(LEFT(UPPER(E316),2)=\"MC\",TRUE,FALSE),TRUE)","v":true}]
[null,null,null,{"$f":"IF(B317=Dimension!$A$8,Dimension!$C$9,IF(B317=Dimension!$A$6,CD,\"\"))","v":""},null,{"$f":"IF(OR(B317=Dimension!$A$3,B317=Dimension!$A$4,B317=Dimension!$A$6,B317=Dimension!$A$8),CCYA,\"\")","v":""},{"$f":"IFERROR(VLOOKUP(F317,Dimension!$G$3:$H$252,2,FALSE),\"\")","v":""},{"$f":"IF(OR(B317=Dimension!$A$3,B317=Dimension!$A$4,B317=Dimension!$A$5),\"เดินทาง/ท่องเที่ยว\",\"\")","v":""},{"$f":"IF(OR(B317=Dimension!$A$6,B317=Dimension!$A$7,B317=Dimension!$A$8,B317=Dimension!$A$9),\"\",IF(OR(B317=Dimension!$A$3,B317=Dimension!$A$4,B317=Dimension!$A$5),\"สถานประกอบการ\",\"\"))","v":""},{"$f":"IF(OR(B317=Dimension!$A$3,B317=Dimension!$A$4,B317=Dimension!$A$5,B317=Dimension!$A$6,,B317=Dimension!$A$7,B317=Dimension!$A$8,B317=Dimension!$A$9),Payment_ID2,\"\")","v":""},null,{"$f":"IFERROR(VLOOKUP(K317,Dimension!$J$3:$K$179,2,FALSE),\"\")","v":""},null,null,{"$f":"IF(OR(B317=Dimension!$A$6,B317=Dimension!$A$7,B317=Dimension!$A$8,B317=Dimension!$A$9),\"\",IF(OR(B317=Dimension!$A$3,B317=Dimension!$A$4,B317=Dimension!$A$5),\"สถานประกอบการ\",\"\"))","v":""},{"$f":"IF(OR(B317=Dimension!$A$6,B317=Dimension!$A$7,B317=Dimension!$A$8,B317=Dimension!$A$9,B317=\"\"),\"\",Payment_ID2)","v":""},"",null,null,{"$f":"IF(D317=Dimension!$C$9,IF(LEFT(UPPER(E317),2)=\"MC\",TRUE,FALSE),TRUE)","v":true}]
[null,null,null,{"$f":"IF(B318=Dimension!$A$8,Dimension!$C$9,IF(B318=Dimension!$A$6,CD,\"\"))","v":""},null,{"$f":"IF(OR(B318=Dimension!$A$3,B318=Dimension!$A$4,B318=Dimension!$A$6,B318=Dimension!$A$8),CCYA,\"\")","v":""},{"$f":"IFERROR(VLOOKUP(F318,Dimension!$G$3:$H$252,2,FALSE),\"\")","v":""},{"$f":"IF(OR(B318=Dimension!$A$3,B318=Dimension!$A$4,B318=Dimension!$A$5),\"เดินทาง/ท่องเที่ยว\",\"\")","v":""},{"$f":"IF(OR(B318=Dimension!$A$6,B318=Dimension!$A$7,B318=Dimension!$A$8,B318=Dimension!$A$9),\"\",IF(OR(B318=Dimension!$A$3,B318=Dimension!$A$4,B318=Dimension!$A$5),\"สถานประกอบการ\",\"\"))","v":""},{"$f":"IF(OR(B318=Dimension!$A$3,B318=Dimension!$A$4,B318=Dimension!$A$5,B318=Dimension!$A$6,,B318=Dimension!$A$7,B318=Dimension!$A$8,B318=Dimension!$A$9),Payment_ID2,\"\")","v":""},null,{"$f":"IFERROR(VLOOKUP(K318,Dimension!$J$3:$K$179,2,FALSE),\"\")","v":""},null,null,{"$f":"IF(OR(B318=Dimension!$A$6,B318=Dimension!$A$7,B318=Dimension!$A$8,B318=Dimension!$A$9),\"\",IF(OR(B318=Dimension!$A$3,B318=Dimension!$A$4,B318=Dimension!$A$5),\"สถานประกอบการ\",\"\"))","v":""},{"$f":"IF(OR(B318=Dimension!$A$6,B318=Dimension!$A$7,B318=Dimension!$A$8,B318=Dimension!$A$9,B318=\"\"),\"\",Payment_ID2)","v":""},"",null,null,{"$f":"IF(D318=Dimension!$C$9,IF(LEFT(UPPER(E318),2)=\"MC\",TRUE,FALSE),TRUE)","v":true}]
[null,null,null,{"$f":"IF(B319=Dimension!$A$8,Dimension!$C$9,IF(B319=Dimension!$A$6,CD,\"\"))","v":""},null,{"$f":"IF(OR(B319=Dimension!$A$3,B319=Dimension!$A$4,B319=Dimension!$A$6,B319=Dimension!$A$8),CCYA,\"\")","v":""},{"$f":"IFERROR(VLOOKUP(F319,Dimension!$G$3:$H$252,2,FALSE),\"\")","v":""},{"$f":"IF(OR(B319=Dimension!$A$3,B319=Dimension!$A$4,B319=Dimension!$A$5),\"เดินทาง/ท่องเที่ยว\",\"\")","v":""},{"$f":"IF(OR(B319=Dimension!$A$6,B319=Dimension!$A$7,B319=Dimension!$A$8,B319=Dimension!$A$9),\"\",IF(OR(B319=Dimension!$A$3,B319=Dimension!$A$4,B319=Dimension!$A$5),\"สถานประกอบการ\",\"\"))","v":""},{"$f":"IF(OR(B319=Dimension!$A$3,B319=Dimension!$A$4,B319=Dimension!$A$5,B319=Dimension!$A$6,,B319=Dimension!$A$7,B319=Dimension!$A$8,B319=Dimension!$A$9),Payment_ID2,\"\")","v":""},null,{"$f":"IFERROR(VLOOKUP(K319,Dimension!$J$3:$K$179,2,FALSE),\"\")","v":""},null,null,{"$f":"IF(OR(B319=Dimension!$A$6,B319=Dimension!$A$7,B319=Dimension!$A$8,B319=Dimension!$A$9),\"\",IF(OR(B319=Dimension!$A$3,B319=Dimension!$A$4,B319=Dimension!$A$5),\"สถานประกอบการ\",\"\"))","v":""},{"$f":"IF(OR(B319=Dimension!$A$6,B319=Dimension!$A$7,B319=Dimension!$A$8,B319=Dimension!$A$9,B319=\"\"),\"\",Payment_ID2)","v":""},"",null,null,{"$f":"IF(D319=Dimension!$C$9,IF(LEFT(UPPER(E319),2)=\"MC\",TRUE,FALSE),TRUE)","v":true}]
[null,null,null,{"$f":"IF(B320=Dimension!$A$8,Dimension!$C$9,IF(B320=Dimension!$A$6,CD,\"\"))","v":""},null,{"$f":"IF(OR(B320=Dimension!$A$3,B320=Dimension!$A$4,B320=Dimension!$A$6,B320=Dimension!$A$8),CCYA,\"\")","v":""},{"$f":"IFERROR(VLOOKUP(F320,Dimension!$G$3:$H$252,2,FALSE),\"\")","v":""},{"$f":"IF(OR(B320=Dimension!$A$3,B320=Dimension!$A$4,B320=Dimension!$A$5),\"เดินทาง/ท่องเที่ยว\",\"\")","v":""},{"$f":"IF(OR(B320=Dimension!$A$6,B320=Dimension!$A$7,B320=Dimension!$A$8,B320=Dimension!$A$9),\"\",IF(OR(B320=Dimension!$A$3,B320=Dimension!$A$4,B320=Dimension!$A$5),\"สถานประกอบการ\",\"\"))","v":""},{"$f":"IF(OR(B320=Dimension!$A$3,B320=Dimension!$A$4,B320=Dimension!$A$5,B320=Dimension!$A$6,,B320=Dimension!$A$7,B320=Dimension!$A$8,B320=Dimension!$A$9),Payment_ID2,\"\")","v":""},null,{"$f":"IFERROR(VLOOKUP(K320,Dimension!$J$3:$K$179,2,FALSE),\"\")","v":""},null,null,{"$f":"IF(OR(B320=Dimension!$A$6,B320=Dimension!$A$7,B320=Dimension!$A$8,B320=Dimension!$A$9),\"\",IF(OR(B320=Dimension!$A$3,B320=Dimension!$A$4,B320=Dimension!$A$5),\"สถานประกอบการ\",\"\"))","v":""},{"$f":"IF(OR(B320=Dimension!$A$6,B320=Dimension!$A$7,B320=Dimension!$A$8,B320=Dimension!$A$9,B320=\"\"),\"\",Payment_ID2)","v":""},"",null,null,{"$f":"IF(D320=Dimension!$C$9,IF(LEFT(UPPER(E320),2)=\"MC\",TRUE,FALSE),TRUE)","v":true}]
[null,null,null,{"$f":"IF(B321=Dimension!$A$8,Dimension!$C$9,IF(B321=Dimension!$A$6,CD,\"\"))","v":""},null,{"$f":"IF(OR(B321=Dimension!$A$3,B321=Dimension!$A$4,B321=Dimension!$A$6,B321=Dimension!$A$8),CCYA,\"\")","v":""},{"$f":"IFERROR(VLOOKUP(F321,Dimension!$G$3:$H$252,2,FALSE),\"\")","v":""},{"$f":"IF(OR(B321=Dimension!$A$3,B321=Dimension!$A$4,B321=Dimension!$A$5),\"เดินทาง/ท่องเที่ยว\",\"\")","v":""},{"$f":"IF(OR(B321=Dimension!$A$6,B321=Dimension!$A$7,B321=Dimension!$A$8,B321=Dimension!$A$9),\"\",IF(OR(B321=Dimension!$A$3,B321=Dimension!$A$4,B321=Dimension!$A$5),\"สถานประกอบการ\",\"\"))","v":""},{"$f":"IF(OR(B321=Dimension!$A$3,B321=Dimension!$A$4,B321=Dimension!$A$5,B321=Dimension!$A$6,,B321=Dimension!$A$7,B321=Dimension!$A$8,B321=Dimension!$A$9),Payment_ID2,\"\")","v":""},null,{"$f":"IFERROR(VLOOKUP(K321,Dimension!$J$3:$K$179,2,FALSE),\"\")","v":""},null,null,{"$f":"IF(OR(B321=Dimension!$A$6,B321=Dimension!$A$7,B321=Dimension!$A$8,B321=Dimension!$A$9),\"\",IF(OR(B321=Dimension!$A$3,B321=Dimension!$A$4,B321=Dimension!$A$5),\"สถานประกอบการ\",\"\"))","v":""},{"$f":"IF(OR(B321=Dimension!$A$6,B321=Dimension!$A$7,B321=Dimension!$A$8,B321=Dimension!$A$9,B321=\"\"),\"\",Payment_ID2)","v":""},"",null,null,{"$f":"IF(D321=Dimension!$C$9,IF(LEFT(UPPER(E321),2)=\"MC\",TRUE,FALSE),TRUE)","v":true}]
[null,null,null,{"$f":"IF(B322=Dimension!$A$8,Dimension!$C$9,IF(B322=Dimension!$A$6,CD,\"\"))","v":""},null,{"$f":"IF(OR(B322=Dimension!$A$3,B322=Dimension!$A$4,B322=Dimension!$A$6,B322=Dimension!$A$8),CCYA,\"\")","v":""},{"$f":"IFERROR(VLOOKUP(F322,Dimension!$G$3:$H$252,2,FALSE),\"\")","v":""},{"$f":"IF(OR(B322=Dimension!$A$3,B322=Dimension!$A$4,B322=Dimension!$A$5),\"เดินทาง/ท่องเที่ยว\",\"\")","v":""},{"$f":"IF(OR(B322=Dimension!$A$6,B322=Dimension!$A$7,B322=Dimension!$A$8,B322=Dimension!$A$9),\"\",IF(OR(B322=Dimension!$A$3,B322=Dimension!$A$4,B322=Dimension!$A$5),\"สถานประกอบการ\",\"\"))","v":""},{"$f":"IF(OR(B322=Dimension!$A$3,B322=Dimension!$A$4,B322=Dimension!$A$5,B322=Dimension!$A$6,,B322=Dimension!$A$7,B322=Dimension!$A$8,B322=Dimension!$A$9),Payment_ID2,\"\")","v":""},null,{"$f":"IFERROR(VLOOKUP(K322,Dimension!$J$3:$K$179,2,FALSE),\"\")","v":""},null,null,{"$f":"IF(OR(B322=Dimension!$A$6,B322=Dimension!$A$7,B322=Dimension!$A$8,B322=Dimension!$A$9),\"\",IF(OR(B322=Dimension!$A$3,B322=Dimension!$A$4,B322=Dimension!$A$5),\"สถานประกอบการ\",\"\"))","v":""},{"$f":"IF(OR(B322=Dimension!$A$6,B322=Dimension!$A$7,B322=Dimension!$A$8,B322=Dimension!$A$9,B322=\"\"),\"\",Payment_ID2)","v":""},"",null,null,{"$f":"IF(D322=Dimension!$C$9,IF(LEFT(UPPER(E322),2)=\"MC\",TRUE,FALSE),TRUE)","v":true}]
[null,null,null,{"$f":"IF(B323=Dimension!$A$8,Dimension!$C$9,IF(B323=Dimension!$A$6,CD,\"\"))","v":""},null,{"$f":"IF(OR(B323=Dimension!$A$3,B323=Dimension!$A$4,B323=Dimension!$A$6,B323=Dimension!$A$8),CCYA,\"\")","v":""},{"$f":"IFERROR(VLOOKUP(F323,Dimension!$G$3:$H$252,2,FALSE),\"\")","v":""},{"$f":"IF(OR(B323=Dimension!$A$3,B323=Dimension!$A$4,B323=Dimension!$A$5),\"เดินทาง/ท่องเที่ยว\",\"\")","v":""},{"$f":"IF(OR(B323=Dimension!$A$6,B323=Dimension!$A$7,B323=Dimension!$A$8,B323=Dimension!$A$9),\"\",IF(OR(B323=Dimension!$A$3,B323=Dimension!$A$4,B323=Dimension!$A$5),\"สถานประกอบการ\",\"\"))","v":""},{"$f":"IF(OR(B323=Dimension!$A$3,B323=Dimension!$A$4,B323=Dimension!$A$5,B323=Dimension!$A$6,,B323=Dimension!$A$7,B323=Dimension!$A$8,B323=Dimension!$A$9),Payment_ID2,\"\")","v":""},null,{"$f":"IFERROR(VLOOKUP(K323,Dimension!$J$3:$K$179,2,FALSE),\"\")","v":""},null,null,{"$f":"IF(OR(B323=Dimension!$A$6,B323=Dimension!$A$7,B323=Dimension!$A$8,B323=Dimension!$A$9),\"\",IF(OR(B323=Dimension!$A$3,B323=Dimension!$A$4,B323=Dimension!$A$5),\"สถานประกอบการ\",\"\"))","v":""},{"$f":"IF(OR(B323=Dimension!$A$6,B323=Dimension!$A$7,B323=Dimension!$A$8,B323=Dimension!$A$9,B323=\"\"),\"\",Payment_ID2)","v":""},"",null,null,{"$f":"IF(D323=Dimension!$C$9,IF(LEFT(UPPER(E323),2)=\"MC\",TRUE,FALSE),TRUE)","v":true}]
[null,null,null,{"$f":"IF(B324=Dimension!$A$8,Dimension!$C$9,IF(B324=Dimension!$A$6,CD,\"\"))","v":""},null,{"$f":"IF(OR(B324=Dimension!$A$3,B324=Dimension!$A$4,B324=Dimension!$A$6,B324=Dimension!$A$8),CCYA,\"\")","v":""},{"$f":"IFERROR(VLOOKUP(F324,Dimension!$G$3:$H$252,2,FALSE),\"\")","v":""},{"$f":"IF(OR(B324=Dimension!$A$3,B324=Dimension!$A$4,B324=Dimension!$A$5),\"เดินทาง/ท่องเที่ยว\",\"\")","v":""},{"$f":"IF(OR(B324=Dimension!$A$6,B324=Dimension!$A$7,B324=Dimension!$A$8,B324=Dimension!$A$9),\"\",IF(OR(B324=Dimension!$A$3,B324=Dimension!$A$4,B324=Dimension!$A$5),\"สถานประกอบการ\",\"\"))","v":""},{"$f":"IF(OR(B324=Dimension!$A$3,B324=Dimension!$A$4,B324=Dimension!$A$5,B324=Dimension!$A$6,,B324=Dimension!$A$7,B324=Dimension!$A$8,B324=Dimension!$A$9),Payment_ID2,\"\")","v":""},null,{"$f":"IFERROR(VLOOKUP(K324,Dimension!$J$3:$K$179,2,FALSE),\"\")","v":""},null,null,{"$f":"IF(OR(B324=Dimension!$A$6,B324=Dimension!$A$7,B324=Dimension!$A$8,B324=Dimension!$A$9),\"\",IF(OR(B324=Dimension!$A$3,B324=Dimension!$A$4,B324=Dimension!$A$5),\"สถานประกอบการ\",\"\"))","v":""},{"$f":"IF(OR(B324=Dimension!$A$6,B324=Dimension!$A$7,B324=Dimension!$A$8,B324=Dimension!$A$9,B324=\"\"),\"\",Payment_ID2)","v":""},"",null,null,{"$f":"IF(D324=Dimension!$C$9,IF(LEFT(UPPER(E324),2)=\"MC\",TRUE,FALSE),TRUE)","v":true}]
[null,null,null,{"$f":"IF(B325=Dimension!$A$8,Dimension!$C$9,IF(B325=Dimension!$A$6,CD,\"\"))","v":""},null,{"$f":"IF(OR(B325=Dimension!$A$3,B325=Dimension!$A$4,B325=Dimension!$A$6,B325=Dimension!$A$8),CCYA,\"\")","v":""},{"$f":"IFERROR(VLOOKUP(F325,Dimension!$G$3:$H$252,2,FALSE),\"\")","v":""},{"$f":"IF(OR(B325=Dimension!$A$3,B325=Dimension!$A$4,B325=Dimension!$A$5),\"เดินทาง/ท่องเที่ยว\",\"\")","v":""},{"$f":"IF(OR(B325=Dimension!$A$6,B325=Dimension!$A$7,B325=Dimension!$A$8,B325=Dimension!$A$9),\"\",IF(OR(B325=Dimension!$A$3,B325=Dimension!$A$4,B325=Dimension!$A$5),\"สถานประกอบการ\",\"\"))","v":""},{"$f":"IF(OR(B325=Dimension!$A$3,B325=Dimension!$A$4,B325=Dimension!$A$5,B325=Dimension!$A$6,,B325=Dimension!$A$7,B325=Dimension!$A$8,B325=Dimension!$A$9),Payment_ID2,\"\")","v":""},null,{"$f":"IFERROR(VLOOKUP(K325,Dimension!$J$3:$K$179,2,FALSE),\"\")","v":""},null,null,{"$f":"IF(OR(B325=Dimension!$A$6,B325=Dimension!$A$7,B325=Dimension!$A$8,B325=Dimension!$A$9),\"\",IF(OR(B325=Dimension!$A$3,B325=Dimension!$A$4,B325=Dimension!$A$5),\"สถานประกอบการ\",\"\"))","v":""},{"$f":"IF(OR(B325=Dimension!$A$6,B325=Dimension!$A$7,B325=Dimension!$A$8,B325=Dimension!$A$9,B325=\"\"),\"\",Payment_ID2)","v":""},"",null,null,{"$f":"IF(D325=Dimension!$C$9,IF(LEFT(UPPER(E325),2)=\"MC\",TRUE,FALSE),TRUE)","v":true}]
[null,null,null,{"$f":"IF(B326=Dimension!$A$8,Dimension!$C$9,IF(B326=Dimension!$A$6,CD,\"\"))","v":""},null,{"$f":"IF(OR(B326=Dimension!$A$3,B326=Dimension!$A$4,B326=Dimension!$A$6,B326=Dimension!$A$8),CCYA,\"\")","v":""},{"$f":"IFERROR(VLOOKUP(F326,Dimension!$G$3:$H$252,2,FALSE),\"\")","v":""},{"$f":"IF(OR(B326=Dimension!$A$3,B326=Dimension!$A$4,B326=Dimension!$A$5),\"เดินทาง/ท่องเที่ยว\",\"\")","v":""},{"$f":"IF(OR(B326=Dimension!$A$6,B326=Dimension!$A$7,B326=Dimension!$A$8,B326=Dimension!$A$9),\"\",IF(OR(B326=Dimension!$A$3,B326=Dimension!$A$4,B326=Dimension!$A$5),\"สถานประกอบการ\",\"\"))","v":""},{"$f":"IF(OR(B326=Dimension!$A$3,B326=Dimension!$A$4,B326=Dimension!$A$5,B326=Dimension!$A$6,,B326=Dimension!$A$7,B326=Dimension!$A$8,B326=Dimension!$A$9),Payment_ID2,\"\")","v":""},null,{"$f":"IFERROR(VLOOKUP(K326,Dimension!$J$3:$K$179,2,FALSE),\"\")","v":""},null,null,{"$f":"IF(OR(B326=Dimension!$A$6,B326=Dimension!$A$7,B326=Dimension!$A$8,B326=Dimension!$A$9),\"\",IF(OR(B326=Dimension!$A$3,B326=Dimension!$A$4,B326=Dimension!$A$5),\"สถานประกอบการ\",\"\"))","v":""},{"$f":"IF(OR(B326=Dimension!$A$6,B326=Dimension!$A$7,B326=Dimension!$A$8,B326=Dimension!$A$9,B326=\"\"),\"\",Payment_ID2)","v":""},"",null,null,{"$f":"IF(D326=Dimension!$C$9,IF(LEFT(UPPER(E326),2)=\"MC\",TRUE,FALSE),TRUE)","v":true}]
[null,null,null,{"$f":"IF(B327=Dimension!$A$8,Dimension!$C$9,IF(B327=Dimension!$A$6,CD,\"\"))","v":""},null,{"$f":"IF(OR(B327=Dimension!$A$3,B327=Dimension!$A$4,B327=Dimension!$A$6,B327=Dimension!$A$8),CCYA,\"\")","v":""},{"$f":"IFERROR(VLOOKUP(F327,Dimension!$G$3:$H$252,2,FALSE),\"\")","v":""},{"$f":"IF(OR(B327=Dimension!$A$3,B327=Dimension!$A$4,B327=Dimension!$A$5),\"เดินทาง/ท่องเที่ยว\",\"\")","v":""},{"$f":"IF(OR(B327=Dimension!$A$6,B327=Dimension!$A$7,B327=Dimension!$A$8,B327=Dimension!$A$9),\"\",IF(OR(B327=Dimension!$A$3,B327=Dimension!$A$4,B327=Dimension!$A$5),\"สถานประกอบการ\",\"\"))","v":""},{"$f":"IF(OR(B327=Dimension!$A$3,B327=Dimension!$A$4,B327=Dimension!$A$5,B327=Dimension!$A$6,,B327=Dimension!$A$7,B327=Dimension!$A$8,B327=Dimension!$A$9),Payment_ID2,\"\")","v":""},null,{"$f":"IFERROR(VLOOKUP(K327,Dimension!$J$3:$K$179,2,FALSE),\"\")","v":""},null,null,{"$f":"IF(OR(B327=Dimension!$A$6,B327=Dimension!$A$7,B327=Dimension!$A$8,B327=Dimension!$A$9),\"\",IF(OR(B327=Dimension!$A$3,B327=Dimension!$A$4,B327=Dimension!$A$5),\"สถานประกอบการ\",\"\"))","v":""},{"$f":"IF(OR(B327=Dimension!$A$6,B327=Dimension!$A$7,B327=Dimension!$A$8,B327=Dimension!$A$9,B327=\"\"),\"\",Payment_ID2)","v":""},"",null,null,{"$f":"IF(D327=Dimension!$C$9,IF(LEFT(UPPER(E327),2)=\"MC\",TRUE,FALSE),TRUE)","v":true}]
[null,null,null,{"$f":"IF(B328=Dimension!$A$8,Dimension!$C$9,IF(B328=Dimension!$A$6,CD,\"\"))","v":""},null,{"$f":"IF(OR(B328=Dimension!$A$3,B328=Dimension!$A$4,B328=Dimension!$A$6,B328=Dimension!$A$8),CCYA,\"\")","v":""},{"$f":"IFERROR(VLOOKUP(F328,Dimension!$G$3:$H$252,2,FALSE),\"\")","v":""},{"$f":"IF(OR(B328=Dimension!$A$3,B328=Dimension!$A$4,B328=Dimension!$A$5),\"เดินทาง/ท่องเที่ยว\",\"\")","v":""},{"$f":"IF(OR(B328=Dimension!$A$6,B328=Dimension!$A$7,B328=Dimension!$A$8,B328=Dimension!$A$9),\"\",IF(OR(B328=Dimension!$A$3,B328=Dimension!$A$4,B328=Dimension!$A$5),\"สถานประกอบการ\",\"\"))","v":""},{"$f":"IF(OR(B328=Dimension!$A$3,B328=Dimension!$A$4,B328=Dimension!$A$5,B328=Dimension!$A$6,,B328=Dimension!$A$7,B328=Dimension!$A$8,B328=Dimension!$A$9),Payment_ID2,\"\")","v":""},null,{"$f":"IFERROR(VLOOKUP(K328,Dimension!$J$3:$K$179,2,FALSE),\"\")","v":""},null,null,{"$f":"IF(OR(B328=Dimension!$A$6,B328=Dimension!$A$7,B328=Dimension!$A$8,B328=Dimension!$A$9),\"\",IF(OR(B328=Dimension!$A$3,B328=Dimension!$A$4,B328=Dimension!$A$5),\"สถานประกอบการ\",\"\"))","v":""},{"$f":"IF(OR(B328=Dimension!$A$6,B328=Dimension!$A$7,B328=Dimension!$A$8,B328=Dimension!$A$9,B328=\"\"),\"\",Payment_ID2)","v":""},"",null,null,{"$f":"IF(D328=Dimension!$C$9,IF(LEFT(UPPER(E328),2)=\"MC\",TRUE,FALSE),TRUE)","v":true}]
[null,null,null,{"$f":"IF(B329=Dimension!$A$8,Dimension!$C$9,IF(B329=Dimension!$A$6,CD,\"\"))","v":""},null,{"$f":"IF(OR(B329=Dimension!$A$3,B329=Dimension!$A$4,B329=Dimension!$A$6,B329=Dimension!$A$8),CCYA,\"\")","v":""},{"$f":"IFERROR(VLOOKUP(F329,Dimension!$G$3:$H$252,2,FALSE),\"\")","v":""},{"$f":"IF(OR(B329=Dimension!$A$3,B329=Dimension!$A$4,B329=Dimension!$A$5),\"เดินทาง/ท่องเที่ยว\",\"\")","v":""},{"$f":"IF(OR(B329=Dimension!$A$6,B329=Dimension!$A$7,B329=Dimension!$A$8,B329=Dimension!$A$9),\"\",IF(OR(B329=Dimension!$A$3,B329=Dimension!$A$4,B329=Dimension!$A$5),\"สถานประกอบการ\",\"\"))","v":""},{"$f":"IF(OR(B329=Dimension!$A$3,B329=Dimension!$A$4,B329=Dimension!$A$5,B329=Dimension!$A$6,,B329=Dimension!$A$7,B329=Dimension!$A$8,B329=Dimension!$A$9),Payment_ID2,\"\")","v":""},null,{"$f":"IFERROR(VLOOKUP(K329,Dimension!$J$3:$K$179,2,FALSE),\"\")","v":""},null,null,{"$f":"IF(OR(B329=Dimension!$A$6,B329=Dimension!$A$7,B329=Dimension!$A$8,B329=Dimension!$A$9),\"\",IF(OR(B329=Dimension!$A$3,B329=Dimension!$A$4,B329=Dimension!$A$5),\"สถานประกอบการ\",\"\"))","v":""},{"$f":"IF(OR(B329=Dimension!$A$6,B329=Dimension!$A$7,B329=Dimension!$A$8,B329=Dimension!$A$9,B329=\"\"),\"\",Payment_ID2)","v":""},"",null,null,{"$f":"IF(D329=Dimension!$C$9,IF(LEFT(UPPER(E329),2)=\"MC\",TRUE,FALSE),TRUE)","v":true}]
[null,null,null,{"$f":"IF(B330=Dimension!$A$8,Dimension!$C$9,IF(B330=Dimension!$A$6,CD,\"\"))","v":""},null,{"$f":"IF(OR(B330=Dimension!$A$3,B330=Dimension!$A$4,B330=Dimension!$A$6,B330=Dimension!$A$8),CCYA,\"\")","v":""},{"$f":"IFERROR(VLOOKUP(F330,Dimension!$G$3:$H$252,2,FALSE),\"\")","v":""},{"$f":"IF(OR(B330=Dimension!$A$3,B330=Dimension!$A$4,B330=Dimension!$A$5),\"เดินทาง/ท่องเที่ยว\",\"\")","v":""},{"$f":"IF(OR(B330=Dimension!$A$6,B330=Dimension!$A$7,B330=Dimension!$A$8,B330=Dimension!$A$9),\"\",IF(OR(B330=Dimension!$A$3,B330=Dimension!$A$4,B330=Dimension!$A$5),\"สถานประกอบการ\",\"\"))","v":""},{"$f":"IF(OR(B330=Dimension!$A$3,B330=Dimension!$A$4,B330=Dimension!$A$5,B330=Dimension!$A$6,,B330=Dimension!$A$7,B330=Dimension!$A$8,B330=Dimension!$A$9),Payment_ID2,\"\")","v":""},null,{"$f":"IFERROR(VLOOKUP(K330,Dimension!$J$3:$K$179,2,FALSE),\"\")","v":""},null,null,{"$f":"IF(OR(B330=Dimension!$A$6,B330=Dimension!$A$7,B330=Dimension!$A$8,B330=Dimension!$A$9),\"\",IF(OR(B330=Dimension!$A$3,B330=Dimension!$A$4,B330=Dimension!$A$5),\"สถานประกอบการ\",\"\"))","v":""},{"$f":"IF(OR(B330=Dimension!$A$6,B330=Dimension!$A$7,B330=Dimension!$A$8,B330=Dimension!$A$9,B330=\"\"),\"\",Payment_ID2)","v":""},{"$f":"IF(OR(M330=\"\",N330=\"\"),\"\",ROUND(M330*N330,2))","v":""},null,null,{"$f":"IF(D330=Dimension!$C$9,IF(LEFT(UPPER(E330),2)=\"MC\",TRUE,FALSE),TRUE)","v":true}]
[null,null,null,{"$f":"IF(B331=Dimension!$A$8,Dimension!$C$9,IF(B331=Dimension!$A$6,CD,\"\"))","v":""},null,{"$f":"IF(OR(B331=Dimension!$A$3,B331=Dimension!$A$4,B331=Dimension!$A$6,B331=Dimension!$A$8),CCYA,\"\")","v":""},{"$f":"IFERROR(VLOOKUP(F331,Dimension!$G$3:$H$252,2,FALSE),\"\")","v":""},{"$f":"IF(OR(B331=Dimension!$A$3,B331=Dimension!$A$4,B331=Dimension!$A$5),\"เดินทาง/ท่องเที่ยว\",\"\")","v":""},{"$f":"IF(OR(B331=Dimension!$A$6,B331=Dimension!$A$7,B331=Dimension!$A$8,B331=Dimension!$A$9),\"\",IF(OR(B331=Dimension!$A$3,B331=Dimension!$A$4,B331=Dimension!$A$5),\"สถานประกอบการ\",\"\"))","v":""},{"$f":"IF(OR(B331=Dimension!$A$3,B331=Dimension!$A$4,B331=Dimension!$A$5,B331=Dimension!$A$6,,B331=Dimension!$A$7,B331=Dimension!$A$8,B331=Dimension!$A$9),Payment_ID2,\"\")","v":""},null,{"$f":"IFERROR(VLOOKUP(K331,Dimension!$J$3:$K$179,2,FALSE),\"\")","v":""},null,null,{"$f":"IF(OR(B331=Dimension!$A$6,B331=Dimension!$A$7,B331=Dimension!$A$8,B331=Dimension!$A$9),\"\",IF(OR(B331=Dimension!$A$3,B331=Dimension!$A$4,B331=Dimension!$A$5),\"สถานประกอบการ\",\"\"))","v":""},{"$f":"IF(OR(B331=Dimension!$A$6,B331=Dimension!$A$7,B331=Dimension!$A$8,B331=Dimension!$A$9,B331=\"\"),\"\",Payment_ID2)","v":""},"",null,null,{"$f":"IF(D331=Dimension!$C$9,IF(LEFT(UPPER(E331),2)=\"MC\",TRUE,FALSE),TRUE)","v":true}]
[null,null,null,{"$f":"IF(B332=Dimension!$A$8,Dimension!$C$9,IF(B332=Dimension!$A$6,CD,\"\"))","v":""},null,{"$f":"IF(OR(B332=Dimension!$A$3,B332=Dimension!$A$4,B332=Dimension!$A$6,B332=Dimension!$A$8),CCYA,\"\")","v":""},{"$f":"IFERROR(VLOOKUP(F332,Dimension!$G$3:$H$252,2,FALSE),\"\")","v":""},{"$f":"IF(OR(B332=Dimension!$A$3,B332=Dimension!$A$4,B332=Dimension!$A$5),\"เดินทาง/ท่องเที่ยว\",\"\")","v":""},{"$f":"IF(OR(B332=Dimension!$A$6,B332=Dimension!$A$7,B332=Dimension!$A$8,B332=Dimension!$A$9),\"\",IF(OR(B332=Dimension!$A$3,B332=Dimension!$A$4,B332=Dimension!$A$5),\"สถานประกอบการ\",\"\"))","v":""},{"$f":"IF(OR(B332=Dimension!$A$3,B332=Dimension!$A$4,B332=Dimension!$A$5,B332=Dimension!$A$6,,B332=Dimension!$A$7,B332=Dimension!$A$8,B332=Dimension!$A$9),Payment_ID2,\"\")","v":""},null,{"$f":"IFERROR(VLOOKUP(K332,Dimension!$J$3:$K$179,2,FALSE),\"\")","v":""},null,null,{"$f":"IF(OR(B332=Dimension!$A$6,B332=Dimension!$A$7,B332=Dimension!$A$8,B332=Dimension!$A$9),\"\",IF(OR(B332=Dimension!$A$3,B332=Dimension!$A$4,B332=Dimension!$A$5),\"สถานประกอบการ\",\"\"))","v":""},{"$f":"IF(OR(B332=Dimension!$A$6,B332=Dimension!$A$7,B332=Dimension!$A$8,B332=Dimension!$A$9,B332=\"\"),\"\",Payment_ID2)","v":""},"",null,null,{"$f":"IF(D332=Dimension!$C$9,IF(LEFT(UPPER(E332),2)=\"MC\",TRUE,FALSE),TRUE)","v":true}]
[null,null,null,{"$f":"IF(B333=Dimension!$A$8,Dimension!$C$9,IF(B333=Dimension!$A$6,CD,\"\"))","v":""},null,{"$f":"IF(OR(B333=Dimension!$A$3,B333=Dimension!$A$4,B333=Dimension!$A$6,B333=Dimension!$A$8),CCYA,\"\")","v":""},{"$f":"IFERROR(VLOOKUP(F333,Dimension!$G$3:$H$252,2,FALSE),\"\")","v":""},{"$f":"IF(OR(B333=Dimension!$A$3,B333=Dimension!$A$4,B333=Dimension!$A$5),\"เดินทาง/ท่องเที่ยว\",\"\")","v":""},{"$f":"IF(OR(B333=Dimension!$A$6,B333=Dimension!$A$7,B333=Dimension!$A$8,B333=Dimension!$A$9),\"\",IF(OR(B333=Dimension!$A$3,B333=Dimension!$A$4,B333=Dimension!$A$5),\"สถานประกอบการ\",\"\"))","v":""},{"$f":"IF(OR(B333=Dimension!$A$3,B333=Dimension!$A$4,B333=Dimension!$A$5,B333=Dimension!$A$6,,B333=Dimension!$A$7,B333=Dimension!$A$8,B333=Dimension!$A$9),Payment_ID2,\"\")","v":""},null,{"$f":"IFERROR(VLOOKUP(K333,Dimension!$J$3:$K$179,2,FALSE),\"\")","v":""},null,null,{"$f":"IF(OR(B333=Dimension!$A$6,B333=Dimension!$A$7,B333=Dimension!$A$8,B333=Dimension!$A$9),\"\",IF(OR(B333=Dimension!$A$3,B333=Dimension!$A$4,B333=Dimension!$A$5),\"สถานประกอบการ\",\"\"))","v":""},{"$f":"IF(OR(B333=Dimension!$A$6,B333=Dimension!$A$7,B333=Dimension!$A$8,B333=Dimension!$A$9,B333=\"\"),\"\",Payment_ID2)","v":""},"",null,null,{"$f":"IF(D333=Dimension!$C$9,IF(LEFT(UPPER(E333),2)=\"MC\",TRUE,FALSE),TRUE)","v":true}]
[null,null,null,{"$f":"IF(B334=Dimension!$A$8,Dimension!$C$9,IF(B334=Dimension!$A$6,CD,\"\"))","v":""},null,{"$f":"IF(OR(B334=Dimension!$A$3,B334=Dimension!$A$4,B334=Dimension!$A$6,B334=Dimension!$A$8),CCYA,\"\")","v":""},{"$f":"IFERROR(VLOOKUP(F334,Dimension!$G$3:$H$252,2,FALSE),\"\")","v":""},{"$f":"IF(OR(B334=Dimension!$A$3,B334=Dimension!$A$4,B334=Dimension!$A$5),\"เดินทาง/ท่องเที่ยว\",\"\")","v":""},{"$f":"IF(OR(B334=Dimension!$A$6,B334=Dimension!$A$7,B334=Dimension!$A$8,B334=Dimension!$A$9),\"\",IF(OR(B334=Dimension!$A$3,B334=Dimension!$A$4,B334=Dimension!$A$5),\"สถานประกอบการ\",\"\"))","v":""},{"$f":"IF(OR(B334=Dimension!$A$3,B334=Dimension!$A$4,B334=Dimension!$A$5,B334=Dimension!$A$6,,B334=Dimension!$A$7,B334=Dimension!$A$8,B334=Dimension!$A$9),Payment_ID2,\"\")","v":""},null,{"$f":"IFERROR(VLOOKUP(K334,Dimension!$J$3:$K$179,2,FALSE),\"\")","v":""},null,null,{"$f":"IF(OR(B334=Dimension!$A$6,B334=Dimension!$A$7,B334=Dimension!$A$8,B334=Dimension!$A$9),\"\",IF(OR(B334=Dimension!$A$3,B334=Dimension!$A$4,B334=Dimension!$A$5),\"สถานประกอบการ\",\"\"))","v":""},{"$f":"IF(OR(B334=Dimension!$A$6,B334=Dimension!$A$7,B334=Dimension!$A$8,B334=Dimension!$A$9,B334=\"\"),\"\",Payment_ID2)","v":""},"",null,null,{"$f":"IF(D334=Dimension!$C$9,IF(LEFT(UPPER(E334),2)=\"MC\",TRUE,FALSE),TRUE)","v":true}]
[null,null,null,{"$f":"IF(B335=Dimension!$A$8,Dimension!$C$9,IF(B335=Dimension!$A$6,CD,\"\"))","v":""},null,{"$f":"IF(OR(B335=Dimension!$A$3,B335=Dimension!$A$4,B335=Dimension!$A$6,B335=Dimension!$A$8),CCYA,\"\")","v":""},{"$f":"IFERROR(VLOOKUP(F335,Dimension!$G$3:$H$252,2,FALSE),\"\")","v":""},{"$f":"IF(OR(B335=Dimension!$A$3,B335=Dimension!$A$4,B335=Dimension!$A$5),\"เดินทาง/ท่องเที่ยว\",\"\")","v":""},{"$f":"IF(OR(B335=Dimension!$A$6,B335=Dimension!$A$7,B335=Dimension!$A$8,B335=Dimension!$A$9),\"\",IF(OR(B335=Dimension!$A$3,B335=Dimension!$A$4,B335=Dimension!$A$5),\"สถานประกอบการ\",\"\"))","v":""},{"$f":"IF(OR(B335=Dimension!$A$3,B335=Dimension!$A$4,B335=Dimension!$A$5,B335=Dimension!$A$6,,B335=Dimension!$A$7,B335=Dimension!$A$8,B335=Dimension!$A$9),Payment_ID2,\"\")","v":""},null,{"$f":"IFERROR(VLOOKUP(K335,Dimension!$J$3:$K$179,2,FALSE),\"\")","v":""},null,null,{"$f":"IF(OR(B335=Dimension!$A$6,B335=Dimension!$A$7,B335=Dimension!$A$8,B335=Dimension!$A$9),\"\",IF(OR(B335=Dimension!$A$3,B335=Dimension!$A$4,B335=Dimension!$A$5),\"สถานประกอบการ\",\"\"))","v":""},{"$f":"IF(OR(B335=Dimension!$A$6,B335=Dimension!$A$7,B335=Dimension!$A$8,B335=Dimension!$A$9,B335=\"\"),\"\",Payment_ID2)","v":""},"",null,null,{"$f":"IF(D335=Dimension!$C$9,IF(LEFT(UPPER(E335),2)=\"MC\",TRUE,FALSE),TRUE)","v":true}]
[null,null,null,{"$f":"IF(B336=Dimension!$A$8,Dimension!$C$9,IF(B336=Dimension!$A$6,CD,\"\"))","v":""},null,{"$f":"IF(OR(B336=Dimension!$A$3,B336=Dimension!$A$4,B336=Dimension!$A$6,B336=Dimension!$A$8),CCYA,\"\")","v":""},{"$f":"IFERROR(VLOOKUP(F336,Dimension!$G$3:$H$252,2,FALSE),\"\")","v":""},{"$f":"IF(OR(B336=Dimension!$A$3,B336=Dimension!$A$4,B336=Dimension!$A$5),\"เดินทาง/ท่องเที่ยว\",\"\")","v":""},{"$f":"IF(OR(B336=Dimension!$A$6,B336=Dimension!$A$7,B336=Dimension!$A$8,B336=Dimension!$A$9),\"\",IF(OR(B336=Dimension!$A$3,B336=Dimension!$A$4,B336=Dimension!$A$5),\"สถานประกอบการ\",\"\"))","v":""},{"$f":"IF(OR(B336=Dimension!$A$3,B336=Dimension!$A$4,B336=Dimension!$A$5,B336=Dimension!$A$6,,B336=Dimension!$A$7,B336=Dimension!$A$8,B336=Dimension!$A$9),Payment_ID2,\"\")","v":""},null,{"$f":"IFERROR(VLOOKUP(K336,Dimension!$J$3:$K$179,2,FALSE),\"\")","v":""},null,null,{"$f":"IF(OR(B336=Dimension!$A$6,B336=Dimension!$A$7,B336=Dimension!$A$8,B336=Dimension!$A$9),\"\",IF(OR(B336=Dimension!$A$3,B336=Dimension!$A$4,B336=Dimension!$A$5),\"สถานประกอบการ\",\"\"))","v":""},{"$f":"IF(OR(B336=Dimension!$A$6,B336=Dimension!$A$7,B336=Dimension!$A$8,B336=Dimension!$A$9,B336=\"\"),\"\",Payment_ID2)","v":""},"",null,null,{"$f":"IF(D336=Dimension!$C$9,IF(LEFT(UPPER(E336),2)=\"MC\",TRUE,FALSE),TRUE)","v":true}]
[null,null,null,{"$f":"IF(B337=Dimension!$A$8,Dimension!$C$9,IF(B337=Dimension!$A$6,CD,\"\"))","v":""},null,{"$f":"IF(OR(B337=Dimension!$A$3,B337=Dimension!$A$4,B337=Dimension!$A$6,B337=Dimension!$A$8),CCYA,\"\")","v":""},{"$f":"IFERROR(VLOOKUP(F337,Dimension!$G$3:$H$252,2,FALSE),\"\")","v":""},{"$f":"IF(OR(B337=Dimension!$A$3,B337=Dimension!$A$4,B337=Dimension!$A$5),\"เดินทาง/ท่องเที่ยว\",\"\")","v":""},{"$f":"IF(OR(B337=Dimension!$A$6,B337=Dimension!$A$7,B337=Dimension!$A$8,B337=Dimension!$A$9),\"\",IF(OR(B337=Dimension!$A$3,B337=Dimension!$A$4,B337=Dimension!$A$5),\"สถานประกอบการ\",\"\"))","v":""},{"$f":"IF(OR(B337=Dimension!$A$3,B337=Dimension!$A$4,B337=Dimension!$A$5,B337=Dimension!$A$6,,B337=Dimension!$A$7,B337=Dimension!$A$8,B337=Dimension!$A$9),Payment_ID2,\"\")","v":""},null,{"$f":"IFERROR(VLOOKUP(K337,Dimension!$J$3:$K$179,2,FALSE),\"\")","v":""},null,null,{"$f":"IF(OR(B337=Dimension!$A$6,B337=Dimension!$A$7,B337=Dimension!$A$8,B337=Dimension!$A$9),\"\",IF(OR(B337=Dimension!$A$3,B337=Dimension!$A$4,B337=Dimension!$A$5),\"สถานประกอบการ\",\"\"))","v":""},{"$f":"IF(OR(B337=Dimension!$A$6,B337=Dimension!$A$7,B337=Dimension!$A$8,B337=Dimension!$A$9,B337=\"\"),\"\",Payment_ID2)","v":""},"",null,null,{"$f":"IF(D337=Dimension!$C$9,IF(LEFT(UPPER(E337),2)=\"MC\",TRUE,FALSE),TRUE)","v":true}]
[null,null,null,{"$f":"IF(B338=Dimension!$A$8,Dimension!$C$9,IF(B338=Dimension!$A$6,CD,\"\"))","v":""},null,{"$f":"IF(OR(B338=Dimension!$A$3,B338=Dimension!$A$4,B338=Dimension!$A$6,B338=Dimension!$A$8),CCYA,\"\")","v":""},{"$f":"IFERROR(VLOOKUP(F338,Dimension!$G$3:$H$252,2,FALSE),\"\")","v":""},{"$f":"IF(OR(B338=Dimension!$A$3,B338=Dimension!$A$4,B338=Dimension!$A$5),\"เดินทาง/ท่องเที่ยว\",\"\")","v":""},{"$f":"IF(OR(B338=Dimension!$A$6,B338=Dimension!$A$7,B338=Dimension!$A$8,B338=Dimension!$A$9),\"\",IF(OR(B338=Dimension!$A$3,B338=Dimension!$A$4,B338=Dimension!$A$5),\"สถานประกอบการ\",\"\"))","v":""},{"$f":"IF(OR(B338=Dimension!$A$3,B338=Dimension!$A$4,B338=Dimension!$A$5,B338=Dimension!$A$6,,B338=Dimension!$A$7,B338=Dimension!$A$8,B338=Dimension!$A$9),Payment_ID2,\"\")","v":""},null,{"$f":"IFERROR(VLOOKUP(K338,Dimension!$J$3:$K$179,2,FALSE),\"\")","v":""},null,null,{"$f":"IF(OR(B338=Dimension!$A$6,B338=Dimension!$A$7,B338=Dimension!$A$8,B338=Dimension!$A$9),\"\",IF(OR(B338=Dimension!$A$3,B338=Dimension!$A$4,B338=Dimension!$A$5),\"สถานประกอบการ\",\"\"))","v":""},{"$f":"IF(OR(B338=Dimension!$A$6,B338=Dimension!$A$7,B338=Dimension!$A$8,B338=Dimension!$A$9,B338=\"\"),\"\",Payment_ID2)","v":""},"",null,null,{"$f":"IF(D338=Dimension!$C$9,IF(LEFT(UPPER(E338),2)=\"MC\",TRUE,FALSE),TRUE)","v":true}]
[null,null,null,{"$f":"IF(B339=Dimension!$A$8,Dimension!$C$9,IF(B339=Dimension!$A$6,CD,\"\"))","v":""},null,{"$f":"IF(OR(B339=Dimension!$A$3,B339=Dimension!$A$4,B339=Dimension!$A$6,B339=Dimension!$A$8),CCYA,\"\")","v":""},{"$f":"IFERROR(VLOOKUP(F339,Dimension!$G$3:$H$252,2,FALSE),\"\")","v":""},{"$f":"IF(OR(B339=Dimension!$A$3,B339=Dimension!$A$4,B339=Dimension!$A$5),\"เดินทาง/ท่องเที่ยว\",\"\")","v":""},{"$f":"IF(OR(B339=Dimension!$A$6,B339=Dimension!$A$7,B339=Dimension!$A$8,B339=Dimension!$A$9),\"\",IF(OR(B339=Dimension!$A$3,B339=Dimension!$A$4,B339=Dimension!$A$5),\"สถานประกอบการ\",\"\"))","v":""},{"$f":"IF(OR(B339=Dimension!$A$3,B339=Dimension!$A$4,B339=Dimension!$A$5,B339=Dimension!$A$6,,B339=Dimension!$A$7,B339=Dimension!$A$8,B339=Dimension!$A$9),Payment_ID2,\"\")","v":""},null,{"$f":"IFERROR(VLOOKUP(K339,Dimension!$J$3:$K$179,2,FALSE),\"\")","v":""},null,null,{"$f":"IF(OR(B339=Dimension!$A$6,B339=Dimension!$A$7,B339=Dimension!$A$8,B339=Dimension!$A$9),\"\",IF(OR(B339=Dimension!$A$3,B339=Dimension!$A$4,B339=Dimension!$A$5),\"สถานประกอบการ\",\"\"))","v":""},{"$f":"IF(OR(B339=Dimension!$A$6,B339=Dimension!$A$7,B339=Dimension!$A$8,B339=Dimension!$A$9,B339=\"\"),\"\",Payment_ID2)","v":""},"",null,null,{"$f":"IF(D339=Dimension!$C$9,IF(LEFT(UPPER(E339),2)=\"MC\",TRUE,FALSE),TRUE)","v":true}]
[null,null,null,{"$f":"IF(B340=Dimension!$A$8,Dimension!$C$9,IF(B340=Dimension!$A$6,CD,\"\"))","v":""},null,{"$f":"IF(OR(B340=Dimension!$A$3,B340=Dimension!$A$4,B340=Dimension!$A$6,B340=Dimension!$A$8),CCYA,\"\")","v":""},{"$f":"IFERROR(VLOOKUP(F340,Dimension!$G$3:$H$252,2,FALSE),\"\")","v":""},{"$f":"IF(OR(B340=Dimension!$A$3,B340=Dimension!$A$4,B340=Dimension!$A$5),\"เดินทาง/ท่องเที่ยว\",\"\")","v":""},{"$f":"IF(OR(B340=Dimension!$A$6,B340=Dimension!$A$7,B340=Dimension!$A$8,B340=Dimension!$A$9),\"\",IF(OR(B340=Dimension!$A$3,B340=Dimension!$A$4,B340=Dimension!$A$5),\"สถานประกอบการ\",\"\"))","v":""},{"$f":"IF(OR(B340=Dimension!$A$3,B340=Dimension!$A$4,B340=Dimension!$A$5,B340=Dimension!$A$6,,B340=Dimension!$A$7,B340=Dimension!$A$8,B340=Dimension!$A$9),Payment_ID2,\"\")","v":""},null,{"$f":"IFERROR(VLOOKUP(K340,Dimension!$J$3:$K$179,2,FALSE),\"\")","v":""},null,null,{"$f":"IF(OR(B340=Dimension!$A$6,B340=Dimension!$A$7,B340=Dimension!$A$8,B340=Dimension!$A$9),\"\",IF(OR(B340=Dimension!$A$3,B340=Dimension!$A$4,B340=Dimension!$A$5),\"สถานประกอบการ\",\"\"))","v":""},{"$f":"IF(OR(B340=Dimension!$A$6,B340=Dimension!$A$7,B340=Dimension!$A$8,B340=Dimension!$A$9,B340=\"\"),\"\",Payment_ID2)","v":""},"",null,null,{"$f":"IF(D340=Dimension!$C$9,IF(LEFT(UPPER(E340),2)=\"MC\",TRUE,FALSE),TRUE)","v":true}]
[null,null,null,{"$f":"IF(B341=Dimension!$A$8,Dimension!$C$9,IF(B341=Dimension!$A$6,CD,\"\"))","v":""},null,{"$f":"IF(OR(B341=Dimension!$A$3,B341=Dimension!$A$4,B341=Dimension!$A$6,B341=Dimension!$A$8),CCYA,\"\")","v":""},{"$f":"IFERROR(VLOOKUP(F341,Dimension!$G$3:$H$252,2,FALSE),\"\")","v":""},{"$f":"IF(OR(B341=Dimension!$A$3,B341=Dimension!$A$4,B341=Dimension!$A$5),\"เดินทาง/ท่องเที่ยว\",\"\")","v":""},{"$f":"IF(OR(B341=Dimension!$A$6,B341=Dimension!$A$7,B341=Dimension!$A$8,B341=Dimension!$A$9),\"\",IF(OR(B341=Dimension!$A$3,B341=Dimension!$A$4,B341=Dimension!$A$5),\"สถานประกอบการ\",\"\"))","v":""},{"$f":"IF(OR(B341=Dimension!$A$3,B341=Dimension!$A$4,B341=Dimension!$A$5,B341=Dimension!$A$6,,B341=Dimension!$A$7,B341=Dimension!$A$8,B341=Dimension!$A$9),Payment_ID2,\"\")","v":""},null,{"$f":"IFERROR(VLOOKUP(K341,Dimension!$J$3:$K$179,2,FALSE),\"\")","v":""},null,null,{"$f":"IF(OR(B341=Dimension!$A$6,B341=Dimension!$A$7,B341=Dimension!$A$8,B341=Dimension!$A$9),\"\",IF(OR(B341=Dimension!$A$3,B341=Dimension!$A$4,B341=Dimension!$A$5),\"สถานประกอบการ\",\"\"))","v":""},{"$f":"IF(OR(B341=Dimension!$A$6,B341=Dimension!$A$7,B341=Dimension!$A$8,B341=Dimension!$A$9,B341=\"\"),\"\",Payment_ID2)","v":""},"",null,null,{"$f":"IF(D341=Dimension!$C$9,IF(LEFT(UPPER(E341),2)=\"MC\",TRUE,FALSE),TRUE)","v":true}]
[null,null,null,{"$f":"IF(B342=Dimension!$A$8,Dimension!$C$9,IF(B342=Dimension!$A$6,CD,\"\"))","v":""},null,{"$f":"IF(OR(B342=Dimension!$A$3,B342=Dimension!$A$4,B342=Dimension!$A$6,B342=Dimension!$A$8),CCYA,\"\")","v":""},{"$f":"IFERROR(VLOOKUP(F342,Dimension!$G$3:$H$252,2,FALSE),\"\")","v":""},{"$f":"IF(OR(B342=Dimension!$A$3,B342=Dimension!$A$4,B342=Dimension!$A$5),\"เดินทาง/ท่องเที่ยว\",\"\")","v":""},{"$f":"IF(OR(B342=Dimension!$A$6,B342=Dimension!$A$7,B342=Dimension!$A$8,B342=Dimension!$A$9),\"\",IF(OR(B342=Dimension!$A$3,B342=Dimension!$A$4,B342=Dimension!$A$5),\"สถานประกอบการ\",\"\"))","v":""},{"$f":"IF(OR(B342=Dimension!$A$3,B342=Dimension!$A$4,B342=Dimension!$A$5,B342=Dimension!$A$6,,B342=Dimension!$A$7,B342=Dimension!$A$8,B342=Dimension!$A$9),Payment_ID2,\"\")","v":""},null,{"$f":"IFERROR(VLOOKUP(K342,Dimension!$J$3:$K$179,2,FALSE),\"\")","v":""},null,null,{"$f":"IF(OR(B342=Dimension!$A$6,B342=Dimension!$A$7,B342=Dimension!$A$8,B342=Dimension!$A$9),\"\",IF(OR(B342=Dimension!$A$3,B342=Dimension!$A$4,B342=Dimension!$A$5),\"สถานประกอบการ\",\"\"))","v":""},{"$f":"IF(OR(B342=Dimension!$A$6,B342=Dimension!$A$7,B342=Dimension!$A$8,B342=Dimension!$A$9,B342=\"\"),\"\",Payment_ID2)","v":""},"",null,null,{"$f":"IF(D342=Dimension!$C$9,IF(LEFT(UPPER(E342),2)=\"MC\",TRUE,FALSE),TRUE)","v":true}]
[null,null,null,{"$f":"IF(B343=Dimension!$A$8,Dimension!$C$9,IF(B343=Dimension!$A$6,CD,\"\"))","v":""},null,{"$f":"IF(OR(B343=Dimension!$A$3,B343=Dimension!$A$4,B343=Dimension!$A$6,B343=Dimension!$A$8),CCYA,\"\")","v":""},{"$f":"IFERROR(VLOOKUP(F343,Dimension!$G$3:$H$252,2,FALSE),\"\")","v":""},{"$f":"IF(OR(B343=Dimension!$A$3,B343=Dimension!$A$4,B343=Dimension!$A$5),\"เดินทาง/ท่องเที่ยว\",\"\")","v":""},{"$f":"IF(OR(B343=Dimension!$A$6,B343=Dimension!$A$7,B343=Dimension!$A$8,B343=Dimension!$A$9),\"\",IF(OR(B343=Dimension!$A$3,B343=Dimension!$A$4,B343=Dimension!$A$5),\"สถานประกอบการ\",\"\"))","v":""},{"$f":"IF(OR(B343=Dimension!$A$3,B343=Dimension!$A$4,B343=Dimension!$A$5,B343=Dimension!$A$6,,B343=Dimension!$A$7,B343=Dimension!$A$8,B343=Dimension!$A$9),Payment_ID2,\"\")","v":""},null,{"$f":"IFERROR(VLOOKUP(K343,Dimension!$J$3:$K$179,2,FALSE),\"\")","v":""},null,null,{"$f":"IF(OR(B343=Dimension!$A$6,B343=Dimension!$A$7,B343=Dimension!$A$8,B343=Dimension!$A$9),\"\",IF(OR(B343=Dimension!$A$3,B343=Dimension!$A$4,B343=Dimension!$A$5),\"สถานประกอบการ\",\"\"))","v":""},{"$f":"IF(OR(B343=Dimension!$A$6,B343=Dimension!$A$7,B343=Dimension!$A$8,B343=Dimension!$A$9,B343=\"\"),\"\",Payment_ID2)","v":""},"",null,null,{"$f":"IF(D343=Dimension!$C$9,IF(LEFT(UPPER(E343),2)=\"MC\",TRUE,FALSE),TRUE)","v":true}]
[null,null,null,{"$f":"IF(B344=Dimension!$A$8,Dimension!$C$9,IF(B344=Dimension!$A$6,CD,\"\"))","v":""},null,{"$f":"IF(OR(B344=Dimension!$A$3,B344=Dimension!$A$4,B344=Dimension!$A$6,B344=Dimension!$A$8),CCYA,\"\")","v":""},{"$f":"IFERROR(VLOOKUP(F344,Dimension!$G$3:$H$252,2,FALSE),\"\")","v":""},{"$f":"IF(OR(B344=Dimension!$A$3,B344=Dimension!$A$4,B344=Dimension!$A$5),\"เดินทาง/ท่องเที่ยว\",\"\")","v":""},{"$f":"IF(OR(B344=Dimension!$A$6,B344=Dimension!$A$7,B344=Dimension!$A$8,B344=Dimension!$A$9),\"\",IF(OR(B344=Dimension!$A$3,B344=Dimension!$A$4,B344=Dimension!$A$5),\"สถานประกอบการ\",\"\"))","v":""},{"$f":"IF(OR(B344=Dimension!$A$3,B344=Dimension!$A$4,B344=Dimension!$A$5,B344=Dimension!$A$6,,B344=Dimension!$A$7,B344=Dimension!$A$8,B344=Dimension!$A$9),Payment_ID2,\"\")","v":""},null,{"$f":"IFERROR(VLOOKUP(K344,Dimension!$J$3:$K$179,2,FALSE),\"\")","v":""},null,null,{"$f":"IF(OR(B344=Dimension!$A$6,B344=Dimension!$A$7,B344=Dimension!$A$8,B344=Dimension!$A$9),\"\",IF(OR(B344=Dimension!$A$3,B344=Dimension!$A$4,B344=Dimension!$A$5),\"สถานประกอบการ\",\"\"))","v":""},{"$f":"IF(OR(B344=Dimension!$A$6,B344=Dimension!$A$7,B344=Dimension!$A$8,B344=Dimension!$A$9,B344=\"\"),\"\",Payment_ID2)","v":""},"",null,null,{"$f":"IF(D344=Dimension!$C$9,IF(LEFT(UPPER(E344),2)=\"MC\",TRUE,FALSE),TRUE)","v":true}]
[null,null,null,{"$f":"IF(B345=Dimension!$A$8,Dimension!$C$9,IF(B345=Dimension!$A$6,CD,\"\"))","v":""},null,{"$f":"IF(OR(B345=Dimension!$A$3,B345=Dimension!$A$4,B345=Dimension!$A$6,B345=Dimension!$A$8),CCYA,\"\")","v":""},{"$f":"IFERROR(VLOOKUP(F345,Dimension!$G$3:$H$252,2,FALSE),\"\")","v":""},{"$f":"IF(OR(B345=Dimension!$A$3,B345=Dimension!$A$4,B345=Dimension!$A$5),\"เดินทาง/ท่องเที่ยว\",\"\")","v":""},{"$f":"IF(OR(B345=Dimension!$A$6,B345=Dimension!$A$7,B345=Dimension!$A$8,B345=Dimension!$A$9),\"\",IF(OR(B345=Dimension!$A$3,B345=Dimension!$A$4,B345=Dimension!$A$5),\"สถานประกอบการ\",\"\"))","v":""},{"$f":"IF(OR(B345=Dimension!$A$3,B345=Dimension!$A$4,B345=Dimension!$A$5,B345=Dimension!$A$6,,B345=Dimension!$A$7,B345=Dimension!$A$8,B345=Dimension!$A$9),Payment_ID2,\"\")","v":""},null,{"$f":"IFERROR(VLOOKUP(K345,Dimension!$J$3:$K$179,2,FALSE),\"\")","v":""},null,null,{"$f":"IF(OR(B345=Dimension!$A$6,B345=Dimension!$A$7,B345=Dimension!$A$8,B345=Dimension!$A$9),\"\",IF(OR(B345=Dimension!$A$3,B345=Dimension!$A$4,B345=Dimension!$A$5),\"สถานประกอบการ\",\"\"))","v":""},{"$f":"IF(OR(B345=Dimension!$A$6,B345=Dimension!$A$7,B345=Dimension!$A$8,B345=Dimension!$A$9,B345=\"\"),\"\",Payment_ID2)","v":""},"",null,null,{"$f":"IF(D345=Dimension!$C$9,IF(LEFT(UPPER(E345),2)=\"MC\",TRUE,FALSE),TRUE)","v":true}]
[null,null,null,{"$f":"IF(B346=Dimension!$A$8,Dimension!$C$9,IF(B346=Dimension!$A$6,CD,\"\"))","v":""},null,{"$f":"IF(OR(B346=Dimension!$A$3,B346=Dimension!$A$4,B346=Dimension!$A$6,B346=Dimension!$A$8),CCYA,\"\")","v":""},{"$f":"IFERROR(VLOOKUP(F346,Dimension!$G$3:$H$252,2,FALSE),\"\")","v":""},{"$f":"IF(OR(B346=Dimension!$A$3,B346=Dimension!$A$4,B346=Dimension!$A$5),\"เดินทาง/ท่องเที่ยว\",\"\")","v":""},{"$f":"IF(OR(B346=Dimension!$A$6,B346=Dimension!$A$7,B346=Dimension!$A$8,B346=Dimension!$A$9),\"\",IF(OR(B346=Dimension!$A$3,B346=Dimension!$A$4,B346=Dimension!$A$5),\"สถานประกอบการ\",\"\"))","v":""},{"$f":"IF(OR(B346=Dimension!$A$3,B346=Dimension!$A$4,B346=Dimension!$A$5,B346=Dimension!$A$6,,B346=Dimension!$A$7,B346=Dimension!$A$8,B346=Dimension!$A$9),Payment_ID2,\"\")","v":""},null,{"$f":"IFERROR(VLOOKUP(K346,Dimension!$J$3:$K$179,2,FALSE),\"\")","v":""},null,null,{"$f":"IF(OR(B346=Dimension!$A$6,B346=Dimension!$A$7,B346=Dimension!$A$8,B346=Dimension!$A$9),\"\",IF(OR(B346=Dimension!$A$3,B346=Dimension!$A$4,B346=Dimension!$A$5),\"สถานประกอบการ\",\"\"))","v":""},{"$f":"IF(OR(B346=Dimension!$A$6,B346=Dimension!$A$7,B346=Dimension!$A$8,B346=Dimension!$A$9,B346=\"\"),\"\",Payment_ID2)","v":""},"",null,null,{"$f":"IF(D346=Dimension!$C$9,IF(LEFT(UPPER(E346),2)=\"MC\",TRUE,FALSE),TRUE)","v":true}]
[null,null,null,{"$f":"IF(B347=Dimension!$A$8,Dimension!$C$9,IF(B347=Dimension!$A$6,CD,\"\"))","v":""},null,{"$f":"IF(OR(B347=Dimension!$A$3,B347=Dimension!$A$4,B347=Dimension!$A$6,B347=Dimension!$A$8),CCYA,\"\")","v":""},{"$f":"IFERROR(VLOOKUP(F347,Dimension!$G$3:$H$252,2,FALSE),\"\")","v":""},{"$f":"IF(OR(B347=Dimension!$A$3,B347=Dimension!$A$4,B347=Dimension!$A$5),\"เดินทาง/ท่องเที่ยว\",\"\")","v":""},{"$f":"IF(OR(B347=Dimension!$A$6,B347=Dimension!$A$7,B347=Dimension!$A$8,B347=Dimension!$A$9),\"\",IF(OR(B347=Dimension!$A$3,B347=Dimension!$A$4,B347=Dimension!$A$5),\"สถานประกอบการ\",\"\"))","v":""},{"$f":"IF(OR(B347=Dimension!$A$3,B347=Dimension!$A$4,B347=Dimension!$A$5,B347=Dimension!$A$6,,B347=Dimension!$A$7,B347=Dimension!$A$8,B347=Dimension!$A$9),Payment_ID2,\"\")","v":""},null,{"$f":"IFERROR(VLOOKUP(K347,Dimension!$J$3:$K$179,2,FALSE),\"\")","v":""},null,null,{"$f":"IF(OR(B347=Dimension!$A$6,B347=Dimension!$A$7,B347=Dimension!$A$8,B347=Dimension!$A$9),\"\",IF(OR(B347=Dimension!$A$3,B347=Dimension!$A$4,B347=Dimension!$A$5),\"สถานประกอบการ\",\"\"))","v":""},{"$f":"IF(OR(B347=Dimension!$A$6,B347=Dimension!$A$7,B347=Dimension!$A$8,B347=Dimension!$A$9,B347=\"\"),\"\",Payment_ID2)","v":""},"",null,null,{"$f":"IF(D347=Dimension!$C$9,IF(LEFT(UPPER(E347),2)=\"MC\",TRUE,FALSE),TRUE)","v":true}]
[null,null,null,{"$f":"IF(B348=Dimension!$A$8,Dimension!$C$9,IF(B348=Dimension!$A$6,CD,\"\"))","v":""},null,{"$f":"IF(OR(B348=Dimension!$A$3,B348=Dimension!$A$4,B348=Dimension!$A$6,B348=Dimension!$A$8),CCYA,\"\")","v":""},{"$f":"IFERROR(VLOOKUP(F348,Dimension!$G$3:$H$252,2,FALSE),\"\")","v":""},{"$f":"IF(OR(B348=Dimension!$A$3,B348=Dimension!$A$4,B348=Dimension!$A$5),\"เดินทาง/ท่องเที่ยว\",\"\")","v":""},{"$f":"IF(OR(B348=Dimension!$A$6,B348=Dimension!$A$7,B348=Dimension!$A$8,B348=Dimension!$A$9),\"\",IF(OR(B348=Dimension!$A$3,B348=Dimension!$A$4,B348=Dimension!$A$5),\"สถานประกอบการ\",\"\"))","v":""},{"$f":"IF(OR(B348=Dimension!$A$3,B348=Dimension!$A$4,B348=Dimension!$A$5,B348=Dimension!$A$6,,B348=Dimension!$A$7,B348=Dimension!$A$8,B348=Dimension!$A$9),Payment_ID2,\"\")","v":""},null,{"$f":"IFERROR(VLOOKUP(K348,Dimension!$J$3:$K$179,2,FALSE),\"\")","v":""},null,null,{"$f":"IF(OR(B348=Dimension!$A$6,B348=Dimension!$A$7,B348=Dimension!$A$8,B348=Dimension!$A$9),\"\",IF(OR(B348=Dimension!$A$3,B348=Dimension!$A$4,B348=Dimension!$A$5),\"สถานประกอบการ\",\"\"))","v":""},{"$f":"IF(OR(B348=Dimension!$A$6,B348=Dimension!$A$7,B348=Dimension!$A$8,B348=Dimension!$A$9,B348=\"\"),\"\",Payment_ID2)","v":""},"",null,null,{"$f":"IF(D348=Dimension!$C$9,IF(LEFT(UPPER(E348),2)=\"MC\",TRUE,FALSE),TRUE)","v":true}]
[null,null,null,{"$f":"IF(B349=Dimension!$A$8,Dimension!$C$9,IF(B349=Dimension!$A$6,CD,\"\"))","v":""},null,{"$f":"IF(OR(B349=Dimension!$A$3,B349=Dimension!$A$4,B349=Dimension!$A$6,B349=Dimension!$A$8),CCYA,\"\")","v":""},{"$f":"IFERROR(VLOOKUP(F349,Dimension!$G$3:$H$252,2,FALSE),\"\")","v":""},{"$f":"IF(OR(B349=Dimension!$A$3,B349=Dimension!$A$4,B349=Dimension!$A$5),\"เดินทาง/ท่องเที่ยว\",\"\")","v":""},{"$f":"IF(OR(B349=Dimension!$A$6,B349=Dimension!$A$7,B349=Dimension!$A$8,B349=Dimension!$A$9),\"\",IF(OR(B349=Dimension!$A$3,B349=Dimension!$A$4,B349=Dimension!$A$5),\"สถานประกอบการ\",\"\"))","v":""},{"$f":"IF(OR(B349=Dimension!$A$3,B349=Dimension!$A$4,B349=Dimension!$A$5,B349=Dimension!$A$6,,B349=Dimension!$A$7,B349=Dimension!$A$8,B349=Dimension!$A$9),Payment_ID2,\"\")","v":""},null,{"$f":"IFERROR(VLOOKUP(K349,Dimension!$J$3:$K$179,2,FALSE),\"\")","v":""},null,null,{"$f":"IF(OR(B349=Dimension!$A$6,B349=Dimension!$A$7,B349=Dimension!$A$8,B349=Dimension!$A$9),\"\",IF(OR(B349=Dimension!$A$3,B349=Dimension!$A$4,B349=Dimension!$A$5),\"สถานประกอบการ\",\"\"))","v":""},{"$f":"IF(OR(B349=Dimension!$A$6,B349=Dimension!$A$7,B349=Dimension!$A$8,B349=Dimension!$A$9,B349=\"\"),\"\",Payment_ID2)","v":""},"",null,null,{"$f":"IF(D349=Dimension!$C$9,IF(LEFT(UPPER(E349),2)=\"MC\",TRUE,FALSE),TRUE)","v":true}]
[null,null,null,{"$f":"IF(B350=Dimension!$A$8,Dimension!$C$9,IF(B350=Dimension!$A$6,CD,\"\"))","v":""},null,{"$f":"IF(OR(B350=Dimension!$A$3,B350=Dimension!$A$4,B350=Dimension!$A$6,B350=Dimension!$A$8),CCYA,\"\")","v":""},{"$f":"IFERROR(VLOOKUP(F350,Dimension!$G$3:$H$252,2,FALSE),\"\")","v":""},{"$f":"IF(OR(B350=Dimension!$A$3,B350=Dimension!$A$4,B350=Dimension!$A$5),\"เดินทาง/ท่องเที่ยว\",\"\")","v":""},{"$f":"IF(OR(B350=Dimension!$A$6,B350=Dimension!$A$7,B350=Dimension!$A$8,B350=Dimension!$A$9),\"\",IF(OR(B350=Dimension!$A$3,B350=Dimension!$A$4,B350=Dimension!$A$5),\"สถานประกอบการ\",\"\"))","v":""},{"$f":"IF(OR(B350=Dimension!$A$3,B350=Dimension!$A$4,B350=Dimension!$A$5,B350=Dimension!$A$6,,B350=Dimension!$A$7,B350=Dimension!$A$8,B350=Dimension!$A$9),Payment_ID2,\"\")","v":""},null,{"$f":"IFERROR(VLOOKUP(K350,Dimension!$J$3:$K$179,2,FALSE),\"\")","v":""},null,null,{"$f":"IF(OR(B350=Dimension!$A$6,B350=Dimension!$A$7,B350=Dimension!$A$8,B350=Dimension!$A$9),\"\",IF(OR(B350=Dimension!$A$3,B350=Dimension!$A$4,B350=Dimension!$A$5),\"สถานประกอบการ\",\"\"))","v":""},{"$f":"IF(OR(B350=Dimension!$A$6,B350=Dimension!$A$7,B350=Dimension!$A$8,B350=Dimension!$A$9,B350=\"\"),\"\",Payment_ID2)","v":""},"",null,null,{"$f":"IF(D350=Dimension!$C$9,IF(LEFT(UPPER(E350),2)=\"MC\",TRUE,FALSE),TRUE)","v":true}]
[null,null,null,{"$f":"IF(B351=Dimension!$A$8,Dimension!$C$9,IF(B351=Dimension!$A$6,CD,\"\"))","v":""},null,{"$f":"IF(OR(B351=Dimension!$A$3,B351=Dimension!$A$4,B351=Dimension!$A$6,B351=Dimension!$A$8),CCYA,\"\")","v":""},{"$f":"IFERROR(VLOOKUP(F351,Dimension!$G$3:$H$252,2,FALSE),\"\")","v":""},{"$f":"IF(OR(B351=Dimension!$A$3,B351=Dimension!$A$4,B351=Dimension!$A$5),\"เดินทาง/ท่องเที่ยว\",\"\")","v":""},{"$f":"IF(OR(B351=Dimension!$A$6,B351=Dimension!$A$7,B351=Dimension!$A$8,B351=Dimension!$A$9),\"\",IF(OR(B351=Dimension!$A$3,B351=Dimension!$A$4,B351=Dimension!$A$5),\"สถานประกอบการ\",\"\"))","v":""},{"$f":"IF(OR(B351=Dimension!$A$3,B351=Dimension!$A$4,B351=Dimension!$A$5,B351=Dimension!$A$6,,B351=Dimension!$A$7,B351=Dimension!$A$8,B351=Dimension!$A$9),Payment_ID2,\"\")","v":""},null,{"$f":"IFERROR(VLOOKUP(K351,Dimension!$J$3:$K$179,2,FALSE),\"\")","v":""},null,null,{"$f":"IF(OR(B351=Dimension!$A$6,B351=Dimension!$A$7,B351=Dimension!$A$8,B351=Dimension!$A$9),\"\",IF(OR(B351=Dimension!$A$3,B351=Dimension!$A$4,B351=Dimension!$A$5),\"สถานประกอบการ\",\"\"))","v":""},{"$f":"IF(OR(B351=Dimension!$A$6,B351=Dimension!$A$7,B351=Dimension!$A$8,B351=Dimension!$A$9,B351=\"\"),\"\",Payment_ID2)","v":""},"",null,null,{"$f":"IF(D351=Dimension!$C$9,IF(LEFT(UPPER(E351),2)=\"MC\",TRUE,FALSE),TRUE)","v":true}]
[null,null,null,{"$f":"IF(B352=Dimension!$A$8,Dimension!$C$9,IF(B352=Dimension!$A$6,CD,\"\"))","v":""},null,{"$f":"IF(OR(B352=Dimension!$A$3,B352=Dimension!$A$4,B352=Dimension!$A$6,B352=Dimension!$A$8),CCYA,\"\")","v":""},{"$f":"IFERROR(VLOOKUP(F352,Dimension!$G$3:$H$252,2,FALSE),\"\")","v":""},{"$f":"IF(OR(B352=Dimension!$A$3,B352=Dimension!$A$4,B352=Dimension!$A$5),\"เดินทาง/ท่องเที่ยว\",\"\")","v":""},{"$f":"IF(OR(B352=Dimension!$A$6,B352=Dimension!$A$7,B352=Dimension!$A$8,B352=Dimension!$A$9),\"\",IF(OR(B352=Dimension!$A$3,B352=Dimension!$A$4,B352=Dimension!$A$5),\"สถานประกอบการ\",\"\"))","v":""},{"$f":"IF(OR(B352=Dimension!$A$3,B352=Dimension!$A$4,B352=Dimension!$A$5,B352=Dimension!$A$6,,B352=Dimension!$A$7,B352=Dimension!$A$8,B352=Dimension!$A$9),Payment_ID2,\"\")","v":""},null,{"$f":"IFERROR(VLOOKUP(K352,Dimension!$J$3:$K$179,2,FALSE),\"\")","v":""},null,null,{"$f":"IF(OR(B352=Dimension!$A$6,B352=Dimension!$A$7,B352=Dimension!$A$8,B352=Dimension!$A$9),\"\",IF(OR(B352=Dimension!$A$3,B352=Dimension!$A$4,B352=Dimension!$A$5),\"สถานประกอบการ\",\"\"))","v":""},{"$f":"IF(OR(B352=Dimension!$A$6,B352=Dimension!$A$7,B352=Dimension!$A$8,B352=Dimension!$A$9,B352=\"\"),\"\",Payment_ID2)","v":""},"",null,null,{"$f":"IF(D352=Dimension!$C$9,IF(LEFT(UPPER(E352),2)=\"MC\",TRUE,FALSE),TRUE)","v":true}]
[null,null,null,{"$f":"IF(B353=Dimension!$A$8,Dimension!$C$9,IF(B353=Dimension!$A$6,CD,\"\"))","v":""},null,{"$f":"IF(OR(B353=Dimension!$A$3,B353=Dimension!$A$4,B353=Dimension!$A$6,B353=Dimension!$A$8),CCYA,\"\")","v":""},{"$f":"IFERROR(VLOOKUP(F353,Dimension!$G$3:$H$252,2,FALSE),\"\")","v":""},{"$f":"IF(OR(B353=Dimension!$A$3,B353=Dimension!$A$4,B353=Dimension!$A$5),\"เดินทาง/ท่องเที่ยว\",\"\")","v":""},{"$f":"IF(OR(B353=Dimension!$A$6,B353=Dimension!$A$7,B353=Dimension!$A$8,B353=Dimension!$A$9),\"\",IF(OR(B353=Dimension!$A$3,B353=Dimension!$A$4,B353=Dimension!$A$5),\"สถานประกอบการ\",\"\"))","v":""},{"$f":"IF(OR(B353=Dimension!$A$3,B353=Dimension!$A$4,B353=Dimension!$A$5,B353=Dimension!$A$6,,B353=Dimension!$A$7,B353=Dimension!$A$8,B353=Dimension!$A$9),Payment_ID2,\"\")","v":""},null,{"$f":"IFERROR(VLOOKUP(K353,Dimension!$J$3:$K$179,2,FALSE),\"\")","v":""},null,null,{"$f":"IF(OR(B353=Dimension!$A$6,B353=Dimension!$A$7,B353=Dimension!$A$8,B353=Dimension!$A$9),\"\",IF(OR(B353=Dimension!$A$3,B353=Dimension!$A$4,B353=Dimension!$A$5),\"สถานประกอบการ\",\"\"))","v":""},{"$f":"IF(OR(B353=Dimension!$A$6,B353=Dimension!$A$7,B353=Dimension!$A$8,B353=Dimension!$A$9,B353=\"\"),\"\",Payment_ID2)","v":""},"",null,null,{"$f":"IF(D353=Dimension!$C$9,IF(LEFT(UPPER(E353),2)=\"MC\",TRUE,FALSE),TRUE)","v":true}]
[null,null,null,{"$f":"IF(B354=Dimension!$A$8,Dimension!$C$9,IF(B354=Dimension!$A$6,CD,\"\"))","v":""},null,{"$f":"IF(OR(B354=Dimension!$A$3,B354=Dimension!$A$4,B354=Dimension!$A$6,B354=Dimension!$A$8),CCYA,\"\")","v":""},{"$f":"IFERROR(VLOOKUP(F354,Dimension!$G$3:$H$252,2,FALSE),\"\")","v":""},{"$f":"IF(OR(B354=Dimension!$A$3,B354=Dimension!$A$4,B354=Dimension!$A$5),\"เดินทาง/ท่องเที่ยว\",\"\")","v":""},{"$f":"IF(OR(B354=Dimension!$A$6,B354=Dimension!$A$7,B354=Dimension!$A$8,B354=Dimension!$A$9),\"\",IF(OR(B354=Dimension!$A$3,B354=Dimension!$A$4,B354=Dimension!$A$5),\"สถานประกอบการ\",\"\"))","v":""},{"$f":"IF(OR(B354=Dimension!$A$3,B354=Dimension!$A$4,B354=Dimension!$A$5,B354=Dimension!$A$6,,B354=Dimension!$A$7,B354=Dimension!$A$8,B354=Dimension!$A$9),Payment_ID2,\"\")","v":""},null,{"$f":"IFERROR(VLOOKUP(K354,Dimension!$J$3:$K$179,2,FALSE),\"\")","v":""},null,null,{"$f":"IF(OR(B354=Dimension!$A$6,B354=Dimension!$A$7,B354=Dimension!$A$8,B354=Dimension!$A$9),\"\",IF(OR(B354=Dimension!$A$3,B354=Dimension!$A$4,B354=Dimension!$A$5),\"สถานประกอบการ\",\"\"))","v":""},{"$f":"IF(OR(B354=Dimension!$A$6,B354=Dimension!$A$7,B354=Dimension!$A$8,B354=Dimension!$A$9,B354=\"\"),\"\",Payment_ID2)","v":""},"",null,null,{"$f":"IF(D354=Dimension!$C$9,IF(LEFT(UPPER(E354),2)=\"MC\",TRUE,FALSE),TRUE)","v":true}]
[null,null,null,{"$f":"IF(B355=Dimension!$A$8,Dimension!$C$9,IF(B355=Dimension!$A$6,CD,\"\"))","v":""},null,{"$f":"IF(OR(B355=Dimension!$A$3,B355=Dimension!$A$4,B355=Dimension!$A$6,B355=Dimension!$A$8),CCYA,\"\")","v":""},{"$f":"IFERROR(VLOOKUP(F355,Dimension!$G$3:$H$252,2,FALSE),\"\")","v":""},{"$f":"IF(OR(B355=Dimension!$A$3,B355=Dimension!$A$4,B355=Dimension!$A$5),\"เดินทาง/ท่องเที่ยว\",\"\")","v":""},{"$f":"IF(OR(B355=Dimension!$A$6,B355=Dimension!$A$7,B355=Dimension!$A$8,B355=Dimension!$A$9),\"\",IF(OR(B355=Dimension!$A$3,B355=Dimension!$A$4,B355=Dimension!$A$5),\"สถานประกอบการ\",\"\"))","v":""},{"$f":"IF(OR(B355=Dimension!$A$3,B355=Dimension!$A$4,B355=Dimension!$A$5,B355=Dimension!$A$6,,B355=Dimension!$A$7,B355=Dimension!$A$8,B355=Dimension!$A$9),Payment_ID2,\"\")","v":""},null,{"$f":"IFERROR(VLOOKUP(K355,Dimension!$J$3:$K$179,2,FALSE),\"\")","v":""},null,null,{"$f":"IF(OR(B355=Dimension!$A$6,B355=Dimension!$A$7,B355=Dimension!$A$8,B355=Dimension!$A$9),\"\",IF(OR(B355=Dimension!$A$3,B355=Dimension!$A$4,B355=Dimension!$A$5),\"สถานประกอบการ\",\"\"))","v":""},{"$f":"IF(OR(B355=Dimension!$A$6,B355=Dimension!$A$7,B355=Dimension!$A$8,B355=Dimension!$A$9,B355=\"\"),\"\",Payment_ID2)","v":""},"",null,null,{"$f":"IF(D355=Dimension!$C$9,IF(LEFT(UPPER(E355),2)=\"MC\",TRUE,FALSE),TRUE)","v":true}]
[null,null,null,{"$f":"IF(B356=Dimension!$A$8,Dimension!$C$9,IF(B356=Dimension!$A$6,CD,\"\"))","v":""},null,{"$f":"IF(OR(B356=Dimension!$A$3,B356=Dimension!$A$4,B356=Dimension!$A$6,B356=Dimension!$A$8),CCYA,\"\")","v":""},{"$f":"IFERROR(VLOOKUP(F356,Dimension!$G$3:$H$252,2,FALSE),\"\")","v":""},{"$f":"IF(OR(B356=Dimension!$A$3,B356=Dimension!$A$4,B356=Dimension!$A$5),\"เดินทาง/ท่องเที่ยว\",\"\")","v":""},{"$f":"IF(OR(B356=Dimension!$A$6,B356=Dimension!$A$7,B356=Dimension!$A$8,B356=Dimension!$A$9),\"\",IF(OR(B356=Dimension!$A$3,B356=Dimension!$A$4,B356=Dimension!$A$5),\"สถานประกอบการ\",\"\"))","v":""},{"$f":"IF(OR(B356=Dimension!$A$3,B356=Dimension!$A$4,B356=Dimension!$A$5,B356=Dimension!$A$6,,B356=Dimension!$A$7,B356=Dimension!$A$8,B356=Dimension!$A$9),Payment_ID2,\"\")","v":""},null,{"$f":"IFERROR(VLOOKUP(K356,Dimension!$J$3:$K$179,2,FALSE),\"\")","v":""},null,null,{"$f":"IF(OR(B356=Dimension!$A$6,B356=Dimension!$A$7,B356=Dimension!$A$8,B356=Dimension!$A$9),\"\",IF(OR(B356=Dimension!$A$3,B356=Dimension!$A$4,B356=Dimension!$A$5),\"สถานประกอบการ\",\"\"))","v":""},{"$f":"IF(OR(B356=Dimension!$A$6,B356=Dimension!$A$7,B356=Dimension!$A$8,B356=Dimension!$A$9,B356=\"\"),\"\",Payment_ID2)","v":""},"",null,null,{"$f":"IF(D356=Dimension!$C$9,IF(LEFT(UPPER(E356),2)=\"MC\",TRUE,FALSE),TRUE)","v":true}]
[null,null,null,{"$f":"IF(B357=Dimension!$A$8,Dimension!$C$9,IF(B357=Dimension!$A$6,CD,\"\"))","v":""},null,{"$f":"IF(OR(B357=Dimension!$A$3,B357=Dimension!$A$4,B357=Dimension!$A$6,B357=Dimension!$A$8),CCYA,\"\")","v":""},{"$f":"IFERROR(VLOOKUP(F357,Dimension!$G$3:$H$252,2,FALSE),\"\")","v":""},{"$f":"IF(OR(B357=Dimension!$A$3,B357=Dimension!$A$4,B357=Dimension!$A$5),\"เดินทาง/ท่องเที่ยว\",\"\")","v":""},{"$f":"IF(OR(B357=Dimension!$A$6,B357=Dimension!$A$7,B357=Dimension!$A$8,B357=Dimension!$A$9),\"\",IF(OR(B357=Dimension!$A$3,B357=Dimension!$A$4,B357=Dimension!$A$5),\"สถานประกอบการ\",\"\"))","v":""},{"$f":"IF(OR(B357=Dimension!$A$3,B357=Dimension!$A$4,B357=Dimension!$A$5,B357=Dimension!$A$6,,B357=Dimension!$A$7,B357=Dimension!$A$8,B357=Dimension!$A$9),Payment_ID2,\"\")","v":""},null,{"$f":"IFERROR(VLOOKUP(K357,Dimension!$J$3:$K$179,2,FALSE),\"\")","v":""},null,null,{"$f":"IF(OR(B357=Dimension!$A$6,B357=Dimension!$A$7,B357=Dimension!$A$8,B357=Dimension!$A$9),\"\",IF(OR(B357=Dimension!$A$3,B357=Dimension!$A$4,B357=Dimension!$A$5),\"สถานประกอบการ\",\"\"))","v":""},{"$f":"IF(OR(B357=Dimension!$A$6,B357=Dimension!$A$7,B357=Dimension!$A$8,B357=Dimension!$A$9,B357=\"\"),\"\",Payment_ID2)","v":""},"",null,null,{"$f":"IF(D357=Dimension!$C$9,IF(LEFT(UPPER(E357),2)=\"MC\",TRUE,FALSE),TRUE)","v":true}]
[null,null,null,{"$f":"IF(B358=Dimension!$A$8,Dimension!$C$9,IF(B358=Dimension!$A$6,CD,\"\"))","v":""},null,{"$f":"IF(OR(B358=Dimension!$A$3,B358=Dimension!$A$4,B358=Dimension!$A$6,B358=Dimension!$A$8),CCYA,\"\")","v":""},{"$f":"IFERROR(VLOOKUP(F358,Dimension!$G$3:$H$252,2,FALSE),\"\")","v":""},{"$f":"IF(OR(B358=Dimension!$A$3,B358=Dimension!$A$4,B358=Dimension!$A$5),\"เดินทาง/ท่องเที่ยว\",\"\")","v":""},{"$f":"IF(OR(B358=Dimension!$A$6,B358=Dimension!$A$7,B358=Dimension!$A$8,B358=Dimension!$A$9),\"\",IF(OR(B358=Dimension!$A$3,B358=Dimension!$A$4,B358=Dimension!$A$5),\"สถานประกอบการ\",\"\"))","v":""},{"$f":"IF(OR(B358=Dimension!$A$3,B358=Dimension!$A$4,B358=Dimension!$A$5,B358=Dimension!$A$6,,B358=Dimension!$A$7,B358=Dimension!$A$8,B358=Dimension!$A$9),Payment_ID2,\"\")","v":""},null,{"$f":"IFERROR(VLOOKUP(K358,Dimension!$J$3:$K$179,2,FALSE),\"\")","v":""},null,null,{"$f":"IF(OR(B358=Dimension!$A$6,B358=Dimension!$A$7,B358=Dimension!$A$8,B358=Dimension!$A$9),\"\",IF(OR(B358=Dimension!$A$3,B358=Dimension!$A$4,B358=Dimension!$A$5),\"สถานประกอบการ\",\"\"))","v":""},{"$f":"IF(OR(B358=Dimension!$A$6,B358=Dimension!$A$7,B358=Dimension!$A$8,B358=Dimension!$A$9,B358=\"\"),\"\",Payment_ID2)","v":""},"",null,null,{"$f":"IF(D358=Dimension!$C$9,IF(LEFT(UPPER(E358),2)=\"MC\",TRUE,FALSE),TRUE)","v":true}]
[null,null,null,{"$f":"IF(B359=Dimension!$A$8,Dimension!$C$9,IF(B359=Dimension!$A$6,CD,\"\"))","v":""},null,{"$f":"IF(OR(B359=Dimension!$A$3,B359=Dimension!$A$4,B359=Dimension!$A$6,B359=Dimension!$A$8),CCYA,\"\")","v":""},{"$f":"IFERROR(VLOOKUP(F359,Dimension!$G$3:$H$252,2,FALSE),\"\")","v":""},{"$f":"IF(OR(B359=Dimension!$A$3,B359=Dimension!$A$4,B359=Dimension!$A$5),\"เดินทาง/ท่องเที่ยว\",\"\")","v":""},{"$f":"IF(OR(B359=Dimension!$A$6,B359=Dimension!$A$7,B359=Dimension!$A$8,B359=Dimension!$A$9),\"\",IF(OR(B359=Dimension!$A$3,B359=Dimension!$A$4,B359=Dimension!$A$5),\"สถานประกอบการ\",\"\"))","v":""},{"$f":"IF(OR(B359=Dimension!$A$3,B359=Dimension!$A$4,B359=Dimension!$A$5,B359=Dimension!$A$6,,B359=Dimension!$A$7,B359=Dimension!$A$8,B359=Dimension!$A$9),Payment_ID2,\"\")","v":""},null,{"$f":"IFERROR(VLOOKUP(K359,Dimension!$J$3:$K$179,2,FALSE),\"\")","v":""},null,null,{"$f":"IF(OR(B359=Dimension!$A$6,B359=Dimension!$A$7,B359=Dimension!$A$8,B359=Dimension!$A$9),\"\",IF(OR(B359=Dimension!$A$3,B359=Dimension!$A$4,B359=Dimension!$A$5),\"สถานประกอบการ\",\"\"))","v":""},{"$f":"IF(OR(B359=Dimension!$A$6,B359=Dimension!$A$7,B359=Dimension!$A$8,B359=Dimension!$A$9,B359=\"\"),\"\",Payment_ID2)","v":""},"",null,null,{"$f":"IF(D359=Dimension!$C$9,IF(LEFT(UPPER(E359),2)=\"MC\",TRUE,FALSE),TRUE)","v":true}]
[null,null,null,{"$f":"IF(B360=Dimension!$A$8,Dimension!$C$9,IF(B360=Dimension!$A$6,CD,\"\"))","v":""},null,{"$f":"IF(OR(B360=Dimension!$A$3,B360=Dimension!$A$4,B360=Dimension!$A$6,B360=Dimension!$A$8),CCYA,\"\")","v":""},{"$f":"IFERROR(VLOOKUP(F360,Dimension!$G$3:$H$252,2,FALSE),\"\")","v":""},{"$f":"IF(OR(B360=Dimension!$A$3,B360=Dimension!$A$4,B360=Dimension!$A$5),\"เดินทาง/ท่องเที่ยว\",\"\")","v":""},{"$f":"IF(OR(B360=Dimension!$A$6,B360=Dimension!$A$7,B360=Dimension!$A$8,B360=Dimension!$A$9),\"\",IF(OR(B360=Dimension!$A$3,B360=Dimension!$A$4,B360=Dimension!$A$5),\"สถานประกอบการ\",\"\"))","v":""},{"$f":"IF(OR(B360=Dimension!$A$3,B360=Dimension!$A$4,B360=Dimension!$A$5,B360=Dimension!$A$6,,B360=Dimension!$A$7,B360=Dimension!$A$8,B360=Dimension!$A$9),Payment_ID2,\"\")","v":""},null,{"$f":"IFERROR(VLOOKUP(K360,Dimension!$J$3:$K$179,2,FALSE),\"\")","v":""},null,null,{"$f":"IF(OR(B360=Dimension!$A$6,B360=Dimension!$A$7,B360=Dimension!$A$8,B360=Dimension!$A$9),\"\",IF(OR(B360=Dimension!$A$3,B360=Dimension!$A$4,B360=Dimension!$A$5),\"สถานประกอบการ\",\"\"))","v":""},{"$f":"IF(OR(B360=Dimension!$A$6,B360=Dimension!$A$7,B360=Dimension!$A$8,B360=Dimension!$A$9,B360=\"\"),\"\",Payment_ID2)","v":""},"",null,null,{"$f":"IF(D360=Dimension!$C$9,IF(LEFT(UPPER(E360),2)=\"MC\",TRUE,FALSE),TRUE)","v":true}]
[null,null,null,{"$f":"IF(B361=Dimension!$A$8,Dimension!$C$9,IF(B361=Dimension!$A$6,CD,\"\"))","v":""},null,{"$f":"IF(OR(B361=Dimension!$A$3,B361=Dimension!$A$4,B361=Dimension!$A$6,B361=Dimension!$A$8),CCYA,\"\")","v":""},{"$f":"IFERROR(VLOOKUP(F361,Dimension!$G$3:$H$252,2,FALSE),\"\")","v":""},{"$f":"IF(OR(B361=Dimension!$A$3,B361=Dimension!$A$4,B361=Dimension!$A$5),\"เดินทาง/ท่องเที่ยว\",\"\")","v":""},{"$f":"IF(OR(B361=Dimension!$A$6,B361=Dimension!$A$7,B361=Dimension!$A$8,B361=Dimension!$A$9),\"\",IF(OR(B361=Dimension!$A$3,B361=Dimension!$A$4,B361=Dimension!$A$5),\"สถานประกอบการ\",\"\"))","v":""},{"$f":"IF(OR(B361=Dimension!$A$3,B361=Dimension!$A$4,B361=Dimension!$A$5,B361=Dimension!$A$6,,B361=Dimension!$A$7,B361=Dimension!$A$8,B361=Dimension!$A$9),Payment_ID2,\"\")","v":""},null,{"$f":"IFERROR(VLOOKUP(K361,Dimension!$J$3:$K$179,2,FALSE),\"\")","v":""},null,null,{"$f":"IF(OR(B361=Dimension!$A$6,B361=Dimension!$A$7,B361=Dimension!$A$8,B361=Dimension!$A$9),\"\",IF(OR(B361=Dimension!$A$3,B361=Dimension!$A$4,B361=Dimension!$A$5),\"สถานประกอบการ\",\"\"))","v":""},{"$f":"IF(OR(B361=Dimension!$A$6,B361=Dimension!$A$7,B361=Dimension!$A$8,B361=Dimension!$A$9,B361=\"\"),\"\",Payment_ID2)","v":""},"",null,null,{"$f":"IF(D361=Dimension!$C$9,IF(LEFT(UPPER(E361),2)=\"MC\",TRUE,FALSE),TRUE)","v":true}]
[null,null,null,{"$f":"IF(B362=Dimension!$A$8,Dimension!$C$9,IF(B362=Dimension!$A$6,CD,\"\"))","v":""},null,{"$f":"IF(OR(B362=Dimension!$A$3,B362=Dimension!$A$4,B362=Dimension!$A$6,B362=Dimension!$A$8),CCYA,\"\")","v":""},{"$f":"IFERROR(VLOOKUP(F362,Dimension!$G$3:$H$252,2,FALSE),\"\")","v":""},{"$f":"IF(OR(B362=Dimension!$A$3,B362=Dimension!$A$4,B362=Dimension!$A$5),\"เดินทาง/ท่องเที่ยว\",\"\")","v":""},{"$f":"IF(OR(B362=Dimension!$A$6,B362=Dimension!$A$7,B362=Dimension!$A$8,B362=Dimension!$A$9),\"\",IF(OR(B362=Dimension!$A$3,B362=Dimension!$A$4,B362=Dimension!$A$5),\"สถานประกอบการ\",\"\"))","v":""},{"$f":"IF(OR(B362=Dimension!$A$3,B362=Dimension!$A$4,B362=Dimension!$A$5,B362=Dimension!$A$6,,B362=Dimension!$A$7,B362=Dimension!$A$8,B362=Dimension!$A$9),Payment_ID2,\"\")","v":""},null,{"$f":"IFERROR(VLOOKUP(K362,Dimension!$J$3:$K$179,2,FALSE),\"\")","v":""},null,null,{"$f":"IF(OR(B362=Dimension!$A$6,B362=Dimension!$A$7,B362=Dimension!$A$8,B362=Dimension!$A$9),\"\",IF(OR(B362=Dimension!$A$3,B362=Dimension!$A$4,B362=Dimension!$A$5),\"สถานประกอบการ\",\"\"))","v":""},{"$f":"IF(OR(B362=Dimension!$A$6,B362=Dimension!$A$7,B362=Dimension!$A$8,B362=Dimension!$A$9,B362=\"\"),\"\",Payment_ID2)","v":""},"",null,null,{"$f":"IF(D362=Dimension!$C$9,IF(LEFT(UPPER(E362),2)=\"MC\",TRUE,FALSE),TRUE)","v":true}]
[null,null,null,{"$f":"IF(B363=Dimension!$A$8,Dimension!$C$9,IF(B363=Dimension!$A$6,CD,\"\"))","v":""},null,{"$f":"IF(OR(B363=Dimension!$A$3,B363=Dimension!$A$4,B363=Dimension!$A$6,B363=Dimension!$A$8),CCYA,\"\")","v":""},{"$f":"IFERROR(VLOOKUP(F363,Dimension!$G$3:$H$252,2,FALSE),\"\")","v":""},{"$f":"IF(OR(B363=Dimension!$A$3,B363=Dimension!$A$4,B363=Dimension!$A$5),\"เดินทาง/ท่องเที่ยว\",\"\")","v":""},{"$f":"IF(OR(B363=Dimension!$A$6,B363=Dimension!$A$7,B363=Dimension!$A$8,B363=Dimension!$A$9),\"\",IF(OR(B363=Dimension!$A$3,B363=Dimension!$A$4,B363=Dimension!$A$5),\"สถานประกอบการ\",\"\"))","v":""},{"$f":"IF(OR(B363=Dimension!$A$3,B363=Dimension!$A$4,B363=Dimension!$A$5,B363=Dimension!$A$6,,B363=Dimension!$A$7,B363=Dimension!$A$8,B363=Dimension!$A$9),Payment_ID2,\"\")","v":""},null,{"$f":"IFERROR(VLOOKUP(K363,Dimension!$J$3:$K$179,2,FALSE),\"\")","v":""},null,null,{"$f":"IF(OR(B363=Dimension!$A$6,B363=Dimension!$A$7,B363=Dimension!$A$8,B363=Dimension!$A$9),\"\",IF(OR(B363=Dimension!$A$3,B363=Dimension!$A$4,B363=Dimension!$A$5),\"สถานประกอบการ\",\"\"))","v":""},{"$f":"IF(OR(B363=Dimension!$A$6,B363=Dimension!$A$7,B363=Dimension!$A$8,B363=Dimension!$A$9,B363=\"\"),\"\",Payment_ID2)","v":""},"",null,null,{"$f":"IF(D363=Dimension!$C$9,IF(LEFT(UPPER(E363),2)=\"MC\",TRUE,FALSE),TRUE)","v":true}]
[null,null,null,{"$f":"IF(B364=Dimension!$A$8,Dimension!$C$9,IF(B364=Dimension!$A$6,CD,\"\"))","v":""},null,{"$f":"IF(OR(B364=Dimension!$A$3,B364=Dimension!$A$4,B364=Dimension!$A$6,B364=Dimension!$A$8),CCYA,\"\")","v":""},{"$f":"IFERROR(VLOOKUP(F364,Dimension!$G$3:$H$252,2,FALSE),\"\")","v":""},{"$f":"IF(OR(B364=Dimension!$A$3,B364=Dimension!$A$4,B364=Dimension!$A$5),\"เดินทาง/ท่องเที่ยว\",\"\")","v":""},{"$f":"IF(OR(B364=Dimension!$A$6,B364=Dimension!$A$7,B364=Dimension!$A$8,B364=Dimension!$A$9),\"\",IF(OR(B364=Dimension!$A$3,B364=Dimension!$A$4,B364=Dimension!$A$5),\"สถานประกอบการ\",\"\"))","v":""},{"$f":"IF(OR(B364=Dimension!$A$3,B364=Dimension!$A$4,B364=Dimension!$A$5,B364=Dimension!$A$6,,B364=Dimension!$A$7,B364=Dimension!$A$8,B364=Dimension!$A$9),Payment_ID2,\"\")","v":""},null,{"$f":"IFERROR(VLOOKUP(K364,Dimension!$J$3:$K$179,2,FALSE),\"\")","v":""},null,null,{"$f":"IF(OR(B364=Dimension!$A$6,B364=Dimension!$A$7,B364=Dimension!$A$8,B364=Dimension!$A$9),\"\",IF(OR(B364=Dimension!$A$3,B364=Dimension!$A$4,B364=Dimension!$A$5),\"สถานประกอบการ\",\"\"))","v":""},{"$f":"IF(OR(B364=Dimension!$A$6,B364=Dimension!$A$7,B364=Dimension!$A$8,B364=Dimension!$A$9,B364=\"\"),\"\",Payment_ID2)","v":""},"",null,null,{"$f":"IF(D364=Dimension!$C$9,IF(LEFT(UPPER(E364),2)=\"MC\",TRUE,FALSE),TRUE)","v":true}]
[null,null,null,{"$f":"IF(B365=Dimension!$A$8,Dimension!$C$9,IF(B365=Dimension!$A$6,CD,\"\"))","v":""},null,{"$f":"IF(OR(B365=Dimension!$A$3,B365=Dimension!$A$4,B365=Dimension!$A$6,B365=Dimension!$A$8),CCYA,\"\")","v":""},{"$f":"IFERROR(VLOOKUP(F365,Dimension!$G$3:$H$252,2,FALSE),\"\")","v":""},{"$f":"IF(OR(B365=Dimension!$A$3,B365=Dimension!$A$4,B365=Dimension!$A$5),\"เดินทาง/ท่องเที่ยว\",\"\")","v":""},{"$f":"IF(OR(B365=Dimension!$A$6,B365=Dimension!$A$7,B365=Dimension!$A$8,B365=Dimension!$A$9),\"\",IF(OR(B365=Dimension!$A$3,B365=Dimension!$A$4,B365=Dimension!$A$5),\"สถานประกอบการ\",\"\"))","v":""},{"$f":"IF(OR(B365=Dimension!$A$3,B365=Dimension!$A$4,B365=Dimension!$A$5,B365=Dimension!$A$6,,B365=Dimension!$A$7,B365=Dimension!$A$8,B365=Dimension!$A$9),Payment_ID2,\"\")","v":""},null,{"$f":"IFERROR(VLOOKUP(K365,Dimension!$J$3:$K$179,2,FALSE),\"\")","v":""},null,null,{"$f":"IF(OR(B365=Dimension!$A$6,B365=Dimension!$A$7,B365=Dimension!$A$8,B365=Dimension!$A$9),\"\",IF(OR(B365=Dimension!$A$3,B365=Dimension!$A$4,B365=Dimension!$A$5),\"สถานประกอบการ\",\"\"))","v":""},{"$f":"IF(OR(B365=Dimension!$A$6,B365=Dimension!$A$7,B365=Dimension!$A$8,B365=Dimension!$A$9,B365=\"\"),\"\",Payment_ID2)","v":""},"",null,null,{"$f":"IF(D365=Dimension!$C$9,IF(LEFT(UPPER(E365),2)=\"MC\",TRUE,FALSE),TRUE)","v":true}]
[null,null,null,{"$f":"IF(B366=Dimension!$A$8,Dimension!$C$9,IF(B366=Dimension!$A$6,CD,\"\"))","v":""},null,{"$f":"IF(OR(B366=Dimension!$A$3,B366=Dimension!$A$4,B366=Dimension!$A$6,B366=Dimension!$A$8),CCYA,\"\")","v":""},{"$f":"IFERROR(VLOOKUP(F366,Dimension!$G$3:$H$252,2,FALSE),\"\")","v":""},{"$f":"IF(OR(B366=Dimension!$A$3,B366=Dimension!$A$4,B366=Dimension!$A$5),\"เดินทาง/ท่องเที่ยว\",\"\")","v":""},{"$f":"IF(OR(B366=Dimension!$A$6,B366=Dimension!$A$7,B366=Dimension!$A$8,B366=Dimension!$A$9),\"\",IF(OR(B366=Dimension!$A$3,B366=Dimension!$A$4,B366=Dimension!$A$5),\"สถานประกอบการ\",\"\"))","v":""},{"$f":"IF(OR(B366=Dimension!$A$3,B366=Dimension!$A$4,B366=Dimension!$A$5,B366=Dimension!$A$6,,B366=Dimension!$A$7,B366=Dimension!$A$8,B366=Dimension!$A$9),Payment_ID2,\"\")","v":""},null,{"$f":"IFERROR(VLOOKUP(K366,Dimension!$J$3:$K$179,2,FALSE),\"\")","v":""},null,null,{"$f":"IF(OR(B366=Dimension!$A$6,B366=Dimension!$A$7,B366=Dimension!$A$8,B366=Dimension!$A$9),\"\",IF(OR(B366=Dimension!$A$3,B366=Dimension!$A$4,B366=Dimension!$A$5),\"สถานประกอบการ\",\"\"))","v":""},{"$f":"IF(OR(B366=Dimension!$A$6,B366=Dimension!$A$7,B366=Dimension!$A$8,B366=Dimension!$A$9,B366=\"\"),\"\",Payment_ID2)","v":""},"",null,null,{"$f":"IF(D366=Dimension!$C$9,IF(LEFT(UPPER(E366),2)=\"MC\",TRUE,FALSE),TRUE)","v":true}]
[null,null,null,{"$f":"IF(B367=Dimension!$A$8,Dimension!$C$9,IF(B367=Dimension!$A$6,CD,\"\"))","v":""},null,{"$f":"IF(OR(B367=Dimension!$A$3,B367=Dimension!$A$4,B367=Dimension!$A$6,B367=Dimension!$A$8),CCYA,\"\")","v":""},{"$f":"IFERROR(VLOOKUP(F367,Dimension!$G$3:$H$252,2,FALSE),\"\")","v":""},{"$f":"IF(OR(B367=Dimension!$A$3,B367=Dimension!$A$4,B367=Dimension!$A$5),\"เดินทาง/ท่องเที่ยว\",\"\")","v":""},{"$f":"IF(OR(B367=Dimension!$A$6,B367=Dimension!$A$7,B367=Dimension!$A$8,B367=Dimension!$A$9),\"\",IF(OR(B367=Dimension!$A$3,B367=Dimension!$A$4,B367=Dimension!$A$5),\"สถานประกอบการ\",\"\"))","v":""},{"$f":"IF(OR(B367=Dimension!$A$3,B367=Dimension!$A$4,B367=Dimension!$A$5,B367=Dimension!$A$6,,B367=Dimension!$A$7,B367=Dimension!$A$8,B367=Dimension!$A$9),Payment_ID2,\"\")","v":""},null,{"$f":"IFERROR(VLOOKUP(K367,Dimension!$J$3:$K$179,2,FALSE),\"\")","v":""},null,null,{"$f":"IF(OR(B367=Dimension!$A$6,B367=Dimension!$A$7,B367=Dimension!$A$8,B367=Dimension!$A$9),\"\",IF(OR(B367=Dimension!$A$3,B367=Dimension!$A$4,B367=Dimension!$A$5),\"สถานประกอบการ\",\"\"))","v":""},{"$f":"IF(OR(B367=Dimension!$A$6,B367=Dimension!$A$7,B367=Dimension!$A$8,B367=Dimension!$A$9,B367=\"\"),\"\",Payment_ID2)","v":""},"",null,null,{"$f":"IF(D367=Dimension!$C$9,IF(LEFT(UPPER(E367),2)=\"MC\",TRUE,FALSE),TRUE)","v":true}]
[null,null,null,{"$f":"IF(B368=Dimension!$A$8,Dimension!$C$9,IF(B368=Dimension!$A$6,CD,\"\"))","v":""},null,{"$f":"IF(OR(B368=Dimension!$A$3,B368=Dimension!$A$4,B368=Dimension!$A$6,B368=Dimension!$A$8),CCYA,\"\")","v":""},{"$f":"IFERROR(VLOOKUP(F368,Dimension!$G$3:$H$252,2,FALSE),\"\")","v":""},{"$f":"IF(OR(B368=Dimension!$A$3,B368=Dimension!$A$4,B368=Dimension!$A$5),\"เดินทาง/ท่องเที่ยว\",\"\")","v":""},{"$f":"IF(OR(B368=Dimension!$A$6,B368=Dimension!$A$7,B368=Dimension!$A$8,B368=Dimension!$A$9),\"\",IF(OR(B368=Dimension!$A$3,B368=Dimension!$A$4,B368=Dimension!$A$5),\"สถานประกอบการ\",\"\"))","v":""},{"$f":"IF(OR(B368=Dimension!$A$3,B368=Dimension!$A$4,B368=Dimension!$A$5,B368=Dimension!$A$6,,B368=Dimension!$A$7,B368=Dimension!$A$8,B368=Dimension!$A$9),Payment_ID2,\"\")","v":""},null,{"$f":"IFERROR(VLOOKUP(K368,Dimension!$J$3:$K$179,2,FALSE),\"\")","v":""},null,null,{"$f":"IF(OR(B368=Dimension!$A$6,B368=Dimension!$A$7,B368=Dimension!$A$8,B368=Dimension!$A$9),\"\",IF(OR(B368=Dimension!$A$3,B368=Dimension!$A$4,B368=Dimension!$A$5),\"สถานประกอบการ\",\"\"))","v":""},{"$f":"IF(OR(B368=Dimension!$A$6,B368=Dimension!$A$7,B368=Dimension!$A$8,B368=Dimension!$A$9,B368=\"\"),\"\",Payment_ID2)","v":""},"",null,null,{"$f":"IF(D368=Dimension!$C$9,IF(LEFT(UPPER(E368),2)=\"MC\",TRUE,FALSE),TRUE)","v":true}]
[null,null,null,{"$f":"IF(B369=Dimension!$A$8,Dimension!$C$9,IF(B369=Dimension!$A$6,CD,\"\"))","v":""},null,{"$f":"IF(OR(B369=Dimension!$A$3,B369=Dimension!$A$4,B369=Dimension!$A$6,B369=Dimension!$A$8),CCYA,\"\")","v":""},{"$f":"IFERROR(VLOOKUP(F369,Dimension!$G$3:$H$252,2,FALSE),\"\")","v":""},{"$f":"IF(OR(B369=Dimension!$A$3,B369=Dimension!$A$4,B369=Dimension!$A$5),\"เดินทาง/ท่องเที่ยว\",\"\")","v":""},{"$f":"IF(OR(B369=Dimension!$A$6,B369=Dimension!$A$7,B369=Dimension!$A$8,B369=Dimension!$A$9),\"\",IF(OR(B369=Dimension!$A$3,B369=Dimension!$A$4,B369=Dimension!$A$5),\"สถานประกอบการ\",\"\"))","v":""},{"$f":"IF(OR(B369=Dimension!$A$3,B369=Dimension!$A$4,B369=Dimension!$A$5,B369=Dimension!$A$6,,B369=Dimension!$A$7,B369=Dimension!$A$8,B369=Dimension!$A$9),Payment_ID2,\"\")","v":""},null,{"$f":"IFERROR(VLOOKUP(K369,Dimension!$J$3:$K$179,2,FALSE),\"\")","v":""},null,null,{"$f":"IF(OR(B369=Dimension!$A$6,B369=Dimension!$A$7,B369=Dimension!$A$8,B369=Dimension!$A$9),\"\",IF(OR(B369=Dimension!$A$3,B369=Dimension!$A$4,B369=Dimension!$A$5),\"สถานประกอบการ\",\"\"))","v":""},{"$f":"IF(OR(B369=Dimension!$A$6,B369=Dimension!$A$7,B369=Dimension!$A$8,B369=Dimension!$A$9,B369=\"\"),\"\",Payment_ID2)","v":""},"",null,null,{"$f":"IF(D369=Dimension!$C$9,IF(LEFT(UPPER(E369),2)=\"MC\",TRUE,FALSE),TRUE)","v":true}]
[null,null,null,{"$f":"IF(B370=Dimension!$A$8,Dimension!$C$9,IF(B370=Dimension!$A$6,CD,\"\"))","v":""},null,{"$f":"IF(OR(B370=Dimension!$A$3,B370=Dimension!$A$4,B370=Dimension!$A$6,B370=Dimension!$A$8),CCYA,\"\")","v":""},{"$f":"IFERROR(VLOOKUP(F370,Dimension!$G$3:$H$252,2,FALSE),\"\")","v":""},{"$f":"IF(OR(B370=Dimension!$A$3,B370=Dimension!$A$4,B370=Dimension!$A$5),\"เดินทาง/ท่องเที่ยว\",\"\")","v":""},{"$f":"IF(OR(B370=Dimension!$A$6,B370=Dimension!$A$7,B370=Dimension!$A$8,B370=Dimension!$A$9),\"\",IF(OR(B370=Dimension!$A$3,B370=Dimension!$A$4,B370=Dimension!$A$5),\"สถานประกอบการ\",\"\"))","v":""},{"$f":"IF(OR(B370=Dimension!$A$3,B370=Dimension!$A$4,B370=Dimension!$A$5,B370=Dimension!$A$6,,B370=Dimension!$A$7,B370=Dimension!$A$8,B370=Dimension!$A$9),Payment_ID2,\"\")","v":""},null,{"$f":"IFERROR(VLOOKUP(K370,Dimension!$J$3:$K$179,2,FALSE),\"\")","v":""},null,null,{"$f":"IF(OR(B370=Dimension!$A$6,B370=Dimension!$A$7,B370=Dimension!$A$8,B370=Dimension!$A$9),\"\",IF(OR(B370=Dimension!$A$3,B370=Dimension!$A$4,B370=Dimension!$A$5),\"สถานประกอบการ\",\"\"))","v":""},{"$f":"IF(OR(B370=Dimension!$A$6,B370=Dimension!$A$7,B370=Dimension!$A$8,B370=Dimension!$A$9,B370=\"\"),\"\",Payment_ID2)","v":""},"",null,null,{"$f":"IF(D370=Dimension!$C$9,IF(LEFT(UPPER(E370),2)=\"MC\",TRUE,FALSE),TRUE)","v":true}]
[null,null,null,{"$f":"IF(B371=Dimension!$A$8,Dimension!$C$9,IF(B371=Dimension!$A$6,CD,\"\"))","v":""},null,{"$f":"IF(OR(B371=Dimension!$A$3,B371=Dimension!$A$4,B371=Dimension!$A$6,B371=Dimension!$A$8),CCYA,\"\")","v":""},{"$f":"IFERROR(VLOOKUP(F371,Dimension!$G$3:$H$252,2,FALSE),\"\")","v":""},{"$f":"IF(OR(B371=Dimension!$A$3,B371=Dimension!$A$4,B371=Dimension!$A$5),\"เดินทาง/ท่องเที่ยว\",\"\")","v":""},{"$f":"IF(OR(B371=Dimension!$A$6,B371=Dimension!$A$7,B371=Dimension!$A$8,B371=Dimension!$A$9),\"\",IF(OR(B371=Dimension!$A$3,B371=Dimension!$A$4,B371=Dimension!$A$5),\"สถานประกอบการ\",\"\"))","v":""},{"$f":"IF(OR(B371=Dimension!$A$3,B371=Dimension!$A$4,B371=Dimension!$A$5,B371=Dimension!$A$6,,B371=Dimension!$A$7,B371=Dimension!$A$8,B371=Dimension!$A$9),Payment_ID2,\"\")","v":""},null,{"$f":"IFERROR(VLOOKUP(K371,Dimension!$J$3:$K$179,2,FALSE),\"\")","v":""},null,null,{"$f":"IF(OR(B371=Dimension!$A$6,B371=Dimension!$A$7,B371=Dimension!$A$8,B371=Dimension!$A$9),\"\",IF(OR(B371=Dimension!$A$3,B371=Dimension!$A$4,B371=Dimension!$A$5),\"สถานประกอบการ\",\"\"))","v":""},{"$f":"IF(OR(B371=Dimension!$A$6,B371=Dimension!$A$7,B371=Dimension!$A$8,B371=Dimension!$A$9,B371=\"\"),\"\",Payment_ID2)","v":""},"",null,null,{"$f":"IF(D371=Dimension!$C$9,IF(LEFT(UPPER(E371),2)=\"MC\",TRUE,FALSE),TRUE)","v":true}]
[null,null,null,{"$f":"IF(B372=Dimension!$A$8,Dimension!$C$9,IF(B372=Dimension!$A$6,CD,\"\"))","v":""},null,{"$f":"IF(OR(B372=Dimension!$A$3,B372=Dimension!$A$4,B372=Dimension!$A$6,B372=Dimension!$A$8),CCYA,\"\")","v":""},{"$f":"IFERROR(VLOOKUP(F372,Dimension!$G$3:$H$252,2,FALSE),\"\")","v":""},{"$f":"IF(OR(B372=Dimension!$A$3,B372=Dimension!$A$4,B372=Dimension!$A$5),\"เดินทาง/ท่องเที่ยว\",\"\")","v":""},{"$f":"IF(OR(B372=Dimension!$A$6,B372=Dimension!$A$7,B372=Dimension!$A$8,B372=Dimension!$A$9),\"\",IF(OR(B372=Dimension!$A$3,B372=Dimension!$A$4,B372=Dimension!$A$5),\"สถานประกอบการ\",\"\"))","v":""},{"$f":"IF(OR(B372=Dimension!$A$3,B372=Dimension!$A$4,B372=Dimension!$A$5,B372=Dimension!$A$6,,B372=Dimension!$A$7,B372=Dimension!$A$8,B372=Dimension!$A$9),Payment_ID2,\"\")","v":""},null,{"$f":"IFERROR(VLOOKUP(K372,Dimension!$J$3:$K$179,2,FALSE),\"\")","v":""},null,null,{"$f":"IF(OR(B372=Dimension!$A$6,B372=Dimension!$A$7,B372=Dimension!$A$8,B372=Dimension!$A$9),\"\",IF(OR(B372=Dimension!$A$3,B372=Dimension!$A$4,B372=Dimension!$A$5),\"สถานประกอบการ\",\"\"))","v":""},{"$f":"IF(OR(B372=Dimension!$A$6,B372=Dimension!$A$7,B372=Dimension!$A$8,B372=Dimension!$A$9,B372=\"\"),\"\",Payment_ID2)","v":""},"",null,null,{"$f":"IF(D372=Dimension!$C$9,IF(LEFT(UPPER(E372),2)=\"MC\",TRUE,FALSE),TRUE)","v":true}]
[null,null,null,{"$f":"IF(B373=Dimension!$A$8,Dimension!$C$9,IF(B373=Dimension!$A$6,CD,\"\"))","v":""},null,{"$f":"IF(OR(B373=Dimension!$A$3,B373=Dimension!$A$4,B373=Dimension!$A$6,B373=Dimension!$A$8),CCYA,\"\")","v":""},{"$f":"IFERROR(VLOOKUP(F373,Dimension!$G$3:$H$252,2,FALSE),\"\")","v":""},{"$f":"IF(OR(B373=Dimension!$A$3,B373=Dimension!$A$4,B373=Dimension!$A$5),\"เดินทาง/ท่องเที่ยว\",\"\")","v":""},{"$f":"IF(OR(B373=Dimension!$A$6,B373=Dimension!$A$7,B373=Dimension!$A$8,B373=Dimension!$A$9),\"\",IF(OR(B373=Dimension!$A$3,B373=Dimension!$A$4,B373=Dimension!$A$5),\"สถานประกอบการ\",\"\"))","v":""},{"$f":"IF(OR(B373=Dimension!$A$3,B373=Dimension!$A$4,B373=Dimension!$A$5,B373=Dimension!$A$6,,B373=Dimension!$A$7,B373=Dimension!$A$8,B373=Dimension!$A$9),Payment_ID2,\"\")","v":""},null,{"$f":"IFERROR(VLOOKUP(K373,Dimension!$J$3:$K$179,2,FALSE),\"\")","v":""},null,null,{"$f":"IF(OR(B373=Dimension!$A$6,B373=Dimension!$A$7,B373=Dimension!$A$8,B373=Dimension!$A$9),\"\",IF(OR(B373=Dimension!$A$3,B373=Dimension!$A$4,B373=Dimension!$A$5),\"สถานประกอบการ\",\"\"))","v":""},{"$f":"IF(OR(B373=Dimension!$A$6,B373=Dimension!$A$7,B373=Dimension!$A$8,B373=Dimension!$A$9,B373=\"\"),\"\",Payment_ID2)","v":""},"",null,null,{"$f":"IF(D373=Dimension!$C$9,IF(LEFT(UPPER(E373),2)=\"MC\",TRUE,FALSE),TRUE)","v":true}]
[null,null,null,{"$f":"IF(B374=Dimension!$A$8,Dimension!$C$9,IF(B374=Dimension!$A$6,CD,\"\"))","v":""},null,{"$f":"IF(OR(B374=Dimension!$A$3,B374=Dimension!$A$4,B374=Dimension!$A$6,B374=Dimension!$A$8),CCYA,\"\")","v":""},{"$f":"IFERROR(VLOOKUP(F374,Dimension!$G$3:$H$252,2,FALSE),\"\")","v":""},{"$f":"IF(OR(B374=Dimension!$A$3,B374=Dimension!$A$4,B374=Dimension!$A$5),\"เดินทาง/ท่องเที่ยว\",\"\")","v":""},{"$f":"IF(OR(B374=Dimension!$A$6,B374=Dimension!$A$7,B374=Dimension!$A$8,B374=Dimension!$A$9),\"\",IF(OR(B374=Dimension!$A$3,B374=Dimension!$A$4,B374=Dimension!$A$5),\"สถานประกอบการ\",\"\"))","v":""},{"$f":"IF(OR(B374=Dimension!$A$3,B374=Dimension!$A$4,B374=Dimension!$A$5,B374=Dimension!$A$6,,B374=Dimension!$A$7,B374=Dimension!$A$8,B374=Dimension!$A$9),Payment_ID2,\"\")","v":""},null,{"$f":"IFERROR(VLOOKUP(K374,Dimension!$J$3:$K$179,2,FALSE),\"\")","v":""},null,null,{"$f":"IF(OR(B374=Dimension!$A$6,B374=Dimension!$A$7,B374=Dimension!$A$8,B374=Dimension!$A$9),\"\",IF(OR(B374=Dimension!$A$3,B374=Dimension!$A$4,B374=Dimension!$A$5),\"สถานประกอบการ\",\"\"))","v":""},{"$f":"IF(OR(B374=Dimension!$A$6,B374=Dimension!$A$7,B374=Dimension!$A$8,B374=Dimension!$A$9,B374=\"\"),\"\",Payment_ID2)","v":""},"",null,null,{"$f":"IF(D374=Dimension!$C$9,IF(LEFT(UPPER(E374),2)=\"MC\",TRUE,FALSE),TRUE)","v":true}]
[null,null,null,{"$f":"IF(B375=Dimension!$A$8,Dimension!$C$9,IF(B375=Dimension!$A$6,CD,\"\"))","v":""},null,{"$f":"IF(OR(B375=Dimension!$A$3,B375=Dimension!$A$4,B375=Dimension!$A$6,B375=Dimension!$A$8),CCYA,\"\")","v":""},{"$f":"IFERROR(VLOOKUP(F375,Dimension!$G$3:$H$252,2,FALSE),\"\")","v":""},{"$f":"IF(OR(B375=Dimension!$A$3,B375=Dimension!$A$4,B375=Dimension!$A$5),\"เดินทาง/ท่องเที่ยว\",\"\")","v":""},{"$f":"IF(OR(B375=Dimension!$A$6,B375=Dimension!$A$7,B375=Dimension!$A$8,B375=Dimension!$A$9),\"\",IF(OR(B375=Dimension!$A$3,B375=Dimension!$A$4,B375=Dimension!$A$5),\"สถานประกอบการ\",\"\"))","v":""},{"$f":"IF(OR(B375=Dimension!$A$3,B375=Dimension!$A$4,B375=Dimension!$A$5,B375=Dimension!$A$6,,B375=Dimension!$A$7,B375=Dimension!$A$8,B375=Dimension!$A$9),Payment_ID2,\"\")","v":""},null,{"$f":"IFERROR(VLOOKUP(K375,Dimension!$J$3:$K$179,2,FALSE),\"\")","v":""},null,null,{"$f":"IF(OR(B375=Dimension!$A$6,B375=Dimension!$A$7,B375=Dimension!$A$8,B375=Dimension!$A$9),\"\",IF(OR(B375=Dimension!$A$3,B375=Dimension!$A$4,B375=Dimension!$A$5),\"สถานประกอบการ\",\"\"))","v":""},{"$f":"IF(OR(B375=Dimension!$A$6,B375=Dimension!$A$7,B375=Dimension!$A$8,B375=Dimension!$A$9,B375=\"\"),\"\",Payment_ID2)","v":""},"",null,null,{"$f":"IF(D375=Dimension!$C$9,IF(LEFT(UPPER(E375),2)=\"MC\",TRUE,FALSE),TRUE)","v":true}]
[null,null,null,{"$f":"IF(B376=Dimension!$A$8,Dimension!$C$9,IF(B376=Dimension!$A$6,CD,\"\"))","v":""},null,{"$f":"IF(OR(B376=Dimension!$A$3,B376=Dimension!$A$4,B376=Dimension!$A$6,B376=Dimension!$A$8),CCYA,\"\")","v":""},{"$f":"IFERROR(VLOOKUP(F376,Dimension!$G$3:$H$252,2,FALSE),\"\")","v":""},{"$f":"IF(OR(B376=Dimension!$A$3,B376=Dimension!$A$4,B376=Dimension!$A$5),\"เดินทาง/ท่องเที่ยว\",\"\")","v":""},{"$f":"IF(OR(B376=Dimension!$A$6,B376=Dimension!$A$7,B376=Dimension!$A$8,B376=Dimension!$A$9),\"\",IF(OR(B376=Dimension!$A$3,B376=Dimension!$A$4,B376=Dimension!$A$5),\"สถานประกอบการ\",\"\"))","v":""},{"$f":"IF(OR(B376=Dimension!$A$3,B376=Dimension!$A$4,B376=Dimension!$A$5,B376=Dimension!$A$6,,B376=Dimension!$A$7,B376=Dimension!$A$8,B376=Dimension!$A$9),Payment_ID2,\"\")","v":""},null,{"$f":"IFERROR(VLOOKUP(K376,Dimension!$J$3:$K$179,2,FALSE),\"\")","v":""},null,null,{"$f":"IF(OR(B376=Dimension!$A$6,B376=Dimension!$A$7,B376=Dimension!$A$8,B376=Dimension!$A$9),\"\",IF(OR(B376=Dimension!$A$3,B376=Dimension!$A$4,B376=Dimension!$A$5),\"สถานประกอบการ\",\"\"))","v":""},{"$f":"IF(OR(B376=Dimension!$A$6,B376=Dimension!$A$7,B376=Dimension!$A$8,B376=Dimension!$A$9,B376=\"\"),\"\",Payment_ID2)","v":""},"",null,null,{"$f":"IF(D376=Dimension!$C$9,IF(LEFT(UPPER(E376),2)=\"MC\",TRUE,FALSE),TRUE)","v":true}]
[null,null,null,{"$f":"IF(B377=Dimension!$A$8,Dimension!$C$9,IF(B377=Dimension!$A$6,CD,\"\"))","v":""},null,{"$f":"IF(OR(B377=Dimension!$A$3,B377=Dimension!$A$4,B377=Dimension!$A$6,B377=Dimension!$A$8),CCYA,\"\")","v":""},{"$f":"IFERROR(VLOOKUP(F377,Dimension!$G$3:$H$252,2,FALSE),\"\")","v":""},{"$f":"IF(OR(B377=Dimension!$A$3,B377=Dimension!$A$4,B377=Dimension!$A$5),\"เดินทาง/ท่องเที่ยว\",\"\")","v":""},{"$f":"IF(OR(B377=Dimension!$A$6,B377=Dimension!$A$7,B377=Dimension!$A$8,B377=Dimension!$A$9),\"\",IF(OR(B377=Dimension!$A$3,B377=Dimension!$A$4,B377=Dimension!$A$5),\"สถานประกอบการ\",\"\"))","v":""},{"$f":"IF(OR(B377=Dimension!$A$3,B377=Dimension!$A$4,B377=Dimension!$A$5,B377=Dimension!$A$6,,B377=Dimension!$A$7,B377=Dimension!$A$8,B377=Dimension!$A$9),Payment_ID2,\"\")","v":""},null,{"$f":"IFERROR(VLOOKUP(K377,Dimension!$J$3:$K$179,2,FALSE),\"\")","v":""},null,null,{"$f":"IF(OR(B377=Dimension!$A$6,B377=Dimension!$A$7,B377=Dimension!$A$8,B377=Dimension!$A$9),\"\",IF(OR(B377=Dimension!$A$3,B377=Dimension!$A$4,B377=Dimension!$A$5),\"สถานประกอบการ\",\"\"))","v":""},{"$f":"IF(OR(B377=Dimension!$A$6,B377=Dimension!$A$7,B377=Dimension!$A$8,B377=Dimension!$A$9,B377=\"\"),\"\",Payment_ID2)","v":""},"",null,null,{"$f":"IF(D377=Dimension!$C$9,IF(LEFT(UPPER(E377),2)=\"MC\",TRUE,FALSE),TRUE)","v":true}]
[null,null,null,{"$f":"IF(B378=Dimension!$A$8,Dimension!$C$9,IF(B378=Dimension!$A$6,CD,\"\"))","v":""},null,{"$f":"IF(OR(B378=Dimension!$A$3,B378=Dimension!$A$4,B378=Dimension!$A$6,B378=Dimension!$A$8),CCYA,\"\")","v":""},{"$f":"IFERROR(VLOOKUP(F378,Dimension!$G$3:$H$252,2,FALSE),\"\")","v":""},{"$f":"IF(OR(B378=Dimension!$A$3,B378=Dimension!$A$4,B378=Dimension!$A$5),\"เดินทาง/ท่องเที่ยว\",\"\")","v":""},{"$f":"IF(OR(B378=Dimension!$A$6,B378=Dimension!$A$7,B378=Dimension!$A$8,B378=Dimension!$A$9),\"\",IF(OR(B378=Dimension!$A$3,B378=Dimension!$A$4,B378=Dimension!$A$5),\"สถานประกอบการ\",\"\"))","v":""},{"$f":"IF(OR(B378=Dimension!$A$3,B378=Dimension!$A$4,B378=Dimension!$A$5,B378=Dimension!$A$6,,B378=Dimension!$A$7,B378=Dimension!$A$8,B378=Dimension!$A$9),Payment_ID2,\"\")","v":""},null,{"$f":"IFERROR(VLOOKUP(K378,Dimension!$J$3:$K$179,2,FALSE),\"\")","v":""},null,null,{"$f":"IF(OR(B378=Dimension!$A$6,B378=Dimension!$A$7,B378=Dimension!$A$8,B378=Dimension!$A$9),\"\",IF(OR(B378=Dimension!$A$3,B378=Dimension!$A$4,B378=Dimension!$A$5),\"สถานประกอบการ\",\"\"))","v":""},{"$f":"IF(OR(B378=Dimension!$A$6,B378=Dimension!$A$7,B378=Dimension!$A$8,B378=Dimension!$A$9,B378=\"\"),\"\",Payment_ID2)","v":""},"",null,null,{"$f":"IF(D378=Dimension!$C$9,IF(LEFT(UPPER(E378),2)=\"MC\",TRUE,FALSE),TRUE)","v":true}]
[null,null,null,{"$f":"IF(B379=Dimension!$A$8,Dimension!$C$9,IF(B379=Dimension!$A$6,CD,\"\"))","v":""},null,{"$f":"IF(OR(B379=Dimension!$A$3,B379=Dimension!$A$4,B379=Dimension!$A$6,B379=Dimension!$A$8),CCYA,\"\")","v":""},{"$f":"IFERROR(VLOOKUP(F379,Dimension!$G$3:$H$252,2,FALSE),\"\")","v":""},{"$f":"IF(OR(B379=Dimension!$A$3,B379=Dimension!$A$4,B379=Dimension!$A$5),\"เดินทาง/ท่องเที่ยว\",\"\")","v":""},{"$f":"IF(OR(B379=Dimension!$A$6,B379=Dimension!$A$7,B379=Dimension!$A$8,B379=Dimension!$A$9),\"\",IF(OR(B379=Dimension!$A$3,B379=Dimension!$A$4,B379=Dimension!$A$5),\"สถานประกอบการ\",\"\"))","v":""},{"$f":"IF(OR(B379=Dimension!$A$3,B379=Dimension!$A$4,B379=Dimension!$A$5,B379=Dimension!$A$6,,B379=Dimension!$A$7,B379=Dimension!$A$8,B379=Dimension!$A$9),Payment_ID2,\"\")","v":""},null,{"$f":"IFERROR(VLOOKUP(K379,Dimension!$J$3:$K$179,2,FALSE),\"\")","v":""},null,null,{"$f":"IF(OR(B379=Dimension!$A$6,B379=Dimension!$A$7,B379=Dimension!$A$8,B379=Dimension!$A$9),\"\",IF(OR(B379=Dimension!$A$3,B379=Dimension!$A$4,B379=Dimension!$A$5),\"สถานประกอบการ\",\"\"))","v":""},{"$f":"IF(OR(B379=Dimension!$A$6,B379=Dimension!$A$7,B379=Dimension!$A$8,B379=Dimension!$A$9,B379=\"\"),\"\",Payment_ID2)","v":""},"",null,null,{"$f":"IF(D379=Dimension!$C$9,IF(LEFT(UPPER(E379),2)=\"MC\",TRUE,FALSE),TRUE)","v":true}]
[null,null,null,{"$f":"IF(B380=Dimension!$A$8,Dimension!$C$9,IF(B380=Dimension!$A$6,CD,\"\"))","v":""},null,{"$f":"IF(OR(B380=Dimension!$A$3,B380=Dimension!$A$4,B380=Dimension!$A$6,B380=Dimension!$A$8),CCYA,\"\")","v":""},{"$f":"IFERROR(VLOOKUP(F380,Dimension!$G$3:$H$252,2,FALSE),\"\")","v":""},{"$f":"IF(OR(B380=Dimension!$A$3,B380=Dimension!$A$4,B380=Dimension!$A$5),\"เดินทาง/ท่องเที่ยว\",\"\")","v":""},{"$f":"IF(OR(B380=Dimension!$A$6,B380=Dimension!$A$7,B380=Dimension!$A$8,B380=Dimension!$A$9),\"\",IF(OR(B380=Dimension!$A$3,B380=Dimension!$A$4,B380=Dimension!$A$5),\"สถานประกอบการ\",\"\"))","v":""},{"$f":"IF(OR(B380=Dimension!$A$3,B380=Dimension!$A$4,B380=Dimension!$A$5,B380=Dimension!$A$6,,B380=Dimension!$A$7,B380=Dimension!$A$8,B380=Dimension!$A$9),Payment_ID2,\"\")","v":""},null,{"$f":"IFERROR(VLOOKUP(K380,Dimension!$J$3:$K$179,2,FALSE),\"\")","v":""},null,null,{"$f":"IF(OR(B380=Dimension!$A$6,B380=Dimension!$A$7,B380=Dimension!$A$8,B380=Dimension!$A$9),\"\",IF(OR(B380=Dimension!$A$3,B380=Dimension!$A$4,B380=Dimension!$A$5),\"สถานประกอบการ\",\"\"))","v":""},{"$f":"IF(OR(B380=Dimension!$A$6,B380=Dimension!$A$7,B380=Dimension!$A$8,B380=Dimension!$A$9,B380=\"\"),\"\",Payment_ID2)","v":""},"",null,null,{"$f":"IF(D380=Dimension!$C$9,IF(LEFT(UPPER(E380),2)=\"MC\",TRUE,FALSE),TRUE)","v":true}]
[null,null,null,{"$f":"IF(B381=Dimension!$A$8,Dimension!$C$9,IF(B381=Dimension!$A$6,CD,\"\"))","v":""},null,{"$f":"IF(OR(B381=Dimension!$A$3,B381=Dimension!$A$4,B381=Dimension!$A$6,B381=Dimension!$A$8),CCYA,\"\")","v":""},{"$f":"IFERROR(VLOOKUP(F381,Dimension!$G$3:$H$252,2,FALSE),\"\")","v":""},{"$f":"IF(OR(B381=Dimension!$A$3,B381=Dimension!$A$4,B381=Dimension!$A$5),\"เดินทาง/ท่องเที่ยว\",\"\")","v":""},{"$f":"IF(OR(B381=Dimension!$A$6,B381=Dimension!$A$7,B381=Dimension!$A$8,B381=Dimension!$A$9),\"\",IF(OR(B381=Dimension!$A$3,B381=Dimension!$A$4,B381=Dimension!$A$5),\"สถานประกอบการ\",\"\"))","v":""},{"$f":"IF(OR(B381=Dimension!$A$3,B381=Dimension!$A$4,B381=Dimension!$A$5,B381=Dimension!$A$6,,B381=Dimension!$A$7,B381=Dimension!$A$8,B381=Dimension!$A$9),Payment_ID2,\"\")","v":""},null,{"$f":"IFERROR(VLOOKUP(K381,Dimension!$J$3:$K$179,2,FALSE),\"\")","v":""},null,null,{"$f":"IF(OR(B381=Dimension!$A$6,B381=Dimension!$A$7,B381=Dimension!$A$8,B381=Dimension!$A$9),\"\",IF(OR(B381=Dimension!$A$3,B381=Dimension!$A$4,B381=Dimension!$A$5),\"สถานประกอบการ\",\"\"))","v":""},{"$f":"IF(OR(B381=Dimension!$A$6,B381=Dimension!$A$7,B381=Dimension!$A$8,B381=Dimension!$A$9,B381=\"\"),\"\",Payment_ID2)","v":""},"",null,null,{"$f":"IF(D381=Dimension!$C$9,IF(LEFT(UPPER(E381),2)=\"MC\",TRUE,FALSE),TRUE)","v":true}]
[null,null,null,{"$f":"IF(B382=Dimension!$A$8,Dimension!$C$9,IF(B382=Dimension!$A$6,CD,\"\"))","v":""},null,{"$f":"IF(OR(B382=Dimension!$A$3,B382=Dimension!$A$4,B382=Dimension!$A$6,B382=Dimension!$A$8),CCYA,\"\")","v":""},{"$f":"IFERROR(VLOOKUP(F382,Dimension!$G$3:$H$252,2,FALSE),\"\")","v":""},{"$f":"IF(OR(B382=Dimension!$A$3,B382=Dimension!$A$4,B382=Dimension!$A$5),\"เดินทาง/ท่องเที่ยว\",\"\")","v":""},{"$f":"IF(OR(B382=Dimension!$A$6,B382=Dimension!$A$7,B382=Dimension!$A$8,B382=Dimension!$A$9),\"\",IF(OR(B382=Dimension!$A$3,B382=Dimension!$A$4,B382=Dimension!$A$5),\"สถานประกอบการ\",\"\"))","v":""},{"$f":"IF(OR(B382=Dimension!$A$3,B382=Dimension!$A$4,B382=Dimension!$A$5,B382=Dimension!$A$6,,B382=Dimension!$A$7,B382=Dimension!$A$8,B382=Dimension!$A$9),Payment_ID2,\"\")","v":""},null,{"$f":"IFERROR(VLOOKUP(K382,Dimension!$J$3:$K$179,2,FALSE),\"\")","v":""},null,null,{"$f":"IF(OR(B382=Dimension!$A$6,B382=Dimension!$A$7,B382=Dimension!$A$8,B382=Dimension!$A$9),\"\",IF(OR(B382=Dimension!$A$3,B382=Dimension!$A$4,B382=Dimension!$A$5),\"สถานประกอบการ\",\"\"))","v":""},{"$f":"IF(OR(B382=Dimension!$A$6,B382=Dimension!$A$7,B382=Dimension!$A$8,B382=Dimension!$A$9,B382=\"\"),\"\",Payment_ID2)","v":""},"",null,null,{"$f":"IF(D382=Dimension!$C$9,IF(LEFT(UPPER(E382),2)=\"MC\",TRUE,FALSE),TRUE)","v":true}]
[null,null,null,{"$f":"IF(B383=Dimension!$A$8,Dimension!$C$9,IF(B383=Dimension!$A$6,CD,\"\"))","v":""},null,{"$f":"IF(OR(B383=Dimension!$A$3,B383=Dimension!$A$4,B383=Dimension!$A$6,B383=Dimension!$A$8),CCYA,\"\")","v":""},{"$f":"IFERROR(VLOOKUP(F383,Dimension!$G$3:$H$252,2,FALSE),\"\")","v":""},{"$f":"IF(OR(B383=Dimension!$A$3,B383=Dimension!$A$4,B383=Dimension!$A$5),\"เดินทาง/ท่องเที่ยว\",\"\")","v":""},{"$f":"IF(OR(B383=Dimension!$A$6,B383=Dimension!$A$7,B383=Dimension!$A$8,B383=Dimension!$A$9),\"\",IF(OR(B383=Dimension!$A$3,B383=Dimension!$A$4,B383=Dimension!$A$5),\"สถานประกอบการ\",\"\"))","v":""},{"$f":"IF(OR(B383=Dimension!$A$3,B383=Dimension!$A$4,B383=Dimension!$A$5,B383=Dimension!$A$6,,B383=Dimension!$A$7,B383=Dimension!$A$8,B383=Dimension!$A$9),Payment_ID2,\"\")","v":""},null,{"$f":"IFERROR(VLOOKUP(K383,Dimension!$J$3:$K$179,2,FALSE),\"\")","v":""},null,null,{"$f":"IF(OR(B383=Dimension!$A$6,B383=Dimension!$A$7,B383=Dimension!$A$8,B383=Dimension!$A$9),\"\",IF(OR(B383=Dimension!$A$3,B383=Dimension!$A$4,B383=Dimension!$A$5),\"สถานประกอบการ\",\"\"))","v":""},{"$f":"IF(OR(B383=Dimension!$A$6,B383=Dimension!$A$7,B383=Dimension!$A$8,B383=Dimension!$A$9,B383=\"\"),\"\",Payment_ID2)","v":""},"",null,null,{"$f":"IF(D383=Dimension!$C$9,IF(LEFT(UPPER(E383),2)=\"MC\",TRUE,FALSE),TRUE)","v":true}]
[null,null,null,{"$f":"IF(B384=Dimension!$A$8,Dimension!$C$9,IF(B384=Dimension!$A$6,CD,\"\"))","v":""},null,{"$f":"IF(OR(B384=Dimension!$A$3,B384=Dimension!$A$4,B384=Dimension!$A$6,B384=Dimension!$A$8),CCYA,\"\")","v":""},{"$f":"IFERROR(VLOOKUP(F384,Dimension!$G$3:$H$252,2,FALSE),\"\")","v":""},{"$f":"IF(OR(B384=Dimension!$A$3,B384=Dimension!$A$4,B384=Dimension!$A$5),\"เดินทาง/ท่องเที่ยว\",\"\")","v":""},{"$f":"IF(OR(B384=Dimension!$A$6,B384=Dimension!$A$7,B384=Dimension!$A$8,B384=Dimension!$A$9),\"\",IF(OR(B384=Dimension!$A$3,B384=Dimension!$A$4,B384=Dimension!$A$5),\"สถานประกอบการ\",\"\"))","v":""},{"$f":"IF(OR(B384=Dimension!$A$3,B384=Dimension!$A$4,B384=Dimension!$A$5,B384=Dimension!$A$6,,B384=Dimension!$A$7,B384=Dimension!$A$8,B384=Dimension!$A$9),Payment_ID2,\"\")","v":""},null,{"$f":"IFERROR(VLOOKUP(K384,Dimension!$J$3:$K$179,2,FALSE),\"\")","v":""},null,null,{"$f":"IF(OR(B384=Dimension!$A$6,B384=Dimension!$A$7,B384=Dimension!$A$8,B384=Dimension!$A$9),\"\",IF(OR(B384=Dimension!$A$3,B384=Dimension!$A$4,B384=Dimension!$A$5),\"สถานประกอบการ\",\"\"))","v":""},{"$f":"IF(OR(B384=Dimension!$A$6,B384=Dimension!$A$7,B384=Dimension!$A$8,B384=Dimension!$A$9,B384=\"\"),\"\",Payment_ID2)","v":""},"",null,null,{"$f":"IF(D384=Dimension!$C$9,IF(LEFT(UPPER(E384),2)=\"MC\",TRUE,FALSE),TRUE)","v":true}]
[null,null,null,{"$f":"IF(B385=Dimension!$A$8,Dimension!$C$9,IF(B385=Dimension!$A$6,CD,\"\"))","v":""},null,{"$f":"IF(OR(B385=Dimension!$A$3,B385=Dimension!$A$4,B385=Dimension!$A$6,B385=Dimension!$A$8),CCYA,\"\")","v":""},{"$f":"IFERROR(VLOOKUP(F385,Dimension!$G$3:$H$252,2,FALSE),\"\")","v":""},{"$f":"IF(OR(B385=Dimension!$A$3,B385=Dimension!$A$4,B385=Dimension!$A$5),\"เดินทาง/ท่องเที่ยว\",\"\")","v":""},{"$f":"IF(OR(B385=Dimension!$A$6,B385=Dimension!$A$7,B385=Dimension!$A$8,B385=Dimension!$A$9),\"\",IF(OR(B385=Dimension!$A$3,B385=Dimension!$A$4,B385=Dimension!$A$5),\"สถานประกอบการ\",\"\"))","v":""},{"$f":"IF(OR(B385=Dimension!$A$3,B385=Dimension!$A$4,B385=Dimension!$A$5,B385=Dimension!$A$6,,B385=Dimension!$A$7,B385=Dimension!$A$8,B385=Dimension!$A$9),Payment_ID2,\"\")","v":""},null,{"$f":"IFERROR(VLOOKUP(K385,Dimension!$J$3:$K$179,2,FALSE),\"\")","v":""},null,null,{"$f":"IF(OR(B385=Dimension!$A$6,B385=Dimension!$A$7,B385=Dimension!$A$8,B385=Dimension!$A$9),\"\",IF(OR(B385=Dimension!$A$3,B385=Dimension!$A$4,B385=Dimension!$A$5),\"สถานประกอบการ\",\"\"))","v":""},{"$f":"IF(OR(B385=Dimension!$A$6,B385=Dimension!$A$7,B385=Dimension!$A$8,B385=Dimension!$A$9,B385=\"\"),\"\",Payment_ID2)","v":""},"",null,null,{"$f":"IF(D385=Dimension!$C$9,IF(LEFT(UPPER(E385),2)=\"MC\",TRUE,FALSE),TRUE)","v":true}]
[null,null,null,{"$f":"IF(B386=Dimension!$A$8,Dimension!$C$9,IF(B386=Dimension!$A$6,CD,\"\"))","v":""},null,{"$f":"IF(OR(B386=Dimension!$A$3,B386=Dimension!$A$4,B386=Dimension!$A$6,B386=Dimension!$A$8),CCYA,\"\")","v":""},{"$f":"IFERROR(VLOOKUP(F386,Dimension!$G$3:$H$252,2,FALSE),\"\")","v":""},{"$f":"IF(OR(B386=Dimension!$A$3,B386=Dimension!$A$4,B386=Dimension!$A$5),\"เดินทาง/ท่องเที่ยว\",\"\")","v":""},{"$f":"IF(OR(B386=Dimension!$A$6,B386=Dimension!$A$7,B386=Dimension!$A$8,B386=Dimension!$A$9),\"\",IF(OR(B386=Dimension!$A$3,B386=Dimension!$A$4,B386=Dimension!$A$5),\"สถานประกอบการ\",\"\"))","v":""},{"$f":"IF(OR(B386=Dimension!$A$3,B386=Dimension!$A$4,B386=Dimension!$A$5,B386=Dimension!$A$6,,B386=Dimension!$A$7,B386=Dimension!$A$8,B386=Dimension!$A$9),Payment_ID2,\"\")","v":""},null,{"$f":"IFERROR(VLOOKUP(K386,Dimension!$J$3:$K$179,2,FALSE),\"\")","v":""},null,null,{"$f":"IF(OR(B386=Dimension!$A$6,B386=Dimension!$A$7,B386=Dimension!$A$8,B386=Dimension!$A$9),\"\",IF(OR(B386=Dimension!$A$3,B386=Dimension!$A$4,B386=Dimension!$A$5),\"สถานประกอบการ\",\"\"))","v":""},{"$f":"IF(OR(B386=Dimension!$A$6,B386=Dimension!$A$7,B386=Dimension!$A$8,B386=Dimension!$A$9,B386=\"\"),\"\",Payment_ID2)","v":""},"",null,null,{"$f":"IF(D386=Dimension!$C$9,IF(LEFT(UPPER(E386),2)=\"MC\",TRUE,FALSE),TRUE)","v":true}]
[null,null,null,{"$f":"IF(B387=Dimension!$A$8,Dimension!$C$9,IF(B387=Dimension!$A$6,CD,\"\"))","v":""},null,{"$f":"IF(OR(B387=Dimension!$A$3,B387=Dimension!$A$4,B387=Dimension!$A$6,B387=Dimension!$A$8),CCYA,\"\")","v":""},{"$f":"IFERROR(VLOOKUP(F387,Dimension!$G$3:$H$252,2,FALSE),\"\")","v":""},{"$f":"IF(OR(B387=Dimension!$A$3,B387=Dimension!$A$4,B387=Dimension!$A$5),\"เดินทาง/ท่องเที่ยว\",\"\")","v":""},{"$f":"IF(OR(B387=Dimension!$A$6,B387=Dimension!$A$7,B387=Dimension!$A$8,B387=Dimension!$A$9),\"\",IF(OR(B387=Dimension!$A$3,B387=Dimension!$A$4,B387=Dimension!$A$5),\"สถานประกอบการ\",\"\"))","v":""},{"$f":"IF(OR(B387=Dimension!$A$3,B387=Dimension!$A$4,B387=Dimension!$A$5,B387=Dimension!$A$6,,B387=Dimension!$A$7,B387=Dimension!$A$8,B387=Dimension!$A$9),Payment_ID2,\"\")","v":""},null,{"$f":"IFERROR(VLOOKUP(K387,Dimension!$J$3:$K$179,2,FALSE),\"\")","v":""},null,null,{"$f":"IF(OR(B387=Dimension!$A$6,B387=Dimension!$A$7,B387=Dimension!$A$8,B387=Dimension!$A$9),\"\",IF(OR(B387=Dimension!$A$3,B387=Dimension!$A$4,B387=Dimension!$A$5),\"สถานประกอบการ\",\"\"))","v":""},{"$f":"IF(OR(B387=Dimension!$A$6,B387=Dimension!$A$7,B387=Dimension!$A$8,B387=Dimension!$A$9,B387=\"\"),\"\",Payment_ID2)","v":""},"",null,null,{"$f":"IF(D387=Dimension!$C$9,IF(LEFT(UPPER(E387),2)=\"MC\",TRUE,FALSE),TRUE)","v":true}]
[null,null,null,{"$f":"IF(B388=Dimension!$A$8,Dimension!$C$9,IF(B388=Dimension!$A$6,CD,\"\"))","v":""},null,{"$f":"IF(OR(B388=Dimension!$A$3,B388=Dimension!$A$4,B388=Dimension!$A$6,B388=Dimension!$A$8),CCYA,\"\")","v":""},{"$f":"IFERROR(VLOOKUP(F388,Dimension!$G$3:$H$252,2,FALSE),\"\")","v":""},{"$f":"IF(OR(B388=Dimension!$A$3,B388=Dimension!$A$4,B388=Dimension!$A$5),\"เดินทาง/ท่องเที่ยว\",\"\")","v":""},{"$f":"IF(OR(B388=Dimension!$A$6,B388=Dimension!$A$7,B388=Dimension!$A$8,B388=Dimension!$A$9),\"\",IF(OR(B388=Dimension!$A$3,B388=Dimension!$A$4,B388=Dimension!$A$5),\"สถานประกอบการ\",\"\"))","v":""},{"$f":"IF(OR(B388=Dimension!$A$3,B388=Dimension!$A$4,B388=Dimension!$A$5,B388=Dimension!$A$6,,B388=Dimension!$A$7,B388=Dimension!$A$8,B388=Dimension!$A$9),Payment_ID2,\"\")","v":""},null,{"$f":"IFERROR(VLOOKUP(K388,Dimension!$J$3:$K$179,2,FALSE),\"\")","v":""},null,null,{"$f":"IF(OR(B388=Dimension!$A$6,B388=Dimension!$A$7,B388=Dimension!$A$8,B388=Dimension!$A$9),\"\",IF(OR(B388=Dimension!$A$3,B388=Dimension!$A$4,B388=Dimension!$A$5),\"สถานประกอบการ\",\"\"))","v":""},{"$f":"IF(OR(B388=Dimension!$A$6,B388=Dimension!$A$7,B388=Dimension!$A$8,B388=Dimension!$A$9,B388=\"\"),\"\",Payment_ID2)","v":""},"",null,null,{"$f":"IF(D388=Dimension!$C$9,IF(LEFT(UPPER(E388),2)=\"MC\",TRUE,FALSE),TRUE)","v":true}]
[null,null,null,{"$f":"IF(B389=Dimension!$A$8,Dimension!$C$9,IF(B389=Dimension!$A$6,CD,\"\"))","v":""},null,{"$f":"IF(OR(B389=Dimension!$A$3,B389=Dimension!$A$4,B389=Dimension!$A$6,B389=Dimension!$A$8),CCYA,\"\")","v":""},{"$f":"IFERROR(VLOOKUP(F389,Dimension!$G$3:$H$252,2,FALSE),\"\")","v":""},{"$f":"IF(OR(B389=Dimension!$A$3,B389=Dimension!$A$4,B389=Dimension!$A$5),\"เดินทาง/ท่องเที่ยว\",\"\")","v":""},{"$f":"IF(OR(B389=Dimension!$A$6,B389=Dimension!$A$7,B389=Dimension!$A$8,B389=Dimension!$A$9),\"\",IF(OR(B389=Dimension!$A$3,B389=Dimension!$A$4,B389=Dimension!$A$5),\"สถานประกอบการ\",\"\"))","v":""},{"$f":"IF(OR(B389=Dimension!$A$3,B389=Dimension!$A$4,B389=Dimension!$A$5,B389=Dimension!$A$6,,B389=Dimension!$A$7,B389=Dimension!$A$8,B389=Dimension!$A$9),Payment_ID2,\"\")","v":""},null,{"$f":"IFERROR(VLOOKUP(K389,Dimension!$J$3:$K$179,2,FALSE),\"\")","v":""},null,null,{"$f":"IF(OR(B389=Dimension!$A$6,B389=Dimension!$A$7,B389=Dimension!$A$8,B389=Dimension!$A$9),\"\",IF(OR(B389=Dimension!$A$3,B389=Dimension!$A$4,B389=Dimension!$A$5),\"สถานประกอบการ\",\"\"))","v":""},{"$f":"IF(OR(B389=Dimension!$A$6,B389=Dimension!$A$7,B389=Dimension!$A$8,B389=Dimension!$A$9,B389=\"\"),\"\",Payment_ID2)","v":""},"",null,null,{"$f":"IF(D389=Dimension!$C$9,IF(LEFT(UPPER(E389),2)=\"MC\",TRUE,FALSE),TRUE)","v":true}]
[null,null,null,{"$f":"IF(B390=Dimension!$A$8,Dimension!$C$9,IF(B390=Dimension!$A$6,CD,\"\"))","v":""},null,{"$f":"IF(OR(B390=Dimension!$A$3,B390=Dimension!$A$4,B390=Dimension!$A$6,B390=Dimension!$A$8),CCYA,\"\")","v":""},{"$f":"IFERROR(VLOOKUP(F390,Dimension!$G$3:$H$252,2,FALSE),\"\")","v":""},{"$f":"IF(OR(B390=Dimension!$A$3,B390=Dimension!$A$4,B390=Dimension!$A$5),\"เดินทาง/ท่องเที่ยว\",\"\")","v":""},{"$f":"IF(OR(B390=Dimension!$A$6,B390=Dimension!$A$7,B390=Dimension!$A$8,B390=Dimension!$A$9),\"\",IF(OR(B390=Dimension!$A$3,B390=Dimension!$A$4,B390=Dimension!$A$5),\"สถานประกอบการ\",\"\"))","v":""},{"$f":"IF(OR(B390=Dimension!$A$3,B390=Dimension!$A$4,B390=Dimension!$A$5,B390=Dimension!$A$6,,B390=Dimension!$A$7,B390=Dimension!$A$8,B390=Dimension!$A$9),Payment_ID2,\"\")","v":""},null,{"$f":"IFERROR(VLOOKUP(K390,Dimension!$J$3:$K$179,2,FALSE),\"\")","v":""},null,null,{"$f":"IF(OR(B390=Dimension!$A$6,B390=Dimension!$A$7,B390=Dimension!$A$8,B390=Dimension!$A$9),\"\",IF(OR(B390=Dimension!$A$3,B390=Dimension!$A$4,B390=Dimension!$A$5),\"สถานประกอบการ\",\"\"))","v":""},{"$f":"IF(OR(B390=Dimension!$A$6,B390=Dimension!$A$7,B390=Dimension!$A$8,B390=Dimension!$A$9,B390=\"\"),\"\",Payment_ID2)","v":""},"",null,null,{"$f":"IF(D390=Dimension!$C$9,IF(LEFT(UPPER(E390),2)=\"MC\",TRUE,FALSE),TRUE)","v":true}]
[null,null,null,{"$f":"IF(B391=Dimension!$A$8,Dimension!$C$9,IF(B391=Dimension!$A$6,CD,\"\"))","v":""},null,{"$f":"IF(OR(B391=Dimension!$A$3,B391=Dimension!$A$4,B391=Dimension!$A$6,B391=Dimension!$A$8),CCYA,\"\")","v":""},{"$f":"IFERROR(VLOOKUP(F391,Dimension!$G$3:$H$252,2,FALSE),\"\")","v":""},{"$f":"IF(OR(B391=Dimension!$A$3,B391=Dimension!$A$4,B391=Dimension!$A$5),\"เดินทาง/ท่องเที่ยว\",\"\")","v":""},{"$f":"IF(OR(B391=Dimension!$A$6,B391=Dimension!$A$7,B391=Dimension!$A$8,B391=Dimension!$A$9),\"\",IF(OR(B391=Dimension!$A$3,B391=Dimension!$A$4,B391=Dimension!$A$5),\"สถานประกอบการ\",\"\"))","v":""},{"$f":"IF(OR(B391=Dimension!$A$3,B391=Dimension!$A$4,B391=Dimension!$A$5,B391=Dimension!$A$6,,B391=Dimension!$A$7,B391=Dimension!$A$8,B391=Dimension!$A$9),Payment_ID2,\"\")","v":""},null,{"$f":"IFERROR(VLOOKUP(K391,Dimension!$J$3:$K$179,2,FALSE),\"\")","v":""},null,null,{"$f":"IF(OR(B391=Dimension!$A$6,B391=Dimension!$A$7,B391=Dimension!$A$8,B391=Dimension!$A$9),\"\",IF(OR(B391=Dimension!$A$3,B391=Dimension!$A$4,B391=Dimension!$A$5),\"สถานประกอบการ\",\"\"))","v":""},{"$f":"IF(OR(B391=Dimension!$A$6,B391=Dimension!$A$7,B391=Dimension!$A$8,B391=Dimension!$A$9,B391=\"\"),\"\",Payment_ID2)","v":""},"",null,null,{"$f":"IF(D391=Dimension!$C$9,IF(LEFT(UPPER(E391),2)=\"MC\",TRUE,FALSE),TRUE)","v":true}]
[null,null,null,{"$f":"IF(B392=Dimension!$A$8,Dimension!$C$9,IF(B392=Dimension!$A$6,CD,\"\"))","v":""},null,{"$f":"IF(OR(B392=Dimension!$A$3,B392=Dimension!$A$4,B392=Dimension!$A$6,B392=Dimension!$A$8),CCYA,\"\")","v":""},{"$f":"IFERROR(VLOOKUP(F392,Dimension!$G$3:$H$252,2,FALSE),\"\")","v":""},{"$f":"IF(OR(B392=Dimension!$A$3,B392=Dimension!$A$4,B392=Dimension!$A$5),\"เดินทาง/ท่องเที่ยว\",\"\")","v":""},{"$f":"IF(OR(B392=Dimension!$A$6,B392=Dimension!$A$7,B392=Dimension!$A$8,B392=Dimension!$A$9),\"\",IF(OR(B392=Dimension!$A$3,B392=Dimension!$A$4,B392=Dimension!$A$5),\"สถานประกอบการ\",\"\"))","v":""},{"$f":"IF(OR(B392=Dimension!$A$3,B392=Dimension!$A$4,B392=Dimension!$A$5,B392=Dimension!$A$6,,B392=Dimension!$A$7,B392=Dimension!$A$8,B392=Dimension!$A$9),Payment_ID2,\"\")","v":""},null,{"$f":"IFERROR(VLOOKUP(K392,Dimension!$J$3:$K$179,2,FALSE),\"\")","v":""},null,null,{"$f":"IF(OR(B392=Dimension!$A$6,B392=Dimension!$A$7,B392=Dimension!$A$8,B392=Dimension!$A$9),\"\",IF(OR(B392=Dimension!$A$3,B392=Dimension!$A$4,B392=Dimension!$A$5),\"สถานประกอบการ\",\"\"))","v":""},{"$f":"IF(OR(B392=Dimension!$A$6,B392=Dimension!$A$7,B392=Dimension!$A$8,B392=Dimension!$A$9,B392=\"\"),\"\",Payment_ID2)","v":""},"",null,null,{"$f":"IF(D392=Dimension!$C$9,IF(LEFT(UPPER(E392),2)=\"MC\",TRUE,FALSE),TRUE)","v":true}]
[null,null,null,{"$f":"IF(B393=Dimension!$A$8,Dimension!$C$9,IF(B393=Dimension!$A$6,CD,\"\"))","v":""},null,{"$f":"IF(OR(B393=Dimension!$A$3,B393=Dimension!$A$4,B393=Dimension!$A$6,B393=Dimension!$A$8),CCYA,\"\")","v":""},{"$f":"IFERROR(VLOOKUP(F393,Dimension!$G$3:$H$252,2,FALSE),\"\")","v":""},{"$f":"IF(OR(B393=Dimension!$A$3,B393=Dimension!$A$4,B393=Dimension!$A$5),\"เดินทาง/ท่องเที่ยว\",\"\")","v":""},{"$f":"IF(OR(B393=Dimension!$A$6,B393=Dimension!$A$7,B393=Dimension!$A$8,B393=Dimension!$A$9),\"\",IF(OR(B393=Dimension!$A$3,B393=Dimension!$A$4,B393=Dimension!$A$5),\"สถานประกอบการ\",\"\"))","v":""},{"$f":"IF(OR(B393=Dimension!$A$3,B393=Dimension!$A$4,B393=Dimension!$A$5,B393=Dimension!$A$6,,B393=Dimension!$A$7,B393=Dimension!$A$8,B393=Dimension!$A$9),Payment_ID2,\"\")","v":""},null,{"$f":"IFERROR(VLOOKUP(K393,Dimension!$J$3:$K$179,2,FALSE),\"\")","v":""},null,null,{"$f":"IF(OR(B393=Dimension!$A$6,B393=Dimension!$A$7,B393=Dimension!$A$8,B393=Dimension!$A$9),\"\",IF(OR(B393=Dimension!$A$3,B393=Dimension!$A$4,B393=Dimension!$A$5),\"สถานประกอบการ\",\"\"))","v":""},{"$f":"IF(OR(B393=Dimension!$A$6,B393=Dimension!$A$7,B393=Dimension!$A$8,B393=Dimension!$A$9,B393=\"\"),\"\",Payment_ID2)","v":""},"",null,null,{"$f":"IF(D393=Dimension!$C$9,IF(LEFT(UPPER(E393),2)=\"MC\",TRUE,FALSE),TRUE)","v":true}]
[null,null,null,{"$f":"IF(B394=Dimension!$A$8,Dimension!$C$9,IF(B394=Dimension!$A$6,CD,\"\"))","v":""},null,{"$f":"IF(OR(B394=Dimension!$A$3,B394=Dimension!$A$4,B394=Dimension!$A$6,B394=Dimension!$A$8),CCYA,\"\")","v":""},{"$f":"IFERROR(VLOOKUP(F394,Dimension!$G$3:$H$252,2,FALSE),\"\")","v":""},{"$f":"IF(OR(B394=Dimension!$A$3,B394=Dimension!$A$4,B394=Dimension!$A$5),\"เดินทาง/ท่องเที่ยว\",\"\")","v":""},{"$f":"IF(OR(B394=Dimension!$A$6,B394=Dimension!$A$7,B394=Dimension!$A$8,B394=Dimension!$A$9),\"\",IF(OR(B394=Dimension!$A$3,B394=Dimension!$A$4,B394=Dimension!$A$5),\"สถานประกอบการ\",\"\"))","v":""},{"$f":"IF(OR(B394=Dimension!$A$3,B394=Dimension!$A$4,B394=Dimension!$A$5,B394=Dimension!$A$6,,B394=Dimension!$A$7,B394=Dimension!$A$8,B394=Dimension!$A$9),Payment_ID2,\"\")","v":""},null,{"$f":"IFERROR(VLOOKUP(K394,Dimension!$J$3:$K$179,2,FALSE),\"\")","v":""},null,null,{"$f":"IF(OR(B394=Dimension!$A$6,B394=Dimension!$A$7,B394=Dimension!$A$8,B394=Dimension!$A$9),\"\",IF(OR(B394=Dimension!$A$3,B394=Dimension!$A$4,B394=Dimension!$A$5),\"สถานประกอบการ\",\"\"))","v":""},{"$f":"IF(OR(B394=Dimension!$A$6,B394=Dimension!$A$7,B394=Dimension!$A$8,B394=Dimension!$A$9,B394=\"\"),\"\",Payment_ID2)","v":""},{"$f":"IF(OR(M394=\"\",N394=\"\"),\"\",ROUND(M394*N394,2))","v":""},null,null,{"$f":"IF(D394=Dimension!$C$9,IF(LEFT(UPPER(E394),2)=\"MC\",TRUE,FALSE),TRUE)","v":true}]
[null,null,null,{"$f":"IF(B395=Dimension!$A$8,Dimension!$C$9,IF(B395=Dimension!$A$6,CD,\"\"))","v":""},null,{"$f":"IF(OR(B395=Dimension!$A$3,B395=Dimension!$A$4,B395=Dimension!$A$6,B395=Dimension!$A$8),CCYA,\"\")","v":""},{"$f":"IFERROR(VLOOKUP(F395,Dimension!$G$3:$H$252,2,FALSE),\"\")","v":""},{"$f":"IF(OR(B395=Dimension!$A$3,B395=Dimension!$A$4,B395=Dimension!$A$5),\"เดินทาง/ท่องเที่ยว\",\"\")","v":""},{"$f":"IF(OR(B395=Dimension!$A$6,B395=Dimension!$A$7,B395=Dimension!$A$8,B395=Dimension!$A$9),\"\",IF(OR(B395=Dimension!$A$3,B395=Dimension!$A$4,B395=Dimension!$A$5),\"สถานประกอบการ\",\"\"))","v":""},{"$f":"IF(OR(B395=Dimension!$A$3,B395=Dimension!$A$4,B395=Dimension!$A$5,B395=Dimension!$A$6,,B395=Dimension!$A$7,B395=Dimension!$A$8,B395=Dimension!$A$9),Payment_ID2,\"\")","v":""},null,{"$f":"IFERROR(VLOOKUP(K395,Dimension!$J$3:$K$179,2,FALSE),\"\")","v":""},null,null,{"$f":"IF(OR(B395=Dimension!$A$6,B395=Dimension!$A$7,B395=Dimension!$A$8,B395=Dimension!$A$9),\"\",IF(OR(B395=Dimension!$A$3,B395=Dimension!$A$4,B395=Dimension!$A$5),\"สถานประกอบการ\",\"\"))","v":""},{"$f":"IF(OR(B395=Dimension!$A$6,B395=Dimension!$A$7,B395=Dimension!$A$8,B395=Dimension!$A$9,B395=\"\"),\"\",Payment_ID2)","v":""},"",null,null,{"$f":"IF(D395=Dimension!$C$9,IF(LEFT(UPPER(E395),2)=\"MC\",TRUE,FALSE),TRUE)","v":true}]
[null,null,null,{"$f":"IF(B396=Dimension!$A$8,Dimension!$C$9,IF(B396=Dimension!$A$6,CD,\"\"))","v":""},null,{"$f":"IF(OR(B396=Dimension!$A$3,B396=Dimension!$A$4,B396=Dimension!$A$6,B396=Dimension!$A$8),CCYA,\"\")","v":""},{"$f":"IFERROR(VLOOKUP(F396,Dimension!$G$3:$H$252,2,FALSE),\"\")","v":""},{"$f":"IF(OR(B396=Dimension!$A$3,B396=Dimension!$A$4,B396=Dimension!$A$5),\"เดินทาง/ท่องเที่ยว\",\"\")","v":""},{"$f":"IF(OR(B396=Dimension!$A$6,B396=Dimension!$A$7,B396=Dimension!$A$8,B396=Dimension!$A$9),\"\",IF(OR(B396=Dimension!$A$3,B396=Dimension!$A$4,B396=Dimension!$A$5),\"สถานประกอบการ\",\"\"))","v":""},{"$f":"IF(OR(B396=Dimension!$A$3,B396=Dimension!$A$4,B396=Dimension!$A$5,B396=Dimension!$A$6,,B396=Dimension!$A$7,B396=Dimension!$A$8,B396=Dimension!$A$9),Payment_ID2,\"\")","v":""},null,{"$f":"IFERROR(VLOOKUP(K396,Dimension!$J$3:$K$179,2,FALSE),\"\")","v":""},null,null,{"$f":"IF(OR(B396=Dimension!$A$6,B396=Dimension!$A$7,B396=Dimension!$A$8,B396=Dimension!$A$9),\"\",IF(OR(B396=Dimension!$A$3,B396=Dimension!$A$4,B396=Dimension!$A$5),\"สถานประกอบการ\",\"\"))","v":""},{"$f":"IF(OR(B396=Dimension!$A$6,B396=Dimension!$A$7,B396=Dimension!$A$8,B396=Dimension!$A$9,B396=\"\"),\"\",Payment_ID2)","v":""},"",null,null,{"$f":"IF(D396=Dimension!$C$9,IF(LEFT(UPPER(E396),2)=\"MC\",TRUE,FALSE),TRUE)","v":true}]
[null,null,null,{"$f":"IF(B397=Dimension!$A$8,Dimension!$C$9,IF(B397=Dimension!$A$6,CD,\"\"))","v":""},null,{"$f":"IF(OR(B397=Dimension!$A$3,B397=Dimension!$A$4,B397=Dimension!$A$6,B397=Dimension!$A$8),CCYA,\"\")","v":""},{"$f":"IFERROR(VLOOKUP(F397,Dimension!$G$3:$H$252,2,FALSE),\"\")","v":""},{"$f":"IF(OR(B397=Dimension!$A$3,B397=Dimension!$A$4,B397=Dimension!$A$5),\"เดินทาง/ท่องเที่ยว\",\"\")","v":""},{"$f":"IF(OR(B397=Dimension!$A$6,B397=Dimension!$A$7,B397=Dimension!$A$8,B397=Dimension!$A$9),\"\",IF(OR(B397=Dimension!$A$3,B397=Dimension!$A$4,B397=Dimension!$A$5),\"สถานประกอบการ\",\"\"))","v":""},{"$f":"IF(OR(B397=Dimension!$A$3,B397=Dimension!$A$4,B397=Dimension!$A$5,B397=Dimension!$A$6,,B397=Dimension!$A$7,B397=Dimension!$A$8,B397=Dimension!$A$9),Payment_ID2,\"\")","v":""},null,{"$f":"IFERROR(VLOOKUP(K397,Dimension!$J$3:$K$179,2,FALSE),\"\")","v":""},null,null,{"$f":"IF(OR(B397=Dimension!$A$6,B397=Dimension!$A$7,B397=Dimension!$A$8,B397=Dimension!$A$9),\"\",IF(OR(B397=Dimension!$A$3,B397=Dimension!$A$4,B397=Dimension!$A$5),\"สถานประกอบการ\",\"\"))","v":""},{"$f":"IF(OR(B397=Dimension!$A$6,B397=Dimension!$A$7,B397=Dimension!$A$8,B397=Dimension!$A$9,B397=\"\"),\"\",Payment_ID2)","v":""},"",null,null,{"$f":"IF(D397=Dimension!$C$9,IF(LEFT(UPPER(E397),2)=\"MC\",TRUE,FALSE),TRUE)","v":true}]
[null,null,null,{"$f":"IF(B398=Dimension!$A$8,Dimension!$C$9,IF(B398=Dimension!$A$6,CD,\"\"))","v":""},null,{"$f":"IF(OR(B398=Dimension!$A$3,B398=Dimension!$A$4,B398=Dimension!$A$6,B398=Dimension!$A$8),CCYA,\"\")","v":""},{"$f":"IFERROR(VLOOKUP(F398,Dimension!$G$3:$H$252,2,FALSE),\"\")","v":""},{"$f":"IF(OR(B398=Dimension!$A$3,B398=Dimension!$A$4,B398=Dimension!$A$5),\"เดินทาง/ท่องเที่ยว\",\"\")","v":""},{"$f":"IF(OR(B398=Dimension!$A$6,B398=Dimension!$A$7,B398=Dimension!$A$8,B398=Dimension!$A$9),\"\",IF(OR(B398=Dimension!$A$3,B398=Dimension!$A$4,B398=Dimension!$A$5),\"สถานประกอบการ\",\"\"))","v":""},{"$f":"IF(OR(B398=Dimension!$A$3,B398=Dimension!$A$4,B398=Dimension!$A$5,B398=Dimension!$A$6,,B398=Dimension!$A$7,B398=Dimension!$A$8,B398=Dimension!$A$9),Payment_ID2,\"\")","v":""},null,{"$f":"IFERROR(VLOOKUP(K398,Dimension!$J$3:$K$179,2,FALSE),\"\")","v":""},null,null,{"$f":"IF(OR(B398=Dimension!$A$6,B398=Dimension!$A$7,B398=Dimension!$A$8,B398=Dimension!$A$9),\"\",IF(OR(B398=Dimension!$A$3,B398=Dimension!$A$4,B398=Dimension!$A$5),\"สถานประกอบการ\",\"\"))","v":""},{"$f":"IF(OR(B398=Dimension!$A$6,B398=Dimension!$A$7,B398=Dimension!$A$8,B398=Dimension!$A$9,B398=\"\"),\"\",Payment_ID2)","v":""},"",null,null,{"$f":"IF(D398=Dimension!$C$9,IF(LEFT(UPPER(E398),2)=\"MC\",TRUE,FALSE),TRUE)","v":true}]
[null,null,null,{"$f":"IF(B399=Dimension!$A$8,Dimension!$C$9,IF(B399=Dimension!$A$6,CD,\"\"))","v":""},null,{"$f":"IF(OR(B399=Dimension!$A$3,B399=Dimension!$A$4,B399=Dimension!$A$6,B399=Dimension!$A$8),CCYA,\"\")","v":""},{"$f":"IFERROR(VLOOKUP(F399,Dimension!$G$3:$H$252,2,FALSE),\"\")","v":""},{"$f":"IF(OR(B399=Dimension!$A$3,B399=Dimension!$A$4,B399=Dimension!$A$5),\"เดินทาง/ท่องเที่ยว\",\"\")","v":""},{"$f":"IF(OR(B399=Dimension!$A$6,B399=Dimension!$A$7,B399=Dimension!$A$8,B399=Dimension!$A$9),\"\",IF(OR(B399=Dimension!$A$3,B399=Dimension!$A$4,B399=Dimension!$A$5),\"สถานประกอบการ\",\"\"))","v":""},{"$f":"IF(OR(B399=Dimension!$A$3,B399=Dimension!$A$4,B399=Dimension!$A$5,B399=Dimension!$A$6,,B399=Dimension!$A$7,B399=Dimension!$A$8,B399=Dimension!$A$9),Payment_ID2,\"\")","v":""},null,{"$f":"IFERROR(VLOOKUP(K399,Dimension!$J$3:$K$179,2,FALSE),\"\")","v":""},null,null,{"$f":"IF(OR(B399=Dimension!$A$6,B399=Dimension!$A$7,B399=Dimension!$A$8,B399=Dimension!$A$9),\"\",IF(OR(B399=Dimension!$A$3,B399=Dimension!$A$4,B399=Dimension!$A$5),\"สถานประกอบการ\",\"\"))","v":""},{"$f":"IF(OR(B399=Dimension!$A$6,B399=Dimension!$A$7,B399=Dimension!$A$8,B399=Dimension!$A$9,B399=\"\"),\"\",Payment_ID2)","v":""},"",null,null,{"$f":"IF(D399=Dimension!$C$9,IF(LEFT(UPPER(E399),2)=\"MC\",TRUE,FALSE),TRUE)","v":true}]
[null,null,null,{"$f":"IF(B400=Dimension!$A$8,Dimension!$C$9,IF(B400=Dimension!$A$6,CD,\"\"))","v":""},null,{"$f":"IF(OR(B400=Dimension!$A$3,B400=Dimension!$A$4,B400=Dimension!$A$6,B400=Dimension!$A$8),CCYA,\"\")","v":""},{"$f":"IFERROR(VLOOKUP(F400,Dimension!$G$3:$H$252,2,FALSE),\"\")","v":""},{"$f":"IF(OR(B400=Dimension!$A$3,B400=Dimension!$A$4,B400=Dimension!$A$5),\"เดินทาง/ท่องเที่ยว\",\"\")","v":""},{"$f":"IF(OR(B400=Dimension!$A$6,B400=Dimension!$A$7,B400=Dimension!$A$8,B400=Dimension!$A$9),\"\",IF(OR(B400=Dimension!$A$3,B400=Dimension!$A$4,B400=Dimension!$A$5),\"สถานประกอบการ\",\"\"))","v":""},{"$f":"IF(OR(B400=Dimension!$A$3,B400=Dimension!$A$4,B400=Dimension!$A$5,B400=Dimension!$A$6,,B400=Dimension!$A$7,B400=Dimension!$A$8,B400=Dimension!$A$9),Payment_ID2,\"\")","v":""},null,{"$f":"IFERROR(VLOOKUP(K400,Dimension!$J$3:$K$179,2,FALSE),\"\")","v":""},null,null,{"$f":"IF(OR(B400=Dimension!$A$6,B400=Dimension!$A$7,B400=Dimension!$A$8,B400=Dimension!$A$9),\"\",IF(OR(B400=Dimension!$A$3,B400=Dimension!$A$4,B400=Dimension!$A$5),\"สถานประกอบการ\",\"\"))","v":""},{"$f":"IF(OR(B400=Dimension!$A$6,B400=Dimension!$A$7,B400=Dimension!$A$8,B400=Dimension!$A$9,B400=\"\"),\"\",Payment_ID2)","v":""},"",null,null,{"$f":"IF(D400=Dimension!$C$9,IF(LEFT(UPPER(E400),2)=\"MC\",TRUE,FALSE),TRUE)","v":true}]
[null,null,null,{"$f":"IF(B401=Dimension!$A$8,Dimension!$C$9,IF(B401=Dimension!$A$6,CD,\"\"))","v":""},null,{"$f":"IF(OR(B401=Dimension!$A$3,B401=Dimension!$A$4,B401=Dimension!$A$6,B401=Dimension!$A$8),CCYA,\"\")","v":""},{"$f":"IFERROR(VLOOKUP(F401,Dimension!$G$3:$H$252,2,FALSE),\"\")","v":""},{"$f":"IF(OR(B401=Dimension!$A$3,B401=Dimension!$A$4,B401=Dimension!$A$5),\"เดินทาง/ท่องเที่ยว\",\"\")","v":""},{"$f":"IF(OR(B401=Dimension!$A$6,B401=Dimension!$A$7,B401=Dimension!$A$8,B401=Dimension!$A$9),\"\",IF(OR(B401=Dimension!$A$3,B401=Dimension!$A$4,B401=Dimension!$A$5),\"สถานประกอบการ\",\"\"))","v":""},{"$f":"IF(OR(B401=Dimension!$A$3,B401=Dimension!$A$4,B401=Dimension!$A$5,B401=Dimension!$A$6,,B401=Dimension!$A$7,B401=Dimension!$A$8,B401=Dimension!$A$9),Payment_ID2,\"\")","v":""},null,{"$f":"IFERROR(VLOOKUP(K401,Dimension!$J$3:$K$179,2,FALSE),\"\")","v":""},null,null,{"$f":"IF(OR(B401=Dimension!$A$6,B401=Dimension!$A$7,B401=Dimension!$A$8,B401=Dimension!$A$9),\"\",IF(OR(B401=Dimension!$A$3,B401=Dimension!$A$4,B401=Dimension!$A$5),\"สถานประกอบการ\",\"\"))","v":""},{"$f":"IF(OR(B401=Dimension!$A$6,B401=Dimension!$A$7,B401=Dimension!$A$8,B401=Dimension!$A$9,B401=\"\"),\"\",Payment_ID2)","v":""},"",null,null,{"$f":"IF(D401=Dimension!$C$9,IF(LEFT(UPPER(E401),2)=\"MC\",TRUE,FALSE),TRUE)","v":true}]
[null,null,null,{"$f":"IF(B402=Dimension!$A$8,Dimension!$C$9,IF(B402=Dimension!$A$6,CD,\"\"))","v":""},null,{"$f":"IF(OR(B402=Dimension!$A$3,B402=Dimension!$A$4,B402=Dimension!$A$6,B402=Dimension!$A$8),CCYA,\"\")","v":""},{"$f":"IFERROR(VLOOKUP(F402,Dimension!$G$3:$H$252,2,FALSE),\"\")","v":""},{"$f":"IF(OR(B402=Dimension!$A$3,B402=Dimension!$A$4,B402=Dimension!$A$5),\"เดินทาง/ท่องเที่ยว\",\"\")","v":""},{"$f":"IF(OR(B402=Dimension!$A$6,B402=Dimension!$A$7,B402=Dimension!$A$8,B402=Dimension!$A$9),\"\",IF(OR(B402=Dimension!$A$3,B402=Dimension!$A$4,B402=Dimension!$A$5),\"สถานประกอบการ\",\"\"))","v":""},{"$f":"IF(OR(B402=Dimension!$A$3,B402=Dimension!$A$4,B402=Dimension!$A$5,B402=Dimension!$A$6,,B402=Dimension!$A$7,B402=Dimension!$A$8,B402=Dimension!$A$9),Payment_ID2,\"\")","v":""},null,{"$f":"IFERROR(VLOOKUP(K402,Dimension!$J$3:$K$179,2,FALSE),\"\")","v":""},null,null,{"$f":"IF(OR(B402=Dimension!$A$6,B402=Dimension!$A$7,B402=Dimension!$A$8,B402=Dimension!$A$9),\"\",IF(OR(B402=Dimension!$A$3,B402=Dimension!$A$4,B402=Dimension!$A$5),\"สถานประกอบการ\",\"\"))","v":""},{"$f":"IF(OR(B402=Dimension!$A$6,B402=Dimension!$A$7,B402=Dimension!$A$8,B402=Dimension!$A$9,B402=\"\"),\"\",Payment_ID2)","v":""},"",null,null,{"$f":"IF(D402=Dimension!$C$9,IF(LEFT(UPPER(E402),2)=\"MC\",TRUE,FALSE),TRUE)","v":true}]
[null,null,null,{"$f":"IF(B403=Dimension!$A$8,Dimension!$C$9,IF(B403=Dimension!$A$6,CD,\"\"))","v":""},null,{"$f":"IF(OR(B403=Dimension!$A$3,B403=Dimension!$A$4,B403=Dimension!$A$6,B403=Dimension!$A$8),CCYA,\"\")","v":""},{"$f":"IFERROR(VLOOKUP(F403,Dimension!$G$3:$H$252,2,FALSE),\"\")","v":""},{"$f":"IF(OR(B403=Dimension!$A$3,B403=Dimension!$A$4,B403=Dimension!$A$5),\"เดินทาง/ท่องเที่ยว\",\"\")","v":""},{"$f":"IF(OR(B403=Dimension!$A$6,B403=Dimension!$A$7,B403=Dimension!$A$8,B403=Dimension!$A$9),\"\",IF(OR(B403=Dimension!$A$3,B403=Dimension!$A$4,B403=Dimension!$A$5),\"สถานประกอบการ\",\"\"))","v":""},{"$f":"IF(OR(B403=Dimension!$A$3,B403=Dimension!$A$4,B403=Dimension!$A$5,B403=Dimension!$A$6,,B403=Dimension!$A$7,B403=Dimension!$A$8,B403=Dimension!$A$9),Payment_ID2,\"\")","v":""},null,{"$f":"IFERROR(VLOOKUP(K403,Dimension!$J$3:$K$179,2,FALSE),\"\")","v":""},null,null,{"$f":"IF(OR(B403=Dimension!$A$6,B403=Dimension!$A$7,B403=Dimension!$A$8,B403=Dimension!$A$9),\"\",IF(OR(B403=Dimension!$A$3,B403=Dimension!$A$4,B403=Dimension!$A$5),\"สถานประกอบการ\",\"\"))","v":""},{"$f":"IF(OR(B403=Dimension!$A$6,B403=Dimension!$A$7,B403=Dimension!$A$8,B403=Dimension!$A$9,B403=\"\"),\"\",Payment_ID2)","v":""},"",null,null,{"$f":"IF(D403=Dimension!$C$9,IF(LEFT(UPPER(E403),2)=\"MC\",TRUE,FALSE),TRUE)","v":true}]
[null,null,null,{"$f":"IF(B404=Dimension!$A$8,Dimension!$C$9,IF(B404=Dimension!$A$6,CD,\"\"))","v":""},null,{"$f":"IF(OR(B404=Dimension!$A$3,B404=Dimension!$A$4,B404=Dimension!$A$6,B404=Dimension!$A$8),CCYA,\"\")","v":""},{"$f":"IFERROR(VLOOKUP(F404,Dimension!$G$3:$H$252,2,FALSE),\"\")","v":""},{"$f":"IF(OR(B404=Dimension!$A$3,B404=Dimension!$A$4,B404=Dimension!$A$5),\"เดินทาง/ท่องเที่ยว\",\"\")","v":""},{"$f":"IF(OR(B404=Dimension!$A$6,B404=Dimension!$A$7,B404=Dimension!$A$8,B404=Dimension!$A$9),\"\",IF(OR(B404=Dimension!$A$3,B404=Dimension!$A$4,B404=Dimension!$A$5),\"สถานประกอบการ\",\"\"))","v":""},{"$f":"IF(OR(B404=Dimension!$A$3,B404=Dimension!$A$4,B404=Dimension!$A$5,B404=Dimension!$A$6,,B404=Dimension!$A$7,B404=Dimension!$A$8,B404=Dimension!$A$9),Payment_ID2,\"\")","v":""},null,{"$f":"IFERROR(VLOOKUP(K404,Dimension!$J$3:$K$179,2,FALSE),\"\")","v":""},null,null,{"$f":"IF(OR(B404=Dimension!$A$6,B404=Dimension!$A$7,B404=Dimension!$A$8,B404=Dimension!$A$9),\"\",IF(OR(B404=Dimension!$A$3,B404=Dimension!$A$4,B404=Dimension!$A$5),\"สถานประกอบการ\",\"\"))","v":""},{"$f":"IF(OR(B404=Dimension!$A$6,B404=Dimension!$A$7,B404=Dimension!$A$8,B404=Dimension!$A$9,B404=\"\"),\"\",Payment_ID2)","v":""},"",null,null,{"$f":"IF(D404=Dimension!$C$9,IF(LEFT(UPPER(E404),2)=\"MC\",TRUE,FALSE),TRUE)","v":true}]
[null,null,null,{"$f":"IF(B405=Dimension!$A$8,Dimension!$C$9,IF(B405=Dimension!$A$6,CD,\"\"))","v":""},null,{"$f":"IF(OR(B405=Dimension!$A$3,B405=Dimension!$A$4,B405=Dimension!$A$6,B405=Dimension!$A$8),CCYA,\"\")","v":""},{"$f":"IFERROR(VLOOKUP(F405,Dimension!$G$3:$H$252,2,FALSE),\"\")","v":""},{"$f":"IF(OR(B405=Dimension!$A$3,B405=Dimension!$A$4,B405=Dimension!$A$5),\"เดินทาง/ท่องเที่ยว\",\"\")","v":""},{"$f":"IF(OR(B405=Dimension!$A$6,B405=Dimension!$A$7,B405=Dimension!$A$8,B405=Dimension!$A$9),\"\",IF(OR(B405=Dimension!$A$3,B405=Dimension!$A$4,B405=Dimension!$A$5),\"สถานประกอบการ\",\"\"))","v":""},{"$f":"IF(OR(B405=Dimension!$A$3,B405=Dimension!$A$4,B405=Dimension!$A$5,B405=Dimension!$A$6,,B405=Dimension!$A$7,B405=Dimension!$A$8,B405=Dimension!$A$9),Payment_ID2,\"\")","v":""},null,{"$f":"IFERROR(VLOOKUP(K405,Dimension!$J$3:$K$179,2,FALSE),\"\")","v":""},null,null,{"$f":"IF(OR(B405=Dimension!$A$6,B405=Dimension!$A$7,B405=Dimension!$A$8,B405=Dimension!$A$9),\"\",IF(OR(B405=Dimension!$A$3,B405=Dimension!$A$4,B405=Dimension!$A$5),\"สถานประกอบการ\",\"\"))","v":""},{"$f":"IF(OR(B405=Dimension!$A$6,B405=Dimension!$A$7,B405=Dimension!$A$8,B405=Dimension!$A$9,B405=\"\"),\"\",Payment_ID2)","v":""},"",null,null,{"$f":"IF(D405=Dimension!$C$9,IF(LEFT(UPPER(E405),2)=\"MC\",TRUE,FALSE),TRUE)","v":true}]
[null,null,null,{"$f":"IF(B406=Dimension!$A$8,Dimension!$C$9,IF(B406=Dimension!$A$6,CD,\"\"))","v":""},null,{"$f":"IF(OR(B406=Dimension!$A$3,B406=Dimension!$A$4,B406=Dimension!$A$6,B406=Dimension!$A$8),CCYA,\"\")","v":""},{"$f":"IFERROR(VLOOKUP(F406,Dimension!$G$3:$H$252,2,FALSE),\"\")","v":""},{"$f":"IF(OR(B406=Dimension!$A$3,B406=Dimension!$A$4,B406=Dimension!$A$5),\"เดินทาง/ท่องเที่ยว\",\"\")","v":""},{"$f":"IF(OR(B406=Dimension!$A$6,B406=Dimension!$A$7,B406=Dimension!$A$8,B406=Dimension!$A$9),\"\",IF(OR(B406=Dimension!$A$3,B406=Dimension!$A$4,B406=Dimension!$A$5),\"สถานประกอบการ\",\"\"))","v":""},{"$f":"IF(OR(B406=Dimension!$A$3,B406=Dimension!$A$4,B406=Dimension!$A$5,B406=Dimension!$A$6,,B406=Dimension!$A$7,B406=Dimension!$A$8,B406=Dimension!$A$9),Payment_ID2,\"\")","v":""},null,{"$f":"IFERROR(VLOOKUP(K406,Dimension!$J$3:$K$179,2,FALSE),\"\")","v":""},null,null,{"$f":"IF(OR(B406=Dimension!$A$6,B406=Dimension!$A$7,B406=Dimension!$A$8,B406=Dimension!$A$9),\"\",IF(OR(B406=Dimension!$A$3,B406=Dimension!$A$4,B406=Dimension!$A$5),\"สถานประกอบการ\",\"\"))","v":""},{"$f":"IF(OR(B406=Dimension!$A$6,B406=Dimension!$A$7,B406=Dimension!$A$8,B406=Dimension!$A$9,B406=\"\"),\"\",Payment_ID2)","v":""},"",null,null,{"$f":"IF(D406=Dimension!$C$9,IF(LEFT(UPPER(E406),2)=\"MC\",TRUE,FALSE),TRUE)","v":true}]
[null,null,null,{"$f":"IF(B407=Dimension!$A$8,Dimension!$C$9,IF(B407=Dimension!$A$6,CD,\"\"))","v":""},null,{"$f":"IF(OR(B407=Dimension!$A$3,B407=Dimension!$A$4,B407=Dimension!$A$6,B407=Dimension!$A$8),CCYA,\"\")","v":""},{"$f":"IFERROR(VLOOKUP(F407,Dimension!$G$3:$H$252,2,FALSE),\"\")","v":""},{"$f":"IF(OR(B407=Dimension!$A$3,B407=Dimension!$A$4,B407=Dimension!$A$5),\"เดินทาง/ท่องเที่ยว\",\"\")","v":""},{"$f":"IF(OR(B407=Dimension!$A$6,B407=Dimension!$A$7,B407=Dimension!$A$8,B407=Dimension!$A$9),\"\",IF(OR(B407=Dimension!$A$3,B407=Dimension!$A$4,B407=Dimension!$A$5),\"สถานประกอบการ\",\"\"))","v":""},{"$f":"IF(OR(B407=Dimension!$A$3,B407=Dimension!$A$4,B407=Dimension!$A$5,B407=Dimension!$A$6,,B407=Dimension!$A$7,B407=Dimension!$A$8,B407=Dimension!$A$9),Payment_ID2,\"\")","v":""},null,{"$f":"IFERROR(VLOOKUP(K407,Dimension!$J$3:$K$179,2,FALSE),\"\")","v":""},null,null,{"$f":"IF(OR(B407=Dimension!$A$6,B407=Dimension!$A$7,B407=Dimension!$A$8,B407=Dimension!$A$9),\"\",IF(OR(B407=Dimension!$A$3,B407=Dimension!$A$4,B407=Dimension!$A$5),\"สถานประกอบการ\",\"\"))","v":""},{"$f":"IF(OR(B407=Dimension!$A$6,B407=Dimension!$A$7,B407=Dimension!$A$8,B407=Dimension!$A$9,B407=\"\"),\"\",Payment_ID2)","v":""},"",null,null,{"$f":"IF(D407=Dimension!$C$9,IF(LEFT(UPPER(E407),2)=\"MC\",TRUE,FALSE),TRUE)","v":true}]
[null,null,null,{"$f":"IF(B408=Dimension!$A$8,Dimension!$C$9,IF(B408=Dimension!$A$6,CD,\"\"))","v":""},null,{"$f":"IF(OR(B408=Dimension!$A$3,B408=Dimension!$A$4,B408=Dimension!$A$6,B408=Dimension!$A$8),CCYA,\"\")","v":""},{"$f":"IFERROR(VLOOKUP(F408,Dimension!$G$3:$H$252,2,FALSE),\"\")","v":""},{"$f":"IF(OR(B408=Dimension!$A$3,B408=Dimension!$A$4,B408=Dimension!$A$5),\"เดินทาง/ท่องเที่ยว\",\"\")","v":""},{"$f":"IF(OR(B408=Dimension!$A$6,B408=Dimension!$A$7,B408=Dimension!$A$8,B408=Dimension!$A$9),\"\",IF(OR(B408=Dimension!$A$3,B408=Dimension!$A$4,B408=Dimension!$A$5),\"สถานประกอบการ\",\"\"))","v":""},{"$f":"IF(OR(B408=Dimension!$A$3,B408=Dimension!$A$4,B408=Dimension!$A$5,B408=Dimension!$A$6,,B408=Dimension!$A$7,B408=Dimension!$A$8,B408=Dimension!$A$9),Payment_ID2,\"\")","v":""},null,{"$f":"IFERROR(VLOOKUP(K408,Dimension!$J$3:$K$179,2,FALSE),\"\")","v":""},null,null,{"$f":"IF(OR(B408=Dimension!$A$6,B408=Dimension!$A$7,B408=Dimension!$A$8,B408=Dimension!$A$9),\"\",IF(OR(B408=Dimension!$A$3,B408=Dimension!$A$4,B408=Dimension!$A$5),\"สถานประกอบการ\",\"\"))","v":""},{"$f":"IF(OR(B408=Dimension!$A$6,B408=Dimension!$A$7,B408=Dimension!$A$8,B408=Dimension!$A$9,B408=\"\"),\"\",Payment_ID2)","v":""},"",null,null,{"$f":"IF(D408=Dimension!$C$9,IF(LEFT(UPPER(E408),2)=\"MC\",TRUE,FALSE),TRUE)","v":true}]
[null,null,null,{"$f":"IF(B409=Dimension!$A$8,Dimension!$C$9,IF(B409=Dimension!$A$6,CD,\"\"))","v":""},null,{"$f":"IF(OR(B409=Dimension!$A$3,B409=Dimension!$A$4,B409=Dimension!$A$6,B409=Dimension!$A$8),CCYA,\"\")","v":""},{"$f":"IFERROR(VLOOKUP(F409,Dimension!$G$3:$H$252,2,FALSE),\"\")","v":""},{"$f":"IF(OR(B409=Dimension!$A$3,B409=Dimension!$A$4,B409=Dimension!$A$5),\"เดินทาง/ท่องเที่ยว\",\"\")","v":""},{"$f":"IF(OR(B409=Dimension!$A$6,B409=Dimension!$A$7,B409=Dimension!$A$8,B409=Dimension!$A$9),\"\",IF(OR(B409=Dimension!$A$3,B409=Dimension!$A$4,B409=Dimension!$A$5),\"สถานประกอบการ\",\"\"))","v":""},{"$f":"IF(OR(B409=Dimension!$A$3,B409=Dimension!$A$4,B409=Dimension!$A$5,B409=Dimension!$A$6,,B409=Dimension!$A$7,B409=Dimension!$A$8,B409=Dimension!$A$9),Payment_ID2,\"\")","v":""},null,{"$f":"IFERROR(VLOOKUP(K409,Dimension!$J$3:$K$179,2,FALSE),\"\")","v":""},null,null,{"$f":"IF(OR(B409=Dimension!$A$6,B409=Dimension!$A$7,B409=Dimension!$A$8,B409=Dimension!$A$9),\"\",IF(OR(B409=Dimension!$A$3,B409=Dimension!$A$4,B409=Dimension!$A$5),\"สถานประกอบการ\",\"\"))","v":""},{"$f":"IF(OR(B409=Dimension!$A$6,B409=Dimension!$A$7,B409=Dimension!$A$8,B409=Dimension!$A$9,B409=\"\"),\"\",Payment_ID2)","v":""},"",null,null,{"$f":"IF(D409=Dimension!$C$9,IF(LEFT(UPPER(E409),2)=\"MC\",TRUE,FALSE),TRUE)","v":true}]
[null,null,null,{"$f":"IF(B410=Dimension!$A$8,Dimension!$C$9,IF(B410=Dimension!$A$6,CD,\"\"))","v":""},null,{"$f":"IF(OR(B410=Dimension!$A$3,B410=Dimension!$A$4,B410=Dimension!$A$6,B410=Dimension!$A$8),CCYA,\"\")","v":""},{"$f":"IFERROR(VLOOKUP(F410,Dimension!$G$3:$H$252,2,FALSE),\"\")","v":""},{"$f":"IF(OR(B410=Dimension!$A$3,B410=Dimension!$A$4,B410=Dimension!$A$5),\"เดินทาง/ท่องเที่ยว\",\"\")","v":""},{"$f":"IF(OR(B410=Dimension!$A$6,B410=Dimension!$A$7,B410=Dimension!$A$8,B410=Dimension!$A$9),\"\",IF(OR(B410=Dimension!$A$3,B410=Dimension!$A$4,B410=Dimension!$A$5),\"สถานประกอบการ\",\"\"))","v":""},{"$f":"IF(OR(B410=Dimension!$A$3,B410=Dimension!$A$4,B410=Dimension!$A$5,B410=Dimension!$A$6,,B410=Dimension!$A$7,B410=Dimension!$A$8,B410=Dimension!$A$9),Payment_ID2,\"\")","v":""},null,{"$f":"IFERROR(VLOOKUP(K410,Dimension!$J$3:$K$179,2,FALSE),\"\")","v":""},null,null,{"$f":"IF(OR(B410=Dimension!$A$6,B410=Dimension!$A$7,B410=Dimension!$A$8,B410=Dimension!$A$9),\"\",IF(OR(B410=Dimension!$A$3,B410=Dimension!$A$4,B410=Dimension!$A$5),\"สถานประกอบการ\",\"\"))","v":""},{"$f":"IF(OR(B410=Dimension!$A$6,B410=Dimension!$A$7,B410=Dimension!$A$8,B410=Dimension!$A$9,B410=\"\"),\"\",Payment_ID2)","v":""},"",null,null,{"$f":"IF(D410=Dimension!$C$9,IF(LEFT(UPPER(E410),2)=\"MC\",TRUE,FALSE),TRUE)","v":true}]
[null,null,null,{"$f":"IF(B411=Dimension!$A$8,Dimension!$C$9,IF(B411=Dimension!$A$6,CD,\"\"))","v":""},null,{"$f":"IF(OR(B411=Dimension!$A$3,B411=Dimension!$A$4,B411=Dimension!$A$6,B411=Dimension!$A$8),CCYA,\"\")","v":""},{"$f":"IFERROR(VLOOKUP(F411,Dimension!$G$3:$H$252,2,FALSE),\"\")","v":""},{"$f":"IF(OR(B411=Dimension!$A$3,B411=Dimension!$A$4,B411=Dimension!$A$5),\"เดินทาง/ท่องเที่ยว\",\"\")","v":""},{"$f":"IF(OR(B411=Dimension!$A$6,B411=Dimension!$A$7,B411=Dimension!$A$8,B411=Dimension!$A$9),\"\",IF(OR(B411=Dimension!$A$3,B411=Dimension!$A$4,B411=Dimension!$A$5),\"สถานประกอบการ\",\"\"))","v":""},{"$f":"IF(OR(B411=Dimension!$A$3,B411=Dimension!$A$4,B411=Dimension!$A$5,B411=Dimension!$A$6,,B411=Dimension!$A$7,B411=Dimension!$A$8,B411=Dimension!$A$9),Payment_ID2,\"\")","v":""},null,{"$f":"IFERROR(VLOOKUP(K411,Dimension!$J$3:$K$179,2,FALSE),\"\")","v":""},null,null,{"$f":"IF(OR(B411=Dimension!$A$6,B411=Dimension!$A$7,B411=Dimension!$A$8,B411=Dimension!$A$9),\"\",IF(OR(B411=Dimension!$A$3,B411=Dimension!$A$4,B411=Dimension!$A$5),\"สถานประกอบการ\",\"\"))","v":""},{"$f":"IF(OR(B411=Dimension!$A$6,B411=Dimension!$A$7,B411=Dimension!$A$8,B411=Dimension!$A$9,B411=\"\"),\"\",Payment_ID2)","v":""},"",null,null,{"$f":"IF(D411=Dimension!$C$9,IF(LEFT(UPPER(E411),2)=\"MC\",TRUE,FALSE),TRUE)","v":true}]
[null,null,null,{"$f":"IF(B412=Dimension!$A$8,Dimension!$C$9,IF(B412=Dimension!$A$6,CD,\"\"))","v":""},null,{"$f":"IF(OR(B412=Dimension!$A$3,B412=Dimension!$A$4,B412=Dimension!$A$6,B412=Dimension!$A$8),CCYA,\"\")","v":""},{"$f":"IFERROR(VLOOKUP(F412,Dimension!$G$3:$H$252,2,FALSE),\"\")","v":""},{"$f":"IF(OR(B412=Dimension!$A$3,B412=Dimension!$A$4,B412=Dimension!$A$5),\"เดินทาง/ท่องเที่ยว\",\"\")","v":""},{"$f":"IF(OR(B412=Dimension!$A$6,B412=Dimension!$A$7,B412=Dimension!$A$8,B412=Dimension!$A$9),\"\",IF(OR(B412=Dimension!$A$3,B412=Dimension!$A$4,B412=Dimension!$A$5),\"สถานประกอบการ\",\"\"))","v":""},{"$f":"IF(OR(B412=Dimension!$A$3,B412=Dimension!$A$4,B412=Dimension!$A$5,B412=Dimension!$A$6,,B412=Dimension!$A$7,B412=Dimension!$A$8,B412=Dimension!$A$9),Payment_ID2,\"\")","v":""},null,{"$f":"IFERROR(VLOOKUP(K412,Dimension!$J$3:$K$179,2,FALSE),\"\")","v":""},null,null,{"$f":"IF(OR(B412=Dimension!$A$6,B412=Dimension!$A$7,B412=Dimension!$A$8,B412=Dimension!$A$9),\"\",IF(OR(B412=Dimension!$A$3,B412=Dimension!$A$4,B412=Dimension!$A$5),\"สถานประกอบการ\",\"\"))","v":""},{"$f":"IF(OR(B412=Dimension!$A$6,B412=Dimension!$A$7,B412=Dimension!$A$8,B412=Dimension!$A$9,B412=\"\"),\"\",Payment_ID2)","v":""},"",null,null,{"$f":"IF(D412=Dimension!$C$9,IF(LEFT(UPPER(E412),2)=\"MC\",TRUE,FALSE),TRUE)","v":true}]
[null,null,null,{"$f":"IF(B413=Dimension!$A$8,Dimension!$C$9,IF(B413=Dimension!$A$6,CD,\"\"))","v":""},null,{"$f":"IF(OR(B413=Dimension!$A$3,B413=Dimension!$A$4,B413=Dimension!$A$6,B413=Dimension!$A$8),CCYA,\"\")","v":""},{"$f":"IFERROR(VLOOKUP(F413,Dimension!$G$3:$H$252,2,FALSE),\"\")","v":""},{"$f":"IF(OR(B413=Dimension!$A$3,B413=Dimension!$A$4,B413=Dimension!$A$5),\"เดินทาง/ท่องเที่ยว\",\"\")","v":""},{"$f":"IF(OR(B413=Dimension!$A$6,B413=Dimension!$A$7,B413=Dimension!$A$8,B413=Dimension!$A$9),\"\",IF(OR(B413=Dimension!$A$3,B413=Dimension!$A$4,B413=Dimension!$A$5),\"สถานประกอบการ\",\"\"))","v":""},{"$f":"IF(OR(B413=Dimension!$A$3,B413=Dimension!$A$4,B413=Dimension!$A$5,B413=Dimension!$A$6,,B413=Dimension!$A$7,B413=Dimension!$A$8,B413=Dimension!$A$9),Payment_ID2,\"\")","v":""},null,{"$f":"IFERROR(VLOOKUP(K413,Dimension!$J$3:$K$179,2,FALSE),\"\")","v":""},null,null,{"$f":"IF(OR(B413=Dimension!$A$6,B413=Dimension!$A$7,B413=Dimension!$A$8,B413=Dimension!$A$9),\"\",IF(OR(B413=Dimension!$A$3,B413=Dimension!$A$4,B413=Dimension!$A$5),\"สถานประกอบการ\",\"\"))","v":""},{"$f":"IF(OR(B413=Dimension!$A$6,B413=Dimension!$A$7,B413=Dimension!$A$8,B413=Dimension!$A$9,B413=\"\"),\"\",Payment_ID2)","v":""},"",null,null,{"$f":"IF(D413=Dimension!$C$9,IF(LEFT(UPPER(E413),2)=\"MC\",TRUE,FALSE),TRUE)","v":true}]
[null,null,null,{"$f":"IF(B414=Dimension!$A$8,Dimension!$C$9,IF(B414=Dimension!$A$6,CD,\"\"))","v":""},null,{"$f":"IF(OR(B414=Dimension!$A$3,B414=Dimension!$A$4,B414=Dimension!$A$6,B414=Dimension!$A$8),CCYA,\"\")","v":""},{"$f":"IFERROR(VLOOKUP(F414,Dimension!$G$3:$H$252,2,FALSE),\"\")","v":""},{"$f":"IF(OR(B414=Dimension!$A$3,B414=Dimension!$A$4,B414=Dimension!$A$5),\"เดินทาง/ท่องเที่ยว\",\"\")","v":""},{"$f":"IF(OR(B414=Dimension!$A$6,B414=Dimension!$A$7,B414=Dimension!$A$8,B414=Dimension!$A$9),\"\",IF(OR(B414=Dimension!$A$3,B414=Dimension!$A$4,B414=Dimension!$A$5),\"สถานประกอบการ\",\"\"))","v":""},{"$f":"IF(OR(B414=Dimension!$A$3,B414=Dimension!$A$4,B414=Dimension!$A$5,B414=Dimension!$A$6,,B414=Dimension!$A$7,B414=Dimension!$A$8,B414=Dimension!$A$9),Payment_ID2,\"\")","v":""},null,{"$f":"IFERROR(VLOOKUP(K414,Dimension!$J$3:$K$179,2,FALSE),\"\")","v":""},null,null,{"$f":"IF(OR(B414=Dimension!$A$6,B414=Dimension!$A$7,B414=Dimension!$A$8,B414=Dimension!$A$9),\"\",IF(OR(B414=Dimension!$A$3,B414=Dimension!$A$4,B414=Dimension!$A$5),\"สถานประกอบการ\",\"\"))","v":""},{"$f":"IF(OR(B414=Dimension!$A$6,B414=Dimension!$A$7,B414=Dimension!$A$8,B414=Dimension!$A$9,B414=\"\"),\"\",Payment_ID2)","v":""},"",null,null,{"$f":"IF(D414=Dimension!$C$9,IF(LEFT(UPPER(E414),2)=\"MC\",TRUE,FALSE),TRUE)","v":true}]
[null,null,null,{"$f":"IF(B415=Dimension!$A$8,Dimension!$C$9,IF(B415=Dimension!$A$6,CD,\"\"))","v":""},null,{"$f":"IF(OR(B415=Dimension!$A$3,B415=Dimension!$A$4,B415=Dimension!$A$6,B415=Dimension!$A$8),CCYA,\"\")","v":""},{"$f":"IFERROR(VLOOKUP(F415,Dimension!$G$3:$H$252,2,FALSE),\"\")","v":""},{"$f":"IF(OR(B415=Dimension!$A$3,B415=Dimension!$A$4,B415=Dimension!$A$5),\"เดินทาง/ท่องเที่ยว\",\"\")","v":""},{"$f":"IF(OR(B415=Dimension!$A$6,B415=Dimension!$A$7,B415=Dimension!$A$8,B415=Dimension!$A$9),\"\",IF(OR(B415=Dimension!$A$3,B415=Dimension!$A$4,B415=Dimension!$A$5),\"สถานประกอบการ\",\"\"))","v":""},{"$f":"IF(OR(B415=Dimension!$A$3,B415=Dimension!$A$4,B415=Dimension!$A$5,B415=Dimension!$A$6,,B415=Dimension!$A$7,B415=Dimension!$A$8,B415=Dimension!$A$9),Payment_ID2,\"\")","v":""},null,{"$f":"IFERROR(VLOOKUP(K415,Dimension!$J$3:$K$179,2,FALSE),\"\")","v":""},null,null,{"$f":"IF(OR(B415=Dimension!$A$6,B415=Dimension!$A$7,B415=Dimension!$A$8,B415=Dimension!$A$9),\"\",IF(OR(B415=Dimension!$A$3,B415=Dimension!$A$4,B415=Dimension!$A$5),\"สถานประกอบการ\",\"\"))","v":""},{"$f":"IF(OR(B415=Dimension!$A$6,B415=Dimension!$A$7,B415=Dimension!$A$8,B415=Dimension!$A$9,B415=\"\"),\"\",Payment_ID2)","v":""},"",null,null,{"$f":"IF(D415=Dimension!$C$9,IF(LEFT(UPPER(E415),2)=\"MC\",TRUE,FALSE),TRUE)","v":true}]
[null,null,null,{"$f":"IF(B416=Dimension!$A$8,Dimension!$C$9,IF(B416=Dimension!$A$6,CD,\"\"))","v":""},null,{"$f":"IF(OR(B416=Dimension!$A$3,B416=Dimension!$A$4,B416=Dimension!$A$6,B416=Dimension!$A$8),CCYA,\"\")","v":""},{"$f":"IFERROR(VLOOKUP(F416,Dimension!$G$3:$H$252,2,FALSE),\"\")","v":""},{"$f":"IF(OR(B416=Dimension!$A$3,B416=Dimension!$A$4,B416=Dimension!$A$5),\"เดินทาง/ท่องเที่ยว\",\"\")","v":""},{"$f":"IF(OR(B416=Dimension!$A$6,B416=Dimension!$A$7,B416=Dimension!$A$8,B416=Dimension!$A$9),\"\",IF(OR(B416=Dimension!$A$3,B416=Dimension!$A$4,B416=Dimension!$A$5),\"สถานประกอบการ\",\"\"))","v":""},{"$f":"IF(OR(B416=Dimension!$A$3,B416=Dimension!$A$4,B416=Dimension!$A$5,B416=Dimension!$A$6,,B416=Dimension!$A$7,B416=Dimension!$A$8,B416=Dimension!$A$9),Payment_ID2,\"\")","v":""},null,{"$f":"IFERROR(VLOOKUP(K416,Dimension!$J$3:$K$179,2,FALSE),\"\")","v":""},null,null,{"$f":"IF(OR(B416=Dimension!$A$6,B416=Dimension!$A$7,B416=Dimension!$A$8,B416=Dimension!$A$9),\"\",IF(OR(B416=Dimension!$A$3,B416=Dimension!$A$4,B416=Dimension!$A$5),\"สถานประกอบการ\",\"\"))","v":""},{"$f":"IF(OR(B416=Dimension!$A$6,B416=Dimension!$A$7,B416=Dimension!$A$8,B416=Dimension!$A$9,B416=\"\"),\"\",Payment_ID2)","v":""},"",null,null,{"$f":"IF(D416=Dimension!$C$9,IF(LEFT(UPPER(E416),2)=\"MC\",TRUE,FALSE),TRUE)","v":true}]
[null,null,null,{"$f":"IF(B417=Dimension!$A$8,Dimension!$C$9,IF(B417=Dimension!$A$6,CD,\"\"))","v":""},null,{"$f":"IF(OR(B417=Dimension!$A$3,B417=Dimension!$A$4,B417=Dimension!$A$6,B417=Dimension!$A$8),CCYA,\"\")","v":""},{"$f":"IFERROR(VLOOKUP(F417,Dimension!$G$3:$H$252,2,FALSE),\"\")","v":""},{"$f":"IF(OR(B417=Dimension!$A$3,B417=Dimension!$A$4,B417=Dimension!$A$5),\"เดินทาง/ท่องเที่ยว\",\"\")","v":""},{"$f":"IF(OR(B417=Dimension!$A$6,B417=Dimension!$A$7,B417=Dimension!$A$8,B417=Dimension!$A$9),\"\",IF(OR(B417=Dimension!$A$3,B417=Dimension!$A$4,B417=Dimension!$A$5),\"สถานประกอบการ\",\"\"))","v":""},{"$f":"IF(OR(B417=Dimension!$A$3,B417=Dimension!$A$4,B417=Dimension!$A$5,B417=Dimension!$A$6,,B417=Dimension!$A$7,B417=Dimension!$A$8,B417=Dimension!$A$9),Payment_ID2,\"\")","v":""},null,{"$f":"IFERROR(VLOOKUP(K417,Dimension!$J$3:$K$179,2,FALSE),\"\")","v":""},null,null,{"$f":"IF(OR(B417=Dimension!$A$6,B417=Dimension!$A$7,B417=Dimension!$A$8,B417=Dimension!$A$9),\"\",IF(OR(B417=Dimension!$A$3,B417=Dimension!$A$4,B417=Dimension!$A$5),\"สถานประกอบการ\",\"\"))","v":""},{"$f":"IF(OR(B417=Dimension!$A$6,B417=Dimension!$A$7,B417=Dimension!$A$8,B417=Dimension!$A$9,B417=\"\"),\"\",Payment_ID2)","v":""},"",null,null,{"$f":"IF(D417=Dimension!$C$9,IF(LEFT(UPPER(E417),2)=\"MC\",TRUE,FALSE),TRUE)","v":true}]
[null,null,null,{"$f":"IF(B418=Dimension!$A$8,Dimension!$C$9,IF(B418=Dimension!$A$6,CD,\"\"))","v":""},null,{"$f":"IF(OR(B418=Dimension!$A$3,B418=Dimension!$A$4,B418=Dimension!$A$6,B418=Dimension!$A$8),CCYA,\"\")","v":""},{"$f":"IFERROR(VLOOKUP(F418,Dimension!$G$3:$H$252,2,FALSE),\"\")","v":""},{"$f":"IF(OR(B418=Dimension!$A$3,B418=Dimension!$A$4,B418=Dimension!$A$5),\"เดินทาง/ท่องเที่ยว\",\"\")","v":""},{"$f":"IF(OR(B418=Dimension!$A$6,B418=Dimension!$A$7,B418=Dimension!$A$8,B418=Dimension!$A$9),\"\",IF(OR(B418=Dimension!$A$3,B418=Dimension!$A$4,B418=Dimension!$A$5),\"สถานประกอบการ\",\"\"))","v":""},{"$f":"IF(OR(B418=Dimension!$A$3,B418=Dimension!$A$4,B418=Dimension!$A$5,B418=Dimension!$A$6,,B418=Dimension!$A$7,B418=Dimension!$A$8,B418=Dimension!$A$9),Payment_ID2,\"\")","v":""},null,{"$f":"IFERROR(VLOOKUP(K418,Dimension!$J$3:$K$179,2,FALSE),\"\")","v":""},null,null,{"$f":"IF(OR(B418=Dimension!$A$6,B418=Dimension!$A$7,B418=Dimension!$A$8,B418=Dimension!$A$9),\"\",IF(OR(B418=Dimension!$A$3,B418=Dimension!$A$4,B418=Dimension!$A$5),\"สถานประกอบการ\",\"\"))","v":""},{"$f":"IF(OR(B418=Dimension!$A$6,B418=Dimension!$A$7,B418=Dimension!$A$8,B418=Dimension!$A$9,B418=\"\"),\"\",Payment_ID2)","v":""},"",null,null,{"$f":"IF(D418=Dimension!$C$9,IF(LEFT(UPPER(E418),2)=\"MC\",TRUE,FALSE),TRUE)","v":true}]
[null,null,null,{"$f":"IF(B419=Dimension!$A$8,Dimension!$C$9,IF(B419=Dimension!$A$6,CD,\"\"))","v":""},null,{"$f":"IF(OR(B419=Dimension!$A$3,B419=Dimension!$A$4,B419=Dimension!$A$6,B419=Dimension!$A$8),CCYA,\"\")","v":""},{"$f":"IFERROR(VLOOKUP(F419,Dimension!$G$3:$H$252,2,FALSE),\"\")","v":""},{"$f":"IF(OR(B419=Dimension!$A$3,B419=Dimension!$A$4,B419=Dimension!$A$5),\"เดินทาง/ท่องเที่ยว\",\"\")","v":""},{"$f":"IF(OR(B419=Dimension!$A$6,B419=Dimension!$A$7,B419=Dimension!$A$8,B419=Dimension!$A$9),\"\",IF(OR(B419=Dimension!$A$3,B419=Dimension!$A$4,B419=Dimension!$A$5),\"สถานประกอบการ\",\"\"))","v":""},{"$f":"IF(OR(B419=Dimension!$A$3,B419=Dimension!$A$4,B419=Dimension!$A$5,B419=Dimension!$A$6,,B419=Dimension!$A$7,B419=Dimension!$A$8,B419=Dimension!$A$9),Payment_ID2,\"\")","v":""},null,{"$f":"IFERROR(VLOOKUP(K419,Dimension!$J$3:$K$179,2,FALSE),\"\")","v":""},null,null,{"$f":"IF(OR(B419=Dimension!$A$6,B419=Dimension!$A$7,B419=Dimension!$A$8,B419=Dimension!$A$9),\"\",IF(OR(B419=Dimension!$A$3,B419=Dimension!$A$4,B419=Dimension!$A$5),\"สถานประกอบการ\",\"\"))","v":""},{"$f":"IF(OR(B419=Dimension!$A$6,B419=Dimension!$A$7,B419=Dimension!$A$8,B419=Dimension!$A$9,B419=\"\"),\"\",Payment_ID2)","v":""},"",null,null,{"$f":"IF(D419=Dimension!$C$9,IF(LEFT(UPPER(E419),2)=\"MC\",TRUE,FALSE),TRUE)","v":true}]
[null,null,null,{"$f":"IF(B420=Dimension!$A$8,Dimension!$C$9,IF(B420=Dimension!$A$6,CD,\"\"))","v":""},null,{"$f":"IF(OR(B420=Dimension!$A$3,B420=Dimension!$A$4,B420=Dimension!$A$6,B420=Dimension!$A$8),CCYA,\"\")","v":""},{"$f":"IFERROR(VLOOKUP(F420,Dimension!$G$3:$H$252,2,FALSE),\"\")","v":""},{"$f":"IF(OR(B420=Dimension!$A$3,B420=Dimension!$A$4,B420=Dimension!$A$5),\"เดินทาง/ท่องเที่ยว\",\"\")","v":""},{"$f":"IF(OR(B420=Dimension!$A$6,B420=Dimension!$A$7,B420=Dimension!$A$8,B420=Dimension!$A$9),\"\",IF(OR(B420=Dimension!$A$3,B420=Dimension!$A$4,B420=Dimension!$A$5),\"สถานประกอบการ\",\"\"))","v":""},{"$f":"IF(OR(B420=Dimension!$A$3,B420=Dimension!$A$4,B420=Dimension!$A$5,B420=Dimension!$A$6,,B420=Dimension!$A$7,B420=Dimension!$A$8,B420=Dimension!$A$9),Payment_ID2,\"\")","v":""},null,{"$f":"IFERROR(VLOOKUP(K420,Dimension!$J$3:$K$179,2,FALSE),\"\")","v":""},null,null,{"$f":"IF(OR(B420=Dimension!$A$6,B420=Dimension!$A$7,B420=Dimension!$A$8,B420=Dimension!$A$9),\"\",IF(OR(B420=Dimension!$A$3,B420=Dimension!$A$4,B420=Dimension!$A$5),\"สถานประกอบการ\",\"\"))","v":""},{"$f":"IF(OR(B420=Dimension!$A$6,B420=Dimension!$A$7,B420=Dimension!$A$8,B420=Dimension!$A$9,B420=\"\"),\"\",Payment_ID2)","v":""},"",null,null,{"$f":"IF(D420=Dimension!$C$9,IF(LEFT(UPPER(E420),2)=\"MC\",TRUE,FALSE),TRUE)","v":true}]
[null,null,null,{"$f":"IF(B421=Dimension!$A$8,Dimension!$C$9,IF(B421=Dimension!$A$6,CD,\"\"))","v":""},null,{"$f":"IF(OR(B421=Dimension!$A$3,B421=Dimension!$A$4,B421=Dimension!$A$6,B421=Dimension!$A$8),CCYA,\"\")","v":""},{"$f":"IFERROR(VLOOKUP(F421,Dimension!$G$3:$H$252,2,FALSE),\"\")","v":""},{"$f":"IF(OR(B421=Dimension!$A$3,B421=Dimension!$A$4,B421=Dimension!$A$5),\"เดินทาง/ท่องเที่ยว\",\"\")","v":""},{"$f":"IF(OR(B421=Dimension!$A$6,B421=Dimension!$A$7,B421=Dimension!$A$8,B421=Dimension!$A$9),\"\",IF(OR(B421=Dimension!$A$3,B421=Dimension!$A$4,B421=Dimension!$A$5),\"สถานประกอบการ\",\"\"))","v":""},{"$f":"IF(OR(B421=Dimension!$A$3,B421=Dimension!$A$4,B421=Dimension!$A$5,B421=Dimension!$A$6,,B421=Dimension!$A$7,B421=Dimension!$A$8,B421=Dimension!$A$9),Payment_ID2,\"\")","v":""},null,{"$f":"IFERROR(VLOOKUP(K421,Dimension!$J$3:$K$179,2,FALSE),\"\")","v":""},null,null,{"$f":"IF(OR(B421=Dimension!$A$6,B421=Dimension!$A$7,B421=Dimension!$A$8,B421=Dimension!$A$9),\"\",IF(OR(B421=Dimension!$A$3,B421=Dimension!$A$4,B421=Dimension!$A$5),\"สถานประกอบการ\",\"\"))","v":""},{"$f":"IF(OR(B421=Dimension!$A$6,B421=Dimension!$A$7,B421=Dimension!$A$8,B421=Dimension!$A$9,B421=\"\"),\"\",Payment_ID2)","v":""},"",null,null,{"$f":"IF(D421=Dimension!$C$9,IF(LEFT(UPPER(E421),2)=\"MC\",TRUE,FALSE),TRUE)","v":true}]
[null,null,null,{"$f":"IF(B422=Dimension!$A$8,Dimension!$C$9,IF(B422=Dimension!$A$6,CD,\"\"))","v":""},null,{"$f":"IF(OR(B422=Dimension!$A$3,B422=Dimension!$A$4,B422=Dimension!$A$6,B422=Dimension!$A$8),CCYA,\"\")","v":""},{"$f":"IFERROR(VLOOKUP(F422,Dimension!$G$3:$H$252,2,FALSE),\"\")","v":""},{"$f":"IF(OR(B422=Dimension!$A$3,B422=Dimension!$A$4,B422=Dimension!$A$5),\"เดินทาง/ท่องเที่ยว\",\"\")","v":""},{"$f":"IF(OR(B422=Dimension!$A$6,B422=Dimension!$A$7,B422=Dimension!$A$8,B422=Dimension!$A$9),\"\",IF(OR(B422=Dimension!$A$3,B422=Dimension!$A$4,B422=Dimension!$A$5),\"สถานประกอบการ\",\"\"))","v":""},{"$f":"IF(OR(B422=Dimension!$A$3,B422=Dimension!$A$4,B422=Dimension!$A$5,B422=Dimension!$A$6,,B422=Dimension!$A$7,B422=Dimension!$A$8,B422=Dimension!$A$9),Payment_ID2,\"\")","v":""},null,{"$f":"IFERROR(VLOOKUP(K422,Dimension!$J$3:$K$179,2,FALSE),\"\")","v":""},null,null,{"$f":"IF(OR(B422=Dimension!$A$6,B422=Dimension!$A$7,B422=Dimension!$A$8,B422=Dimension!$A$9),\"\",IF(OR(B422=Dimension!$A$3,B422=Dimension!$A$4,B422=Dimension!$A$5),\"สถานประกอบการ\",\"\"))","v":""},{"$f":"IF(OR(B422=Dimension!$A$6,B422=Dimension!$A$7,B422=Dimension!$A$8,B422=Dimension!$A$9,B422=\"\"),\"\",Payment_ID2)","v":""},"",null,null,{"$f":"IF(D422=Dimension!$C$9,IF(LEFT(UPPER(E422),2)=\"MC\",TRUE,FALSE),TRUE)","v":true}]
[null,null,null,{"$f":"IF(B423=Dimension!$A$8,Dimension!$C$9,IF(B423=Dimension!$A$6,CD,\"\"))","v":""},null,{"$f":"IF(OR(B423=Dimension!$A$3,B423=Dimension!$A$4,B423=Dimension!$A$6,B423=Dimension!$A$8),CCYA,\"\")","v":""},{"$f":"IFERROR(VLOOKUP(F423,Dimension!$G$3:$H$252,2,FALSE),\"\")","v":""},{"$f":"IF(OR(B423=Dimension!$A$3,B423=Dimension!$A$4,B423=Dimension!$A$5),\"เดินทาง/ท่องเที่ยว\",\"\")","v":""},{"$f":"IF(OR(B423=Dimension!$A$6,B423=Dimension!$A$7,B423=Dimension!$A$8,B423=Dimension!$A$9),\"\",IF(OR(B423=Dimension!$A$3,B423=Dimension!$A$4,B423=Dimension!$A$5),\"สถานประกอบการ\",\"\"))","v":""},{"$f":"IF(OR(B423=Dimension!$A$3,B423=Dimension!$A$4,B423=Dimension!$A$5,B423=Dimension!$A$6,,B423=Dimension!$A$7,B423=Dimension!$A$8,B423=Dimension!$A$9),Payment_ID2,\"\")","v":""},null,{"$f":"IFERROR(VLOOKUP(K423,Dimension!$J$3:$K$179,2,FALSE),\"\")","v":""},null,null,{"$f":"IF(OR(B423=Dimension!$A$6,B423=Dimension!$A$7,B423=Dimension!$A$8,B423=Dimension!$A$9),\"\",IF(OR(B423=Dimension!$A$3,B423=Dimension!$A$4,B423=Dimension!$A$5),\"สถานประกอบการ\",\"\"))","v":""},{"$f":"IF(OR(B423=Dimension!$A$6,B423=Dimension!$A$7,B423=Dimension!$A$8,B423=Dimension!$A$9,B423=\"\"),\"\",Payment_ID2)","v":""},"",null,null,{"$f":"IF(D423=Dimension!$C$9,IF(LEFT(UPPER(E423),2)=\"MC\",TRUE,FALSE),TRUE)","v":true}]
[null,null,null,{"$f":"IF(B424=Dimension!$A$8,Dimension!$C$9,IF(B424=Dimension!$A$6,CD,\"\"))","v":""},null,{"$f":"IF(OR(B424=Dimension!$A$3,B424=Dimension!$A$4,B424=Dimension!$A$6,B424=Dimension!$A$8),CCYA,\"\")","v":""},{"$f":"IFERROR(VLOOKUP(F424,Dimension!$G$3:$H$252,2,FALSE),\"\")","v":""},{"$f":"IF(OR(B424=Dimension!$A$3,B424=Dimension!$A$4,B424=Dimension!$A$5),\"เดินทาง/ท่องเที่ยว\",\"\")","v":""},{"$f":"IF(OR(B424=Dimension!$A$6,B424=Dimension!$A$7,B424=Dimension!$A$8,B424=Dimension!$A$9),\"\",IF(OR(B424=Dimension!$A$3,B424=Dimension!$A$4,B424=Dimension!$A$5),\"สถานประกอบการ\",\"\"))","v":""},{"$f":"IF(OR(B424=Dimension!$A$3,B424=Dimension!$A$4,B424=Dimension!$A$5,B424=Dimension!$A$6,,B424=Dimension!$A$7,B424=Dimension!$A$8,B424=Dimension!$A$9),Payment_ID2,\"\")","v":""},null,{"$f":"IFERROR(VLOOKUP(K424,Dimension!$J$3:$K$179,2,FALSE),\"\")","v":""},null,null,{"$f":"IF(OR(B424=Dimension!$A$6,B424=Dimension!$A$7,B424=Dimension!$A$8,B424=Dimension!$A$9),\"\",IF(OR(B424=Dimension!$A$3,B424=Dimension!$A$4,B424=Dimension!$A$5),\"สถานประกอบการ\",\"\"))","v":""},{"$f":"IF(OR(B424=Dimension!$A$6,B424=Dimension!$A$7,B424=Dimension!$A$8,B424=Dimension!$A$9,B424=\"\"),\"\",Payment_ID2)","v":""},"",null,null,{"$f":"IF(D424=Dimension!$C$9,IF(LEFT(UPPER(E424),2)=\"MC\",TRUE,FALSE),TRUE)","v":true}]
[null,null,null,{"$f":"IF(B425=Dimension!$A$8,Dimension!$C$9,IF(B425=Dimension!$A$6,CD,\"\"))","v":""},null,{"$f":"IF(OR(B425=Dimension!$A$3,B425=Dimension!$A$4,B425=Dimension!$A$6,B425=Dimension!$A$8),CCYA,\"\")","v":""},{"$f":"IFERROR(VLOOKUP(F425,Dimension!$G$3:$H$252,2,FALSE),\"\")","v":""},{"$f":"IF(OR(B425=Dimension!$A$3,B425=Dimension!$A$4,B425=Dimension!$A$5),\"เดินทาง/ท่องเที่ยว\",\"\")","v":""},{"$f":"IF(OR(B425=Dimension!$A$6,B425=Dimension!$A$7,B425=Dimension!$A$8,B425=Dimension!$A$9),\"\",IF(OR(B425=Dimension!$A$3,B425=Dimension!$A$4,B425=Dimension!$A$5),\"สถานประกอบการ\",\"\"))","v":""},{"$f":"IF(OR(B425=Dimension!$A$3,B425=Dimension!$A$4,B425=Dimension!$A$5,B425=Dimension!$A$6,,B425=Dimension!$A$7,B425=Dimension!$A$8,B425=Dimension!$A$9),Payment_ID2,\"\")","v":""},null,{"$f":"IFERROR(VLOOKUP(K425,Dimension!$J$3:$K$179,2,FALSE),\"\")","v":""},null,null,{"$f":"IF(OR(B425=Dimension!$A$6,B425=Dimension!$A$7,B425=Dimension!$A$8,B425=Dimension!$A$9),\"\",IF(OR(B425=Dimension!$A$3,B425=Dimension!$A$4,B425=Dimension!$A$5),\"สถานประกอบการ\",\"\"))","v":""},{"$f":"IF(OR(B425=Dimension!$A$6,B425=Dimension!$A$7,B425=Dimension!$A$8,B425=Dimension!$A$9,B425=\"\"),\"\",Payment_ID2)","v":""},"",null,null,{"$f":"IF(D425=Dimension!$C$9,IF(LEFT(UPPER(E425),2)=\"MC\",TRUE,FALSE),TRUE)","v":true}]
[null,null,null,{"$f":"IF(B426=Dimension!$A$8,Dimension!$C$9,IF(B426=Dimension!$A$6,CD,\"\"))","v":""},null,{"$f":"IF(OR(B426=Dimension!$A$3,B426=Dimension!$A$4,B426=Dimension!$A$6,B426=Dimension!$A$8),CCYA,\"\")","v":""},{"$f":"IFERROR(VLOOKUP(F426,Dimension!$G$3:$H$252,2,FALSE),\"\")","v":""},{"$f":"IF(OR(B426=Dimension!$A$3,B426=Dimension!$A$4,B426=Dimension!$A$5),\"เดินทาง/ท่องเที่ยว\",\"\")","v":""},{"$f":"IF(OR(B426=Dimension!$A$6,B426=Dimension!$A$7,B426=Dimension!$A$8,B426=Dimension!$A$9),\"\",IF(OR(B426=Dimension!$A$3,B426=Dimension!$A$4,B426=Dimension!$A$5),\"สถานประกอบการ\",\"\"))","v":""},{"$f":"IF(OR(B426=Dimension!$A$3,B426=Dimension!$A$4,B426=Dimension!$A$5,B426=Dimension!$A$6,,B426=Dimension!$A$7,B426=Dimension!$A$8,B426=Dimension!$A$9),Payment_ID2,\"\")","v":""},null,{"$f":"IFERROR(VLOOKUP(K426,Dimension!$J$3:$K$179,2,FALSE),\"\")","v":""},null,null,{"$f":"IF(OR(B426=Dimension!$A$6,B426=Dimension!$A$7,B426=Dimension!$A$8,B426=Dimension!$A$9),\"\",IF(OR(B426=Dimension!$A$3,B426=Dimension!$A$4,B426=Dimension!$A$5),\"สถานประกอบการ\",\"\"))","v":""},{"$f":"IF(OR(B426=Dimension!$A$6,B426=Dimension!$A$7,B426=Dimension!$A$8,B426=Dimension!$A$9,B426=\"\"),\"\",Payment_ID2)","v":""},"",null,null,{"$f":"IF(D426=Dimension!$C$9,IF(LEFT(UPPER(E426),2)=\"MC\",TRUE,FALSE),TRUE)","v":true}]
[null,null,null,{"$f":"IF(B427=Dimension!$A$8,Dimension!$C$9,IF(B427=Dimension!$A$6,CD,\"\"))","v":""},null,{"$f":"IF(OR(B427=Dimension!$A$3,B427=Dimension!$A$4,B427=Dimension!$A$6,B427=Dimension!$A$8),CCYA,\"\")","v":""},{"$f":"IFERROR(VLOOKUP(F427,Dimension!$G$3:$H$252,2,FALSE),\"\")","v":""},{"$f":"IF(OR(B427=Dimension!$A$3,B427=Dimension!$A$4,B427=Dimension!$A$5),\"เดินทาง/ท่องเที่ยว\",\"\")","v":""},{"$f":"IF(OR(B427=Dimension!$A$6,B427=Dimension!$A$7,B427=Dimension!$A$8,B427=Dimension!$A$9),\"\",IF(OR(B427=Dimension!$A$3,B427=Dimension!$A$4,B427=Dimension!$A$5),\"สถานประกอบการ\",\"\"))","v":""},{"$f":"IF(OR(B427=Dimension!$A$3,B427=Dimension!$A$4,B427=Dimension!$A$5,B427=Dimension!$A$6,,B427=Dimension!$A$7,B427=Dimension!$A$8,B427=Dimension!$A$9),Payment_ID2,\"\")","v":""},null,{"$f":"IFERROR(VLOOKUP(K427,Dimension!$J$3:$K$179,2,FALSE),\"\")","v":""},null,null,{"$f":"IF(OR(B427=Dimension!$A$6,B427=Dimension!$A$7,B427=Dimension!$A$8,B427=Dimension!$A$9),\"\",IF(OR(B427=Dimension!$A$3,B427=Dimension!$A$4,B427=Dimension!$A$5),\"สถานประกอบการ\",\"\"))","v":""},{"$f":"IF(OR(B427=Dimension!$A$6,B427=Dimension!$A$7,B427=Dimension!$A$8,B427=Dimension!$A$9,B427=\"\"),\"\",Payment_ID2)","v":""},"",null,null,{"$f":"IF(D427=Dimension!$C$9,IF(LEFT(UPPER(E427),2)=\"MC\",TRUE,FALSE),TRUE)","v":true}]
[null,null,null,{"$f":"IF(B428=Dimension!$A$8,Dimension!$C$9,IF(B428=Dimension!$A$6,CD,\"\"))","v":""},null,{"$f":"IF(OR(B428=Dimension!$A$3,B428=Dimension!$A$4,B428=Dimension!$A$6,B428=Dimension!$A$8),CCYA,\"\")","v":""},{"$f":"IFERROR(VLOOKUP(F428,Dimension!$G$3:$H$252,2,FALSE),\"\")","v":""},{"$f":"IF(OR(B428=Dimension!$A$3,B428=Dimension!$A$4,B428=Dimension!$A$5),\"เดินทาง/ท่องเที่ยว\",\"\")","v":""},{"$f":"IF(OR(B428=Dimension!$A$6,B428=Dimension!$A$7,B428=Dimension!$A$8,B428=Dimension!$A$9),\"\",IF(OR(B428=Dimension!$A$3,B428=Dimension!$A$4,B428=Dimension!$A$5),\"สถานประกอบการ\",\"\"))","v":""},{"$f":"IF(OR(B428=Dimension!$A$3,B428=Dimension!$A$4,B428=Dimension!$A$5,B428=Dimension!$A$6,,B428=Dimension!$A$7,B428=Dimension!$A$8,B428=Dimension!$A$9),Payment_ID2,\"\")","v":""},null,{"$f":"IFERROR(VLOOKUP(K428,Dimension!$J$3:$K$179,2,FALSE),\"\")","v":""},null,null,{"$f":"IF(OR(B428=Dimension!$A$6,B428=Dimension!$A$7,B428=Dimension!$A$8,B428=Dimension!$A$9),\"\",IF(OR(B428=Dimension!$A$3,B428=Dimension!$A$4,B428=Dimension!$A$5),\"สถานประกอบการ\",\"\"))","v":""},{"$f":"IF(OR(B428=Dimension!$A$6,B428=Dimension!$A$7,B428=Dimension!$A$8,B428=Dimension!$A$9,B428=\"\"),\"\",Payment_ID2)","v":""},"",null,null,{"$f":"IF(D428=Dimension!$C$9,IF(LEFT(UPPER(E428),2)=\"MC\",TRUE,FALSE),TRUE)","v":true}]
[null,null,null,{"$f":"IF(B429=Dimension!$A$8,Dimension!$C$9,IF(B429=Dimension!$A$6,CD,\"\"))","v":""},null,{"$f":"IF(OR(B429=Dimension!$A$3,B429=Dimension!$A$4,B429=Dimension!$A$6,B429=Dimension!$A$8),CCYA,\"\")","v":""},{"$f":"IFERROR(VLOOKUP(F429,Dimension!$G$3:$H$252,2,FALSE),\"\")","v":""},{"$f":"IF(OR(B429=Dimension!$A$3,B429=Dimension!$A$4,B429=Dimension!$A$5),\"เดินทาง/ท่องเที่ยว\",\"\")","v":""},{"$f":"IF(OR(B429=Dimension!$A$6,B429=Dimension!$A$7,B429=Dimension!$A$8,B429=Dimension!$A$9),\"\",IF(OR(B429=Dimension!$A$3,B429=Dimension!$A$4,B429=Dimension!$A$5),\"สถานประกอบการ\",\"\"))","v":""},{"$f":"IF(OR(B429=Dimension!$A$3,B429=Dimension!$A$4,B429=Dimension!$A$5,B429=Dimension!$A$6,,B429=Dimension!$A$7,B429=Dimension!$A$8,B429=Dimension!$A$9),Payment_ID2,\"\")","v":""},null,{"$f":"IFERROR(VLOOKUP(K429,Dimension!$J$3:$K$179,2,FALSE),\"\")","v":""},null,null,{"$f":"IF(OR(B429=Dimension!$A$6,B429=Dimension!$A$7,B429=Dimension!$A$8,B429=Dimension!$A$9),\"\",IF(OR(B429=Dimension!$A$3,B429=Dimension!$A$4,B429=Dimension!$A$5),\"สถานประกอบการ\",\"\"))","v":""},{"$f":"IF(OR(B429=Dimension!$A$6,B429=Dimension!$A$7,B429=Dimension!$A$8,B429=Dimension!$A$9,B429=\"\"),\"\",Payment_ID2)","v":""},"",null,null,{"$f":"IF(D429=Dimension!$C$9,IF(LEFT(UPPER(E429),2)=\"MC\",TRUE,FALSE),TRUE)","v":true}]
[null,null,null,{"$f":"IF(B430=Dimension!$A$8,Dimension!$C$9,IF(B430=Dimension!$A$6,CD,\"\"))","v":""},null,{"$f":"IF(OR(B430=Dimension!$A$3,B430=Dimension!$A$4,B430=Dimension!$A$6,B430=Dimension!$A$8),CCYA,\"\")","v":""},{"$f":"IFERROR(VLOOKUP(F430,Dimension!$G$3:$H$252,2,FALSE),\"\")","v":""},{"$f":"IF(OR(B430=Dimension!$A$3,B430=Dimension!$A$4,B430=Dimension!$A$5),\"เดินทาง/ท่องเที่ยว\",\"\")","v":""},{"$f":"IF(OR(B430=Dimension!$A$6,B430=Dimension!$A$7,B430=Dimension!$A$8,B430=Dimension!$A$9),\"\",IF(OR(B430=Dimension!$A$3,B430=Dimension!$A$4,B430=Dimension!$A$5),\"สถานประกอบการ\",\"\"))","v":""},{"$f":"IF(OR(B430=Dimension!$A$3,B430=Dimension!$A$4,B430=Dimension!$A$5,B430=Dimension!$A$6,,B430=Dimension!$A$7,B430=Dimension!$A$8,B430=Dimension!$A$9),Payment_ID2,\"\")","v":""},null,{"$f":"IFERROR(VLOOKUP(K430,Dimension!$J$3:$K$179,2,FALSE),\"\")","v":""},null,null,{"$f":"IF(OR(B430=Dimension!$A$6,B430=Dimension!$A$7,B430=Dimension!$A$8,B430=Dimension!$A$9),\"\",IF(OR(B430=Dimension!$A$3,B430=Dimension!$A$4,B430=Dimension!$A$5),\"สถานประกอบการ\",\"\"))","v":""},{"$f":"IF(OR(B430=Dimension!$A$6,B430=Dimension!$A$7,B430=Dimension!$A$8,B430=Dimension!$A$9,B430=\"\"),\"\",Payment_ID2)","v":""},"",null,null,{"$f":"IF(D430=Dimension!$C$9,IF(LEFT(UPPER(E430),2)=\"MC\",TRUE,FALSE),TRUE)","v":true}]
[null,null,null,{"$f":"IF(B431=Dimension!$A$8,Dimension!$C$9,IF(B431=Dimension!$A$6,CD,\"\"))","v":""},null,{"$f":"IF(OR(B431=Dimension!$A$3,B431=Dimension!$A$4,B431=Dimension!$A$6,B431=Dimension!$A$8),CCYA,\"\")","v":""},{"$f":"IFERROR(VLOOKUP(F431,Dimension!$G$3:$H$252,2,FALSE),\"\")","v":""},{"$f":"IF(OR(B431=Dimension!$A$3,B431=Dimension!$A$4,B431=Dimension!$A$5),\"เดินทาง/ท่องเที่ยว\",\"\")","v":""},{"$f":"IF(OR(B431=Dimension!$A$6,B431=Dimension!$A$7,B431=Dimension!$A$8,B431=Dimension!$A$9),\"\",IF(OR(B431=Dimension!$A$3,B431=Dimension!$A$4,B431=Dimension!$A$5),\"สถานประกอบการ\",\"\"))","v":""},{"$f":"IF(OR(B431=Dimension!$A$3,B431=Dimension!$A$4,B431=Dimension!$A$5,B431=Dimension!$A$6,,B431=Dimension!$A$7,B431=Dimension!$A$8,B431=Dimension!$A$9),Payment_ID2,\"\")","v":""},null,{"$f":"IFERROR(VLOOKUP(K431,Dimension!$J$3:$K$179,2,FALSE),\"\")","v":""},null,null,{"$f":"IF(OR(B431=Dimension!$A$6,B431=Dimension!$A$7,B431=Dimension!$A$8,B431=Dimension!$A$9),\"\",IF(OR(B431=Dimension!$A$3,B431=Dimension!$A$4,B431=Dimension!$A$5),\"สถานประกอบการ\",\"\"))","v":""},{"$f":"IF(OR(B431=Dimension!$A$6,B431=Dimension!$A$7,B431=Dimension!$A$8,B431=Dimension!$A$9,B431=\"\"),\"\",Payment_ID2)","v":""},"",null,null,{"$f":"IF(D431=Dimension!$C$9,IF(LEFT(UPPER(E431),2)=\"MC\",TRUE,FALSE),TRUE)","v":true}]
[null,null,null,{"$f":"IF(B432=Dimension!$A$8,Dimension!$C$9,IF(B432=Dimension!$A$6,CD,\"\"))","v":""},null,{"$f":"IF(OR(B432=Dimension!$A$3,B432=Dimension!$A$4,B432=Dimension!$A$6,B432=Dimension!$A$8),CCYA,\"\")","v":""},{"$f":"IFERROR(VLOOKUP(F432,Dimension!$G$3:$H$252,2,FALSE),\"\")","v":""},{"$f":"IF(OR(B432=Dimension!$A$3,B432=Dimension!$A$4,B432=Dimension!$A$5),\"เดินทาง/ท่องเที่ยว\",\"\")","v":""},{"$f":"IF(OR(B432=Dimension!$A$6,B432=Dimension!$A$7,B432=Dimension!$A$8,B432=Dimension!$A$9),\"\",IF(OR(B432=Dimension!$A$3,B432=Dimension!$A$4,B432=Dimension!$A$5),\"สถานประกอบการ\",\"\"))","v":""},{"$f":"IF(OR(B432=Dimension!$A$3,B432=Dimension!$A$4,B432=Dimension!$A$5,B432=Dimension!$A$6,,B432=Dimension!$A$7,B432=Dimension!$A$8,B432=Dimension!$A$9),Payment_ID2,\"\")","v":""},null,{"$f":"IFERROR(VLOOKUP(K432,Dimension!$J$3:$K$179,2,FALSE),\"\")","v":""},null,null,{"$f":"IF(OR(B432=Dimension!$A$6,B432=Dimension!$A$7,B432=Dimension!$A$8,B432=Dimension!$A$9),\"\",IF(OR(B432=Dimension!$A$3,B432=Dimension!$A$4,B432=Dimension!$A$5),\"สถานประกอบการ\",\"\"))","v":""},{"$f":"IF(OR(B432=Dimension!$A$6,B432=Dimension!$A$7,B432=Dimension!$A$8,B432=Dimension!$A$9,B432=\"\"),\"\",Payment_ID2)","v":""},"",null,null,{"$f":"IF(D432=Dimension!$C$9,IF(LEFT(UPPER(E432),2)=\"MC\",TRUE,FALSE),TRUE)","v":true}]
[null,null,null,{"$f":"IF(B433=Dimension!$A$8,Dimension!$C$9,IF(B433=Dimension!$A$6,CD,\"\"))","v":""},null,{"$f":"IF(OR(B433=Dimension!$A$3,B433=Dimension!$A$4,B433=Dimension!$A$6,B433=Dimension!$A$8),CCYA,\"\")","v":""},{"$f":"IFERROR(VLOOKUP(F433,Dimension!$G$3:$H$252,2,FALSE),\"\")","v":""},{"$f":"IF(OR(B433=Dimension!$A$3,B433=Dimension!$A$4,B433=Dimension!$A$5),\"เดินทาง/ท่องเที่ยว\",\"\")","v":""},{"$f":"IF(OR(B433=Dimension!$A$6,B433=Dimension!$A$7,B433=Dimension!$A$8,B433=Dimension!$A$9),\"\",IF(OR(B433=Dimension!$A$3,B433=Dimension!$A$4,B433=Dimension!$A$5),\"สถานประกอบการ\",\"\"))","v":""},{"$f":"IF(OR(B433=Dimension!$A$3,B433=Dimension!$A$4,B433=Dimension!$A$5,B433=Dimension!$A$6,,B433=Dimension!$A$7,B433=Dimension!$A$8,B433=Dimension!$A$9),Payment_ID2,\"\")","v":""},null,{"$f":"IFERROR(VLOOKUP(K433,Dimension!$J$3:$K$179,2,FALSE),\"\")","v":""},null,null,{"$f":"IF(OR(B433=Dimension!$A$6,B433=Dimension!$A$7,B433=Dimension!$A$8,B433=Dimension!$A$9),\"\",IF(OR(B433=Dimension!$A$3,B433=Dimension!$A$4,B433=Dimension!$A$5),\"สถานประกอบการ\",\"\"))","v":""},{"$f":"IF(OR(B433=Dimension!$A$6,B433=Dimension!$A$7,B433=Dimension!$A$8,B433=Dimension!$A$9,B433=\"\"),\"\",Payment_ID2)","v":""},"",null,null,{"$f":"IF(D433=Dimension!$C$9,IF(LEFT(UPPER(E433),2)=\"MC\",TRUE,FALSE),TRUE)","v":true}]
[null,null,null,{"$f":"IF(B434=Dimension!$A$8,Dimension!$C$9,IF(B434=Dimension!$A$6,CD,\"\"))","v":""},null,{"$f":"IF(OR(B434=Dimension!$A$3,B434=Dimension!$A$4,B434=Dimension!$A$6,B434=Dimension!$A$8),CCYA,\"\")","v":""},{"$f":"IFERROR(VLOOKUP(F434,Dimension!$G$3:$H$252,2,FALSE),\"\")","v":""},{"$f":"IF(OR(B434=Dimension!$A$3,B434=Dimension!$A$4,B434=Dimension!$A$5),\"เดินทาง/ท่องเที่ยว\",\"\")","v":""},{"$f":"IF(OR(B434=Dimension!$A$6,B434=Dimension!$A$7,B434=Dimension!$A$8,B434=Dimension!$A$9),\"\",IF(OR(B434=Dimension!$A$3,B434=Dimension!$A$4,B434=Dimension!$A$5),\"สถานประกอบการ\",\"\"))","v":""},{"$f":"IF(OR(B434=Dimension!$A$3,B434=Dimension!$A$4,B434=Dimension!$A$5,B434=Dimension!$A$6,,B434=Dimension!$A$7,B434=Dimension!$A$8,B434=Dimension!$A$9),Payment_ID2,\"\")","v":""},null,{"$f":"IFERROR(VLOOKUP(K434,Dimension!$J$3:$K$179,2,FALSE),\"\")","v":""},null,null,{"$f":"IF(OR(B434=Dimension!$A$6,B434=Dimension!$A$7,B434=Dimension!$A$8,B434=Dimension!$A$9),\"\",IF(OR(B434=Dimension!$A$3,B434=Dimension!$A$4,B434=Dimension!$A$5),\"สถานประกอบการ\",\"\"))","v":""},{"$f":"IF(OR(B434=Dimension!$A$6,B434=Dimension!$A$7,B434=Dimension!$A$8,B434=Dimension!$A$9,B434=\"\"),\"\",Payment_ID2)","v":""},"",null,null,{"$f":"IF(D434=Dimension!$C$9,IF(LEFT(UPPER(E434),2)=\"MC\",TRUE,FALSE),TRUE)","v":true}]
[null,null,null,{"$f":"IF(B435=Dimension!$A$8,Dimension!$C$9,IF(B435=Dimension!$A$6,CD,\"\"))","v":""},null,{"$f":"IF(OR(B435=Dimension!$A$3,B435=Dimension!$A$4,B435=Dimension!$A$6,B435=Dimension!$A$8),CCYA,\"\")","v":""},{"$f":"IFERROR(VLOOKUP(F435,Dimension!$G$3:$H$252,2,FALSE),\"\")","v":""},{"$f":"IF(OR(B435=Dimension!$A$3,B435=Dimension!$A$4,B435=Dimension!$A$5),\"เดินทาง/ท่องเที่ยว\",\"\")","v":""},{"$f":"IF(OR(B435=Dimension!$A$6,B435=Dimension!$A$7,B435=Dimension!$A$8,B435=Dimension!$A$9),\"\",IF(OR(B435=Dimension!$A$3,B435=Dimension!$A$4,B435=Dimension!$A$5),\"สถานประกอบการ\",\"\"))","v":""},{"$f":"IF(OR(B435=Dimension!$A$3,B435=Dimension!$A$4,B435=Dimension!$A$5,B435=Dimension!$A$6,,B435=Dimension!$A$7,B435=Dimension!$A$8,B435=Dimension!$A$9),Payment_ID2,\"\")","v":""},null,{"$f":"IFERROR(VLOOKUP(K435,Dimension!$J$3:$K$179,2,FALSE),\"\")","v":""},null,null,{"$f":"IF(OR(B435=Dimension!$A$6,B435=Dimension!$A$7,B435=Dimension!$A$8,B435=Dimension!$A$9),\"\",IF(OR(B435=Dimension!$A$3,B435=Dimension!$A$4,B435=Dimension!$A$5),\"สถานประกอบการ\",\"\"))","v":""},{"$f":"IF(OR(B435=Dimension!$A$6,B435=Dimension!$A$7,B435=Dimension!$A$8,B435=Dimension!$A$9,B435=\"\"),\"\",Payment_ID2)","v":""},"",null,null,{"$f":"IF(D435=Dimension!$C$9,IF(LEFT(UPPER(E435),2)=\"MC\",TRUE,FALSE),TRUE)","v":true}]
[null,null,null,{"$f":"IF(B436=Dimension!$A$8,Dimension!$C$9,IF(B436=Dimension!$A$6,CD,\"\"))","v":""},null,{"$f":"IF(OR(B436=Dimension!$A$3,B436=Dimension!$A$4,B436=Dimension!$A$6,B436=Dimension!$A$8),CCYA,\"\")","v":""},{"$f":"IFERROR(VLOOKUP(F436,Dimension!$G$3:$H$252,2,FALSE),\"\")","v":""},{"$f":"IF(OR(B436=Dimension!$A$3,B436=Dimension!$A$4,B436=Dimension!$A$5),\"เดินทาง/ท่องเที่ยว\",\"\")","v":""},{"$f":"IF(OR(B436=Dimension!$A$6,B436=Dimension!$A$7,B436=Dimension!$A$8,B436=Dimension!$A$9),\"\",IF(OR(B436=Dimension!$A$3,B436=Dimension!$A$4,B436=Dimension!$A$5),\"สถานประกอบการ\",\"\"))","v":""},{"$f":"IF(OR(B436=Dimension!$A$3,B436=Dimension!$A$4,B436=Dimension!$A$5,B436=Dimension!$A$6,,B436=Dimension!$A$7,B436=Dimension!$A$8,B436=Dimension!$A$9),Payment_ID2,\"\")","v":""},null,{"$f":"IFERROR(VLOOKUP(K436,Dimension!$J$3:$K$179,2,FALSE),\"\")","v":""},null,null,{"$f":"IF(OR(B436=Dimension!$A$6,B436=Dimension!$A$7,B436=Dimension!$A$8,B436=Dimension!$A$9),\"\",IF(OR(B436=Dimension!$A$3,B436=Dimension!$A$4,B436=Dimension!$A$5),\"สถานประกอบการ\",\"\"))","v":""},{"$f":"IF(OR(B436=Dimension!$A$6,B436=Dimension!$A$7,B436=Dimension!$A$8,B436=Dimension!$A$9,B436=\"\"),\"\",Payment_ID2)","v":""},"",null,null,{"$f":"IF(D436=Dimension!$C$9,IF(LEFT(UPPER(E436),2)=\"MC\",TRUE,FALSE),TRUE)","v":true}]
[null,null,null,{"$f":"IF(B437=Dimension!$A$8,Dimension!$C$9,IF(B437=Dimension!$A$6,CD,\"\"))","v":""},null,{"$f":"IF(OR(B437=Dimension!$A$3,B437=Dimension!$A$4,B437=Dimension!$A$6,B437=Dimension!$A$8),CCYA,\"\")","v":""},{"$f":"IFERROR(VLOOKUP(F437,Dimension!$G$3:$H$252,2,FALSE),\"\")","v":""},{"$f":"IF(OR(B437=Dimension!$A$3,B437=Dimension!$A$4,B437=Dimension!$A$5),\"เดินทาง/ท่องเที่ยว\",\"\")","v":""},{"$f":"IF(OR(B437=Dimension!$A$6,B437=Dimension!$A$7,B437=Dimension!$A$8,B437=Dimension!$A$9),\"\",IF(OR(B437=Dimension!$A$3,B437=Dimension!$A$4,B437=Dimension!$A$5),\"สถานประกอบการ\",\"\"))","v":""},{"$f":"IF(OR(B437=Dimension!$A$3,B437=Dimension!$A$4,B437=Dimension!$A$5,B437=Dimension!$A$6,,B437=Dimension!$A$7,B437=Dimension!$A$8,B437=Dimension!$A$9),Payment_ID2,\"\")","v":""},null,{"$f":"IFERROR(VLOOKUP(K437,Dimension!$J$3:$K$179,2,FALSE),\"\")","v":""},null,null,{"$f":"IF(OR(B437=Dimension!$A$6,B437=Dimension!$A$7,B437=Dimension!$A$8,B437=Dimension!$A$9),\"\",IF(OR(B437=Dimension!$A$3,B437=Dimension!$A$4,B437=Dimension!$A$5),\"สถานประกอบการ\",\"\"))","v":""},{"$f":"IF(OR(B437=Dimension!$A$6,B437=Dimension!$A$7,B437=Dimension!$A$8,B437=Dimension!$A$9,B437=\"\"),\"\",Payment_ID2)","v":""},"",null,null,{"$f":"IF(D437=Dimension!$C$9,IF(LEFT(UPPER(E437),2)=\"MC\",TRUE,FALSE),TRUE)","v":true}]
[null,null,null,{"$f":"IF(B438=Dimension!$A$8,Dimension!$C$9,IF(B438=Dimension!$A$6,CD,\"\"))","v":""},null,{"$f":"IF(OR(B438=Dimension!$A$3,B438=Dimension!$A$4,B438=Dimension!$A$6,B438=Dimension!$A$8),CCYA,\"\")","v":""},{"$f":"IFERROR(VLOOKUP(F438,Dimension!$G$3:$H$252,2,FALSE),\"\")","v":""},{"$f":"IF(OR(B438=Dimension!$A$3,B438=Dimension!$A$4,B438=Dimension!$A$5),\"เดินทาง/ท่องเที่ยว\",\"\")","v":""},{"$f":"IF(OR(B438=Dimension!$A$6,B438=Dimension!$A$7,B438=Dimension!$A$8,B438=Dimension!$A$9),\"\",IF(OR(B438=Dimension!$A$3,B438=Dimension!$A$4,B438=Dimension!$A$5),\"สถานประกอบการ\",\"\"))","v":""},{"$f":"IF(OR(B438=Dimension!$A$3,B438=Dimension!$A$4,B438=Dimension!$A$5,B438=Dimension!$A$6,,B438=Dimension!$A$7,B438=Dimension!$A$8,B438=Dimension!$A$9),Payment_ID2,\"\")","v":""},null,{"$f":"IFERROR(VLOOKUP(K438,Dimension!$J$3:$K$179,2,FALSE),\"\")","v":""},null,null,{"$f":"IF(OR(B438=Dimension!$A$6,B438=Dimension!$A$7,B438=Dimension!$A$8,B438=Dimension!$A$9),\"\",IF(OR(B438=Dimension!$A$3,B438=Dimension!$A$4,B438=Dimension!$A$5),\"สถานประกอบการ\",\"\"))","v":""},{"$f":"IF(OR(B438=Dimension!$A$6,B438=Dimension!$A$7,B438=Dimension!$A$8,B438=Dimension!$A$9,B438=\"\"),\"\",Payment_ID2)","v":""},"",null,null,{"$f":"IF(D438=Dimension!$C$9,IF(LEFT(UPPER(E438),2)=\"MC\",TRUE,FALSE),TRUE)","v":true}]
[null,null,null,{"$f":"IF(B439=Dimension!$A$8,Dimension!$C$9,IF(B439=Dimension!$A$6,CD,\"\"))","v":""},null,{"$f":"IF(OR(B439=Dimension!$A$3,B439=Dimension!$A$4,B439=Dimension!$A$6,B439=Dimension!$A$8),CCYA,\"\")","v":""},{"$f":"IFERROR(VLOOKUP(F439,Dimension!$G$3:$H$252,2,FALSE),\"\")","v":""},{"$f":"IF(OR(B439=Dimension!$A$3,B439=Dimension!$A$4,B439=Dimension!$A$5),\"เดินทาง/ท่องเที่ยว\",\"\")","v":""},{"$f":"IF(OR(B439=Dimension!$A$6,B439=Dimension!$A$7,B439=Dimension!$A$8,B439=Dimension!$A$9),\"\",IF(OR(B439=Dimension!$A$3,B439=Dimension!$A$4,B439=Dimension!$A$5),\"สถานประกอบการ\",\"\"))","v":""},{"$f":"IF(OR(B439=Dimension!$A$3,B439=Dimension!$A$4,B439=Dimension!$A$5,B439=Dimension!$A$6,,B439=Dimension!$A$7,B439=Dimension!$A$8,B439=Dimension!$A$9),Payment_ID2,\"\")","v":""},null,{"$f":"IFERROR(VLOOKUP(K439,Dimension!$J$3:$K$179,2,FALSE),\"\")","v":""},null,null,{"$f":"IF(OR(B439=Dimension!$A$6,B439=Dimension!$A$7,B439=Dimension!$A$8,B439=Dimension!$A$9),\"\",IF(OR(B439=Dimension!$A$3,B439=Dimension!$A$4,B439=Dimension!$A$5),\"สถานประกอบการ\",\"\"))","v":""},{"$f":"IF(OR(B439=Dimension!$A$6,B439=Dimension!$A$7,B439=Dimension!$A$8,B439=Dimension!$A$9,B439=\"\"),\"\",Payment_ID2)","v":""},"",null,null,{"$f":"IF(D439=Dimension!$C$9,IF(LEFT(UPPER(E439),2)=\"MC\",TRUE,FALSE),TRUE)","v":true}]
[null,null,null,{"$f":"IF(B440=Dimension!$A$8,Dimension!$C$9,IF(B440=Dimension!$A$6,CD,\"\"))","v":""},null,{"$f":"IF(OR(B440=Dimension!$A$3,B440=Dimension!$A$4,B440=Dimension!$A$6,B440=Dimension!$A$8),CCYA,\"\")","v":""},{"$f":"IFERROR(VLOOKUP(F440,Dimension!$G$3:$H$252,2,FALSE),\"\")","v":""},{"$f":"IF(OR(B440=Dimension!$A$3,B440=Dimension!$A$4,B440=Dimension!$A$5),\"เดินทาง/ท่องเที่ยว\",\"\")","v":""},{"$f":"IF(OR(B440=Dimension!$A$6,B440=Dimension!$A$7,B440=Dimension!$A$8,B440=Dimension!$A$9),\"\",IF(OR(B440=Dimension!$A$3,B440=Dimension!$A$4,B440=Dimension!$A$5),\"สถานประกอบการ\",\"\"))","v":""},{"$f":"IF(OR(B440=Dimension!$A$3,B440=Dimension!$A$4,B440=Dimension!$A$5,B440=Dimension!$A$6,,B440=Dimension!$A$7,B440=Dimension!$A$8,B440=Dimension!$A$9),Payment_ID2,\"\")","v":""},null,{"$f":"IFERROR(VLOOKUP(K440,Dimension!$J$3:$K$179,2,FALSE),\"\")","v":""},null,null,{"$f":"IF(OR(B440=Dimension!$A$6,B440=Dimension!$A$7,B440=Dimension!$A$8,B440=Dimension!$A$9),\"\",IF(OR(B440=Dimension!$A$3,B440=Dimension!$A$4,B440=Dimension!$A$5),\"สถานประกอบการ\",\"\"))","v":""},{"$f":"IF(OR(B440=Dimension!$A$6,B440=Dimension!$A$7,B440=Dimension!$A$8,B440=Dimension!$A$9,B440=\"\"),\"\",Payment_ID2)","v":""},"",null,null,{"$f":"IF(D440=Dimension!$C$9,IF(LEFT(UPPER(E440),2)=\"MC\",TRUE,FALSE),TRUE)","v":true}]
[null,null,null,{"$f":"IF(B441=Dimension!$A$8,Dimension!$C$9,IF(B441=Dimension!$A$6,CD,\"\"))","v":""},null,{"$f":"IF(OR(B441=Dimension!$A$3,B441=Dimension!$A$4,B441=Dimension!$A$6,B441=Dimension!$A$8),CCYA,\"\")","v":""},{"$f":"IFERROR(VLOOKUP(F441,Dimension!$G$3:$H$252,2,FALSE),\"\")","v":""},{"$f":"IF(OR(B441=Dimension!$A$3,B441=Dimension!$A$4,B441=Dimension!$A$5),\"เดินทาง/ท่องเที่ยว\",\"\")","v":""},{"$f":"IF(OR(B441=Dimension!$A$6,B441=Dimension!$A$7,B441=Dimension!$A$8,B441=Dimension!$A$9),\"\",IF(OR(B441=Dimension!$A$3,B441=Dimension!$A$4,B441=Dimension!$A$5),\"สถานประกอบการ\",\"\"))","v":""},{"$f":"IF(OR(B441=Dimension!$A$3,B441=Dimension!$A$4,B441=Dimension!$A$5,B441=Dimension!$A$6,,B441=Dimension!$A$7,B441=Dimension!$A$8,B441=Dimension!$A$9),Payment_ID2,\"\")","v":""},null,{"$f":"IFERROR(VLOOKUP(K441,Dimension!$J$3:$K$179,2,FALSE),\"\")","v":""},null,null,{"$f":"IF(OR(B441=Dimension!$A$6,B441=Dimension!$A$7,B441=Dimension!$A$8,B441=Dimension!$A$9),\"\",IF(OR(B441=Dimension!$A$3,B441=Dimension!$A$4,B441=Dimension!$A$5),\"สถานประกอบการ\",\"\"))","v":""},{"$f":"IF(OR(B441=Dimension!$A$6,B441=Dimension!$A$7,B441=Dimension!$A$8,B441=Dimension!$A$9,B441=\"\"),\"\",Payment_ID2)","v":""},"",null,null,{"$f":"IF(D441=Dimension!$C$9,IF(LEFT(UPPER(E441),2)=\"MC\",TRUE,FALSE),TRUE)","v":true}]
[null,null,null,{"$f":"IF(B442=Dimension!$A$8,Dimension!$C$9,IF(B442=Dimension!$A$6,CD,\"\"))","v":""},null,{"$f":"IF(OR(B442=Dimension!$A$3,B442=Dimension!$A$4,B442=Dimension!$A$6,B442=Dimension!$A$8),CCYA,\"\")","v":""},{"$f":"IFERROR(VLOOKUP(F442,Dimension!$G$3:$H$252,2,FALSE),\"\")","v":""},{"$f":"IF(OR(B442=Dimension!$A$3,B442=Dimension!$A$4,B442=Dimension!$A$5),\"เดินทาง/ท่องเที่ยว\",\"\")","v":""},{"$f":"IF(OR(B442=Dimension!$A$6,B442=Dimension!$A$7,B442=Dimension!$A$8,B442=Dimension!$A$9),\"\",IF(OR(B442=Dimension!$A$3,B442=Dimension!$A$4,B442=Dimension!$A$5),\"สถานประกอบการ\",\"\"))","v":""},{"$f":"IF(OR(B442=Dimension!$A$3,B442=Dimension!$A$4,B442=Dimension!$A$5,B442=Dimension!$A$6,,B442=Dimension!$A$7,B442=Dimension!$A$8,B442=Dimension!$A$9),Payment_ID2,\"\")","v":""},null,{"$f":"IFERROR(VLOOKUP(K442,Dimension!$J$3:$K$179,2,FALSE),\"\")","v":""},null,null,{"$f":"IF(OR(B442=Dimension!$A$6,B442=Dimension!$A$7,B442=Dimension!$A$8,B442=Dimension!$A$9),\"\",IF(OR(B442=Dimension!$A$3,B442=Dimension!$A$4,B442=Dimension!$A$5),\"สถานประกอบการ\",\"\"))","v":""},{"$f":"IF(OR(B442=Dimension!$A$6,B442=Dimension!$A$7,B442=Dimension!$A$8,B442=Dimension!$A$9,B442=\"\"),\"\",Payment_ID2)","v":""},"",null,null,{"$f":"IF(D442=Dimension!$C$9,IF(LEFT(UPPER(E442),2)=\"MC\",TRUE,FALSE),TRUE)","v":true}]
[null,null,null,{"$f":"IF(B443=Dimension!$A$8,Dimension!$C$9,IF(B443=Dimension!$A$6,CD,\"\"))","v":""},null,{"$f":"IF(OR(B443=Dimension!$A$3,B443=Dimension!$A$4,B443=Dimension!$A$6,B443=Dimension!$A$8),CCYA,\"\")","v":""},{"$f":"IFERROR(VLOOKUP(F443,Dimension!$G$3:$H$252,2,FALSE),\"\")","v":""},{"$f":"IF(OR(B443=Dimension!$A$3,B443=Dimension!$A$4,B443=Dimension!$A$5),\"เดินทาง/ท่องเที่ยว\",\"\")","v":""},{"$f":"IF(OR(B443=Dimension!$A$6,B443=Dimension!$A$7,B443=Dimension!$A$8,B443=Dimension!$A$9),\"\",IF(OR(B443=Dimension!$A$3,B443=Dimension!$A$4,B443=Dimension!$A$5),\"สถานประกอบการ\",\"\"))","v":""},{"$f":"IF(OR(B443=Dimension!$A$3,B443=Dimension!$A$4,B443=Dimension!$A$5,B443=Dimension!$A$6,,B443=Dimension!$A$7,B443=Dimension!$A$8,B443=Dimension!$A$9),Payment_ID2,\"\")","v":""},null,{"$f":"IFERROR(VLOOKUP(K443,Dimension!$J$3:$K$179,2,FALSE),\"\")","v":""},null,null,{"$f":"IF(OR(B443=Dimension!$A$6,B443=Dimension!$A$7,B443=Dimension!$A$8,B443=Dimension!$A$9),\"\",IF(OR(B443=Dimension!$A$3,B443=Dimension!$A$4,B443=Dimension!$A$5),\"สถานประกอบการ\",\"\"))","v":""},{"$f":"IF(OR(B443=Dimension!$A$6,B443=Dimension!$A$7,B443=Dimension!$A$8,B443=Dimension!$A$9,B443=\"\"),\"\",Payment_ID2)","v":""},"",null,null,{"$f":"IF(D443=Dimension!$C$9,IF(LEFT(UPPER(E443),2)=\"MC\",TRUE,FALSE),TRUE)","v":true}]
[null,null,null,{"$f":"IF(B444=Dimension!$A$8,Dimension!$C$9,IF(B444=Dimension!$A$6,CD,\"\"))","v":""},null,{"$f":"IF(OR(B444=Dimension!$A$3,B444=Dimension!$A$4,B444=Dimension!$A$6,B444=Dimension!$A$8),CCYA,\"\")","v":""},{"$f":"IFERROR(VLOOKUP(F444,Dimension!$G$3:$H$252,2,FALSE),\"\")","v":""},{"$f":"IF(OR(B444=Dimension!$A$3,B444=Dimension!$A$4,B444=Dimension!$A$5),\"เดินทาง/ท่องเที่ยว\",\"\")","v":""},{"$f":"IF(OR(B444=Dimension!$A$6,B444=Dimension!$A$7,B444=Dimension!$A$8,B444=Dimension!$A$9),\"\",IF(OR(B444=Dimension!$A$3,B444=Dimension!$A$4,B444=Dimension!$A$5),\"สถานประกอบการ\",\"\"))","v":""},{"$f":"IF(OR(B444=Dimension!$A$3,B444=Dimension!$A$4,B444=Dimension!$A$5,B444=Dimension!$A$6,,B444=Dimension!$A$7,B444=Dimension!$A$8,B444=Dimension!$A$9),Payment_ID2,\"\")","v":""},null,{"$f":"IFERROR(VLOOKUP(K444,Dimension!$J$3:$K$179,2,FALSE),\"\")","v":""},null,null,{"$f":"IF(OR(B444=Dimension!$A$6,B444=Dimension!$A$7,B444=Dimension!$A$8,B444=Dimension!$A$9),\"\",IF(OR(B444=Dimension!$A$3,B444=Dimension!$A$4,B444=Dimension!$A$5),\"สถานประกอบการ\",\"\"))","v":""},{"$f":"IF(OR(B444=Dimension!$A$6,B444=Dimension!$A$7,B444=Dimension!$A$8,B444=Dimension!$A$9,B444=\"\"),\"\",Payment_ID2)","v":""},"",null,null,{"$f":"IF(D444=Dimension!$C$9,IF(LEFT(UPPER(E444),2)=\"MC\",TRUE,FALSE),TRUE)","v":true}]
[null,null,null,{"$f":"IF(B445=Dimension!$A$8,Dimension!$C$9,IF(B445=Dimension!$A$6,CD,\"\"))","v":""},null,{"$f":"IF(OR(B445=Dimension!$A$3,B445=Dimension!$A$4,B445=Dimension!$A$6,B445=Dimension!$A$8),CCYA,\"\")","v":""},{"$f":"IFERROR(VLOOKUP(F445,Dimension!$G$3:$H$252,2,FALSE),\"\")","v":""},{"$f":"IF(OR(B445=Dimension!$A$3,B445=Dimension!$A$4,B445=Dimension!$A$5),\"เดินทาง/ท่องเที่ยว\",\"\")","v":""},{"$f":"IF(OR(B445=Dimension!$A$6,B445=Dimension!$A$7,B445=Dimension!$A$8,B445=Dimension!$A$9),\"\",IF(OR(B445=Dimension!$A$3,B445=Dimension!$A$4,B445=Dimension!$A$5),\"สถานประกอบการ\",\"\"))","v":""},{"$f":"IF(OR(B445=Dimension!$A$3,B445=Dimension!$A$4,B445=Dimension!$A$5,B445=Dimension!$A$6,,B445=Dimension!$A$7,B445=Dimension!$A$8,B445=Dimension!$A$9),Payment_ID2,\"\")","v":""},null,{"$f":"IFERROR(VLOOKUP(K445,Dimension!$J$3:$K$179,2,FALSE),\"\")","v":""},null,null,{"$f":"IF(OR(B445=Dimension!$A$6,B445=Dimension!$A$7,B445=Dimension!$A$8,B445=Dimension!$A$9),\"\",IF(OR(B445=Dimension!$A$3,B445=Dimension!$A$4,B445=Dimension!$A$5),\"สถานประกอบการ\",\"\"))","v":""},{"$f":"IF(OR(B445=Dimension!$A$6,B445=Dimension!$A$7,B445=Dimension!$A$8,B445=Dimension!$A$9,B445=\"\"),\"\",Payment_ID2)","v":""},"",null,null,{"$f":"IF(D445=Dimension!$C$9,IF(LEFT(UPPER(E445),2)=\"MC\",TRUE,FALSE),TRUE)","v":true}]
[null,null,null,{"$f":"IF(B446=Dimension!$A$8,Dimension!$C$9,IF(B446=Dimension!$A$6,CD,\"\"))","v":""},null,{"$f":"IF(OR(B446=Dimension!$A$3,B446=Dimension!$A$4,B446=Dimension!$A$6,B446=Dimension!$A$8),CCYA,\"\")","v":""},{"$f":"IFERROR(VLOOKUP(F446,Dimension!$G$3:$H$252,2,FALSE),\"\")","v":""},{"$f":"IF(OR(B446=Dimension!$A$3,B446=Dimension!$A$4,B446=Dimension!$A$5),\"เดินทาง/ท่องเที่ยว\",\"\")","v":""},{"$f":"IF(OR(B446=Dimension!$A$6,B446=Dimension!$A$7,B446=Dimension!$A$8,B446=Dimension!$A$9),\"\",IF(OR(B446=Dimension!$A$3,B446=Dimension!$A$4,B446=Dimension!$A$5),\"สถานประกอบการ\",\"\"))","v":""},{"$f":"IF(OR(B446=Dimension!$A$3,B446=Dimension!$A$4,B446=Dimension!$A$5,B446=Dimension!$A$6,,B446=Dimension!$A$7,B446=Dimension!$A$8,B446=Dimension!$A$9),Payment_ID2,\"\")","v":""},null,{"$f":"IFERROR(VLOOKUP(K446,Dimension!$J$3:$K$179,2,FALSE),\"\")","v":""},null,null,{"$f":"IF(OR(B446=Dimension!$A$6,B446=Dimension!$A$7,B446=Dimension!$A$8,B446=Dimension!$A$9),\"\",IF(OR(B446=Dimension!$A$3,B446=Dimension!$A$4,B446=Dimension!$A$5),\"สถานประกอบการ\",\"\"))","v":""},{"$f":"IF(OR(B446=Dimension!$A$6,B446=Dimension!$A$7,B446=Dimension!$A$8,B446=Dimension!$A$9,B446=\"\"),\"\",Payment_ID2)","v":""},"",null,null,{"$f":"IF(D446=Dimension!$C$9,IF(LEFT(UPPER(E446),2)=\"MC\",TRUE,FALSE),TRUE)","v":true}]
[null,null,null,{"$f":"IF(B447=Dimension!$A$8,Dimension!$C$9,IF(B447=Dimension!$A$6,CD,\"\"))","v":""},null,{"$f":"IF(OR(B447=Dimension!$A$3,B447=Dimension!$A$4,B447=Dimension!$A$6,B447=Dimension!$A$8),CCYA,\"\")","v":""},{"$f":"IFERROR(VLOOKUP(F447,Dimension!$G$3:$H$252,2,FALSE),\"\")","v":""},{"$f":"IF(OR(B447=Dimension!$A$3,B447=Dimension!$A$4,B447=Dimension!$A$5),\"เดินทาง/ท่องเที่ยว\",\"\")","v":""},{"$f":"IF(OR(B447=Dimension!$A$6,B447=Dimension!$A$7,B447=Dimension!$A$8,B447=Dimension!$A$9),\"\",IF(OR(B447=Dimension!$A$3,B447=Dimension!$A$4,B447=Dimension!$A$5),\"สถานประกอบการ\",\"\"))","v":""},{"$f":"IF(OR(B447=Dimension!$A$3,B447=Dimension!$A$4,B447=Dimension!$A$5,B447=Dimension!$A$6,,B447=Dimension!$A$7,B447=Dimension!$A$8,B447=Dimension!$A$9),Payment_ID2,\"\")","v":""},null,{"$f":"IFERROR(VLOOKUP(K447,Dimension!$J$3:$K$179,2,FALSE),\"\")","v":""},null,null,{"$f":"IF(OR(B447=Dimension!$A$6,B447=Dimension!$A$7,B447=Dimension!$A$8,B447=Dimension!$A$9),\"\",IF(OR(B447=Dimension!$A$3,B447=Dimension!$A$4,B447=Dimension!$A$5),\"สถานประกอบการ\",\"\"))","v":""},{"$f":"IF(OR(B447=Dimension!$A$6,B447=Dimension!$A$7,B447=Dimension!$A$8,B447=Dimension!$A$9,B447=\"\"),\"\",Payment_ID2)","v":""},"",null,null,{"$f":"IF(D447=Dimension!$C$9,IF(LEFT(UPPER(E447),2)=\"MC\",TRUE,FALSE),TRUE)","v":true}]
[null,null,null,{"$f":"IF(B448=Dimension!$A$8,Dimension!$C$9,IF(B448=Dimension!$A$6,CD,\"\"))","v":""},null,{"$f":"IF(OR(B448=Dimension!$A$3,B448=Dimension!$A$4,B448=Dimension!$A$6,B448=Dimension!$A$8),CCYA,\"\")","v":""},{"$f":"IFERROR(VLOOKUP(F448,Dimension!$G$3:$H$252,2,FALSE),\"\")","v":""},{"$f":"IF(OR(B448=Dimension!$A$3,B448=Dimension!$A$4,B448=Dimension!$A$5),\"เดินทาง/ท่องเที่ยว\",\"\")","v":""},{"$f":"IF(OR(B448=Dimension!$A$6,B448=Dimension!$A$7,B448=Dimension!$A$8,B448=Dimension!$A$9),\"\",IF(OR(B448=Dimension!$A$3,B448=Dimension!$A$4,B448=Dimension!$A$5),\"สถานประกอบการ\",\"\"))","v":""},{"$f":"IF(OR(B448=Dimension!$A$3,B448=Dimension!$A$4,B448=Dimension!$A$5,B448=Dimension!$A$6,,B448=Dimension!$A$7,B448=Dimension!$A$8,B448=Dimension!$A$9),Payment_ID2,\"\")","v":""},null,{"$f":"IFERROR(VLOOKUP(K448,Dimension!$J$3:$K$179,2,FALSE),\"\")","v":""},null,null,{"$f":"IF(OR(B448=Dimension!$A$6,B448=Dimension!$A$7,B448=Dimension!$A$8,B448=Dimension!$A$9),\"\",IF(OR(B448=Dimension!$A$3,B448=Dimension!$A$4,B448=Dimension!$A$5),\"สถานประกอบการ\",\"\"))","v":""},{"$f":"IF(OR(B448=Dimension!$A$6,B448=Dimension!$A$7,B448=Dimension!$A$8,B448=Dimension!$A$9,B448=\"\"),\"\",Payment_ID2)","v":""},"",null,null,{"$f":"IF(D448=Dimension!$C$9,IF(LEFT(UPPER(E448),2)=\"MC\",TRUE,FALSE),TRUE)","v":true}]
[null,null,null,{"$f":"IF(B449=Dimension!$A$8,Dimension!$C$9,IF(B449=Dimension!$A$6,CD,\"\"))","v":""},null,{"$f":"IF(OR(B449=Dimension!$A$3,B449=Dimension!$A$4,B449=Dimension!$A$6,B449=Dimension!$A$8),CCYA,\"\")","v":""},{"$f":"IFERROR(VLOOKUP(F449,Dimension!$G$3:$H$252,2,FALSE),\"\")","v":""},{"$f":"IF(OR(B449=Dimension!$A$3,B449=Dimension!$A$4,B449=Dimension!$A$5),\"เดินทาง/ท่องเที่ยว\",\"\")","v":""},{"$f":"IF(OR(B449=Dimension!$A$6,B449=Dimension!$A$7,B449=Dimension!$A$8,B449=Dimension!$A$9),\"\",IF(OR(B449=Dimension!$A$3,B449=Dimension!$A$4,B449=Dimension!$A$5),\"สถานประกอบการ\",\"\"))","v":""},{"$f":"IF(OR(B449=Dimension!$A$3,B449=Dimension!$A$4,B449=Dimension!$A$5,B449=Dimension!$A$6,,B449=Dimension!$A$7,B449=Dimension!$A$8,B449=Dimension!$A$9),Payment_ID2,\"\")","v":""},null,{"$f":"IFERROR(VLOOKUP(K449,Dimension!$J$3:$K$179,2,FALSE),\"\")","v":""},null,null,{"$f":"IF(OR(B449=Dimension!$A$6,B449=Dimension!$A$7,B449=Dimension!$A$8,B449=Dimension!$A$9),\"\",IF(OR(B449=Dimension!$A$3,B449=Dimension!$A$4,B449=Dimension!$A$5),\"สถานประกอบการ\",\"\"))","v":""},{"$f":"IF(OR(B449=Dimension!$A$6,B449=Dimension!$A$7,B449=Dimension!$A$8,B449=Dimension!$A$9,B449=\"\"),\"\",Payment_ID2)","v":""},"",null,null,{"$f":"IF(D449=Dimension!$C$9,IF(LEFT(UPPER(E449),2)=\"MC\",TRUE,FALSE),TRUE)","v":true}]
[null,null,null,{"$f":"IF(B450=Dimension!$A$8,Dimension!$C$9,IF(B450=Dimension!$A$6,CD,\"\"))","v":""},null,{"$f":"IF(OR(B450=Dimension!$A$3,B450=Dimension!$A$4,B450=Dimension!$A$6,B450=Dimension!$A$8),CCYA,\"\")","v":""},{"$f":"IFERROR(VLOOKUP(F450,Dimension!$G$3:$H$252,2,FALSE),\"\")","v":""},{"$f":"IF(OR(B450=Dimension!$A$3,B450=Dimension!$A$4,B450=Dimension!$A$5),\"เดินทาง/ท่องเที่ยว\",\"\")","v":""},{"$f":"IF(OR(B450=Dimension!$A$6,B450=Dimension!$A$7,B450=Dimension!$A$8,B450=Dimension!$A$9),\"\",IF(OR(B450=Dimension!$A$3,B450=Dimension!$A$4,B450=Dimension!$A$5),\"สถานประกอบการ\",\"\"))","v":""},{"$f":"IF(OR(B450=Dimension!$A$3,B450=Dimension!$A$4,B450=Dimension!$A$5,B450=Dimension!$A$6,,B450=Dimension!$A$7,B450=Dimension!$A$8,B450=Dimension!$A$9),Payment_ID2,\"\")","v":""},null,{"$f":"IFERROR(VLOOKUP(K450,Dimension!$J$3:$K$179,2,FALSE),\"\")","v":""},null,null,{"$f":"IF(OR(B450=Dimension!$A$6,B450=Dimension!$A$7,B450=Dimension!$A$8,B450=Dimension!$A$9),\"\",IF(OR(B450=Dimension!$A$3,B450=Dimension!$A$4,B450=Dimension!$A$5),\"สถานประกอบการ\",\"\"))","v":""},{"$f":"IF(OR(B450=Dimension!$A$6,B450=Dimension!$A$7,B450=Dimension!$A$8,B450=Dimension!$A$9,B450=\"\"),\"\",Payment_ID2)","v":""},"",null,null,{"$f":"IF(D450=Dimension!$C$9,IF(LEFT(UPPER(E450),2)=\"MC\",TRUE,FALSE),TRUE)","v":true}]
[null,null,null,{"$f":"IF(B451=Dimension!$A$8,Dimension!$C$9,IF(B451=Dimension!$A$6,CD,\"\"))","v":""},null,{"$f":"IF(OR(B451=Dimension!$A$3,B451=Dimension!$A$4,B451=Dimension!$A$6,B451=Dimension!$A$8),CCYA,\"\")","v":""},{"$f":"IFERROR(VLOOKUP(F451,Dimension!$G$3:$H$252,2,FALSE),\"\")","v":""},{"$f":"IF(OR(B451=Dimension!$A$3,B451=Dimension!$A$4,B451=Dimension!$A$5),\"เดินทาง/ท่องเที่ยว\",\"\")","v":""},{"$f":"IF(OR(B451=Dimension!$A$6,B451=Dimension!$A$7,B451=Dimension!$A$8,B451=Dimension!$A$9),\"\",IF(OR(B451=Dimension!$A$3,B451=Dimension!$A$4,B451=Dimension!$A$5),\"สถานประกอบการ\",\"\"))","v":""},{"$f":"IF(OR(B451=Dimension!$A$3,B451=Dimension!$A$4,B451=Dimension!$A$5,B451=Dimension!$A$6,,B451=Dimension!$A$7,B451=Dimension!$A$8,B451=Dimension!$A$9),Payment_ID2,\"\")","v":""},null,{"$f":"IFERROR(VLOOKUP(K451,Dimension!$J$3:$K$179,2,FALSE),\"\")","v":""},null,null,{"$f":"IF(OR(B451=Dimension!$A$6,B451=Dimension!$A$7,B451=Dimension!$A$8,B451=Dimension!$A$9),\"\",IF(OR(B451=Dimension!$A$3,B451=Dimension!$A$4,B451=Dimension!$A$5),\"สถานประกอบการ\",\"\"))","v":""},{"$f":"IF(OR(B451=Dimension!$A$6,B451=Dimension!$A$7,B451=Dimension!$A$8,B451=Dimension!$A$9,B451=\"\"),\"\",Payment_ID2)","v":""},"",null,null,{"$f":"IF(D451=Dimension!$C$9,IF(LEFT(UPPER(E451),2)=\"MC\",TRUE,FALSE),TRUE)","v":true}]
[null,null,null,{"$f":"IF(B452=Dimension!$A$8,Dimension!$C$9,IF(B452=Dimension!$A$6,CD,\"\"))","v":""},null,{"$f":"IF(OR(B452=Dimension!$A$3,B452=Dimension!$A$4,B452=Dimension!$A$6,B452=Dimension!$A$8),CCYA,\"\")","v":""},{"$f":"IFERROR(VLOOKUP(F452,Dimension!$G$3:$H$252,2,FALSE),\"\")","v":""},{"$f":"IF(OR(B452=Dimension!$A$3,B452=Dimension!$A$4,B452=Dimension!$A$5),\"เดินทาง/ท่องเที่ยว\",\"\")","v":""},{"$f":"IF(OR(B452=Dimension!$A$6,B452=Dimension!$A$7,B452=Dimension!$A$8,B452=Dimension!$A$9),\"\",IF(OR(B452=Dimension!$A$3,B452=Dimension!$A$4,B452=Dimension!$A$5),\"สถานประกอบการ\",\"\"))","v":""},{"$f":"IF(OR(B452=Dimension!$A$3,B452=Dimension!$A$4,B452=Dimension!$A$5,B452=Dimension!$A$6,,B452=Dimension!$A$7,B452=Dimension!$A$8,B452=Dimension!$A$9),Payment_ID2,\"\")","v":""},null,{"$f":"IFERROR(VLOOKUP(K452,Dimension!$J$3:$K$179,2,FALSE),\"\")","v":""},null,null,{"$f":"IF(OR(B452=Dimension!$A$6,B452=Dimension!$A$7,B452=Dimension!$A$8,B452=Dimension!$A$9),\"\",IF(OR(B452=Dimension!$A$3,B452=Dimension!$A$4,B452=Dimension!$A$5),\"สถานประกอบการ\",\"\"))","v":""},{"$f":"IF(OR(B452=Dimension!$A$6,B452=Dimension!$A$7,B452=Dimension!$A$8,B452=Dimension!$A$9,B452=\"\"),\"\",Payment_ID2)","v":""},"",null,null,{"$f":"IF(D452=Dimension!$C$9,IF(LEFT(UPPER(E452),2)=\"MC\",TRUE,FALSE),TRUE)","v":true}]
[null,null,null,{"$f":"IF(B453=Dimension!$A$8,Dimension!$C$9,IF(B453=Dimension!$A$6,CD,\"\"))","v":""},null,{"$f":"IF(OR(B453=Dimension!$A$3,B453=Dimension!$A$4,B453=Dimension!$A$6,B453=Dimension!$A$8),CCYA,\"\")","v":""},{"$f":"IFERROR(VLOOKUP(F453,Dimension!$G$3:$H$252,2,FALSE),\"\")","v":""},{"$f":"IF(OR(B453=Dimension!$A$3,B453=Dimension!$A$4,B453=Dimension!$A$5),\"เดินทาง/ท่องเที่ยว\",\"\")","v":""},{"$f":"IF(OR(B453=Dimension!$A$6,B453=Dimension!$A$7,B453=Dimension!$A$8,B453=Dimension!$A$9),\"\",IF(OR(B453=Dimension!$A$3,B453=Dimension!$A$4,B453=Dimension!$A$5),\"สถานประกอบการ\",\"\"))","v":""},{"$f":"IF(OR(B453=Dimension!$A$3,B453=Dimension!$A$4,B453=Dimension!$A$5,B453=Dimension!$A$6,,B453=Dimension!$A$7,B453=Dimension!$A$8,B453=Dimension!$A$9),Payment_ID2,\"\")","v":""},null,{"$f":"IFERROR(VLOOKUP(K453,Dimension!$J$3:$K$179,2,FALSE),\"\")","v":""},null,null,{"$f":"IF(OR(B453=Dimension!$A$6,B453=Dimension!$A$7,B453=Dimension!$A$8,B453=Dimension!$A$9),\"\",IF(OR(B453=Dimension!$A$3,B453=Dimension!$A$4,B453=Dimension!$A$5),\"สถานประกอบการ\",\"\"))","v":""},{"$f":"IF(OR(B453=Dimension!$A$6,B453=Dimension!$A$7,B453=Dimension!$A$8,B453=Dimension!$A$9,B453=\"\"),\"\",Payment_ID2)","v":""},"",null,null,{"$f":"IF(D453=Dimension!$C$9,IF(LEFT(UPPER(E453),2)=\"MC\",TRUE,FALSE),TRUE)","v":true}]
[null,null,null,{"$f":"IF(B454=Dimension!$A$8,Dimension!$C$9,IF(B454=Dimension!$A$6,CD,\"\"))","v":""},null,{"$f":"IF(OR(B454=Dimension!$A$3,B454=Dimension!$A$4,B454=Dimension!$A$6,B454=Dimension!$A$8),CCYA,\"\")","v":""},{"$f":"IFERROR(VLOOKUP(F454,Dimension!$G$3:$H$252,2,FALSE),\"\")","v":""},{"$f":"IF(OR(B454=Dimension!$A$3,B454=Dimension!$A$4,B454=Dimension!$A$5),\"เดินทาง/ท่องเที่ยว\",\"\")","v":""},{"$f":"IF(OR(B454=Dimension!$A$6,B454=Dimension!$A$7,B454=Dimension!$A$8,B454=Dimension!$A$9),\"\",IF(OR(B454=Dimension!$A$3,B454=Dimension!$A$4,B454=Dimension!$A$5),\"สถานประกอบการ\",\"\"))","v":""},{"$f":"IF(OR(B454=Dimension!$A$3,B454=Dimension!$A$4,B454=Dimension!$A$5,B454=Dimension!$A$6,,B454=Dimension!$A$7,B454=Dimension!$A$8,B454=Dimension!$A$9),Payment_ID2,\"\")","v":""},null,{"$f":"IFERROR(VLOOKUP(K454,Dimension!$J$3:$K$179,2,FALSE),\"\")","v":""},null,null,{"$f":"IF(OR(B454=Dimension!$A$6,B454=Dimension!$A$7,B454=Dimension!$A$8,B454=Dimension!$A$9),\"\",IF(OR(B454=Dimension!$A$3,B454=Dimension!$A$4,B454=Dimension!$A$5),\"สถานประกอบการ\",\"\"))","v":""},{"$f":"IF(OR(B454=Dimension!$A$6,B454=Dimension!$A$7,B454=Dimension!$A$8,B454=Dimension!$A$9,B454=\"\"),\"\",Payment_ID2)","v":""},"",null,null,{"$f":"IF(D454=Dimension!$C$9,IF(LEFT(UPPER(E454),2)=\"MC\",TRUE,FALSE),TRUE)","v":true}]
[null,null,null,{"$f":"IF(B455=Dimension!$A$8,Dimension!$C$9,IF(B455=Dimension!$A$6,CD,\"\"))","v":""},null,{"$f":"IF(OR(B455=Dimension!$A$3,B455=Dimension!$A$4,B455=Dimension!$A$6,B455=Dimension!$A$8),CCYA,\"\")","v":""},{"$f":"IFERROR(VLOOKUP(F455,Dimension!$G$3:$H$252,2,FALSE),\"\")","v":""},{"$f":"IF(OR(B455=Dimension!$A$3,B455=Dimension!$A$4,B455=Dimension!$A$5),\"เดินทาง/ท่องเที่ยว\",\"\")","v":""},{"$f":"IF(OR(B455=Dimension!$A$6,B455=Dimension!$A$7,B455=Dimension!$A$8,B455=Dimension!$A$9),\"\",IF(OR(B455=Dimension!$A$3,B455=Dimension!$A$4,B455=Dimension!$A$5),\"สถานประกอบการ\",\"\"))","v":""},{"$f":"IF(OR(B455=Dimension!$A$3,B455=Dimension!$A$4,B455=Dimension!$A$5,B455=Dimension!$A$6,,B455=Dimension!$A$7,B455=Dimension!$A$8,B455=Dimension!$A$9),Payment_ID2,\"\")","v":""},null,{"$f":"IFERROR(VLOOKUP(K455,Dimension!$J$3:$K$179,2,FALSE),\"\")","v":""},null,null,{"$f":"IF(OR(B455=Dimension!$A$6,B455=Dimension!$A$7,B455=Dimension!$A$8,B455=Dimension!$A$9),\"\",IF(OR(B455=Dimension!$A$3,B455=Dimension!$A$4,B455=Dimension!$A$5),\"สถานประกอบการ\",\"\"))","v":""},{"$f":"IF(OR(B455=Dimension!$A$6,B455=Dimension!$A$7,B455=Dimension!$A$8,B455=Dimension!$A$9,B455=\"\"),\"\",Payment_ID2)","v":""},"",null,null,{"$f":"IF(D455=Dimension!$C$9,IF(LEFT(UPPER(E455),2)=\"MC\",TRUE,FALSE),TRUE)","v":true}]
[null,null,null,{"$f":"IF(B456=Dimension!$A$8,Dimension!$C$9,IF(B456=Dimension!$A$6,CD,\"\"))","v":""},null,{"$f":"IF(OR(B456=Dimension!$A$3,B456=Dimension!$A$4,B456=Dimension!$A$6,B456=Dimension!$A$8),CCYA,\"\")","v":""},{"$f":"IFERROR(VLOOKUP(F456,Dimension!$G$3:$H$252,2,FALSE),\"\")","v":""},{"$f":"IF(OR(B456=Dimension!$A$3,B456=Dimension!$A$4,B456=Dimension!$A$5),\"เดินทาง/ท่องเที่ยว\",\"\")","v":""},{"$f":"IF(OR(B456=Dimension!$A$6,B456=Dimension!$A$7,B456=Dimension!$A$8,B456=Dimension!$A$9),\"\",IF(OR(B456=Dimension!$A$3,B456=Dimension!$A$4,B456=Dimension!$A$5),\"สถานประกอบการ\",\"\"))","v":""},{"$f":"IF(OR(B456=Dimension!$A$3,B456=Dimension!$A$4,B456=Dimension!$A$5,B456=Dimension!$A$6,,B456=Dimension!$A$7,B456=Dimension!$A$8,B456=Dimension!$A$9),Payment_ID2,\"\")","v":""},null,{"$f":"IFERROR(VLOOKUP(K456,Dimension!$J$3:$K$179,2,FALSE),\"\")","v":""},null,null,{"$f":"IF(OR(B456=Dimension!$A$6,B456=Dimension!$A$7,B456=Dimension!$A$8,B456=Dimension!$A$9),\"\",IF(OR(B456=Dimension!$A$3,B456=Dimension!$A$4,B456=Dimension!$A$5),\"สถานประกอบการ\",\"\"))","v":""},{"$f":"IF(OR(B456=Dimension!$A$6,B456=Dimension!$A$7,B456=Dimension!$A$8,B456=Dimension!$A$9,B456=\"\"),\"\",Payment_ID2)","v":""},"",null,null,{"$f":"IF(D456=Dimension!$C$9,IF(LEFT(UPPER(E456),2)=\"MC\",TRUE,FALSE),TRUE)","v":true}]
[null,null,null,{"$f":"IF(B457=Dimension!$A$8,Dimension!$C$9,IF(B457=Dimension!$A$6,CD,\"\"))","v":""},null,{"$f":"IF(OR(B457=Dimension!$A$3,B457=Dimension!$A$4,B457=Dimension!$A$6,B457=Dimension!$A$8),CCYA,\"\")","v":""},{"$f":"IFERROR(VLOOKUP(F457,Dimension!$G$3:$H$252,2,FALSE),\"\")","v":""},{"$f":"IF(OR(B457=Dimension!$A$3,B457=Dimension!$A$4,B457=Dimension!$A$5),\"เดินทาง/ท่องเที่ยว\",\"\")","v":""},{"$f":"IF(OR(B457=Dimension!$A$6,B457=Dimension!$A$7,B457=Dimension!$A$8,B457=Dimension!$A$9),\"\",IF(OR(B457=Dimension!$A$3,B457=Dimension!$A$4,B457=Dimension!$A$5),\"สถานประกอบการ\",\"\"))","v":""},{"$f":"IF(OR(B457=Dimension!$A$3,B457=Dimension!$A$4,B457=Dimension!$A$5,B457=Dimension!$A$6,,B457=Dimension!$A$7,B457=Dimension!$A$8,B457=Dimension!$A$9),Payment_ID2,\"\")","v":""},null,{"$f":"IFERROR(VLOOKUP(K457,Dimension!$J$3:$K$179,2,FALSE),\"\")","v":""},null,null,{"$f":"IF(OR(B457=Dimension!$A$6,B457=Dimension!$A$7,B457=Dimension!$A$8,B457=Dimension!$A$9),\"\",IF(OR(B457=Dimension!$A$3,B457=Dimension!$A$4,B457=Dimension!$A$5),\"สถานประกอบการ\",\"\"))","v":""},{"$f":"IF(OR(B457=Dimension!$A$6,B457=Dimension!$A$7,B457=Dimension!$A$8,B457=Dimension!$A$9,B457=\"\"),\"\",Payment_ID2)","v":""},"",null,null,{"$f":"IF(D457=Dimension!$C$9,IF(LEFT(UPPER(E457),2)=\"MC\",TRUE,FALSE),TRUE)","v":true}]
[null,null,null,{"$f":"IF(B458=Dimension!$A$8,Dimension!$C$9,IF(B458=Dimension!$A$6,CD,\"\"))","v":""},null,{"$f":"IF(OR(B458=Dimension!$A$3,B458=Dimension!$A$4,B458=Dimension!$A$6,B458=Dimension!$A$8),CCYA,\"\")","v":""},{"$f":"IFERROR(VLOOKUP(F458,Dimension!$G$3:$H$252,2,FALSE),\"\")","v":""},{"$f":"IF(OR(B458=Dimension!$A$3,B458=Dimension!$A$4,B458=Dimension!$A$5),\"เดินทาง/ท่องเที่ยว\",\"\")","v":""},{"$f":"IF(OR(B458=Dimension!$A$6,B458=Dimension!$A$7,B458=Dimension!$A$8,B458=Dimension!$A$9),\"\",IF(OR(B458=Dimension!$A$3,B458=Dimension!$A$4,B458=Dimension!$A$5),\"สถานประกอบการ\",\"\"))","v":""},{"$f":"IF(OR(B458=Dimension!$A$3,B458=Dimension!$A$4,B458=Dimension!$A$5,B458=Dimension!$A$6,,B458=Dimension!$A$7,B458=Dimension!$A$8,B458=Dimension!$A$9),Payment_ID2,\"\")","v":""},null,{"$f":"IFERROR(VLOOKUP(K458,Dimension!$J$3:$K$179,2,FALSE),\"\")","v":""},null,null,{"$f":"IF(OR(B458=Dimension!$A$6,B458=Dimension!$A$7,B458=Dimension!$A$8,B458=Dimension!$A$9),\"\",IF(OR(B458=Dimension!$A$3,B458=Dimension!$A$4,B458=Dimension!$A$5),\"สถานประกอบการ\",\"\"))","v":""},{"$f":"IF(OR(B458=Dimension!$A$6,B458=Dimension!$A$7,B458=Dimension!$A$8,B458=Dimension!$A$9,B458=\"\"),\"\",Payment_ID2)","v":""},{"$f":"IF(OR(M458=\"\",N458=\"\"),\"\",ROUND(M458*N458,2))","v":""},null,null,{"$f":"IF(D458=Dimension!$C$9,IF(LEFT(UPPER(E458),2)=\"MC\",TRUE,FALSE),TRUE)","v":true}]
[null,null,null,{"$f":"IF(B459=Dimension!$A$8,Dimension!$C$9,IF(B459=Dimension!$A$6,CD,\"\"))","v":""},null,{"$f":"IF(OR(B459=Dimension!$A$3,B459=Dimension!$A$4,B459=Dimension!$A$6,B459=Dimension!$A$8),CCYA,\"\")","v":""},{"$f":"IFERROR(VLOOKUP(F459,Dimension!$G$3:$H$252,2,FALSE),\"\")","v":""},{"$f":"IF(OR(B459=Dimension!$A$3,B459=Dimension!$A$4,B459=Dimension!$A$5),\"เดินทาง/ท่องเที่ยว\",\"\")","v":""},{"$f":"IF(OR(B459=Dimension!$A$6,B459=Dimension!$A$7,B459=Dimension!$A$8,B459=Dimension!$A$9),\"\",IF(OR(B459=Dimension!$A$3,B459=Dimension!$A$4,B459=Dimension!$A$5),\"สถานประกอบการ\",\"\"))","v":""},{"$f":"IF(OR(B459=Dimension!$A$3,B459=Dimension!$A$4,B459=Dimension!$A$5,B459=Dimension!$A$6,,B459=Dimension!$A$7,B459=Dimension!$A$8,B459=Dimension!$A$9),Payment_ID2,\"\")","v":""},null,{"$f":"IFERROR(VLOOKUP(K459,Dimension!$J$3:$K$179,2,FALSE),\"\")","v":""},null,null,{"$f":"IF(OR(B459=Dimension!$A$6,B459=Dimension!$A$7,B459=Dimension!$A$8,B459=Dimension!$A$9),\"\",IF(OR(B459=Dimension!$A$3,B459=Dimension!$A$4,B459=Dimension!$A$5),\"สถานประกอบการ\",\"\"))","v":""},{"$f":"IF(OR(B459=Dimension!$A$6,B459=Dimension!$A$7,B459=Dimension!$A$8,B459=Dimension!$A$9,B459=\"\"),\"\",Payment_ID2)","v":""},"",null,null,{"$f":"IF(D459=Dimension!$C$9,IF(LEFT(UPPER(E459),2)=\"MC\",TRUE,FALSE),TRUE)","v":true}]
[null,null,null,{"$f":"IF(B460=Dimension!$A$8,Dimension!$C$9,IF(B460=Dimension!$A$6,CD,\"\"))","v":""},null,{"$f":"IF(OR(B460=Dimension!$A$3,B460=Dimension!$A$4,B460=Dimension!$A$6,B460=Dimension!$A$8),CCYA,\"\")","v":""},{"$f":"IFERROR(VLOOKUP(F460,Dimension!$G$3:$H$252,2,FALSE),\"\")","v":""},{"$f":"IF(OR(B460=Dimension!$A$3,B460=Dimension!$A$4,B460=Dimension!$A$5),\"เดินทาง/ท่องเที่ยว\",\"\")","v":""},{"$f":"IF(OR(B460=Dimension!$A$6,B460=Dimension!$A$7,B460=Dimension!$A$8,B460=Dimension!$A$9),\"\",IF(OR(B460=Dimension!$A$3,B460=Dimension!$A$4,B460=Dimension!$A$5),\"สถานประกอบการ\",\"\"))","v":""},{"$f":"IF(OR(B460=Dimension!$A$3,B460=Dimension!$A$4,B460=Dimension!$A$5,B460=Dimension!$A$6,,B460=Dimension!$A$7,B460=Dimension!$A$8,B460=Dimension!$A$9),Payment_ID2,\"\")","v":""},null,{"$f":"IFERROR(VLOOKUP(K460,Dimension!$J$3:$K$179,2,FALSE),\"\")","v":""},null,null,{"$f":"IF(OR(B460=Dimension!$A$6,B460=Dimension!$A$7,B460=Dimension!$A$8,B460=Dimension!$A$9),\"\",IF(OR(B460=Dimension!$A$3,B460=Dimension!$A$4,B460=Dimension!$A$5),\"สถานประกอบการ\",\"\"))","v":""},{"$f":"IF(OR(B460=Dimension!$A$6,B460=Dimension!$A$7,B460=Dimension!$A$8,B460=Dimension!$A$9,B460=\"\"),\"\",Payment_ID2)","v":""},"",null,null,{"$f":"IF(D460=Dimension!$C$9,IF(LEFT(UPPER(E460),2)=\"MC\",TRUE,FALSE),TRUE)","v":true}]
[null,null,null,{"$f":"IF(B461=Dimension!$A$8,Dimension!$C$9,IF(B461=Dimension!$A$6,CD,\"\"))","v":""},null,{"$f":"IF(OR(B461=Dimension!$A$3,B461=Dimension!$A$4,B461=Dimension!$A$6,B461=Dimension!$A$8),CCYA,\"\")","v":""},{"$f":"IFERROR(VLOOKUP(F461,Dimension!$G$3:$H$252,2,FALSE),\"\")","v":""},{"$f":"IF(OR(B461=Dimension!$A$3,B461=Dimension!$A$4,B461=Dimension!$A$5),\"เดินทาง/ท่องเที่ยว\",\"\")","v":""},{"$f":"IF(OR(B461=Dimension!$A$6,B461=Dimension!$A$7,B461=Dimension!$A$8,B461=Dimension!$A$9),\"\",IF(OR(B461=Dimension!$A$3,B461=Dimension!$A$4,B461=Dimension!$A$5),\"สถานประกอบการ\",\"\"))","v":""},{"$f":"IF(OR(B461=Dimension!$A$3,B461=Dimension!$A$4,B461=Dimension!$A$5,B461=Dimension!$A$6,,B461=Dimension!$A$7,B461=Dimension!$A$8,B461=Dimension!$A$9),Payment_ID2,\"\")","v":""},null,{"$f":"IFERROR(VLOOKUP(K461,Dimension!$J$3:$K$179,2,FALSE),\"\")","v":""},null,null,{"$f":"IF(OR(B461=Dimension!$A$6,B461=Dimension!$A$7,B461=Dimension!$A$8,B461=Dimension!$A$9),\"\",IF(OR(B461=Dimension!$A$3,B461=Dimension!$A$4,B461=Dimension!$A$5),\"สถานประกอบการ\",\"\"))","v":""},{"$f":"IF(OR(B461=Dimension!$A$6,B461=Dimension!$A$7,B461=Dimension!$A$8,B461=Dimension!$A$9,B461=\"\"),\"\",Payment_ID2)","v":""},"",null,null,{"$f":"IF(D461=Dimension!$C$9,IF(LEFT(UPPER(E461),2)=\"MC\",TRUE,FALSE),TRUE)","v":true}]
[null,null,null,{"$f":"IF(B462=Dimension!$A$8,Dimension!$C$9,IF(B462=Dimension!$A$6,CD,\"\"))","v":""},null,{"$f":"IF(OR(B462=Dimension!$A$3,B462=Dimension!$A$4,B462=Dimension!$A$6,B462=Dimension!$A$8),CCYA,\"\")","v":""},{"$f":"IFERROR(VLOOKUP(F462,Dimension!$G$3:$H$252,2,FALSE),\"\")","v":""},{"$f":"IF(OR(B462=Dimension!$A$3,B462=Dimension!$A$4,B462=Dimension!$A$5),\"เดินทาง/ท่องเที่ยว\",\"\")","v":""},{"$f":"IF(OR(B462=Dimension!$A$6,B462=Dimension!$A$7,B462=Dimension!$A$8,B462=Dimension!$A$9),\"\",IF(OR(B462=Dimension!$A$3,B462=Dimension!$A$4,B462=Dimension!$A$5),\"สถานประกอบการ\",\"\"))","v":""},{"$f":"IF(OR(B462=Dimension!$A$3,B462=Dimension!$A$4,B462=Dimension!$A$5,B462=Dimension!$A$6,,B462=Dimension!$A$7,B462=Dimension!$A$8,B462=Dimension!$A$9),Payment_ID2,\"\")","v":""},null,{"$f":"IFERROR(VLOOKUP(K462,Dimension!$J$3:$K$179,2,FALSE),\"\")","v":""},null,null,{"$f":"IF(OR(B462=Dimension!$A$6,B462=Dimension!$A$7,B462=Dimension!$A$8,B462=Dimension!$A$9),\"\",IF(OR(B462=Dimension!$A$3,B462=Dimension!$A$4,B462=Dimension!$A$5),\"สถานประกอบการ\",\"\"))","v":""},{"$f":"IF(OR(B462=Dimension!$A$6,B462=Dimension!$A$7,B462=Dimension!$A$8,B462=Dimension!$A$9,B462=\"\"),\"\",Payment_ID2)","v":""},"",null,null,{"$f":"IF(D462=Dimension!$C$9,IF(LEFT(UPPER(E462),2)=\"MC\",TRUE,FALSE),TRUE)","v":true}]
[null,null,null,{"$f":"IF(B463=Dimension!$A$8,Dimension!$C$9,IF(B463=Dimension!$A$6,CD,\"\"))","v":""},null,{"$f":"IF(OR(B463=Dimension!$A$3,B463=Dimension!$A$4,B463=Dimension!$A$6,B463=Dimension!$A$8),CCYA,\"\")","v":""},{"$f":"IFERROR(VLOOKUP(F463,Dimension!$G$3:$H$252,2,FALSE),\"\")","v":""},{"$f":"IF(OR(B463=Dimension!$A$3,B463=Dimension!$A$4,B463=Dimension!$A$5),\"เดินทาง/ท่องเที่ยว\",\"\")","v":""},{"$f":"IF(OR(B463=Dimension!$A$6,B463=Dimension!$A$7,B463=Dimension!$A$8,B463=Dimension!$A$9),\"\",IF(OR(B463=Dimension!$A$3,B463=Dimension!$A$4,B463=Dimension!$A$5),\"สถานประกอบการ\",\"\"))","v":""},{"$f":"IF(OR(B463=Dimension!$A$3,B463=Dimension!$A$4,B463=Dimension!$A$5,B463=Dimension!$A$6,,B463=Dimension!$A$7,B463=Dimension!$A$8,B463=Dimension!$A$9),Payment_ID2,\"\")","v":""},null,{"$f":"IFERROR(VLOOKUP(K463,Dimension!$J$3:$K$179,2,FALSE),\"\")","v":""},null,null,{"$f":"IF(OR(B463=Dimension!$A$6,B463=Dimension!$A$7,B463=Dimension!$A$8,B463=Dimension!$A$9),\"\",IF(OR(B463=Dimension!$A$3,B463=Dimension!$A$4,B463=Dimension!$A$5),\"สถานประกอบการ\",\"\"))","v":""},{"$f":"IF(OR(B463=Dimension!$A$6,B463=Dimension!$A$7,B463=Dimension!$A$8,B463=Dimension!$A$9,B463=\"\"),\"\",Payment_ID2)","v":""},"",null,null,{"$f":"IF(D463=Dimension!$C$9,IF(LEFT(UPPER(E463),2)=\"MC\",TRUE,FALSE),TRUE)","v":true}]
[null,null,null,{"$f":"IF(B464=Dimension!$A$8,Dimension!$C$9,IF(B464=Dimension!$A$6,CD,\"\"))","v":""},null,{"$f":"IF(OR(B464=Dimension!$A$3,B464=Dimension!$A$4,B464=Dimension!$A$6,B464=Dimension!$A$8),CCYA,\"\")","v":""},{"$f":"IFERROR(VLOOKUP(F464,Dimension!$G$3:$H$252,2,FALSE),\"\")","v":""},{"$f":"IF(OR(B464=Dimension!$A$3,B464=Dimension!$A$4,B464=Dimension!$A$5),\"เดินทาง/ท่องเที่ยว\",\"\")","v":""},{"$f":"IF(OR(B464=Dimension!$A$6,B464=Dimension!$A$7,B464=Dimension!$A$8,B464=Dimension!$A$9),\"\",IF(OR(B464=Dimension!$A$3,B464=Dimension!$A$4,B464=Dimension!$A$5),\"สถานประกอบการ\",\"\"))","v":""},{"$f":"IF(OR(B464=Dimension!$A$3,B464=Dimension!$A$4,B464=Dimension!$A$5,B464=Dimension!$A$6,,B464=Dimension!$A$7,B464=Dimension!$A$8,B464=Dimension!$A$9),Payment_ID2,\"\")","v":""},null,{"$f":"IFERROR(VLOOKUP(K464,Dimension!$J$3:$K$179,2,FALSE),\"\")","v":""},null,null,{"$f":"IF(OR(B464=Dimension!$A$6,B464=Dimension!$A$7,B464=Dimension!$A$8,B464=Dimension!$A$9),\"\",IF(OR(B464=Dimension!$A$3,B464=Dimension!$A$4,B464=Dimension!$A$5),\"สถานประกอบการ\",\"\"))","v":""},{"$f":"IF(OR(B464=Dimension!$A$6,B464=Dimension!$A$7,B464=Dimension!$A$8,B464=Dimension!$A$9,B464=\"\"),\"\",Payment_ID2)","v":""},"",null,null,{"$f":"IF(D464=Dimension!$C$9,IF(LEFT(UPPER(E464),2)=\"MC\",TRUE,FALSE),TRUE)","v":true}]
[null,null,null,{"$f":"IF(B465=Dimension!$A$8,Dimension!$C$9,IF(B465=Dimension!$A$6,CD,\"\"))","v":""},null,{"$f":"IF(OR(B465=Dimension!$A$3,B465=Dimension!$A$4,B465=Dimension!$A$6,B465=Dimension!$A$8),CCYA,\"\")","v":""},{"$f":"IFERROR(VLOOKUP(F465,Dimension!$G$3:$H$252,2,FALSE),\"\")","v":""},{"$f":"IF(OR(B465=Dimension!$A$3,B465=Dimension!$A$4,B465=Dimension!$A$5),\"เดินทาง/ท่องเที่ยว\",\"\")","v":""},{"$f":"IF(OR(B465=Dimension!$A$6,B465=Dimension!$A$7,B465=Dimension!$A$8,B465=Dimension!$A$9),\"\",IF(OR(B465=Dimension!$A$3,B465=Dimension!$A$4,B465=Dimension!$A$5),\"สถานประกอบการ\",\"\"))","v":""},{"$f":"IF(OR(B465=Dimension!$A$3,B465=Dimension!$A$4,B465=Dimension!$A$5,B465=Dimension!$A$6,,B465=Dimension!$A$7,B465=Dimension!$A$8,B465=Dimension!$A$9),Payment_ID2,\"\")","v":""},null,{"$f":"IFERROR(VLOOKUP(K465,Dimension!$J$3:$K$179,2,FALSE),\"\")","v":""},null,null,{"$f":"IF(OR(B465=Dimension!$A$6,B465=Dimension!$A$7,B465=Dimension!$A$8,B465=Dimension!$A$9),\"\",IF(OR(B465=Dimension!$A$3,B465=Dimension!$A$4,B465=Dimension!$A$5),\"สถานประกอบการ\",\"\"))","v":""},{"$f":"IF(OR(B465=Dimension!$A$6,B465=Dimension!$A$7,B465=Dimension!$A$8,B465=Dimension!$A$9,B465=\"\"),\"\",Payment_ID2)","v":""},"",null,null,{"$f":"IF(D465=Dimension!$C$9,IF(LEFT(UPPER(E465),2)=\"MC\",TRUE,FALSE),TRUE)","v":true}]
[null,null,null,{"$f":"IF(B466=Dimension!$A$8,Dimension!$C$9,IF(B466=Dimension!$A$6,CD,\"\"))","v":""},null,{"$f":"IF(OR(B466=Dimension!$A$3,B466=Dimension!$A$4,B466=Dimension!$A$6,B466=Dimension!$A$8),CCYA,\"\")","v":""},{"$f":"IFERROR(VLOOKUP(F466,Dimension!$G$3:$H$252,2,FALSE),\"\")","v":""},{"$f":"IF(OR(B466=Dimension!$A$3,B466=Dimension!$A$4,B466=Dimension!$A$5),\"เดินทาง/ท่องเที่ยว\",\"\")","v":""},{"$f":"IF(OR(B466=Dimension!$A$6,B466=Dimension!$A$7,B466=Dimension!$A$8,B466=Dimension!$A$9),\"\",IF(OR(B466=Dimension!$A$3,B466=Dimension!$A$4,B466=Dimension!$A$5),\"สถานประกอบการ\",\"\"))","v":""},{"$f":"IF(OR(B466=Dimension!$A$3,B466=Dimension!$A$4,B466=Dimension!$A$5,B466=Dimension!$A$6,,B466=Dimension!$A$7,B466=Dimension!$A$8,B466=Dimension!$A$9),Payment_ID2,\"\")","v":""},null,{"$f":"IFERROR(VLOOKUP(K466,Dimension!$J$3:$K$179,2,FALSE),\"\")","v":""},null,null,{"$f":"IF(OR(B466=Dimension!$A$6,B466=Dimension!$A$7,B466=Dimension!$A$8,B466=Dimension!$A$9),\"\",IF(OR(B466=Dimension!$A$3,B466=Dimension!$A$4,B466=Dimension!$A$5),\"สถานประกอบการ\",\"\"))","v":""},{"$f":"IF(OR(B466=Dimension!$A$6,B466=Dimension!$A$7,B466=Dimension!$A$8,B466=Dimension!$A$9,B466=\"\"),\"\",Payment_ID2)","v":""},"",null,null,{"$f":"IF(D466=Dimension!$C$9,IF(LEFT(UPPER(E466),2)=\"MC\",TRUE,FALSE),TRUE)","v":true}]
[null,null,null,{"$f":"IF(B467=Dimension!$A$8,Dimension!$C$9,IF(B467=Dimension!$A$6,CD,\"\"))","v":""},null,{"$f":"IF(OR(B467=Dimension!$A$3,B467=Dimension!$A$4,B467=Dimension!$A$6,B467=Dimension!$A$8),CCYA,\"\")","v":""},{"$f":"IFERROR(VLOOKUP(F467,Dimension!$G$3:$H$252,2,FALSE),\"\")","v":""},{"$f":"IF(OR(B467=Dimension!$A$3,B467=Dimension!$A$4,B467=Dimension!$A$5),\"เดินทาง/ท่องเที่ยว\",\"\")","v":""},{"$f":"IF(OR(B467=Dimension!$A$6,B467=Dimension!$A$7,B467=Dimension!$A$8,B467=Dimension!$A$9),\"\",IF(OR(B467=Dimension!$A$3,B467=Dimension!$A$4,B467=Dimension!$A$5),\"สถานประกอบการ\",\"\"))","v":""},{"$f":"IF(OR(B467=Dimension!$A$3,B467=Dimension!$A$4,B467=Dimension!$A$5,B467=Dimension!$A$6,,B467=Dimension!$A$7,B467=Dimension!$A$8,B467=Dimension!$A$9),Payment_ID2,\"\")","v":""},null,{"$f":"IFERROR(VLOOKUP(K467,Dimension!$J$3:$K$179,2,FALSE),\"\")","v":""},null,null,{"$f":"IF(OR(B467=Dimension!$A$6,B467=Dimension!$A$7,B467=Dimension!$A$8,B467=Dimension!$A$9),\"\",IF(OR(B467=Dimension!$A$3,B467=Dimension!$A$4,B467=Dimension!$A$5),\"สถานประกอบการ\",\"\"))","v":""},{"$f":"IF(OR(B467=Dimension!$A$6,B467=Dimension!$A$7,B467=Dimension!$A$8,B467=Dimension!$A$9,B467=\"\"),\"\",Payment_ID2)","v":""},"",null,null,{"$f":"IF(D467=Dimension!$C$9,IF(LEFT(UPPER(E467),2)=\"MC\",TRUE,FALSE),TRUE)","v":true}]
[null,null,null,{"$f":"IF(B468=Dimension!$A$8,Dimension!$C$9,IF(B468=Dimension!$A$6,CD,\"\"))","v":""},null,{"$f":"IF(OR(B468=Dimension!$A$3,B468=Dimension!$A$4,B468=Dimension!$A$6,B468=Dimension!$A$8),CCYA,\"\")","v":""},{"$f":"IFERROR(VLOOKUP(F468,Dimension!$G$3:$H$252,2,FALSE),\"\")","v":""},{"$f":"IF(OR(B468=Dimension!$A$3,B468=Dimension!$A$4,B468=Dimension!$A$5),\"เดินทาง/ท่องเที่ยว\",\"\")","v":""},{"$f":"IF(OR(B468=Dimension!$A$6,B468=Dimension!$A$7,B468=Dimension!$A$8,B468=Dimension!$A$9),\"\",IF(OR(B468=Dimension!$A$3,B468=Dimension!$A$4,B468=Dimension!$A$5),\"สถานประกอบการ\",\"\"))","v":""},{"$f":"IF(OR(B468=Dimension!$A$3,B468=Dimension!$A$4,B468=Dimension!$A$5,B468=Dimension!$A$6,,B468=Dimension!$A$7,B468=Dimension!$A$8,B468=Dimension!$A$9),Payment_ID2,\"\")","v":""},null,{"$f":"IFERROR(VLOOKUP(K468,Dimension!$J$3:$K$179,2,FALSE),\"\")","v":""},null,null,{"$f":"IF(OR(B468=Dimension!$A$6,B468=Dimension!$A$7,B468=Dimension!$A$8,B468=Dimension!$A$9),\"\",IF(OR(B468=Dimension!$A$3,B468=Dimension!$A$4,B468=Dimension!$A$5),\"สถานประกอบการ\",\"\"))","v":""},{"$f":"IF(OR(B468=Dimension!$A$6,B468=Dimension!$A$7,B468=Dimension!$A$8,B468=Dimension!$A$9,B468=\"\"),\"\",Payment_ID2)","v":""},"",null,null,{"$f":"IF(D468=Dimension!$C$9,IF(LEFT(UPPER(E468),2)=\"MC\",TRUE,FALSE),TRUE)","v":true}]
[null,null,null,{"$f":"IF(B469=Dimension!$A$8,Dimension!$C$9,IF(B469=Dimension!$A$6,CD,\"\"))","v":""},null,{"$f":"IF(OR(B469=Dimension!$A$3,B469=Dimension!$A$4,B469=Dimension!$A$6,B469=Dimension!$A$8),CCYA,\"\")","v":""},{"$f":"IFERROR(VLOOKUP(F469,Dimension!$G$3:$H$252,2,FALSE),\"\")","v":""},{"$f":"IF(OR(B469=Dimension!$A$3,B469=Dimension!$A$4,B469=Dimension!$A$5),\"เดินทาง/ท่องเที่ยว\",\"\")","v":""},{"$f":"IF(OR(B469=Dimension!$A$6,B469=Dimension!$A$7,B469=Dimension!$A$8,B469=Dimension!$A$9),\"\",IF(OR(B469=Dimension!$A$3,B469=Dimension!$A$4,B469=Dimension!$A$5),\"สถานประกอบการ\",\"\"))","v":""},{"$f":"IF(OR(B469=Dimension!$A$3,B469=Dimension!$A$4,B469=Dimension!$A$5,B469=Dimension!$A$6,,B469=Dimension!$A$7,B469=Dimension!$A$8,B469=Dimension!$A$9),Payment_ID2,\"\")","v":""},null,{"$f":"IFERROR(VLOOKUP(K469,Dimension!$J$3:$K$179,2,FALSE),\"\")","v":""},null,null,{"$f":"IF(OR(B469=Dimension!$A$6,B469=Dimension!$A$7,B469=Dimension!$A$8,B469=Dimension!$A$9),\"\",IF(OR(B469=Dimension!$A$3,B469=Dimension!$A$4,B469=Dimension!$A$5),\"สถานประกอบการ\",\"\"))","v":""},{"$f":"IF(OR(B469=Dimension!$A$6,B469=Dimension!$A$7,B469=Dimension!$A$8,B469=Dimension!$A$9,B469=\"\"),\"\",Payment_ID2)","v":""},"",null,null,{"$f":"IF(D469=Dimension!$C$9,IF(LEFT(UPPER(E469),2)=\"MC\",TRUE,FALSE),TRUE)","v":true}]
[null,null,null,{"$f":"IF(B470=Dimension!$A$8,Dimension!$C$9,IF(B470=Dimension!$A$6,CD,\"\"))","v":""},null,{"$f":"IF(OR(B470=Dimension!$A$3,B470=Dimension!$A$4,B470=Dimension!$A$6,B470=Dimension!$A$8),CCYA,\"\")","v":""},{"$f":"IFERROR(VLOOKUP(F470,Dimension!$G$3:$H$252,2,FALSE),\"\")","v":""},{"$f":"IF(OR(B470=Dimension!$A$3,B470=Dimension!$A$4,B470=Dimension!$A$5),\"เดินทาง/ท่องเที่ยว\",\"\")","v":""},{"$f":"IF(OR(B470=Dimension!$A$6,B470=Dimension!$A$7,B470=Dimension!$A$8,B470=Dimension!$A$9),\"\",IF(OR(B470=Dimension!$A$3,B470=Dimension!$A$4,B470=Dimension!$A$5),\"สถานประกอบการ\",\"\"))","v":""},{"$f":"IF(OR(B470=Dimension!$A$3,B470=Dimension!$A$4,B470=Dimension!$A$5,B470=Dimension!$A$6,,B470=Dimension!$A$7,B470=Dimension!$A$8,B470=Dimension!$A$9),Payment_ID2,\"\")","v":""},null,{"$f":"IFERROR(VLOOKUP(K470,Dimension!$J$3:$K$179,2,FALSE),\"\")","v":""},null,null,{"$f":"IF(OR(B470=Dimension!$A$6,B470=Dimension!$A$7,B470=Dimension!$A$8,B470=Dimension!$A$9),\"\",IF(OR(B470=Dimension!$A$3,B470=Dimension!$A$4,B470=Dimension!$A$5),\"สถานประกอบการ\",\"\"))","v":""},{"$f":"IF(OR(B470=Dimension!$A$6,B470=Dimension!$A$7,B470=Dimension!$A$8,B470=Dimension!$A$9,B470=\"\"),\"\",Payment_ID2)","v":""},"",null,null,{"$f":"IF(D470=Dimension!$C$9,IF(LEFT(UPPER(E470),2)=\"MC\",TRUE,FALSE),TRUE)","v":true}]
[null,null,null,{"$f":"IF(B471=Dimension!$A$8,Dimension!$C$9,IF(B471=Dimension!$A$6,CD,\"\"))","v":""},null,{"$f":"IF(OR(B471=Dimension!$A$3,B471=Dimension!$A$4,B471=Dimension!$A$6,B471=Dimension!$A$8),CCYA,\"\")","v":""},{"$f":"IFERROR(VLOOKUP(F471,Dimension!$G$3:$H$252,2,FALSE),\"\")","v":""},{"$f":"IF(OR(B471=Dimension!$A$3,B471=Dimension!$A$4,B471=Dimension!$A$5),\"เดินทาง/ท่องเที่ยว\",\"\")","v":""},{"$f":"IF(OR(B471=Dimension!$A$6,B471=Dimension!$A$7,B471=Dimension!$A$8,B471=Dimension!$A$9),\"\",IF(OR(B471=Dimension!$A$3,B471=Dimension!$A$4,B471=Dimension!$A$5),\"สถานประกอบการ\",\"\"))","v":""},{"$f":"IF(OR(B471=Dimension!$A$3,B471=Dimension!$A$4,B471=Dimension!$A$5,B471=Dimension!$A$6,,B471=Dimension!$A$7,B471=Dimension!$A$8,B471=Dimension!$A$9),Payment_ID2,\"\")","v":""},null,{"$f":"IFERROR(VLOOKUP(K471,Dimension!$J$3:$K$179,2,FALSE),\"\")","v":""},null,null,{"$f":"IF(OR(B471=Dimension!$A$6,B471=Dimension!$A$7,B471=Dimension!$A$8,B471=Dimension!$A$9),\"\",IF(OR(B471=Dimension!$A$3,B471=Dimension!$A$4,B471=Dimension!$A$5),\"สถานประกอบการ\",\"\"))","v":""},{"$f":"IF(OR(B471=Dimension!$A$6,B471=Dimension!$A$7,B471=Dimension!$A$8,B471=Dimension!$A$9,B471=\"\"),\"\",Payment_ID2)","v":""},"",null,null,{"$f":"IF(D471=Dimension!$C$9,IF(LEFT(UPPER(E471),2)=\"MC\",TRUE,FALSE),TRUE)","v":true}]
[null,null,null,{"$f":"IF(B472=Dimension!$A$8,Dimension!$C$9,IF(B472=Dimension!$A$6,CD,\"\"))","v":""},null,{"$f":"IF(OR(B472=Dimension!$A$3,B472=Dimension!$A$4,B472=Dimension!$A$6,B472=Dimension!$A$8),CCYA,\"\")","v":""},{"$f":"IFERROR(VLOOKUP(F472,Dimension!$G$3:$H$252,2,FALSE),\"\")","v":""},{"$f":"IF(OR(B472=Dimension!$A$3,B472=Dimension!$A$4,B472=Dimension!$A$5),\"เดินทาง/ท่องเที่ยว\",\"\")","v":""},{"$f":"IF(OR(B472=Dimension!$A$6,B472=Dimension!$A$7,B472=Dimension!$A$8,B472=Dimension!$A$9),\"\",IF(OR(B472=Dimension!$A$3,B472=Dimension!$A$4,B472=Dimension!$A$5),\"สถานประกอบการ\",\"\"))","v":""},{"$f":"IF(OR(B472=Dimension!$A$3,B472=Dimension!$A$4,B472=Dimension!$A$5,B472=Dimension!$A$6,,B472=Dimension!$A$7,B472=Dimension!$A$8,B472=Dimension!$A$9),Payment_ID2,\"\")","v":""},null,{"$f":"IFERROR(VLOOKUP(K472,Dimension!$J$3:$K$179,2,FALSE),\"\")","v":""},null,null,{"$f":"IF(OR(B472=Dimension!$A$6,B472=Dimension!$A$7,B472=Dimension!$A$8,B472=Dimension!$A$9),\"\",IF(OR(B472=Dimension!$A$3,B472=Dimension!$A$4,B472=Dimension!$A$5),\"สถานประกอบการ\",\"\"))","v":""},{"$f":"IF(OR(B472=Dimension!$A$6,B472=Dimension!$A$7,B472=Dimension!$A$8,B472=Dimension!$A$9,B472=\"\"),\"\",Payment_ID2)","v":""},"",null,null,{"$f":"IF(D472=Dimension!$C$9,IF(LEFT(UPPER(E472),2)=\"MC\",TRUE,FALSE),TRUE)","v":true}]
[null,null,null,{"$f":"IF(B473=Dimension!$A$8,Dimension!$C$9,IF(B473=Dimension!$A$6,CD,\"\"))","v":""},null,{"$f":"IF(OR(B473=Dimension!$A$3,B473=Dimension!$A$4,B473=Dimension!$A$6,B473=Dimension!$A$8),CCYA,\"\")","v":""},{"$f":"IFERROR(VLOOKUP(F473,Dimension!$G$3:$H$252,2,FALSE),\"\")","v":""},{"$f":"IF(OR(B473=Dimension!$A$3,B473=Dimension!$A$4,B473=Dimension!$A$5),\"เดินทาง/ท่องเที่ยว\",\"\")","v":""},{"$f":"IF(OR(B473=Dimension!$A$6,B473=Dimension!$A$7,B473=Dimension!$A$8,B473=Dimension!$A$9),\"\",IF(OR(B473=Dimension!$A$3,B473=Dimension!$A$4,B473=Dimension!$A$5),\"สถานประกอบการ\",\"\"))","v":""},{"$f":"IF(OR(B473=Dimension!$A$3,B473=Dimension!$A$4,B473=Dimension!$A$5,B473=Dimension!$A$6,,B473=Dimension!$A$7,B473=Dimension!$A$8,B473=Dimension!$A$9),Payment_ID2,\"\")","v":""},null,{"$f":"IFERROR(VLOOKUP(K473,Dimension!$J$3:$K$179,2,FALSE),\"\")","v":""},null,null,{"$f":"IF(OR(B473=Dimension!$A$6,B473=Dimension!$A$7,B473=Dimension!$A$8,B473=Dimension!$A$9),\"\",IF(OR(B473=Dimension!$A$3,B473=Dimension!$A$4,B473=Dimension!$A$5),\"สถานประกอบการ\",\"\"))","v":""},{"$f":"IF(OR(B473=Dimension!$A$6,B473=Dimension!$A$7,B473=Dimension!$A$8,B473=Dimension!$A$9,B473=\"\"),\"\",Payment_ID2)","v":""},"",null,null,{"$f":"IF(D473=Dimension!$C$9,IF(LEFT(UPPER(E473),2)=\"MC\",TRUE,FALSE),TRUE)","v":true}]
[null,null,null,{"$f":"IF(B474=Dimension!$A$8,Dimension!$C$9,IF(B474=Dimension!$A$6,CD,\"\"))","v":""},null,{"$f":"IF(OR(B474=Dimension!$A$3,B474=Dimension!$A$4,B474=Dimension!$A$6,B474=Dimension!$A$8),CCYA,\"\")","v":""},{"$f":"IFERROR(VLOOKUP(F474,Dimension!$G$3:$H$252,2,FALSE),\"\")","v":""},{"$f":"IF(OR(B474=Dimension!$A$3,B474=Dimension!$A$4,B474=Dimension!$A$5),\"เดินทาง/ท่องเที่ยว\",\"\")","v":""},{"$f":"IF(OR(B474=Dimension!$A$6,B474=Dimension!$A$7,B474=Dimension!$A$8,B474=Dimension!$A$9),\"\",IF(OR(B474=Dimension!$A$3,B474=Dimension!$A$4,B474=Dimension!$A$5),\"สถานประกอบการ\",\"\"))","v":""},{"$f":"IF(OR(B474=Dimension!$A$3,B474=Dimension!$A$4,B474=Dimension!$A$5,B474=Dimension!$A$6,,B474=Dimension!$A$7,B474=Dimension!$A$8,B474=Dimension!$A$9),Payment_ID2,\"\")","v":""},null,{"$f":"IFERROR(VLOOKUP(K474,Dimension!$J$3:$K$179,2,FALSE),\"\")","v":""},null,null,{"$f":"IF(OR(B474=Dimension!$A$6,B474=Dimension!$A$7,B474=Dimension!$A$8,B474=Dimension!$A$9),\"\",IF(OR(B474=Dimension!$A$3,B474=Dimension!$A$4,B474=Dimension!$A$5),\"สถานประกอบการ\",\"\"))","v":""},{"$f":"IF(OR(B474=Dimension!$A$6,B474=Dimension!$A$7,B474=Dimension!$A$8,B474=Dimension!$A$9,B474=\"\"),\"\",Payment_ID2)","v":""},"",null,null,{"$f":"IF(D474=Dimension!$C$9,IF(LEFT(UPPER(E474),2)=\"MC\",TRUE,FALSE),TRUE)","v":true}]
[null,null,null,{"$f":"IF(B475=Dimension!$A$8,Dimension!$C$9,IF(B475=Dimension!$A$6,CD,\"\"))","v":""},null,{"$f":"IF(OR(B475=Dimension!$A$3,B475=Dimension!$A$4,B475=Dimension!$A$6,B475=Dimension!$A$8),CCYA,\"\")","v":""},{"$f":"IFERROR(VLOOKUP(F475,Dimension!$G$3:$H$252,2,FALSE),\"\")","v":""},{"$f":"IF(OR(B475=Dimension!$A$3,B475=Dimension!$A$4,B475=Dimension!$A$5),\"เดินทาง/ท่องเที่ยว\",\"\")","v":""},{"$f":"IF(OR(B475=Dimension!$A$6,B475=Dimension!$A$7,B475=Dimension!$A$8,B475=Dimension!$A$9),\"\",IF(OR(B475=Dimension!$A$3,B475=Dimension!$A$4,B475=Dimension!$A$5),\"สถานประกอบการ\",\"\"))","v":""},{"$f":"IF(OR(B475=Dimension!$A$3,B475=Dimension!$A$4,B475=Dimension!$A$5,B475=Dimension!$A$6,,B475=Dimension!$A$7,B475=Dimension!$A$8,B475=Dimension!$A$9),Payment_ID2,\"\")","v":""},null,{"$f":"IFERROR(VLOOKUP(K475,Dimension!$J$3:$K$179,2,FALSE),\"\")","v":""},null,null,{"$f":"IF(OR(B475=Dimension!$A$6,B475=Dimension!$A$7,B475=Dimension!$A$8,B475=Dimension!$A$9),\"\",IF(OR(B475=Dimension!$A$3,B475=Dimension!$A$4,B475=Dimension!$A$5),\"สถานประกอบการ\",\"\"))","v":""},{"$f":"IF(OR(B475=Dimension!$A$6,B475=Dimension!$A$7,B475=Dimension!$A$8,B475=Dimension!$A$9,B475=\"\"),\"\",Payment_ID2)","v":""},"",null,null,{"$f":"IF(D475=Dimension!$C$9,IF(LEFT(UPPER(E475),2)=\"MC\",TRUE,FALSE),TRUE)","v":true}]
[null,null,null,{"$f":"IF(B476=Dimension!$A$8,Dimension!$C$9,IF(B476=Dimension!$A$6,CD,\"\"))","v":""},null,{"$f":"IF(OR(B476=Dimension!$A$3,B476=Dimension!$A$4,B476=Dimension!$A$6,B476=Dimension!$A$8),CCYA,\"\")","v":""},{"$f":"IFERROR(VLOOKUP(F476,Dimension!$G$3:$H$252,2,FALSE),\"\")","v":""},{"$f":"IF(OR(B476=Dimension!$A$3,B476=Dimension!$A$4,B476=Dimension!$A$5),\"เดินทาง/ท่องเที่ยว\",\"\")","v":""},{"$f":"IF(OR(B476=Dimension!$A$6,B476=Dimension!$A$7,B476=Dimension!$A$8,B476=Dimension!$A$9),\"\",IF(OR(B476=Dimension!$A$3,B476=Dimension!$A$4,B476=Dimension!$A$5),\"สถานประกอบการ\",\"\"))","v":""},{"$f":"IF(OR(B476=Dimension!$A$3,B476=Dimension!$A$4,B476=Dimension!$A$5,B476=Dimension!$A$6,,B476=Dimension!$A$7,B476=Dimension!$A$8,B476=Dimension!$A$9),Payment_ID2,\"\")","v":""},null,{"$f":"IFERROR(VLOOKUP(K476,Dimension!$J$3:$K$179,2,FALSE),\"\")","v":""},null,null,{"$f":"IF(OR(B476=Dimension!$A$6,B476=Dimension!$A$7,B476=Dimension!$A$8,B476=Dimension!$A$9),\"\",IF(OR(B476=Dimension!$A$3,B476=Dimension!$A$4,B476=Dimension!$A$5),\"สถานประกอบการ\",\"\"))","v":""},{"$f":"IF(OR(B476=Dimension!$A$6,B476=Dimension!$A$7,B476=Dimension!$A$8,B476=Dimension!$A$9,B476=\"\"),\"\",Payment_ID2)","v":""},"",null,null,{"$f":"IF(D476=Dimension!$C$9,IF(LEFT(UPPER(E476),2)=\"MC\",TRUE,FALSE),TRUE)","v":true}]
[null,null,null,{"$f":"IF(B477=Dimension!$A$8,Dimension!$C$9,IF(B477=Dimension!$A$6,CD,\"\"))","v":""},null,{"$f":"IF(OR(B477=Dimension!$A$3,B477=Dimension!$A$4,B477=Dimension!$A$6,B477=Dimension!$A$8),CCYA,\"\")","v":""},{"$f":"IFERROR(VLOOKUP(F477,Dimension!$G$3:$H$252,2,FALSE),\"\")","v":""},{"$f":"IF(OR(B477=Dimension!$A$3,B477=Dimension!$A$4,B477=Dimension!$A$5),\"เดินทาง/ท่องเที่ยว\",\"\")","v":""},{"$f":"IF(OR(B477=Dimension!$A$6,B477=Dimension!$A$7,B477=Dimension!$A$8,B477=Dimension!$A$9),\"\",IF(OR(B477=Dimension!$A$3,B477=Dimension!$A$4,B477=Dimension!$A$5),\"สถานประกอบการ\",\"\"))","v":""},{"$f":"IF(OR(B477=Dimension!$A$3,B477=Dimension!$A$4,B477=Dimension!$A$5,B477=Dimension!$A$6,,B477=Dimension!$A$7,B477=Dimension!$A$8,B477=Dimension!$A$9),Payment_ID2,\"\")","v":""},null,{"$f":"IFERROR(VLOOKUP(K477,Dimension!$J$3:$K$179,2,FALSE),\"\")","v":""},null,null,{"$f":"IF(OR(B477=Dimension!$A$6,B477=Dimension!$A$7,B477=Dimension!$A$8,B477=Dimension!$A$9),\"\",IF(OR(B477=Dimension!$A$3,B477=Dimension!$A$4,B477=Dimension!$A$5),\"สถานประกอบการ\",\"\"))","v":""},{"$f":"IF(OR(B477=Dimension!$A$6,B477=Dimension!$A$7,B477=Dimension!$A$8,B477=Dimension!$A$9,B477=\"\"),\"\",Payment_ID2)","v":""},"",null,null,{"$f":"IF(D477=Dimension!$C$9,IF(LEFT(UPPER(E477),2)=\"MC\",TRUE,FALSE),TRUE)","v":true}]
[null,null,null,{"$f":"IF(B478=Dimension!$A$8,Dimension!$C$9,IF(B478=Dimension!$A$6,CD,\"\"))","v":""},null,{"$f":"IF(OR(B478=Dimension!$A$3,B478=Dimension!$A$4,B478=Dimension!$A$6,B478=Dimension!$A$8),CCYA,\"\")","v":""},{"$f":"IFERROR(VLOOKUP(F478,Dimension!$G$3:$H$252,2,FALSE),\"\")","v":""},{"$f":"IF(OR(B478=Dimension!$A$3,B478=Dimension!$A$4,B478=Dimension!$A$5),\"เดินทาง/ท่องเที่ยว\",\"\")","v":""},{"$f":"IF(OR(B478=Dimension!$A$6,B478=Dimension!$A$7,B478=Dimension!$A$8,B478=Dimension!$A$9),\"\",IF(OR(B478=Dimension!$A$3,B478=Dimension!$A$4,B478=Dimension!$A$5),\"สถานประกอบการ\",\"\"))","v":""},{"$f":"IF(OR(B478=Dimension!$A$3,B478=Dimension!$A$4,B478=Dimension!$A$5,B478=Dimension!$A$6,,B478=Dimension!$A$7,B478=Dimension!$A$8,B478=Dimension!$A$9),Payment_ID2,\"\")","v":""},null,{"$f":"IFERROR(VLOOKUP(K478,Dimension!$J$3:$K$179,2,FALSE),\"\")","v":""},null,null,{"$f":"IF(OR(B478=Dimension!$A$6,B478=Dimension!$A$7,B478=Dimension!$A$8,B478=Dimension!$A$9),\"\",IF(OR(B478=Dimension!$A$3,B478=Dimension!$A$4,B478=Dimension!$A$5),\"สถานประกอบการ\",\"\"))","v":""},{"$f":"IF(OR(B478=Dimension!$A$6,B478=Dimension!$A$7,B478=Dimension!$A$8,B478=Dimension!$A$9,B478=\"\"),\"\",Payment_ID2)","v":""},"",null,null,{"$f":"IF(D478=Dimension!$C$9,IF(LEFT(UPPER(E478),2)=\"MC\",TRUE,FALSE),TRUE)","v":true}]
[null,null,null,{"$f":"IF(B479=Dimension!$A$8,Dimension!$C$9,IF(B479=Dimension!$A$6,CD,\"\"))","v":""},null,{"$f":"IF(OR(B479=Dimension!$A$3,B479=Dimension!$A$4,B479=Dimension!$A$6,B479=Dimension!$A$8),CCYA,\"\")","v":""},{"$f":"IFERROR(VLOOKUP(F479,Dimension!$G$3:$H$252,2,FALSE),\"\")","v":""},{"$f":"IF(OR(B479=Dimension!$A$3,B479=Dimension!$A$4,B479=Dimension!$A$5),\"เดินทาง/ท่องเที่ยว\",\"\")","v":""},{"$f":"IF(OR(B479=Dimension!$A$6,B479=Dimension!$A$7,B479=Dimension!$A$8,B479=Dimension!$A$9),\"\",IF(OR(B479=Dimension!$A$3,B479=Dimension!$A$4,B479=Dimension!$A$5),\"สถานประกอบการ\",\"\"))","v":""},{"$f":"IF(OR(B479=Dimension!$A$3,B479=Dimension!$A$4,B479=Dimension!$A$5,B479=Dimension!$A$6,,B479=Dimension!$A$7,B479=Dimension!$A$8,B479=Dimension!$A$9),Payment_ID2,\"\")","v":""},null,{"$f":"IFERROR(VLOOKUP(K479,Dimension!$J$3:$K$179,2,FALSE),\"\")","v":""},null,null,{"$f":"IF(OR(B479=Dimension!$A$6,B479=Dimension!$A$7,B479=Dimension!$A$8,B479=Dimension!$A$9),\"\",IF(OR(B479=Dimension!$A$3,B479=Dimension!$A$4,B479=Dimension!$A$5),\"สถานประกอบการ\",\"\"))","v":""},{"$f":"IF(OR(B479=Dimension!$A$6,B479=Dimension!$A$7,B479=Dimension!$A$8,B479=Dimension!$A$9,B479=\"\"),\"\",Payment_ID2)","v":""},"",null,null,{"$f":"IF(D479=Dimension!$C$9,IF(LEFT(UPPER(E479),2)=\"MC\",TRUE,FALSE),TRUE)","v":true}]
[null,null,null,{"$f":"IF(B480=Dimension!$A$8,Dimension!$C$9,IF(B480=Dimension!$A$6,CD,\"\"))","v":""},null,{"$f":"IF(OR(B480=Dimension!$A$3,B480=Dimension!$A$4,B480=Dimension!$A$6,B480=Dimension!$A$8),CCYA,\"\")","v":""},{"$f":"IFERROR(VLOOKUP(F480,Dimension!$G$3:$H$252,2,FALSE),\"\")","v":""},{"$f":"IF(OR(B480=Dimension!$A$3,B480=Dimension!$A$4,B480=Dimension!$A$5),\"เดินทาง/ท่องเที่ยว\",\"\")","v":""},{"$f":"IF(OR(B480=Dimension!$A$6,B480=Dimension!$A$7,B480=Dimension!$A$8,B480=Dimension!$A$9),\"\",IF(OR(B480=Dimension!$A$3,B480=Dimension!$A$4,B480=Dimension!$A$5),\"สถานประกอบการ\",\"\"))","v":""},{"$f":"IF(OR(B480=Dimension!$A$3,B480=Dimension!$A$4,B480=Dimension!$A$5,B480=Dimension!$A$6,,B480=Dimension!$A$7,B480=Dimension!$A$8,B480=Dimension!$A$9),Payment_ID2,\"\")","v":""},null,{"$f":"IFERROR(VLOOKUP(K480,Dimension!$J$3:$K$179,2,FALSE),\"\")","v":""},null,null,{"$f":"IF(OR(B480=Dimension!$A$6,B480=Dimension!$A$7,B480=Dimension!$A$8,B480=Dimension!$A$9),\"\",IF(OR(B480=Dimension!$A$3,B480=Dimension!$A$4,B480=Dimension!$A$5),\"สถานประกอบการ\",\"\"))","v":""},{"$f":"IF(OR(B480=Dimension!$A$6,B480=Dimension!$A$7,B480=Dimension!$A$8,B480=Dimension!$A$9,B480=\"\"),\"\",Payment_ID2)","v":""},"",null,null,{"$f":"IF(D480=Dimension!$C$9,IF(LEFT(UPPER(E480),2)=\"MC\",TRUE,FALSE),TRUE)","v":true}]
[null,null,null,{"$f":"IF(B481=Dimension!$A$8,Dimension!$C$9,IF(B481=Dimension!$A$6,CD,\"\"))","v":""},null,{"$f":"IF(OR(B481=Dimension!$A$3,B481=Dimension!$A$4,B481=Dimension!$A$6,B481=Dimension!$A$8),CCYA,\"\")","v":""},{"$f":"IFERROR(VLOOKUP(F481,Dimension!$G$3:$H$252,2,FALSE),\"\")","v":""},{"$f":"IF(OR(B481=Dimension!$A$3,B481=Dimension!$A$4,B481=Dimension!$A$5),\"เดินทาง/ท่องเที่ยว\",\"\")","v":""},{"$f":"IF(OR(B481=Dimension!$A$6,B481=Dimension!$A$7,B481=Dimension!$A$8,B481=Dimension!$A$9),\"\",IF(OR(B481=Dimension!$A$3,B481=Dimension!$A$4,B481=Dimension!$A$5),\"สถานประกอบการ\",\"\"))","v":""},{"$f":"IF(OR(B481=Dimension!$A$3,B481=Dimension!$A$4,B481=Dimension!$A$5,B481=Dimension!$A$6,,B481=Dimension!$A$7,B481=Dimension!$A$8,B481=Dimension!$A$9),Payment_ID2,\"\")","v":""},null,{"$f":"IFERROR(VLOOKUP(K481,Dimension!$J$3:$K$179,2,FALSE),\"\")","v":""},null,null,{"$f":"IF(OR(B481=Dimension!$A$6,B481=Dimension!$A$7,B481=Dimension!$A$8,B481=Dimension!$A$9),\"\",IF(OR(B481=Dimension!$A$3,B481=Dimension!$A$4,B481=Dimension!$A$5),\"สถานประกอบการ\",\"\"))","v":""},{"$f":"IF(OR(B481=Dimension!$A$6,B481=Dimension!$A$7,B481=Dimension!$A$8,B481=Dimension!$A$9,B481=\"\"),\"\",Payment_ID2)","v":""},"",null,null,{"$f":"IF(D481=Dimension!$C$9,IF(LEFT(UPPER(E481),2)=\"MC\",TRUE,FALSE),TRUE)","v":true}]
[null,null,null,{"$f":"IF(B482=Dimension!$A$8,Dimension!$C$9,IF(B482=Dimension!$A$6,CD,\"\"))","v":""},null,{"$f":"IF(OR(B482=Dimension!$A$3,B482=Dimension!$A$4,B482=Dimension!$A$6,B482=Dimension!$A$8),CCYA,\"\")","v":""},{"$f":"IFERROR(VLOOKUP(F482,Dimension!$G$3:$H$252,2,FALSE),\"\")","v":""},{"$f":"IF(OR(B482=Dimension!$A$3,B482=Dimension!$A$4,B482=Dimension!$A$5),\"เดินทาง/ท่องเที่ยว\",\"\")","v":""},{"$f":"IF(OR(B482=Dimension!$A$6,B482=Dimension!$A$7,B482=Dimension!$A$8,B482=Dimension!$A$9),\"\",IF(OR(B482=Dimension!$A$3,B482=Dimension!$A$4,B482=Dimension!$A$5),\"สถานประกอบการ\",\"\"))","v":""},{"$f":"IF(OR(B482=Dimension!$A$3,B482=Dimension!$A$4,B482=Dimension!$A$5,B482=Dimension!$A$6,,B482=Dimension!$A$7,B482=Dimension!$A$8,B482=Dimension!$A$9),Payment_ID2,\"\")","v":""},null,{"$f":"IFERROR(VLOOKUP(K482,Dimension!$J$3:$K$179,2,FALSE),\"\")","v":""},null,null,{"$f":"IF(OR(B482=Dimension!$A$6,B482=Dimension!$A$7,B482=Dimension!$A$8,B482=Dimension!$A$9),\"\",IF(OR(B482=Dimension!$A$3,B482=Dimension!$A$4,B482=Dimension!$A$5),\"สถานประกอบการ\",\"\"))","v":""},{"$f":"IF(OR(B482=Dimension!$A$6,B482=Dimension!$A$7,B482=Dimension!$A$8,B482=Dimension!$A$9,B482=\"\"),\"\",Payment_ID2)","v":""},"",null,null,{"$f":"IF(D482=Dimension!$C$9,IF(LEFT(UPPER(E482),2)=\"MC\",TRUE,FALSE),TRUE)","v":true}]
[null,null,null,{"$f":"IF(B483=Dimension!$A$8,Dimension!$C$9,IF(B483=Dimension!$A$6,CD,\"\"))","v":""},null,{"$f":"IF(OR(B483=Dimension!$A$3,B483=Dimension!$A$4,B483=Dimension!$A$6,B483=Dimension!$A$8),CCYA,\"\")","v":""},{"$f":"IFERROR(VLOOKUP(F483,Dimension!$G$3:$H$252,2,FALSE),\"\")","v":""},{"$f":"IF(OR(B483=Dimension!$A$3,B483=Dimension!$A$4,B483=Dimension!$A$5),\"เดินทาง/ท่องเที่ยว\",\"\")","v":""},{"$f":"IF(OR(B483=Dimension!$A$6,B483=Dimension!$A$7,B483=Dimension!$A$8,B483=Dimension!$A$9),\"\",IF(OR(B483=Dimension!$A$3,B483=Dimension!$A$4,B483=Dimension!$A$5),\"สถานประกอบการ\",\"\"))","v":""},{"$f":"IF(OR(B483=Dimension!$A$3,B483=Dimension!$A$4,B483=Dimension!$A$5,B483=Dimension!$A$6,,B483=Dimension!$A$7,B483=Dimension!$A$8,B483=Dimension!$A$9),Payment_ID2,\"\")","v":""},null,{"$f":"IFERROR(VLOOKUP(K483,Dimension!$J$3:$K$179,2,FALSE),\"\")","v":""},null,null,{"$f":"IF(OR(B483=Dimension!$A$6,B483=Dimension!$A$7,B483=Dimension!$A$8,B483=Dimension!$A$9),\"\",IF(OR(B483=Dimension!$A$3,B483=Dimension!$A$4,B483=Dimension!$A$5),\"สถานประกอบการ\",\"\"))","v":""},{"$f":"IF(OR(B483=Dimension!$A$6,B483=Dimension!$A$7,B483=Dimension!$A$8,B483=Dimension!$A$9,B483=\"\"),\"\",Payment_ID2)","v":""},"",null,null,{"$f":"IF(D483=Dimension!$C$9,IF(LEFT(UPPER(E483),2)=\"MC\",TRUE,FALSE),TRUE)","v":true}]
[null,null,null,{"$f":"IF(B484=Dimension!$A$8,Dimension!$C$9,IF(B484=Dimension!$A$6,CD,\"\"))","v":""},null,{"$f":"IF(OR(B484=Dimension!$A$3,B484=Dimension!$A$4,B484=Dimension!$A$6,B484=Dimension!$A$8),CCYA,\"\")","v":""},{"$f":"IFERROR(VLOOKUP(F484,Dimension!$G$3:$H$252,2,FALSE),\"\")","v":""},{"$f":"IF(OR(B484=Dimension!$A$3,B484=Dimension!$A$4,B484=Dimension!$A$5),\"เดินทาง/ท่องเที่ยว\",\"\")","v":""},{"$f":"IF(OR(B484=Dimension!$A$6,B484=Dimension!$A$7,B484=Dimension!$A$8,B484=Dimension!$A$9),\"\",IF(OR(B484=Dimension!$A$3,B484=Dimension!$A$4,B484=Dimension!$A$5),\"สถานประกอบการ\",\"\"))","v":""},{"$f":"IF(OR(B484=Dimension!$A$3,B484=Dimension!$A$4,B484=Dimension!$A$5,B484=Dimension!$A$6,,B484=Dimension!$A$7,B484=Dimension!$A$8,B484=Dimension!$A$9),Payment_ID2,\"\")","v":""},null,{"$f":"IFERROR(VLOOKUP(K484,Dimension!$J$3:$K$179,2,FALSE),\"\")","v":""},null,null,{"$f":"IF(OR(B484=Dimension!$A$6,B484=Dimension!$A$7,B484=Dimension!$A$8,B484=Dimension!$A$9),\"\",IF(OR(B484=Dimension!$A$3,B484=Dimension!$A$4,B484=Dimension!$A$5),\"สถานประกอบการ\",\"\"))","v":""},{"$f":"IF(OR(B484=Dimension!$A$6,B484=Dimension!$A$7,B484=Dimension!$A$8,B484=Dimension!$A$9,B484=\"\"),\"\",Payment_ID2)","v":""},"",null,null,{"$f":"IF(D484=Dimension!$C$9,IF(LEFT(UPPER(E484),2)=\"MC\",TRUE,FALSE),TRUE)","v":true}]
[null,null,null,{"$f":"IF(B485=Dimension!$A$8,Dimension!$C$9,IF(B485=Dimension!$A$6,CD,\"\"))","v":""},null,{"$f":"IF(OR(B485=Dimension!$A$3,B485=Dimension!$A$4,B485=Dimension!$A$6,B485=Dimension!$A$8),CCYA,\"\")","v":""},{"$f":"IFERROR(VLOOKUP(F485,Dimension!$G$3:$H$252,2,FALSE),\"\")","v":""},{"$f":"IF(OR(B485=Dimension!$A$3,B485=Dimension!$A$4,B485=Dimension!$A$5),\"เดินทาง/ท่องเที่ยว\",\"\")","v":""},{"$f":"IF(OR(B485=Dimension!$A$6,B485=Dimension!$A$7,B485=Dimension!$A$8,B485=Dimension!$A$9),\"\",IF(OR(B485=Dimension!$A$3,B485=Dimension!$A$4,B485=Dimension!$A$5),\"สถานประกอบการ\",\"\"))","v":""},{"$f":"IF(OR(B485=Dimension!$A$3,B485=Dimension!$A$4,B485=Dimension!$A$5,B485=Dimension!$A$6,,B485=Dimension!$A$7,B485=Dimension!$A$8,B485=Dimension!$A$9),Payment_ID2,\"\")","v":""},null,{"$f":"IFERROR(VLOOKUP(K485,Dimension!$J$3:$K$179,2,FALSE),\"\")","v":""},null,null,{"$f":"IF(OR(B485=Dimension!$A$6,B485=Dimension!$A$7,B485=Dimension!$A$8,B485=Dimension!$A$9),\"\",IF(OR(B485=Dimension!$A$3,B485=Dimension!$A$4,B485=Dimension!$A$5),\"สถานประกอบการ\",\"\"))","v":""},{"$f":"IF(OR(B485=Dimension!$A$6,B485=Dimension!$A$7,B485=Dimension!$A$8,B485=Dimension!$A$9,B485=\"\"),\"\",Payment_ID2)","v":""},"",null,null,{"$f":"IF(D485=Dimension!$C$9,IF(LEFT(UPPER(E485),2)=\"MC\",TRUE,FALSE),TRUE)","v":true}]
[null,null,null,{"$f":"IF(B486=Dimension!$A$8,Dimension!$C$9,IF(B486=Dimension!$A$6,CD,\"\"))","v":""},null,{"$f":"IF(OR(B486=Dimension!$A$3,B486=Dimension!$A$4,B486=Dimension!$A$6,B486=Dimension!$A$8),CCYA,\"\")","v":""},{"$f":"IFERROR(VLOOKUP(F486,Dimension!$G$3:$H$252,2,FALSE),\"\")","v":""},{"$f":"IF(OR(B486=Dimension!$A$3,B486=Dimension!$A$4,B486=Dimension!$A$5),\"เดินทาง/ท่องเที่ยว\",\"\")","v":""},{"$f":"IF(OR(B486=Dimension!$A$6,B486=Dimension!$A$7,B486=Dimension!$A$8,B486=Dimension!$A$9),\"\",IF(OR(B486=Dimension!$A$3,B486=Dimension!$A$4,B486=Dimension!$A$5),\"สถานประกอบการ\",\"\"))","v":""},{"$f":"IF(OR(B486=Dimension!$A$3,B486=Dimension!$A$4,B486=Dimension!$A$5,B486=Dimension!$A$6,,B486=Dimension!$A$7,B486=Dimension!$A$8,B486=Dimension!$A$9),Payment_ID2,\"\")","v":""},null,{"$f":"IFERROR(VLOOKUP(K486,Dimension!$J$3:$K$179,2,FALSE),\"\")","v":""},null,null,{"$f":"IF(OR(B486=Dimension!$A$6,B486=Dimension!$A$7,B486=Dimension!$A$8,B486=Dimension!$A$9),\"\",IF(OR(B486=Dimension!$A$3,B486=Dimension!$A$4,B486=Dimension!$A$5),\"สถานประกอบการ\",\"\"))","v":""},{"$f":"IF(OR(B486=Dimension!$A$6,B486=Dimension!$A$7,B486=Dimension!$A$8,B486=Dimension!$A$9,B486=\"\"),\"\",Payment_ID2)","v":""},"",null,null,{"$f":"IF(D486=Dimension!$C$9,IF(LEFT(UPPER(E486),2)=\"MC\",TRUE,FALSE),TRUE)","v":true}]
[null,null,null,{"$f":"IF(B487=Dimension!$A$8,Dimension!$C$9,IF(B487=Dimension!$A$6,CD,\"\"))","v":""},null,{"$f":"IF(OR(B487=Dimension!$A$3,B487=Dimension!$A$4,B487=Dimension!$A$6,B487=Dimension!$A$8),CCYA,\"\")","v":""},{"$f":"IFERROR(VLOOKUP(F487,Dimension!$G$3:$H$252,2,FALSE),\"\")","v":""},{"$f":"IF(OR(B487=Dimension!$A$3,B487=Dimension!$A$4,B487=Dimension!$A$5),\"เดินทาง/ท่องเที่ยว\",\"\")","v":""},{"$f":"IF(OR(B487=Dimension!$A$6,B487=Dimension!$A$7,B487=Dimension!$A$8,B487=Dimension!$A$9),\"\",IF(OR(B487=Dimension!$A$3,B487=Dimension!$A$4,B487=Dimension!$A$5),\"สถานประกอบการ\",\"\"))","v":""},{"$f":"IF(OR(B487=Dimension!$A$3,B487=Dimension!$A$4,B487=Dimension!$A$5,B487=Dimension!$A$6,,B487=Dimension!$A$7,B487=Dimension!$A$8,B487=Dimension!$A$9),Payment_ID2,\"\")","v":""},null,{"$f":"IFERROR(VLOOKUP(K487,Dimension!$J$3:$K$179,2,FALSE),\"\")","v":""},null,null,{"$f":"IF(OR(B487=Dimension!$A$6,B487=Dimension!$A$7,B487=Dimension!$A$8,B487=Dimension!$A$9),\"\",IF(OR(B487=Dimension!$A$3,B487=Dimension!$A$4,B487=Dimension!$A$5),\"สถานประกอบการ\",\"\"))","v":""},{"$f":"IF(OR(B487=Dimension!$A$6,B487=Dimension!$A$7,B487=Dimension!$A$8,B487=Dimension!$A$9,B487=\"\"),\"\",Payment_ID2)","v":""},"",null,null,{"$f":"IF(D487=Dimension!$C$9,IF(LEFT(UPPER(E487),2)=\"MC\",TRUE,FALSE),TRUE)","v":true}]
[null,null,null,{"$f":"IF(B488=Dimension!$A$8,Dimension!$C$9,IF(B488=Dimension!$A$6,CD,\"\"))","v":""},null,{"$f":"IF(OR(B488=Dimension!$A$3,B488=Dimension!$A$4,B488=Dimension!$A$6,B488=Dimension!$A$8),CCYA,\"\")","v":""},{"$f":"IFERROR(VLOOKUP(F488,Dimension!$G$3:$H$252,2,FALSE),\"\")","v":""},{"$f":"IF(OR(B488=Dimension!$A$3,B488=Dimension!$A$4,B488=Dimension!$A$5),\"เดินทาง/ท่องเที่ยว\",\"\")","v":""},{"$f":"IF(OR(B488=Dimension!$A$6,B488=Dimension!$A$7,B488=Dimension!$A$8,B488=Dimension!$A$9),\"\",IF(OR(B488=Dimension!$A$3,B488=Dimension!$A$4,B488=Dimension!$A$5),\"สถานประกอบการ\",\"\"))","v":""},{"$f":"IF(OR(B488=Dimension!$A$3,B488=Dimension!$A$4,B488=Dimension!$A$5,B488=Dimension!$A$6,,B488=Dimension!$A$7,B488=Dimension!$A$8,B488=Dimension!$A$9),Payment_ID2,\"\")","v":""},null,{"$f":"IFERROR(VLOOKUP(K488,Dimension!$J$3:$K$179,2,FALSE),\"\")","v":""},null,null,{"$f":"IF(OR(B488=Dimension!$A$6,B488=Dimension!$A$7,B488=Dimension!$A$8,B488=Dimension!$A$9),\"\",IF(OR(B488=Dimension!$A$3,B488=Dimension!$A$4,B488=Dimension!$A$5),\"สถานประกอบการ\",\"\"))","v":""},{"$f":"IF(OR(B488=Dimension!$A$6,B488=Dimension!$A$7,B488=Dimension!$A$8,B488=Dimension!$A$9,B488=\"\"),\"\",Payment_ID2)","v":""},"",null,null,{"$f":"IF(D488=Dimension!$C$9,IF(LEFT(UPPER(E488),2)=\"MC\",TRUE,FALSE),TRUE)","v":true}]
[null,null,null,{"$f":"IF(B489=Dimension!$A$8,Dimension!$C$9,IF(B489=Dimension!$A$6,CD,\"\"))","v":""},null,{"$f":"IF(OR(B489=Dimension!$A$3,B489=Dimension!$A$4,B489=Dimension!$A$6,B489=Dimension!$A$8),CCYA,\"\")","v":""},{"$f":"IFERROR(VLOOKUP(F489,Dimension!$G$3:$H$252,2,FALSE),\"\")","v":""},{"$f":"IF(OR(B489=Dimension!$A$3,B489=Dimension!$A$4,B489=Dimension!$A$5),\"เดินทาง/ท่องเที่ยว\",\"\")","v":""},{"$f":"IF(OR(B489=Dimension!$A$6,B489=Dimension!$A$7,B489=Dimension!$A$8,B489=Dimension!$A$9),\"\",IF(OR(B489=Dimension!$A$3,B489=Dimension!$A$4,B489=Dimension!$A$5),\"สถานประกอบการ\",\"\"))","v":""},{"$f":"IF(OR(B489=Dimension!$A$3,B489=Dimension!$A$4,B489=Dimension!$A$5,B489=Dimension!$A$6,,B489=Dimension!$A$7,B489=Dimension!$A$8,B489=Dimension!$A$9),Payment_ID2,\"\")","v":""},null,{"$f":"IFERROR(VLOOKUP(K489,Dimension!$J$3:$K$179,2,FALSE),\"\")","v":""},null,null,{"$f":"IF(OR(B489=Dimension!$A$6,B489=Dimension!$A$7,B489=Dimension!$A$8,B489=Dimension!$A$9),\"\",IF(OR(B489=Dimension!$A$3,B489=Dimension!$A$4,B489=Dimension!$A$5),\"สถานประกอบการ\",\"\"))","v":""},{"$f":"IF(OR(B489=Dimension!$A$6,B489=Dimension!$A$7,B489=Dimension!$A$8,B489=Dimension!$A$9,B489=\"\"),\"\",Payment_ID2)","v":""},"",null,null,{"$f":"IF(D489=Dimension!$C$9,IF(LEFT(UPPER(E489),2)=\"MC\",TRUE,FALSE),TRUE)","v":true}]
[null,null,null,{"$f":"IF(B490=Dimension!$A$8,Dimension!$C$9,IF(B490=Dimension!$A$6,CD,\"\"))","v":""},null,{"$f":"IF(OR(B490=Dimension!$A$3,B490=Dimension!$A$4,B490=Dimension!$A$6,B490=Dimension!$A$8),CCYA,\"\")","v":""},{"$f":"IFERROR(VLOOKUP(F490,Dimension!$G$3:$H$252,2,FALSE),\"\")","v":""},{"$f":"IF(OR(B490=Dimension!$A$3,B490=Dimension!$A$4,B490=Dimension!$A$5),\"เดินทาง/ท่องเที่ยว\",\"\")","v":""},{"$f":"IF(OR(B490=Dimension!$A$6,B490=Dimension!$A$7,B490=Dimension!$A$8,B490=Dimension!$A$9),\"\",IF(OR(B490=Dimension!$A$3,B490=Dimension!$A$4,B490=Dimension!$A$5),\"สถานประกอบการ\",\"\"))","v":""},{"$f":"IF(OR(B490=Dimension!$A$3,B490=Dimension!$A$4,B490=Dimension!$A$5,B490=Dimension!$A$6,,B490=Dimension!$A$7,B490=Dimension!$A$8,B490=Dimension!$A$9),Payment_ID2,\"\")","v":""},null,{"$f":"IFERROR(VLOOKUP(K490,Dimension!$J$3:$K$179,2,FALSE),\"\")","v":""},null,null,{"$f":"IF(OR(B490=Dimension!$A$6,B490=Dimension!$A$7,B490=Dimension!$A$8,B490=Dimension!$A$9),\"\",IF(OR(B490=Dimension!$A$3,B490=Dimension!$A$4,B490=Dimension!$A$5),\"สถานประกอบการ\",\"\"))","v":""},{"$f":"IF(OR(B490=Dimension!$A$6,B490=Dimension!$A$7,B490=Dimension!$A$8,B490=Dimension!$A$9,B490=\"\"),\"\",Payment_ID2)","v":""},"",null,null,{"$f":"IF(D490=Dimension!$C$9,IF(LEFT(UPPER(E490),2)=\"MC\",TRUE,FALSE),TRUE)","v":true}]
[null,null,null,{"$f":"IF(B491=Dimension!$A$8,Dimension!$C$9,IF(B491=Dimension!$A$6,CD,\"\"))","v":""},null,{"$f":"IF(OR(B491=Dimension!$A$3,B491=Dimension!$A$4,B491=Dimension!$A$6,B491=Dimension!$A$8),CCYA,\"\")","v":""},{"$f":"IFERROR(VLOOKUP(F491,Dimension!$G$3:$H$252,2,FALSE),\"\")","v":""},{"$f":"IF(OR(B491=Dimension!$A$3,B491=Dimension!$A$4,B491=Dimension!$A$5),\"เดินทาง/ท่องเที่ยว\",\"\")","v":""},{"$f":"IF(OR(B491=Dimension!$A$6,B491=Dimension!$A$7,B491=Dimension!$A$8,B491=Dimension!$A$9),\"\",IF(OR(B491=Dimension!$A$3,B491=Dimension!$A$4,B491=Dimension!$A$5),\"สถานประกอบการ\",\"\"))","v":""},{"$f":"IF(OR(B491=Dimension!$A$3,B491=Dimension!$A$4,B491=Dimension!$A$5,B491=Dimension!$A$6,,B491=Dimension!$A$7,B491=Dimension!$A$8,B491=Dimension!$A$9),Payment_ID2,\"\")","v":""},null,{"$f":"IFERROR(VLOOKUP(K491,Dimension!$J$3:$K$179,2,FALSE),\"\")","v":""},null,null,{"$f":"IF(OR(B491=Dimension!$A$6,B491=Dimension!$A$7,B491=Dimension!$A$8,B491=Dimension!$A$9),\"\",IF(OR(B491=Dimension!$A$3,B491=Dimension!$A$4,B491=Dimension!$A$5),\"สถานประกอบการ\",\"\"))","v":""},{"$f":"IF(OR(B491=Dimension!$A$6,B491=Dimension!$A$7,B491=Dimension!$A$8,B491=Dimension!$A$9,B491=\"\"),\"\",Payment_ID2)","v":""},"",null,null,{"$f":"IF(D491=Dimension!$C$9,IF(LEFT(UPPER(E491),2)=\"MC\",TRUE,FALSE),TRUE)","v":true}]
[null,null,null,{"$f":"IF(B492=Dimension!$A$8,Dimension!$C$9,IF(B492=Dimension!$A$6,CD,\"\"))","v":""},null,{"$f":"IF(OR(B492=Dimension!$A$3,B492=Dimension!$A$4,B492=Dimension!$A$6,B492=Dimension!$A$8),CCYA,\"\")","v":""},{"$f":"IFERROR(VLOOKUP(F492,Dimension!$G$3:$H$252,2,FALSE),\"\")","v":""},{"$f":"IF(OR(B492=Dimension!$A$3,B492=Dimension!$A$4,B492=Dimension!$A$5),\"เดินทาง/ท่องเที่ยว\",\"\")","v":""},{"$f":"IF(OR(B492=Dimension!$A$6,B492=Dimension!$A$7,B492=Dimension!$A$8,B492=Dimension!$A$9),\"\",IF(OR(B492=Dimension!$A$3,B492=Dimension!$A$4,B492=Dimension!$A$5),\"สถานประกอบการ\",\"\"))","v":""},{"$f":"IF(OR(B492=Dimension!$A$3,B492=Dimension!$A$4,B492=Dimension!$A$5,B492=Dimension!$A$6,,B492=Dimension!$A$7,B492=Dimension!$A$8,B492=Dimension!$A$9),Payment_ID2,\"\")","v":""},null,{"$f":"IFERROR(VLOOKUP(K492,Dimension!$J$3:$K$179,2,FALSE),\"\")","v":""},null,null,{"$f":"IF(OR(B492=Dimension!$A$6,B492=Dimension!$A$7,B492=Dimension!$A$8,B492=Dimension!$A$9),\"\",IF(OR(B492=Dimension!$A$3,B492=Dimension!$A$4,B492=Dimension!$A$5),\"สถานประกอบการ\",\"\"))","v":""},{"$f":"IF(OR(B492=Dimension!$A$6,B492=Dimension!$A$7,B492=Dimension!$A$8,B492=Dimension!$A$9,B492=\"\"),\"\",Payment_ID2)","v":""},"",null,null,{"$f":"IF(D492=Dimension!$C$9,IF(LEFT(UPPER(E492),2)=\"MC\",TRUE,FALSE),TRUE)","v":true}]
[null,null,null,{"$f":"IF(B493=Dimension!$A$8,Dimension!$C$9,IF(B493=Dimension!$A$6,CD,\"\"))","v":""},null,{"$f":"IF(OR(B493=Dimension!$A$3,B493=Dimension!$A$4,B493=Dimension!$A$6,B493=Dimension!$A$8),CCYA,\"\")","v":""},{"$f":"IFERROR(VLOOKUP(F493,Dimension!$G$3:$H$252,2,FALSE),\"\")","v":""},{"$f":"IF(OR(B493=Dimension!$A$3,B493=Dimension!$A$4,B493=Dimension!$A$5),\"เดินทาง/ท่องเที่ยว\",\"\")","v":""},{"$f":"IF(OR(B493=Dimension!$A$6,B493=Dimension!$A$7,B493=Dimension!$A$8,B493=Dimension!$A$9),\"\",IF(OR(B493=Dimension!$A$3,B493=Dimension!$A$4,B493=Dimension!$A$5),\"สถานประกอบการ\",\"\"))","v":""},{"$f":"IF(OR(B493=Dimension!$A$3,B493=Dimension!$A$4,B493=Dimension!$A$5,B493=Dimension!$A$6,,B493=Dimension!$A$7,B493=Dimension!$A$8,B493=Dimension!$A$9),Payment_ID2,\"\")","v":""},null,{"$f":"IFERROR(VLOOKUP(K493,Dimension!$J$3:$K$179,2,FALSE),\"\")","v":""},null,null,{"$f":"IF(OR(B493=Dimension!$A$6,B493=Dimension!$A$7,B493=Dimension!$A$8,B493=Dimension!$A$9),\"\",IF(OR(B493=Dimension!$A$3,B493=Dimension!$A$4,B493=Dimension!$A$5),\"สถานประกอบการ\",\"\"))","v":""},{"$f":"IF(OR(B493=Dimension!$A$6,B493=Dimension!$A$7,B493=Dimension!$A$8,B493=Dimension!$A$9,B493=\"\"),\"\",Payment_ID2)","v":""},"",null,null,{"$f":"IF(D493=Dimension!$C$9,IF(LEFT(UPPER(E493),2)=\"MC\",TRUE,FALSE),TRUE)","v":true}]
[null,null,null,{"$f":"IF(B494=Dimension!$A$8,Dimension!$C$9,IF(B494=Dimension!$A$6,CD,\"\"))","v":""},null,{"$f":"IF(OR(B494=Dimension!$A$3,B494=Dimension!$A$4,B494=Dimension!$A$6,B494=Dimension!$A$8),CCYA,\"\")","v":""},{"$f":"IFERROR(VLOOKUP(F494,Dimension!$G$3:$H$252,2,FALSE),\"\")","v":""},{"$f":"IF(OR(B494=Dimension!$A$3,B494=Dimension!$A$4,B494=Dimension!$A$5),\"เดินทาง/ท่องเที่ยว\",\"\")","v":""},{"$f":"IF(OR(B494=Dimension!$A$6,B494=Dimension!$A$7,B494=Dimension!$A$8,B494=Dimension!$A$9),\"\",IF(OR(B494=Dimension!$A$3,B494=Dimension!$A$4,B494=Dimension!$A$5),\"สถานประกอบการ\",\"\"))","v":""},{"$f":"IF(OR(B494=Dimension!$A$3,B494=Dimension!$A$4,B494=Dimension!$A$5,B494=Dimension!$A$6,,B494=Dimension!$A$7,B494=Dimension!$A$8,B494=Dimension!$A$9),Payment_ID2,\"\")","v":""},null,{"$f":"IFERROR(VLOOKUP(K494,Dimension!$J$3:$K$179,2,FALSE),\"\")","v":""},null,null,{"$f":"IF(OR(B494=Dimension!$A$6,B494=Dimension!$A$7,B494=Dimension!$A$8,B494=Dimension!$A$9),\"\",IF(OR(B494=Dimension!$A$3,B494=Dimension!$A$4,B494=Dimension!$A$5),\"สถานประกอบการ\",\"\"))","v":""},{"$f":"IF(OR(B494=Dimension!$A$6,B494=Dimension!$A$7,B494=Dimension!$A$8,B494=Dimension!$A$9,B494=\"\"),\"\",Payment_ID2)","v":""},"",null,null,{"$f":"IF(D494=Dimension!$C$9,IF(LEFT(UPPER(E494),2)=\"MC\",TRUE,FALSE),TRUE)","v":true}]
[null,null,null,{"$f":"IF(B495=Dimension!$A$8,Dimension!$C$9,IF(B495=Dimension!$A$6,CD,\"\"))","v":""},null,{"$f":"IF(OR(B495=Dimension!$A$3,B495=Dimension!$A$4,B495=Dimension!$A$6,B495=Dimension!$A$8),CCYA,\"\")","v":""},{"$f":"IFERROR(VLOOKUP(F495,Dimension!$G$3:$H$252,2,FALSE),\"\")","v":""},{"$f":"IF(OR(B495=Dimension!$A$3,B495=Dimension!$A$4,B495=Dimension!$A$5),\"เดินทาง/ท่องเที่ยว\",\"\")","v":""},{"$f":"IF(OR(B495=Dimension!$A$6,B495=Dimension!$A$7,B495=Dimension!$A$8,B495=Dimension!$A$9),\"\",IF(OR(B495=Dimension!$A$3,B495=Dimension!$A$4,B495=Dimension!$A$5),\"สถานประกอบการ\",\"\"))","v":""},{"$f":"IF(OR(B495=Dimension!$A$3,B495=Dimension!$A$4,B495=Dimension!$A$5,B495=Dimension!$A$6,,B495=Dimension!$A$7,B495=Dimension!$A$8,B495=Dimension!$A$9),Payment_ID2,\"\")","v":""},null,{"$f":"IFERROR(VLOOKUP(K495,Dimension!$J$3:$K$179,2,FALSE),\"\")","v":""},null,null,{"$f":"IF(OR(B495=Dimension!$A$6,B495=Dimension!$A$7,B495=Dimension!$A$8,B495=Dimension!$A$9),\"\",IF(OR(B495=Dimension!$A$3,B495=Dimension!$A$4,B495=Dimension!$A$5),\"สถานประกอบการ\",\"\"))","v":""},{"$f":"IF(OR(B495=Dimension!$A$6,B495=Dimension!$A$7,B495=Dimension!$A$8,B495=Dimension!$A$9,B495=\"\"),\"\",Payment_ID2)","v":""},"",null,null,{"$f":"IF(D495=Dimension!$C$9,IF(LEFT(UPPER(E495),2)=\"MC\",TRUE,FALSE),TRUE)","v":true}]
[null,null,null,{"$f":"IF(B496=Dimension!$A$8,Dimension!$C$9,IF(B496=Dimension!$A$6,CD,\"\"))","v":""},null,{"$f":"IF(OR(B496=Dimension!$A$3,B496=Dimension!$A$4,B496=Dimension!$A$6,B496=Dimension!$A$8),CCYA,\"\")","v":""},{"$f":"IFERROR(VLOOKUP(F496,Dimension!$G$3:$H$252,2,FALSE),\"\")","v":""},{"$f":"IF(OR(B496=Dimension!$A$3,B496=Dimension!$A$4,B496=Dimension!$A$5),\"เดินทาง/ท่องเที่ยว\",\"\")","v":""},{"$f":"IF(OR(B496=Dimension!$A$6,B496=Dimension!$A$7,B496=Dimension!$A$8,B496=Dimension!$A$9),\"\",IF(OR(B496=Dimension!$A$3,B496=Dimension!$A$4,B496=Dimension!$A$5),\"สถานประกอบการ\",\"\"))","v":""},{"$f":"IF(OR(B496=Dimension!$A$3,B496=Dimension!$A$4,B496=Dimension!$A$5,B496=Dimension!$A$6,,B496=Dimension!$A$7,B496=Dimension!$A$8,B496=Dimension!$A$9),Payment_ID2,\"\")","v":""},null,{"$f":"IFERROR(VLOOKUP(K496,Dimension!$J$3:$K$179,2,FALSE),\"\")","v":""},null,null,{"$f":"IF(OR(B496=Dimension!$A$6,B496=Dimension!$A$7,B496=Dimension!$A$8,B496=Dimension!$A$9),\"\",IF(OR(B496=Dimension!$A$3,B496=Dimension!$A$4,B496=Dimension!$A$5),\"สถานประกอบการ\",\"\"))","v":""},{"$f":"IF(OR(B496=Dimension!$A$6,B496=Dimension!$A$7,B496=Dimension!$A$8,B496=Dimension!$A$9,B496=\"\"),\"\",Payment_ID2)","v":""},"",null,null,{"$f":"IF(D496=Dimension!$C$9,IF(LEFT(UPPER(E496),2)=\"MC\",TRUE,FALSE),TRUE)","v":true}]
[null,null,null,{"$f":"IF(B497=Dimension!$A$8,Dimension!$C$9,IF(B497=Dimension!$A$6,CD,\"\"))","v":""},null,{"$f":"IF(OR(B497=Dimension!$A$3,B497=Dimension!$A$4,B497=Dimension!$A$6,B497=Dimension!$A$8),CCYA,\"\")","v":""},{"$f":"IFERROR(VLOOKUP(F497,Dimension!$G$3:$H$252,2,FALSE),\"\")","v":""},{"$f":"IF(OR(B497=Dimension!$A$3,B497=Dimension!$A$4,B497=Dimension!$A$5),\"เดินทาง/ท่องเที่ยว\",\"\")","v":""},{"$f":"IF(OR(B497=Dimension!$A$6,B497=Dimension!$A$7,B497=Dimension!$A$8,B497=Dimension!$A$9),\"\",IF(OR(B497=Dimension!$A$3,B497=Dimension!$A$4,B497=Dimension!$A$5),\"สถานประกอบการ\",\"\"))","v":""},{"$f":"IF(OR(B497=Dimension!$A$3,B497=Dimension!$A$4,B497=Dimension!$A$5,B497=Dimension!$A$6,,B497=Dimension!$A$7,B497=Dimension!$A$8,B497=Dimension!$A$9),Payment_ID2,\"\")","v":""},null,{"$f":"IFERROR(VLOOKUP(K497,Dimension!$J$3:$K$179,2,FALSE),\"\")","v":""},null,null,{"$f":"IF(OR(B497=Dimension!$A$6,B497=Dimension!$A$7,B497=Dimension!$A$8,B497=Dimension!$A$9),\"\",IF(OR(B497=Dimension!$A$3,B497=Dimension!$A$4,B497=Dimension!$A$5),\"สถานประกอบการ\",\"\"))","v":""},{"$f":"IF(OR(B497=Dimension!$A$6,B497=Dimension!$A$7,B497=Dimension!$A$8,B497=Dimension!$A$9,B497=\"\"),\"\",Payment_ID2)","v":""},"",null,null,{"$f":"IF(D497=Dimension!$C$9,IF(LEFT(UPPER(E497),2)=\"MC\",TRUE,FALSE),TRUE)","v":true}]
[null,null,null,{"$f":"IF(B498=Dimension!$A$8,Dimension!$C$9,IF(B498=Dimension!$A$6,CD,\"\"))","v":""},null,{"$f":"IF(OR(B498=Dimension!$A$3,B498=Dimension!$A$4,B498=Dimension!$A$6,B498=Dimension!$A$8),CCYA,\"\")","v":""},{"$f":"IFERROR(VLOOKUP(F498,Dimension!$G$3:$H$252,2,FALSE),\"\")","v":""},{"$f":"IF(OR(B498=Dimension!$A$3,B498=Dimension!$A$4,B498=Dimension!$A$5),\"เดินทาง/ท่องเที่ยว\",\"\")","v":""},{"$f":"IF(OR(B498=Dimension!$A$6,B498=Dimension!$A$7,B498=Dimension!$A$8,B498=Dimension!$A$9),\"\",IF(OR(B498=Dimension!$A$3,B498=Dimension!$A$4,B498=Dimension!$A$5),\"สถานประกอบการ\",\"\"))","v":""},{"$f":"IF(OR(B498=Dimension!$A$3,B498=Dimension!$A$4,B498=Dimension!$A$5,B498=Dimension!$A$6,,B498=Dimension!$A$7,B498=Dimension!$A$8,B498=Dimension!$A$9),Payment_ID2,\"\")","v":""},null,{"$f":"IFERROR(VLOOKUP(K498,Dimension!$J$3:$K$179,2,FALSE),\"\")","v":""},null,null,{"$f":"IF(OR(B498=Dimension!$A$6,B498=Dimension!$A$7,B498=Dimension!$A$8,B498=Dimension!$A$9),\"\",IF(OR(B498=Dimension!$A$3,B498=Dimension!$A$4,B498=Dimension!$A$5),\"สถานประกอบการ\",\"\"))","v":""},{"$f":"IF(OR(B498=Dimension!$A$6,B498=Dimension!$A$7,B498=Dimension!$A$8,B498=Dimension!$A$9,B498=\"\"),\"\",Payment_ID2)","v":""},"",null,null,{"$f":"IF(D498=Dimension!$C$9,IF(LEFT(UPPER(E498),2)=\"MC\",TRUE,FALSE),TRUE)","v":true}]
[null,null,null,{"$f":"IF(B499=Dimension!$A$8,Dimension!$C$9,IF(B499=Dimension!$A$6,CD,\"\"))","v":""},null,{"$f":"IF(OR(B499=Dimension!$A$3,B499=Dimension!$A$4,B499=Dimension!$A$6,B499=Dimension!$A$8),CCYA,\"\")","v":""},{"$f":"IFERROR(VLOOKUP(F499,Dimension!$G$3:$H$252,2,FALSE),\"\")","v":""},{"$f":"IF(OR(B499=Dimension!$A$3,B499=Dimension!$A$4,B499=Dimension!$A$5),\"เดินทาง/ท่องเที่ยว\",\"\")","v":""},{"$f":"IF(OR(B499=Dimension!$A$6,B499=Dimension!$A$7,B499=Dimension!$A$8,B499=Dimension!$A$9),\"\",IF(OR(B499=Dimension!$A$3,B499=Dimension!$A$4,B499=Dimension!$A$5),\"สถานประกอบการ\",\"\"))","v":""},{"$f":"IF(OR(B499=Dimension!$A$3,B499=Dimension!$A$4,B499=Dimension!$A$5,B499=Dimension!$A$6,,B499=Dimension!$A$7,B499=Dimension!$A$8,B499=Dimension!$A$9),Payment_ID2,\"\")","v":""},null,{"$f":"IFERROR(VLOOKUP(K499,Dimension!$J$3:$K$179,2,FALSE),\"\")","v":""},null,null,{"$f":"IF(OR(B499=Dimension!$A$6,B499=Dimension!$A$7,B499=Dimension!$A$8,B499=Dimension!$A$9),\"\",IF(OR(B499=Dimension!$A$3,B499=Dimension!$A$4,B499=Dimension!$A$5),\"สถานประกอบการ\",\"\"))","v":""},{"$f":"IF(OR(B499=Dimension!$A$6,B499=Dimension!$A$7,B499=Dimension!$A$8,B499=Dimension!$A$9,B499=\"\"),\"\",Payment_ID2)","v":""},"",null,null,{"$f":"IF(D499=Dimension!$C$9,IF(LEFT(UPPER(E499),2)=\"MC\",TRUE,FALSE),TRUE)","v":true}]
[null,null,null,{"$f":"IF(B500=Dimension!$A$8,Dimension!$C$9,IF(B500=Dimension!$A$6,CD,\"\"))","v":""},null,{"$f":"IF(OR(B500=Dimension!$A$3,B500=Dimension!$A$4,B500=Dimension!$A$6,B500=Dimension!$A$8),CCYA,\"\")","v":""},{"$f":"IFERROR(VLOOKUP(F500,Dimension!$G$3:$H$252,2,FALSE),\"\")","v":""},{"$f":"IF(OR(B500=Dimension!$A$3,B500=Dimension!$A$4,B500=Dimension!$A$5),\"เดินทาง/ท่องเที่ยว\",\"\")","v":""},{"$f":"IF(OR(B500=Dimension!$A$6,B500=Dimension!$A$7,B500=Dimension!$A$8,B500=Dimension!$A$9),\"\",IF(OR(B500=Dimension!$A$3,B500=Dimension!$A$4,B500=Dimension!$A$5),\"สถานประกอบการ\",\"\"))","v":""},{"$f":"IF(OR(B500=Dimension!$A$3,B500=Dimension!$A$4,B500=Dimension!$A$5,B500=Dimension!$A$6,,B500=Dimension!$A$7,B500=Dimension!$A$8,B500=Dimension!$A$9),Payment_ID2,\"\")","v":""},null,{"$f":"IFERROR(VLOOKUP(K500,Dimension!$J$3:$K$179,2,FALSE),\"\")","v":""},null,null,{"$f":"IF(OR(B500=Dimension!$A$6,B500=Dimension!$A$7,B500=Dimension!$A$8,B500=Dimension!$A$9),\"\",IF(OR(B500=Dimension!$A$3,B500=Dimension!$A$4,B500=Dimension!$A$5),\"สถานประกอบการ\",\"\"))","v":""},{"$f":"IF(OR(B500=Dimension!$A$6,B500=Dimension!$A$7,B500=Dimension!$A$8,B500=Dimension!$A$9,B500=\"\"),\"\",Payment_ID2)","v":""},"",null,null,{"$f":"IF(D500=Dimension!$C$9,IF(LEFT(UPPER(E500),2)=\"MC\",TRUE,FALSE),TRUE)","v":true}]

{"sheet":"FCD","index":4,"n_rows":500,"n_cols":13,"rows_kept":500,"cut":false,"hidden":true,"merged":[[0,0,0,6],[6,1,6,2],[6,4,6,5]]}
["รายงานการเปิดบัญชีเงินฝากเงินตราต่างประเทศของบุคคลรับอนุญาต "]
["รหัสสถาบันผู้ส่งข้อมูล :",{"$f":"'Provider Info'!B2","v":0},"วันที่ชุดข้อมูล :",{"$f":"'Provider Info'!B9","v":"2020-03-31"}]
["ชื่อบุคคลรับอนุญาต :",{"$f":"'Provider Info'!B3","v":0},"ชื่อสถานประกอบการ หรือ ชื่อสาขา :",{"$f":"'Provider Info'!B5","v":0}]
["License No :",{"$f":"'Provider Info'!B4","v":0},"เลขที่ หรือรหัสพื้นที่ของสถานประกอบการ :",{"$f":"'Provider Info'!B6","v":0}]
["ประจำงวด (เดือน) :",{"$f":"VLOOKUP('Provider Info'!B7,Dimension!S3:T14,2,FALSE)","v":3},"ประจำงวด (ปี) :",{"$f":"'Provider Info'!B8","v":2020}]
[]
["วันที่เปิดบัญชี","ธนาคาร",null,"เลขที่บัญชี","รหัสสกุลเงิน",null,"หมายเหตุ",null,null,null,null,null,"วันที่"]
[null,null,{"$f":"IFERROR(VLOOKUP(B8,Dimension!$N$3:$P$89,3,FALSE),\"\")","v":""},null,null,{"$f":"IFERROR(VLOOKUP(E8,Dimension!$J$3:$K$179,2,FALSE),\"\")","v":""},null,null,null,null,null,null,{"$f":"IF(OR(B5=1,B5=3,B5=5,B5=7,B5=8,B5=10,B5=12),31,IF(OR(B5=4,B5=6,B5=9,B5=11),30,IF(MOD(E5,4)=0,29,28)))","v":31}]
[null,null,{"$f":"IFERROR(VLOOKUP(B9,Dimension!$N$3:$P$89,3,FALSE),\"\")","v":""},null,null,{"$f":"IFERROR(VLOOKUP(E9,Dimension!$J$3:$K$179,2,FALSE),\"\")","v":""}]
[null,null,{"$f":"IFERROR(VLOOKUP(B10,Dimension!$N$3:$P$89,3,FALSE),\"\")","v":""},null,null,{"$f":"IFERROR(VLOOKUP(E10,Dimension!$J$3:$K$179,2,FALSE),\"\")","v":""}]
[null,null,{"$f":"IFERROR(VLOOKUP(B11,Dimension!$N$3:$P$89,3,FALSE),\"\")","v":""},null,null,{"$f":"IFERROR(VLOOKUP(E11,Dimension!$J$3:$K$179,2,FALSE),\"\")","v":""}]
[null,null,{"$f":"IFERROR(VLOOKUP(B12,Dimension!$N$3:$P$89,3,FALSE),\"\")","v":""},null,null,{"$f":"IFERROR(VLOOKUP(E12,Dimension!$J$3:$K$179,2,FALSE),\"\")","v":""}]
[null,null,{"$f":"IFERROR(VLOOKUP(B13,Dimension!$N$3:$P$89,3,FALSE),\"\")","v":""},null,null,{"$f":"IFERROR(VLOOKUP(E13,Dimension!$J$3:$K$179,2,FALSE),\"\")","v":""}]
[null,null,{"$f":"IFERROR(VLOOKUP(B14,Dimension!$N$3:$P$89,3,FALSE),\"\")","v":""},null,null,{"$f":"IFERROR(VLOOKUP(E14,Dimension!$J$3:$K$179,2,FALSE),\"\")","v":""}]
[null,null,{"$f":"IFERROR(VLOOKUP(B15,Dimension!$N$3:$P$89,3,FALSE),\"\")","v":""},null,null,{"$f":"IFERROR(VLOOKUP(E15,Dimension!$J$3:$K$179,2,FALSE),\"\")","v":""}]
[null,null,{"$f":"IFERROR(VLOOKUP(B16,Dimension!$N$3:$P$89,3,FALSE),\"\")","v":""},null,null,{"$f":"IFERROR(VLOOKUP(E16,Dimension!$J$3:$K$179,2,FALSE),\"\")","v":""}]
[null,null,{"$f":"IFERROR(VLOOKUP(B17,Dimension!$N$3:$P$89,3,FALSE),\"\")","v":""},null,null,{"$f":"IFERROR(VLOOKUP(E17,Dimension!$J$3:$K$179,2,FALSE),\"\")","v":""}]
[null,null,{"$f":"IFERROR(VLOOKUP(B18,Dimension!$N$3:$P$89,3,FALSE),\"\")","v":""},null,null,{"$f":"IFERROR(VLOOKUP(E18,Dimension!$J$3:$K$179,2,FALSE),\"\")","v":""}]
[null,null,{"$f":"IFERROR(VLOOKUP(B19,Dimension!$N$3:$P$89,3,FALSE),\"\")","v":""},null,null,{"$f":"IFERROR(VLOOKUP(E19,Dimension!$J$3:$K$179,2,FALSE),\"\")","v":""}]
[null,null,{"$f":"IFERROR(VLOOKUP(B20,Dimension!$N$3:$P$89,3,FALSE),\"\")","v":""},null,null,{"$f":"IFERROR(VLOOKUP(E20,Dimension!$J$3:$K$179,2,FALSE),\"\")","v":""}]
[null,null,{"$f":"IFERROR(VLOOKUP(B21,Dimension!$N$3:$P$89,3,FALSE),\"\")","v":""},null,null,{"$f":"IFERROR(VLOOKUP(E21,Dimension!$J$3:$K$179,2,FALSE),\"\")","v":""}]
[null,null,{"$f":"IFERROR(VLOOKUP(B22,Dimension!$N$3:$P$89,3,FALSE),\"\")","v":""},null,null,{"$f":"IFERROR(VLOOKUP(E22,Dimension!$J$3:$K$179,2,FALSE),\"\")","v":""}]
[null,null,{"$f":"IFERROR(VLOOKUP(B23,Dimension!$N$3:$P$89,3,FALSE),\"\")","v":""},null,null,{"$f":"IFERROR(VLOOKUP(E23,Dimension!$J$3:$K$179,2,FALSE),\"\")","v":""}]
[null,null,{"$f":"IFERROR(VLOOKUP(B24,Dimension!$N$3:$P$89,3,FALSE),\"\")","v":""},null,null,{"$f":"IFERROR(VLOOKUP(E24,Dimension!$J$3:$K$179,2,FALSE),\"\")","v":""}]
[null,null,{"$f":"IFERROR(VLOOKUP(B25,Dimension!$N$3:$P$89,3,FALSE),\"\")","v":""},null,null,{"$f":"IFERROR(VLOOKUP(E25,Dimension!$J$3:$K$179,2,FALSE),\"\")","v":""}]
[null,null,{"$f":"IFERROR(VLOOKUP(B26,Dimension!$N$3:$P$89,3,FALSE),\"\")","v":""},null,null,{"$f":"IFERROR(VLOOKUP(E26,Dimension!$J$3:$K$179,2,FALSE),\"\")","v":""}]
[null,null,{"$f":"IFERROR(VLOOKUP(B27,Dimension!$N$3:$P$89,3,FALSE),\"\")","v":""},null,null,{"$f":"IFERROR(VLOOKUP(E27,Dimension!$J$3:$K$179,2,FALSE),\"\")","v":""}]
[null,null,{"$f":"IFERROR(VLOOKUP(B28,Dimension!$N$3:$P$89,3,FALSE),\"\")","v":""},null,null,{"$f":"IFERROR(VLOOKUP(E28,Dimension!$J$3:$K$179,2,FALSE),\"\")","v":""}]
[null,null,{"$f":"IFERROR(VLOOKUP(B29,Dimension!$N$3:$P$89,3,FALSE),\"\")","v":""},null,null,{"$f":"IFERROR(VLOOKUP(E29,Dimension!$J$3:$K$179,2,FALSE),\"\")","v":""}]
[null,null,{"$f":"IFERROR(VLOOKUP(B30,Dimension!$N$3:$P$89,3,FALSE),\"\")","v":""},null,null,{"$f":"IFERROR(VLOOKUP(E30,Dimension!$J$3:$K$179,2,FALSE),\"\")","v":""}]
[null,null,{"$f":"IFERROR(VLOOKUP(B31,Dimension!$N$3:$P$89,3,FALSE),\"\")","v":""},null,null,{"$f":"IFERROR(VLOOKUP(E31,Dimension!$J$3:$K$179,2,FALSE),\"\")","v":""}]
[null,null,{"$f":"IFERROR(VLOOKUP(B32,Dimension!$N$3:$P$89,3,FALSE),\"\")","v":""},null,null,{"$f":"IFERROR(VLOOKUP(E32,Dimension!$J$3:$K$179,2,FALSE),\"\")","v":""}]
[null,null,{"$f":"IFERROR(VLOOKUP(B33,Dimension!$N$3:$P$89,3,FALSE),\"\")","v":""},null,null,{"$f":"IFERROR(VLOOKUP(E33,Dimension!$J$3:$K$179,2,FALSE),\"\")","v":""}]
[null,null,{"$f":"IFERROR(VLOOKUP(B34,Dimension!$N$3:$P$89,3,FALSE),\"\")","v":""},null,null,{"$f":"IFERROR(VLOOKUP(E34,Dimension!$J$3:$K$179,2,FALSE),\"\")","v":""}]
[null,null,{"$f":"IFERROR(VLOOKUP(B35,Dimension!$N$3:$P$89,3,FALSE),\"\")","v":""},null,null,{"$f":"IFERROR(VLOOKUP(E35,Dimension!$J$3:$K$179,2,FALSE),\"\")","v":""}]
[null,null,{"$f":"IFERROR(VLOOKUP(B36,Dimension!$N$3:$P$89,3,FALSE),\"\")","v":""},null,null,{"$f":"IFERROR(VLOOKUP(E36,Dimension!$J$3:$K$179,2,FALSE),\"\")","v":""}]
[null,null,{"$f":"IFERROR(VLOOKUP(B37,Dimension!$N$3:$P$89,3,FALSE),\"\")","v":""},null,null,{"$f":"IFERROR(VLOOKUP(E37,Dimension!$J$3:$K$179,2,FALSE),\"\")","v":""}]
[null,null,{"$f":"IFERROR(VLOOKUP(B38,Dimension!$N$3:$P$89,3,FALSE),\"\")","v":""},null,null,{"$f":"IFERROR(VLOOKUP(E38,Dimension!$J$3:$K$179,2,FALSE),\"\")","v":""}]
[null,null,{"$f":"IFERROR(VLOOKUP(B39,Dimension!$N$3:$P$89,3,FALSE),\"\")","v":""},null,null,{"$f":"IFERROR(VLOOKUP(E39,Dimension!$J$3:$K$179,2,FALSE),\"\")","v":""}]
[null,null,{"$f":"IFERROR(VLOOKUP(B40,Dimension!$N$3:$P$89,3,FALSE),\"\")","v":""},null,null,{"$f":"IFERROR(VLOOKUP(E40,Dimension!$J$3:$K$179,2,FALSE),\"\")","v":""}]
[null,null,{"$f":"IFERROR(VLOOKUP(B41,Dimension!$N$3:$P$89,3,FALSE),\"\")","v":""},null,null,{"$f":"IFERROR(VLOOKUP(E41,Dimension!$J$3:$K$179,2,FALSE),\"\")","v":""}]
[null,null,{"$f":"IFERROR(VLOOKUP(B42,Dimension!$N$3:$P$89,3,FALSE),\"\")","v":""},null,null,{"$f":"IFERROR(VLOOKUP(E42,Dimension!$J$3:$K$179,2,FALSE),\"\")","v":""}]
[null,null,{"$f":"IFERROR(VLOOKUP(B43,Dimension!$N$3:$P$89,3,FALSE),\"\")","v":""},null,null,{"$f":"IFERROR(VLOOKUP(E43,Dimension!$J$3:$K$179,2,FALSE),\"\")","v":""}]
[null,null,{"$f":"IFERROR(VLOOKUP(B44,Dimension!$N$3:$P$89,3,FALSE),\"\")","v":""},null,null,{"$f":"IFERROR(VLOOKUP(E44,Dimension!$J$3:$K$179,2,FALSE),\"\")","v":""}]
[null,null,{"$f":"IFERROR(VLOOKUP(B45,Dimension!$N$3:$P$89,3,FALSE),\"\")","v":""},null,null,{"$f":"IFERROR(VLOOKUP(E45,Dimension!$J$3:$K$179,2,FALSE),\"\")","v":""}]
[null,null,{"$f":"IFERROR(VLOOKUP(B46,Dimension!$N$3:$P$89,3,FALSE),\"\")","v":""},null,null,{"$f":"IFERROR(VLOOKUP(E46,Dimension!$J$3:$K$179,2,FALSE),\"\")","v":""}]
[null,null,{"$f":"IFERROR(VLOOKUP(B47,Dimension!$N$3:$P$89,3,FALSE),\"\")","v":""},null,null,{"$f":"IFERROR(VLOOKUP(E47,Dimension!$J$3:$K$179,2,FALSE),\"\")","v":""}]
[null,null,{"$f":"IFERROR(VLOOKUP(B48,Dimension!$N$3:$P$89,3,FALSE),\"\")","v":""},null,null,{"$f":"IFERROR(VLOOKUP(E48,Dimension!$J$3:$K$179,2,FALSE),\"\")","v":""}]
[null,null,{"$f":"IFERROR(VLOOKUP(B49,Dimension!$N$3:$P$89,3,FALSE),\"\")","v":""},null,null,{"$f":"IFERROR(VLOOKUP(E49,Dimension!$J$3:$K$179,2,FALSE),\"\")","v":""}]
[null,null,{"$f":"IFERROR(VLOOKUP(B50,Dimension!$N$3:$P$89,3,FALSE),\"\")","v":""},null,null,{"$f":"IFERROR(VLOOKUP(E50,Dimension!$J$3:$K$179,2,FALSE),\"\")","v":""}]
[null,null,{"$f":"IFERROR(VLOOKUP(B51,Dimension!$N$3:$P$89,3,FALSE),\"\")","v":""},null,null,{"$f":"IFERROR(VLOOKUP(E51,Dimension!$J$3:$K$179,2,FALSE),\"\")","v":""}]
[null,null,{"$f":"IFERROR(VLOOKUP(B52,Dimension!$N$3:$P$89,3,FALSE),\"\")","v":""},null,null,{"$f":"IFERROR(VLOOKUP(E52,Dimension!$J$3:$K$179,2,FALSE),\"\")","v":""}]
[null,null,{"$f":"IFERROR(VLOOKUP(B53,Dimension!$N$3:$P$89,3,FALSE),\"\")","v":""},null,null,{"$f":"IFERROR(VLOOKUP(E53,Dimension!$J$3:$K$179,2,FALSE),\"\")","v":""}]
[null,null,{"$f":"IFERROR(VLOOKUP(B54,Dimension!$N$3:$P$89,3,FALSE),\"\")","v":""},null,null,{"$f":"IFERROR(VLOOKUP(E54,Dimension!$J$3:$K$179,2,FALSE),\"\")","v":""}]
[null,null,{"$f":"IFERROR(VLOOKUP(B55,Dimension!$N$3:$P$89,3,FALSE),\"\")","v":""},null,null,{"$f":"IFERROR(VLOOKUP(E55,Dimension!$J$3:$K$179,2,FALSE),\"\")","v":""}]
[null,null,{"$f":"IFERROR(VLOOKUP(B56,Dimension!$N$3:$P$89,3,FALSE),\"\")","v":""},null,null,{"$f":"IFERROR(VLOOKUP(E56,Dimension!$J$3:$K$179,2,FALSE),\"\")","v":""}]
[null,null,{"$f":"IFERROR(VLOOKUP(B57,Dimension!$N$3:$P$89,3,FALSE),\"\")","v":""},null,null,{"$f":"IFERROR(VLOOKUP(E57,Dimension!$J$3:$K$179,2,FALSE),\"\")","v":""}]
[null,null,{"$f":"IFERROR(VLOOKUP(B58,Dimension!$N$3:$P$89,3,FALSE),\"\")","v":""},null,null,{"$f":"IFERROR(VLOOKUP(E58,Dimension!$J$3:$K$179,2,FALSE),\"\")","v":""}]
[null,null,{"$f":"IFERROR(VLOOKUP(B59,Dimension!$N$3:$P$89,3,FALSE),\"\")","v":""},null,null,{"$f":"IFERROR(VLOOKUP(E59,Dimension!$J$3:$K$179,2,FALSE),\"\")","v":""}]
[null,null,{"$f":"IFERROR(VLOOKUP(B60,Dimension!$N$3:$P$89,3,FALSE),\"\")","v":""},null,null,{"$f":"IFERROR(VLOOKUP(E60,Dimension!$J$3:$K$179,2,FALSE),\"\")","v":""}]
[null,null,{"$f":"IFERROR(VLOOKUP(B61,Dimension!$N$3:$P$89,3,FALSE),\"\")","v":""},null,null,{"$f":"IFERROR(VLOOKUP(E61,Dimension!$J$3:$K$179,2,FALSE),\"\")","v":""}]
[null,null,{"$f":"IFERROR(VLOOKUP(B62,Dimension!$N$3:$P$89,3,FALSE),\"\")","v":""},null,null,{"$f":"IFERROR(VLOOKUP(E62,Dimension!$J$3:$K$179,2,FALSE),\"\")","v":""}]
[null,null,{"$f":"IFERROR(VLOOKUP(B63,Dimension!$N$3:$P$89,3,FALSE),\"\")","v":""},null,null,{"$f":"IFERROR(VLOOKUP(E63,Dimension!$J$3:$K$179,2,FALSE),\"\")","v":""}]
[null,null,{"$f":"IFERROR(VLOOKUP(B64,Dimension!$N$3:$P$89,3,FALSE),\"\")","v":""},null,null,{"$f":"IFERROR(VLOOKUP(E64,Dimension!$J$3:$K$179,2,FALSE),\"\")","v":""}]
[null,null,{"$f":"IFERROR(VLOOKUP(B65,Dimension!$N$3:$P$89,3,FALSE),\"\")","v":""},null,null,{"$f":"IFERROR(VLOOKUP(E65,Dimension!$J$3:$K$179,2,FALSE),\"\")","v":""}]
[null,null,{"$f":"IFERROR(VLOOKUP(B66,Dimension!$N$3:$P$89,3,FALSE),\"\")","v":""},null,null,{"$f":"IFERROR(VLOOKUP(E66,Dimension!$J$3:$K$179,2,FALSE),\"\")","v":""}]
[null,null,{"$f":"IFERROR(VLOOKUP(B67,Dimension!$N$3:$P$89,3,FALSE),\"\")","v":""},null,null,{"$f":"IFERROR(VLOOKUP(E67,Dimension!$J$3:$K$179,2,FALSE),\"\")","v":""}]
[null,null,{"$f":"IFERROR(VLOOKUP(B68,Dimension!$N$3:$P$89,3,FALSE),\"\")","v":""},null,null,{"$f":"IFERROR(VLOOKUP(E68,Dimension!$J$3:$K$179,2,FALSE),\"\")","v":""}]
[null,null,{"$f":"IFERROR(VLOOKUP(B69,Dimension!$N$3:$P$89,3,FALSE),\"\")","v":""},null,null,{"$f":"IFERROR(VLOOKUP(E69,Dimension!$J$3:$K$179,2,FALSE),\"\")","v":""}]
[null,null,{"$f":"IFERROR(VLOOKUP(B70,Dimension!$N$3:$P$89,3,FALSE),\"\")","v":""},null,null,{"$f":"IFERROR(VLOOKUP(E70,Dimension!$J$3:$K$179,2,FALSE),\"\")","v":""}]
[null,null,{"$f":"IFERROR(VLOOKUP(B71,Dimension!$N$3:$P$89,3,FALSE),\"\")","v":""},null,null,{"$f":"IFERROR(VLOOKUP(E71,Dimension!$J$3:$K$179,2,FALSE),\"\")","v":""}]
[null,null,{"$f":"IFERROR(VLOOKUP(B72,Dimension!$N$3:$P$89,3,FALSE),\"\")","v":""},null,null,{"$f":"IFERROR(VLOOKUP(E72,Dimension!$J$3:$K$179,2,FALSE),\"\")","v":""}]
[null,null,{"$f":"IFERROR(VLOOKUP(B73,Dimension!$N$3:$P$89,3,FALSE),\"\")","v":""},null,null,{"$f":"IFERROR(VLOOKUP(E73,Dimension!$J$3:$K$179,2,FALSE),\"\")","v":""}]
[null,null,{"$f":"IFERROR(VLOOKUP(B74,Dimension!$N$3:$P$89,3,FALSE),\"\")","v":""},null,null,{"$f":"IFERROR(VLOOKUP(E74,Dimension!$J$3:$K$179,2,FALSE),\"\")","v":""}]
[null,null,{"$f":"IFERROR(VLOOKUP(B75,Dimension!$N$3:$P$89,3,FALSE),\"\")","v":""},null,null,{"$f":"IFERROR(VLOOKUP(E75,Dimension!$J$3:$K$179,2,FALSE),\"\")","v":""}]
[null,null,{"$f":"IFERROR(VLOOKUP(B76,Dimension!$N$3:$P$89,3,FALSE),\"\")","v":""},null,null,{"$f":"IFERROR(VLOOKUP(E76,Dimension!$J$3:$K$179,2,FALSE),\"\")","v":""}]
[null,null,{"$f":"IFERROR(VLOOKUP(B77,Dimension!$N$3:$P$89,3,FALSE),\"\")","v":""},null,null,{"$f":"IFERROR(VLOOKUP(E77,Dimension!$J$3:$K$179,2,FALSE),\"\")","v":""}]
[null,null,{"$f":"IFERROR(VLOOKUP(B78,Dimension!$N$3:$P$89,3,FALSE),\"\")","v":""},null,null,{"$f":"IFERROR(VLOOKUP(E78,Dimension!$J$3:$K$179,2,FALSE),\"\")","v":""}]
[null,null,{"$f":"IFERROR(VLOOKUP(B79,Dimension!$N$3:$P$89,3,FALSE),\"\")","v":""},null,null,{"$f":"IFERROR(VLOOKUP(E79,Dimension!$J$3:$K$179,2,FALSE),\"\")","v":""}]
[null,null,{"$f":"IFERROR(VLOOKUP(B80,Dimension!$N$3:$P$89,3,FALSE),\"\")","v":""},null,null,{"$f":"IFERROR(VLOOKUP(E80,Dimension!$J$3:$K$179,2,FALSE),\"\")","v":""}]
[null,null,{"$f":"IFERROR(VLOOKUP(B81,Dimension!$N$3:$P$89,3,FALSE),\"\")","v":""},null,null,{"$f":"IFERROR(VLOOKUP(E81,Dimension!$J$3:$K$179,2,FALSE),\"\")","v":""}]
[null,null,{"$f":"IFERROR(VLOOKUP(B82,Dimension!$N$3:$P$89,3,FALSE),\"\")","v":""},null,null,{"$f":"IFERROR(VLOOKUP(E82,Dimension!$J$3:$K$179,2,FALSE),\"\")","v":""}]
[null,null,{"$f":"IFERROR(VLOOKUP(B83,Dimension!$N$3:$P$89,3,FALSE),\"\")","v":""},null,null,{"$f":"IFERROR(VLOOKUP(E83,Dimension!$J$3:$K$179,2,FALSE),\"\")","v":""}]
[null,null,{"$f":"IFERROR(VLOOKUP(B84,Dimension!$N$3:$P$89,3,FALSE),\"\")","v":""},null,null,{"$f":"IFERROR(VLOOKUP(E84,Dimension!$J$3:$K$179,2,FALSE),\"\")","v":""}]
[null,null,{"$f":"IFERROR(VLOOKUP(B85,Dimension!$N$3:$P$89,3,FALSE),\"\")","v":""},null,null,{"$f":"IFERROR(VLOOKUP(E85,Dimension!$J$3:$K$179,2,FALSE),\"\")","v":""}]
[null,null,{"$f":"IFERROR(VLOOKUP(B86,Dimension!$N$3:$P$89,3,FALSE),\"\")","v":""},null,null,{"$f":"IFERROR(VLOOKUP(E86,Dimension!$J$3:$K$179,2,FALSE),\"\")","v":""}]
[null,null,{"$f":"IFERROR(VLOOKUP(B87,Dimension!$N$3:$P$89,3,FALSE),\"\")","v":""},null,null,{"$f":"IFERROR(VLOOKUP(E87,Dimension!$J$3:$K$179,2,FALSE),\"\")","v":""}]
[null,null,{"$f":"IFERROR(VLOOKUP(B88,Dimension!$N$3:$P$89,3,FALSE),\"\")","v":""},null,null,{"$f":"IFERROR(VLOOKUP(E88,Dimension!$J$3:$K$179,2,FALSE),\"\")","v":""}]
[null,null,{"$f":"IFERROR(VLOOKUP(B89,Dimension!$N$3:$P$89,3,FALSE),\"\")","v":""},null,null,{"$f":"IFERROR(VLOOKUP(E89,Dimension!$J$3:$K$179,2,FALSE),\"\")","v":""}]
[null,null,{"$f":"IFERROR(VLOOKUP(B90,Dimension!$N$3:$P$89,3,FALSE),\"\")","v":""},null,null,{"$f":"IFERROR(VLOOKUP(E90,Dimension!$J$3:$K$179,2,FALSE),\"\")","v":""}]
[null,null,{"$f":"IFERROR(VLOOKUP(B91,Dimension!$N$3:$P$89,3,FALSE),\"\")","v":""},null,null,{"$f":"IFERROR(VLOOKUP(E91,Dimension!$J$3:$K$179,2,FALSE),\"\")","v":""}]
[null,null,{"$f":"IFERROR(VLOOKUP(B92,Dimension!$N$3:$P$89,3,FALSE),\"\")","v":""},null,null,{"$f":"IFERROR(VLOOKUP(E92,Dimension!$J$3:$K$179,2,FALSE),\"\")","v":""}]
[null,null,{"$f":"IFERROR(VLOOKUP(B93,Dimension!$N$3:$P$89,3,FALSE),\"\")","v":""},null,null,{"$f":"IFERROR(VLOOKUP(E93,Dimension!$J$3:$K$179,2,FALSE),\"\")","v":""}]
[null,null,{"$f":"IFERROR(VLOOKUP(B94,Dimension!$N$3:$P$89,3,FALSE),\"\")","v":""},null,null,{"$f":"IFERROR(VLOOKUP(E94,Dimension!$J$3:$K$179,2,FALSE),\"\")","v":""}]
[null,null,{"$f":"IFERROR(VLOOKUP(B95,Dimension!$N$3:$P$89,3,FALSE),\"\")","v":""},null,null,{"$f":"IFERROR(VLOOKUP(E95,Dimension!$J$3:$K$179,2,FALSE),\"\")","v":""}]
[null,null,{"$f":"IFERROR(VLOOKUP(B96,Dimension!$N$3:$P$89,3,FALSE),\"\")","v":""},null,null,{"$f":"IFERROR(VLOOKUP(E96,Dimension!$J$3:$K$179,2,FALSE),\"\")","v":""}]
[null,null,{"$f":"IFERROR(VLOOKUP(B97,Dimension!$N$3:$P$89,3,FALSE),\"\")","v":""},null,null,{"$f":"IFERROR(VLOOKUP(E97,Dimension!$J$3:$K$179,2,FALSE),\"\")","v":""}]
[null,null,{"$f":"IFERROR(VLOOKUP(B98,Dimension!$N$3:$P$89,3,FALSE),\"\")","v":""},null,null,{"$f":"IFERROR(VLOOKUP(E98,Dimension!$J$3:$K$179,2,FALSE),\"\")","v":""}]
[null,null,{"$f":"IFERROR(VLOOKUP(B99,Dimension!$N$3:$P$89,3,FALSE),\"\")","v":""},null,null,{"$f":"IFERROR(VLOOKUP(E99,Dimension!$J$3:$K$179,2,FALSE),\"\")","v":""}]
[null,null,{"$f":"IFERROR(VLOOKUP(B100,Dimension!$N$3:$P$89,3,FALSE),\"\")","v":""},null,null,{"$f":"IFERROR(VLOOKUP(E100,Dimension!$J$3:$K$179,2,FALSE),\"\")","v":""}]
[null,null,{"$f":"IFERROR(VLOOKUP(B101,Dimension!$N$3:$P$89,3,FALSE),\"\")","v":""},null,null,{"$f":"IFERROR(VLOOKUP(E101,Dimension!$J$3:$K$179,2,FALSE),\"\")","v":""}]
[null,null,{"$f":"IFERROR(VLOOKUP(B102,Dimension!$N$3:$P$89,3,FALSE),\"\")","v":""},null,null,{"$f":"IFERROR(VLOOKUP(E102,Dimension!$J$3:$K$179,2,FALSE),\"\")","v":""}]
[null,null,{"$f":"IFERROR(VLOOKUP(B103,Dimension!$N$3:$P$89,3,FALSE),\"\")","v":""},null,null,{"$f":"IFERROR(VLOOKUP(E103,Dimension!$J$3:$K$179,2,FALSE),\"\")","v":""}]
[null,null,{"$f":"IFERROR(VLOOKUP(B104,Dimension!$N$3:$P$89,3,FALSE),\"\")","v":""},null,null,{"$f":"IFERROR(VLOOKUP(E104,Dimension!$J$3:$K$179,2,FALSE),\"\")","v":""}]
[null,null,{"$f":"IFERROR(VLOOKUP(B105,Dimension!$N$3:$P$89,3,FALSE),\"\")","v":""},null,null,{"$f":"IFERROR(VLOOKUP(E105,Dimension!$J$3:$K$179,2,FALSE),\"\")","v":""}]
[null,null,{"$f":"IFERROR(VLOOKUP(B106,Dimension!$N$3:$P$89,3,FALSE),\"\")","v":""},null,null,{"$f":"IFERROR(VLOOKUP(E106,Dimension!$J$3:$K$179,2,FALSE),\"\")","v":""}]
[null,null,{"$f":"IFERROR(VLOOKUP(B107,Dimension!$N$3:$P$89,3,FALSE),\"\")","v":""},null,null,{"$f":"IFERROR(VLOOKUP(E107,Dimension!$J$3:$K$179,2,FALSE),\"\")","v":""}]
[null,null,{"$f":"IFERROR(VLOOKUP(B108,Dimension!$N$3:$P$89,3,FALSE),\"\")","v":""},null,null,{"$f":"IFERROR(VLOOKUP(E108,Dimension!$J$3:$K$179,2,FALSE),\"\")","v":""}]
[null,null,{"$f":"IFERROR(VLOOKUP(B109,Dimension!$N$3:$P$89,3,FALSE),\"\")","v":""},null,null,{"$f":"IFERROR(VLOOKUP(E109,Dimension!$J$3:$K$179,2,FALSE),\"\")","v":""}]
[null,null,{"$f":"IFERROR(VLOOKUP(B110,Dimension!$N$3:$P$89,3,FALSE),\"\")","v":""},null,null,{"$f":"IFERROR(VLOOKUP(E110,Dimension!$J$3:$K$179,2,FALSE),\"\")","v":""}]
[null,null,{"$f":"IFERROR(VLOOKUP(B111,Dimension!$N$3:$P$89,3,FALSE),\"\")","v":""},null,null,{"$f":"IFERROR(VLOOKUP(E111,Dimension!$J$3:$K$179,2,FALSE),\"\")","v":""}]
[null,null,{"$f":"IFERROR(VLOOKUP(B112,Dimension!$N$3:$P$89,3,FALSE),\"\")","v":""},null,null,{"$f":"IFERROR(VLOOKUP(E112,Dimension!$J$3:$K$179,2,FALSE),\"\")","v":""}]
[null,null,{"$f":"IFERROR(VLOOKUP(B113,Dimension!$N$3:$P$89,3,FALSE),\"\")","v":""},null,null,{"$f":"IFERROR(VLOOKUP(E113,Dimension!$J$3:$K$179,2,FALSE),\"\")","v":""}]
[null,null,{"$f":"IFERROR(VLOOKUP(B114,Dimension!$N$3:$P$89,3,FALSE),\"\")","v":""},null,null,{"$f":"IFERROR(VLOOKUP(E114,Dimension!$J$3:$K$179,2,FALSE),\"\")","v":""}]
[null,null,{"$f":"IFERROR(VLOOKUP(B115,Dimension!$N$3:$P$89,3,FALSE),\"\")","v":""},null,null,{"$f":"IFERROR(VLOOKUP(E115,Dimension!$J$3:$K$179,2,FALSE),\"\")","v":""}]
[null,null,{"$f":"IFERROR(VLOOKUP(B116,Dimension!$N$3:$P$89,3,FALSE),\"\")","v":""},null,null,{"$f":"IFERROR(VLOOKUP(E116,Dimension!$J$3:$K$179,2,FALSE),\"\")","v":""}]
[null,null,{"$f":"IFERROR(VLOOKUP(B117,Dimension!$N$3:$P$89,3,FALSE),\"\")","v":""},null,null,{"$f":"IFERROR(VLOOKUP(E117,Dimension!$J$3:$K$179,2,FALSE),\"\")","v":""}]
[null,null,{"$f":"IFERROR(VLOOKUP(B118,Dimension!$N$3:$P$89,3,FALSE),\"\")","v":""},null,null,{"$f":"IFERROR(VLOOKUP(E118,Dimension!$J$3:$K$179,2,FALSE),\"\")","v":""}]
[null,null,{"$f":"IFERROR(VLOOKUP(B119,Dimension!$N$3:$P$89,3,FALSE),\"\")","v":""},null,null,{"$f":"IFERROR(VLOOKUP(E119,Dimension!$J$3:$K$179,2,FALSE),\"\")","v":""}]
[null,null,{"$f":"IFERROR(VLOOKUP(B120,Dimension!$N$3:$P$89,3,FALSE),\"\")","v":""},null,null,{"$f":"IFERROR(VLOOKUP(E120,Dimension!$J$3:$K$179,2,FALSE),\"\")","v":""}]
[null,null,{"$f":"IFERROR(VLOOKUP(B121,Dimension!$N$3:$P$89,3,FALSE),\"\")","v":""},null,null,{"$f":"IFERROR(VLOOKUP(E121,Dimension!$J$3:$K$179,2,FALSE),\"\")","v":""}]
[null,null,{"$f":"IFERROR(VLOOKUP(B122,Dimension!$N$3:$P$89,3,FALSE),\"\")","v":""},null,null,{"$f":"IFERROR(VLOOKUP(E122,Dimension!$J$3:$K$179,2,FALSE),\"\")","v":""}]
[null,null,{"$f":"IFERROR(VLOOKUP(B123,Dimension!$N$3:$P$89,3,FALSE),\"\")","v":""},null,null,{"$f":"IFERROR(VLOOKUP(E123,Dimension!$J$3:$K$179,2,FALSE),\"\")","v":""}]
[null,null,{"$f":"IFERROR(VLOOKUP(B124,Dimension!$N$3:$P$89,3,FALSE),\"\")","v":""},null,null,{"$f":"IFERROR(VLOOKUP(E124,Dimension!$J$3:$K$179,2,FALSE),\"\")","v":""}]
[null,null,{"$f":"IFERROR(VLOOKUP(B125,Dimension!$N$3:$P$89,3,FALSE),\"\")","v":""},null,null,{"$f":"IFERROR(VLOOKUP(E125,Dimension!$J$3:$K$179,2,FALSE),\"\")","v":""}]
[null,null,{"$f":"IFERROR(VLOOKUP(B126,Dimension!$N$3:$P$89,3,FALSE),\"\")","v":""},null,null,{"$f":"IFERROR(VLOOKUP(E126,Dimension!$J$3:$K$179,2,FALSE),\"\")","v":""}]
[null,null,{"$f":"IFERROR(VLOOKUP(B127,Dimension!$N$3:$P$89,3,FALSE),\"\")","v":""},null,null,{"$f":"IFERROR(VLOOKUP(E127,Dimension!$J$3:$K$179,2,FALSE),\"\")","v":""}]
[null,null,{"$f":"IFERROR(VLOOKUP(B128,Dimension!$N$3:$P$89,3,FALSE),\"\")","v":""},null,null,{"$f":"IFERROR(VLOOKUP(E128,Dimension!$J$3:$K$179,2,FALSE),\"\")","v":""}]
[null,null,{"$f":"IFERROR(VLOOKUP(B129,Dimension!$N$3:$P$89,3,FALSE),\"\")","v":""},null,null,{"$f":"IFERROR(VLOOKUP(E129,Dimension!$J$3:$K$179,2,FALSE),\"\")","v":""}]
[null,null,{"$f":"IFERROR(VLOOKUP(B130,Dimension!$N$3:$P$89,3,FALSE),\"\")","v":""},null,null,{"$f":"IFERROR(VLOOKUP(E130,Dimension!$J$3:$K$179,2,FALSE),\"\")","v":""}]
[null,null,{"$f":"IFERROR(VLOOKUP(B131,Dimension!$N$3:$P$89,3,FALSE),\"\")","v":""},null,null,{"$f":"IFERROR(VLOOKUP(E131,Dimension!$J$3:$K$179,2,FALSE),\"\")","v":""}]
[null,null,{"$f":"IFERROR(VLOOKUP(B132,Dimension!$N$3:$P$89,3,FALSE),\"\")","v":""},null,null,{"$f":"IFERROR(VLOOKUP(E132,Dimension!$J$3:$K$179,2,FALSE),\"\")","v":""}]
[null,null,{"$f":"IFERROR(VLOOKUP(B133,Dimension!$N$3:$P$89,3,FALSE),\"\")","v":""},null,null,{"$f":"IFERROR(VLOOKUP(E133,Dimension!$J$3:$K$179,2,FALSE),\"\")","v":""}]
[null,null,{"$f":"IFERROR(VLOOKUP(B134,Dimension!$N$3:$P$89,3,FALSE),\"\")","v":""},null,null,{"$f":"IFERROR(VLOOKUP(E134,Dimension!$J$3:$K$179,2,FALSE),\"\")","v":""}]
[null,null,{"$f":"IFERROR(VLOOKUP(B135,Dimension!$N$3:$P$89,3,FALSE),\"\")","v":""},null,null,{"$f":"IFERROR(VLOOKUP(E135,Dimension!$J$3:$K$179,2,FALSE),\"\")","v":""}]
[null,null,{"$f":"IFERROR(VLOOKUP(B136,Dimension!$N$3:$P$89,3,FALSE),\"\")","v":""},null,null,{"$f":"IFERROR(VLOOKUP(E136,Dimension!$J$3:$K$179,2,FALSE),\"\")","v":""}]
[null,null,{"$f":"IFERROR(VLOOKUP(B137,Dimension!$N$3:$P$89,3,FALSE),\"\")","v":""},null,null,{"$f":"IFERROR(VLOOKUP(E137,Dimension!$J$3:$K$179,2,FALSE),\"\")","v":""}]
[null,null,{"$f":"IFERROR(VLOOKUP(B138,Dimension!$N$3:$P$89,3,FALSE),\"\")","v":""},null,null,{"$f":"IFERROR(VLOOKUP(E138,Dimension!$J$3:$K$179,2,FALSE),\"\")","v":""}]
[null,null,{"$f":"IFERROR(VLOOKUP(B139,Dimension!$N$3:$P$89,3,FALSE),\"\")","v":""},null,null,{"$f":"IFERROR(VLOOKUP(E139,Dimension!$J$3:$K$179,2,FALSE),\"\")","v":""}]
[null,null,{"$f":"IFERROR(VLOOKUP(B140,Dimension!$N$3:$P$89,3,FALSE),\"\")","v":""},null,null,{"$f":"IFERROR(VLOOKUP(E140,Dimension!$J$3:$K$179,2,FALSE),\"\")","v":""}]
[null,null,{"$f":"IFERROR(VLOOKUP(B141,Dimension!$N$3:$P$89,3,FALSE),\"\")","v":""},null,null,{"$f":"IFERROR(VLOOKUP(E141,Dimension!$J$3:$K$179,2,FALSE),\"\")","v":""}]
[null,null,{"$f":"IFERROR(VLOOKUP(B142,Dimension!$N$3:$P$89,3,FALSE),\"\")","v":""},null,null,{"$f":"IFERROR(VLOOKUP(E142,Dimension!$J$3:$K$179,2,FALSE),\"\")","v":""}]
[null,null,{"$f":"IFERROR(VLOOKUP(B143,Dimension!$N$3:$P$89,3,FALSE),\"\")","v":""},null,null,{"$f":"IFERROR(VLOOKUP(E143,Dimension!$J$3:$K$179,2,FALSE),\"\")","v":""}]
[null,null,{"$f":"IFERROR(VLOOKUP(B144,Dimension!$N$3:$P$89,3,FALSE),\"\")","v":""},null,null,{"$f":"IFERROR(VLOOKUP(E144,Dimension!$J$3:$K$179,2,FALSE),\"\")","v":""}]
[null,null,{"$f":"IFERROR(VLOOKUP(B145,Dimension!$N$3:$P$89,3,FALSE),\"\")","v":""},null,null,{"$f":"IFERROR(VLOOKUP(E145,Dimension!$J$3:$K$179,2,FALSE),\"\")","v":""}]
[null,null,{"$f":"IFERROR(VLOOKUP(B146,Dimension!$N$3:$P$89,3,FALSE),\"\")","v":""},null,null,{"$f":"IFERROR(VLOOKUP(E146,Dimension!$J$3:$K$179,2,FALSE),\"\")","v":""}]
[null,null,{"$f":"IFERROR(VLOOKUP(B147,Dimension!$N$3:$P$89,3,FALSE),\"\")","v":""},null,null,{"$f":"IFERROR(VLOOKUP(E147,Dimension!$J$3:$K$179,2,FALSE),\"\")","v":""}]
[null,null,{"$f":"IFERROR(VLOOKUP(B148,Dimension!$N$3:$P$89,3,FALSE),\"\")","v":""},null,null,{"$f":"IFERROR(VLOOKUP(E148,Dimension!$J$3:$K$179,2,FALSE),\"\")","v":""}]
[null,null,{"$f":"IFERROR(VLOOKUP(B149,Dimension!$N$3:$P$89,3,FALSE),\"\")","v":""},null,null,{"$f":"IFERROR(VLOOKUP(E149,Dimension!$J$3:$K$179,2,FALSE),\"\")","v":""}]
[null,null,{"$f":"IFERROR(VLOOKUP(B150,Dimension!$N$3:$P$89,3,FALSE),\"\")","v":""},null,null,{"$f":"IFERROR(VLOOKUP(E150,Dimension!$J$3:$K$179,2,FALSE),\"\")","v":""}]
[null,null,{"$f":"IFERROR(VLOOKUP(B151,Dimension!$N$3:$P$89,3,FALSE),\"\")","v":""},null,null,{"$f":"IFERROR(VLOOKUP(E151,Dimension!$J$3:$K$179,2,FALSE),\"\")","v":""}]
[null,null,{"$f":"IFERROR(VLOOKUP(B152,Dimension!$N$3:$P$89,3,FALSE),\"\")","v":""},null,null,{"$f":"IFERROR(VLOOKUP(E152,Dimension!$J$3:$K$179,2,FALSE),\"\")","v":""}]
[null,null,{"$f":"IFERROR(VLOOKUP(B153,Dimension!$N$3:$P$89,3,FALSE),\"\")","v":""},null,null,{"$f":"IFERROR(VLOOKUP(E153,Dimension!$J$3:$K$179,2,FALSE),\"\")","v":""}]
[null,null,{"$f":"IFERROR(VLOOKUP(B154,Dimension!$N$3:$P$89,3,FALSE),\"\")","v":""},null,null,{"$f":"IFERROR(VLOOKUP(E154,Dimension!$J$3:$K$179,2,FALSE),\"\")","v":""}]
[null,null,{"$f":"IFERROR(VLOOKUP(B155,Dimension!$N$3:$P$89,3,FALSE),\"\")","v":""},null,null,{"$f":"IFERROR(VLOOKUP(E155,Dimension!$J$3:$K$179,2,FALSE),\"\")","v":""}]
[null,null,{"$f":"IFERROR(VLOOKUP(B156,Dimension!$N$3:$P$89,3,FALSE),\"\")","v":""},null,null,{"$f":"IFERROR(VLOOKUP(E156,Dimension!$J$3:$K$179,2,FALSE),\"\")","v":""}]
[null,null,{"$f":"IFERROR(VLOOKUP(B157,Dimension!$N$3:$P$89,3,FALSE),\"\")","v":""},null,null,{"$f":"IFERROR(VLOOKUP(E157,Dimension!$J$3:$K$179,2,FALSE),\"\")","v":""}]
[null,null,{"$f":"IFERROR(VLOOKUP(B158,Dimension!$N$3:$P$89,3,FALSE),\"\")","v":""},null,null,{"$f":"IFERROR(VLOOKUP(E158,Dimension!$J$3:$K$179,2,FALSE),\"\")","v":""}]
[null,null,{"$f":"IFERROR(VLOOKUP(B159,Dimension!$N$3:$P$89,3,FALSE),\"\")","v":""},null,null,{"$f":"IFERROR(VLOOKUP(E159,Dimension!$J$3:$K$179,2,FALSE),\"\")","v":""}]
[null,null,{"$f":"IFERROR(VLOOKUP(B160,Dimension!$N$3:$P$89,3,FALSE),\"\")","v":""},null,null,{"$f":"IFERROR(VLOOKUP(E160,Dimension!$J$3:$K$179,2,FALSE),\"\")","v":""}]
[null,null,{"$f":"IFERROR(VLOOKUP(B161,Dimension!$N$3:$P$89,3,FALSE),\"\")","v":""},null,null,{"$f":"IFERROR(VLOOKUP(E161,Dimension!$J$3:$K$179,2,FALSE),\"\")","v":""}]
[null,null,{"$f":"IFERROR(VLOOKUP(B162,Dimension!$N$3:$P$89,3,FALSE),\"\")","v":""},null,null,{"$f":"IFERROR(VLOOKUP(E162,Dimension!$J$3:$K$179,2,FALSE),\"\")","v":""}]
[null,null,{"$f":"IFERROR(VLOOKUP(B163,Dimension!$N$3:$P$89,3,FALSE),\"\")","v":""},null,null,{"$f":"IFERROR(VLOOKUP(E163,Dimension!$J$3:$K$179,2,FALSE),\"\")","v":""}]
[null,null,{"$f":"IFERROR(VLOOKUP(B164,Dimension!$N$3:$P$89,3,FALSE),\"\")","v":""},null,null,{"$f":"IFERROR(VLOOKUP(E164,Dimension!$J$3:$K$179,2,FALSE),\"\")","v":""}]
[null,null,{"$f":"IFERROR(VLOOKUP(B165,Dimension!$N$3:$P$89,3,FALSE),\"\")","v":""},null,null,{"$f":"IFERROR(VLOOKUP(E165,Dimension!$J$3:$K$179,2,FALSE),\"\")","v":""}]
[null,null,{"$f":"IFERROR(VLOOKUP(B166,Dimension!$N$3:$P$89,3,FALSE),\"\")","v":""},null,null,{"$f":"IFERROR(VLOOKUP(E166,Dimension!$J$3:$K$179,2,FALSE),\"\")","v":""}]
[null,null,{"$f":"IFERROR(VLOOKUP(B167,Dimension!$N$3:$P$89,3,FALSE),\"\")","v":""},null,null,{"$f":"IFERROR(VLOOKUP(E167,Dimension!$J$3:$K$179,2,FALSE),\"\")","v":""}]
[null,null,{"$f":"IFERROR(VLOOKUP(B168,Dimension!$N$3:$P$89,3,FALSE),\"\")","v":""},null,null,{"$f":"IFERROR(VLOOKUP(E168,Dimension!$J$3:$K$179,2,FALSE),\"\")","v":""}]
[null,null,{"$f":"IFERROR(VLOOKUP(B169,Dimension!$N$3:$P$89,3,FALSE),\"\")","v":""},null,null,{"$f":"IFERROR(VLOOKUP(E169,Dimension!$J$3:$K$179,2,FALSE),\"\")","v":""}]
[null,null,{"$f":"IFERROR(VLOOKUP(B170,Dimension!$N$3:$P$89,3,FALSE),\"\")","v":""},null,null,{"$f":"IFERROR(VLOOKUP(E170,Dimension!$J$3:$K$179,2,FALSE),\"\")","v":""}]
[null,null,{"$f":"IFERROR(VLOOKUP(B171,Dimension!$N$3:$P$89,3,FALSE),\"\")","v":""},null,null,{"$f":"IFERROR(VLOOKUP(E171,Dimension!$J$3:$K$179,2,FALSE),\"\")","v":""}]
[null,null,{"$f":"IFERROR(VLOOKUP(B172,Dimension!$N$3:$P$89,3,FALSE),\"\")","v":""},null,null,{"$f":"IFERROR(VLOOKUP(E172,Dimension!$J$3:$K$179,2,FALSE),\"\")","v":""}]
[null,null,{"$f":"IFERROR(VLOOKUP(B173,Dimension!$N$3:$P$89,3,FALSE),\"\")","v":""},null,null,{"$f":"IFERROR(VLOOKUP(E173,Dimension!$J$3:$K$179,2,FALSE),\"\")","v":""}]
[null,null,{"$f":"IFERROR(VLOOKUP(B174,Dimension!$N$3:$P$89,3,FALSE),\"\")","v":""},null,null,{"$f":"IFERROR(VLOOKUP(E174,Dimension!$J$3:$K$179,2,FALSE),\"\")","v":""}]
[null,null,{"$f":"IFERROR(VLOOKUP(B175,Dimension!$N$3:$P$89,3,FALSE),\"\")","v":""},null,null,{"$f":"IFERROR(VLOOKUP(E175,Dimension!$J$3:$K$179,2,FALSE),\"\")","v":""}]
[null,null,{"$f":"IFERROR(VLOOKUP(B176,Dimension!$N$3:$P$89,3,FALSE),\"\")","v":""},null,null,{"$f":"IFERROR(VLOOKUP(E176,Dimension!$J$3:$K$179,2,FALSE),\"\")","v":""}]
[null,null,{"$f":"IFERROR(VLOOKUP(B177,Dimension!$N$3:$P$89,3,FALSE),\"\")","v":""},null,null,{"$f":"IFERROR(VLOOKUP(E177,Dimension!$J$3:$K$179,2,FALSE),\"\")","v":""}]
[null,null,{"$f":"IFERROR(VLOOKUP(B178,Dimension!$N$3:$P$89,3,FALSE),\"\")","v":""},null,null,{"$f":"IFERROR(VLOOKUP(E178,Dimension!$J$3:$K$179,2,FALSE),\"\")","v":""}]
[null,null,{"$f":"IFERROR(VLOOKUP(B179,Dimension!$N$3:$P$89,3,FALSE),\"\")","v":""},null,null,{"$f":"IFERROR(VLOOKUP(E179,Dimension!$J$3:$K$179,2,FALSE),\"\")","v":""}]
[null,null,{"$f":"IFERROR(VLOOKUP(B180,Dimension!$N$3:$P$89,3,FALSE),\"\")","v":""},null,null,{"$f":"IFERROR(VLOOKUP(E180,Dimension!$J$3:$K$179,2,FALSE),\"\")","v":""}]
[null,null,{"$f":"IFERROR(VLOOKUP(B181,Dimension!$N$3:$P$89,3,FALSE),\"\")","v":""},null,null,{"$f":"IFERROR(VLOOKUP(E181,Dimension!$J$3:$K$179,2,FALSE),\"\")","v":""}]
[null,null,{"$f":"IFERROR(VLOOKUP(B182,Dimension!$N$3:$P$89,3,FALSE),\"\")","v":""},null,null,{"$f":"IFERROR(VLOOKUP(E182,Dimension!$J$3:$K$179,2,FALSE),\"\")","v":""}]
[null,null,{"$f":"IFERROR(VLOOKUP(B183,Dimension!$N$3:$P$89,3,FALSE),\"\")","v":""},null,null,{"$f":"IFERROR(VLOOKUP(E183,Dimension!$J$3:$K$179,2,FALSE),\"\")","v":""}]
[null,null,{"$f":"IFERROR(VLOOKUP(B184,Dimension!$N$3:$P$89,3,FALSE),\"\")","v":""},null,null,{"$f":"IFERROR(VLOOKUP(E184,Dimension!$J$3:$K$179,2,FALSE),\"\")","v":""}]
[null,null,{"$f":"IFERROR(VLOOKUP(B185,Dimension!$N$3:$P$89,3,FALSE),\"\")","v":""},null,null,{"$f":"IFERROR(VLOOKUP(E185,Dimension!$J$3:$K$179,2,FALSE),\"\")","v":""}]
[null,null,{"$f":"IFERROR(VLOOKUP(B186,Dimension!$N$3:$P$89,3,FALSE),\"\")","v":""},null,null,{"$f":"IFERROR(VLOOKUP(E186,Dimension!$J$3:$K$179,2,FALSE),\"\")","v":""}]
[null,null,{"$f":"IFERROR(VLOOKUP(B187,Dimension!$N$3:$P$89,3,FALSE),\"\")","v":""},null,null,{"$f":"IFERROR(VLOOKUP(E187,Dimension!$J$3:$K$179,2,FALSE),\"\")","v":""}]
[null,null,{"$f":"IFERROR(VLOOKUP(B188,Dimension!$N$3:$P$89,3,FALSE),\"\")","v":""},null,null,{"$f":"IFERROR(VLOOKUP(E188,Dimension!$J$3:$K$179,2,FALSE),\"\")","v":""}]
[null,null,{"$f":"IFERROR(VLOOKUP(B189,Dimension!$N$3:$P$89,3,FALSE),\"\")","v":""},null,null,{"$f":"IFERROR(VLOOKUP(E189,Dimension!$J$3:$K$179,2,FALSE),\"\")","v":""}]
[null,null,{"$f":"IFERROR(VLOOKUP(B190,Dimension!$N$3:$P$89,3,FALSE),\"\")","v":""},null,null,{"$f":"IFERROR(VLOOKUP(E190,Dimension!$J$3:$K$179,2,FALSE),\"\")","v":""}]
[null,null,{"$f":"IFERROR(VLOOKUP(B191,Dimension!$N$3:$P$89,3,FALSE),\"\")","v":""},null,null,{"$f":"IFERROR(VLOOKUP(E191,Dimension!$J$3:$K$179,2,FALSE),\"\")","v":""}]
[null,null,{"$f":"IFERROR(VLOOKUP(B192,Dimension!$N$3:$P$89,3,FALSE),\"\")","v":""},null,null,{"$f":"IFERROR(VLOOKUP(E192,Dimension!$J$3:$K$179,2,FALSE),\"\")","v":""}]
[null,null,{"$f":"IFERROR(VLOOKUP(B193,Dimension!$N$3:$P$89,3,FALSE),\"\")","v":""},null,null,{"$f":"IFERROR(VLOOKUP(E193,Dimension!$J$3:$K$179,2,FALSE),\"\")","v":""}]
[null,null,{"$f":"IFERROR(VLOOKUP(B194,Dimension!$N$3:$P$89,3,FALSE),\"\")","v":""},null,null,{"$f":"IFERROR(VLOOKUP(E194,Dimension!$J$3:$K$179,2,FALSE),\"\")","v":""}]
[null,null,{"$f":"IFERROR(VLOOKUP(B195,Dimension!$N$3:$P$89,3,FALSE),\"\")","v":""},null,null,{"$f":"IFERROR(VLOOKUP(E195,Dimension!$J$3:$K$179,2,FALSE),\"\")","v":""}]
[null,null,{"$f":"IFERROR(VLOOKUP(B196,Dimension!$N$3:$P$89,3,FALSE),\"\")","v":""},null,null,{"$f":"IFERROR(VLOOKUP(E196,Dimension!$J$3:$K$179,2,FALSE),\"\")","v":""}]
[null,null,{"$f":"IFERROR(VLOOKUP(B197,Dimension!$N$3:$P$89,3,FALSE),\"\")","v":""},null,null,{"$f":"IFERROR(VLOOKUP(E197,Dimension!$J$3:$K$179,2,FALSE),\"\")","v":""}]
[null,null,{"$f":"IFERROR(VLOOKUP(B198,Dimension!$N$3:$P$89,3,FALSE),\"\")","v":""},null,null,{"$f":"IFERROR(VLOOKUP(E198,Dimension!$J$3:$K$179,2,FALSE),\"\")","v":""}]
[null,null,{"$f":"IFERROR(VLOOKUP(B199,Dimension!$N$3:$P$89,3,FALSE),\"\")","v":""},null,null,{"$f":"IFERROR(VLOOKUP(E199,Dimension!$J$3:$K$179,2,FALSE),\"\")","v":""}]
[null,null,{"$f":"IFERROR(VLOOKUP(B200,Dimension!$N$3:$P$89,3,FALSE),\"\")","v":""},null,null,{"$f":"IFERROR(VLOOKUP(E200,Dimension!$J$3:$K$179,2,FALSE),\"\")","v":""}]
[null,null,{"$f":"IFERROR(VLOOKUP(B201,Dimension!$N$3:$P$89,3,FALSE),\"\")","v":""},null,null,{"$f":"IFERROR(VLOOKUP(E201,Dimension!$J$3:$K$179,2,FALSE),\"\")","v":""}]
[null,null,{"$f":"IFERROR(VLOOKUP(B202,Dimension!$N$3:$P$89,3,FALSE),\"\")","v":""},null,null,{"$f":"IFERROR(VLOOKUP(E202,Dimension!$J$3:$K$179,2,FALSE),\"\")","v":""}]
[null,null,{"$f":"IFERROR(VLOOKUP(B203,Dimension!$N$3:$P$89,3,FALSE),\"\")","v":""},null,null,{"$f":"IFERROR(VLOOKUP(E203,Dimension!$J$3:$K$179,2,FALSE),\"\")","v":""}]
[null,null,{"$f":"IFERROR(VLOOKUP(B204,Dimension!$N$3:$P$89,3,FALSE),\"\")","v":""},null,null,{"$f":"IFERROR(VLOOKUP(E204,Dimension!$J$3:$K$179,2,FALSE),\"\")","v":""}]
[null,null,{"$f":"IFERROR(VLOOKUP(B205,Dimension!$N$3:$P$89,3,FALSE),\"\")","v":""},null,null,{"$f":"IFERROR(VLOOKUP(E205,Dimension!$J$3:$K$179,2,FALSE),\"\")","v":""}]
[null,null,{"$f":"IFERROR(VLOOKUP(B206,Dimension!$N$3:$P$89,3,FALSE),\"\")","v":""},null,null,{"$f":"IFERROR(VLOOKUP(E206,Dimension!$J$3:$K$179,2,FALSE),\"\")","v":""}]
[null,null,{"$f":"IFERROR(VLOOKUP(B207,Dimension!$N$3:$P$89,3,FALSE),\"\")","v":""},null,null,{"$f":"IFERROR(VLOOKUP(E207,Dimension!$J$3:$K$179,2,FALSE),\"\")","v":""}]
[null,null,{"$f":"IFERROR(VLOOKUP(B208,Dimension!$N$3:$P$89,3,FALSE),\"\")","v":""},null,null,{"$f":"IFERROR(VLOOKUP(E208,Dimension!$J$3:$K$179,2,FALSE),\"\")","v":""}]
[null,null,{"$f":"IFERROR(VLOOKUP(B209,Dimension!$N$3:$P$89,3,FALSE),\"\")","v":""},null,null,{"$f":"IFERROR(VLOOKUP(E209,Dimension!$J$3:$K$179,2,FALSE),\"\")","v":""}]
[null,null,{"$f":"IFERROR(VLOOKUP(B210,Dimension!$N$3:$P$89,3,FALSE),\"\")","v":""},null,null,{"$f":"IFERROR(VLOOKUP(E210,Dimension!$J$3:$K$179,2,FALSE),\"\")","v":""}]
[null,null,{"$f":"IFERROR(VLOOKUP(B211,Dimension!$N$3:$P$89,3,FALSE),\"\")","v":""},null,null,{"$f":"IFERROR(VLOOKUP(E211,Dimension!$J$3:$K$179,2,FALSE),\"\")","v":""}]
[null,null,{"$f":"IFERROR(VLOOKUP(B212,Dimension!$N$3:$P$89,3,FALSE),\"\")","v":""},null,null,{"$f":"IFERROR(VLOOKUP(E212,Dimension!$J$3:$K$179,2,FALSE),\"\")","v":""}]
[null,null,{"$f":"IFERROR(VLOOKUP(B213,Dimension!$N$3:$P$89,3,FALSE),\"\")","v":""},null,null,{"$f":"IFERROR(VLOOKUP(E213,Dimension!$J$3:$K$179,2,FALSE),\"\")","v":""}]
[null,null,{"$f":"IFERROR(VLOOKUP(B214,Dimension!$N$3:$P$89,3,FALSE),\"\")","v":""},null,null,{"$f":"IFERROR(VLOOKUP(E214,Dimension!$J$3:$K$179,2,FALSE),\"\")","v":""}]
[null,null,{"$f":"IFERROR(VLOOKUP(B215,Dimension!$N$3:$P$89,3,FALSE),\"\")","v":""},null,null,{"$f":"IFERROR(VLOOKUP(E215,Dimension!$J$3:$K$179,2,FALSE),\"\")","v":""}]
[null,null,{"$f":"IFERROR(VLOOKUP(B216,Dimension!$N$3:$P$89,3,FALSE),\"\")","v":""},null,null,{"$f":"IFERROR(VLOOKUP(E216,Dimension!$J$3:$K$179,2,FALSE),\"\")","v":""}]
[null,null,{"$f":"IFERROR(VLOOKUP(B217,Dimension!$N$3:$P$89,3,FALSE),\"\")","v":""},null,null,{"$f":"IFERROR(VLOOKUP(E217,Dimension!$J$3:$K$179,2,FALSE),\"\")","v":""}]
[null,null,{"$f":"IFERROR(VLOOKUP(B218,Dimension!$N$3:$P$89,3,FALSE),\"\")","v":""},null,null,{"$f":"IFERROR(VLOOKUP(E218,Dimension!$J$3:$K$179,2,FALSE),\"\")","v":""}]
[null,null,{"$f":"IFERROR(VLOOKUP(B219,Dimension!$N$3:$P$89,3,FALSE),\"\")","v":""},null,null,{"$f":"IFERROR(VLOOKUP(E219,Dimension!$J$3:$K$179,2,FALSE),\"\")","v":""}]
[null,null,{"$f":"IFERROR(VLOOKUP(B220,Dimension!$N$3:$P$89,3,FALSE),\"\")","v":""},null,null,{"$f":"IFERROR(VLOOKUP(E220,Dimension!$J$3:$K$179,2,FALSE),\"\")","v":""}]
[null,null,{"$f":"IFERROR(VLOOKUP(B221,Dimension!$N$3:$P$89,3,FALSE),\"\")","v":""},null,null,{"$f":"IFERROR(VLOOKUP(E221,Dimension!$J$3:$K$179,2,FALSE),\"\")","v":""}]
[null,null,{"$f":"IFERROR(VLOOKUP(B222,Dimension!$N$3:$P$89,3,FALSE),\"\")","v":""},null,null,{"$f":"IFERROR(VLOOKUP(E222,Dimension!$J$3:$K$179,2,FALSE),\"\")","v":""}]
[null,null,{"$f":"IFERROR(VLOOKUP(B223,Dimension!$N$3:$P$89,3,FALSE),\"\")","v":""},null,null,{"$f":"IFERROR(VLOOKUP(E223,Dimension!$J$3:$K$179,2,FALSE),\"\")","v":""}]
[null,null,{"$f":"IFERROR(VLOOKUP(B224,Dimension!$N$3:$P$89,3,FALSE),\"\")","v":""},null,null,{"$f":"IFERROR(VLOOKUP(E224,Dimension!$J$3:$K$179,2,FALSE),\"\")","v":""}]
[null,null,{"$f":"IFERROR(VLOOKUP(B225,Dimension!$N$3:$P$89,3,FALSE),\"\")","v":""},null,null,{"$f":"IFERROR(VLOOKUP(E225,Dimension!$J$3:$K$179,2,FALSE),\"\")","v":""}]
[null,null,{"$f":"IFERROR(VLOOKUP(B226,Dimension!$N$3:$P$89,3,FALSE),\"\")","v":""},null,null,{"$f":"IFERROR(VLOOKUP(E226,Dimension!$J$3:$K$179,2,FALSE),\"\")","v":""}]
[null,null,{"$f":"IFERROR(VLOOKUP(B227,Dimension!$N$3:$P$89,3,FALSE),\"\")","v":""},null,null,{"$f":"IFERROR(VLOOKUP(E227,Dimension!$J$3:$K$179,2,FALSE),\"\")","v":""}]
[null,null,{"$f":"IFERROR(VLOOKUP(B228,Dimension!$N$3:$P$89,3,FALSE),\"\")","v":""},null,null,{"$f":"IFERROR(VLOOKUP(E228,Dimension!$J$3:$K$179,2,FALSE),\"\")","v":""}]
[null,null,{"$f":"IFERROR(VLOOKUP(B229,Dimension!$N$3:$P$89,3,FALSE),\"\")","v":""},null,null,{"$f":"IFERROR(VLOOKUP(E229,Dimension!$J$3:$K$179,2,FALSE),\"\")","v":""}]
[null,null,{"$f":"IFERROR(VLOOKUP(B230,Dimension!$N$3:$P$89,3,FALSE),\"\")","v":""},null,null,{"$f":"IFERROR(VLOOKUP(E230,Dimension!$J$3:$K$179,2,FALSE),\"\")","v":""}]
[null,null,{"$f":"IFERROR(VLOOKUP(B231,Dimension!$N$3:$P$89,3,FALSE),\"\")","v":""},null,null,{"$f":"IFERROR(VLOOKUP(E231,Dimension!$J$3:$K$179,2,FALSE),\"\")","v":""}]
[null,null,{"$f":"IFERROR(VLOOKUP(B232,Dimension!$N$3:$P$89,3,FALSE),\"\")","v":""},null,null,{"$f":"IFERROR(VLOOKUP(E232,Dimension!$J$3:$K$179,2,FALSE),\"\")","v":""}]
[null,null,{"$f":"IFERROR(VLOOKUP(B233,Dimension!$N$3:$P$89,3,FALSE),\"\")","v":""},null,null,{"$f":"IFERROR(VLOOKUP(E233,Dimension!$J$3:$K$179,2,FALSE),\"\")","v":""}]
[null,null,{"$f":"IFERROR(VLOOKUP(B234,Dimension!$N$3:$P$89,3,FALSE),\"\")","v":""},null,null,{"$f":"IFERROR(VLOOKUP(E234,Dimension!$J$3:$K$179,2,FALSE),\"\")","v":""}]
[null,null,{"$f":"IFERROR(VLOOKUP(B235,Dimension!$N$3:$P$89,3,FALSE),\"\")","v":""},null,null,{"$f":"IFERROR(VLOOKUP(E235,Dimension!$J$3:$K$179,2,FALSE),\"\")","v":""}]
[null,null,{"$f":"IFERROR(VLOOKUP(B236,Dimension!$N$3:$P$89,3,FALSE),\"\")","v":""},null,null,{"$f":"IFERROR(VLOOKUP(E236,Dimension!$J$3:$K$179,2,FALSE),\"\")","v":""}]
[null,null,{"$f":"IFERROR(VLOOKUP(B237,Dimension!$N$3:$P$89,3,FALSE),\"\")","v":""},null,null,{"$f":"IFERROR(VLOOKUP(E237,Dimension!$J$3:$K$179,2,FALSE),\"\")","v":""}]
[null,null,{"$f":"IFERROR(VLOOKUP(B238,Dimension!$N$3:$P$89,3,FALSE),\"\")","v":""},null,null,{"$f":"IFERROR(VLOOKUP(E238,Dimension!$J$3:$K$179,2,FALSE),\"\")","v":""}]
[null,null,{"$f":"IFERROR(VLOOKUP(B239,Dimension!$N$3:$P$89,3,FALSE),\"\")","v":""},null,null,{"$f":"IFERROR(VLOOKUP(E239,Dimension!$J$3:$K$179,2,FALSE),\"\")","v":""}]
[null,null,{"$f":"IFERROR(VLOOKUP(B240,Dimension!$N$3:$P$89,3,FALSE),\"\")","v":""},null,null,{"$f":"IFERROR(VLOOKUP(E240,Dimension!$J$3:$K$179,2,FALSE),\"\")","v":""}]
[null,null,{"$f":"IFERROR(VLOOKUP(B241,Dimension!$N$3:$P$89,3,FALSE),\"\")","v":""},null,null,{"$f":"IFERROR(VLOOKUP(E241,Dimension!$J$3:$K$179,2,FALSE),\"\")","v":""}]
[null,null,{"$f":"IFERROR(VLOOKUP(B242,Dimension!$N$3:$P$89,3,FALSE),\"\")","v":""},null,null,{"$f":"IFERROR(VLOOKUP(E242,Dimension!$J$3:$K$179,2,FALSE),\"\")","v":""}]
[null,null,{"$f":"IFERROR(VLOOKUP(B243,Dimension!$N$3:$P$89,3,FALSE),\"\")","v":""},null,null,{"$f":"IFERROR(VLOOKUP(E243,Dimension!$J$3:$K$179,2,FALSE),\"\")","v":""}]
[null,null,{"$f":"IFERROR(VLOOKUP(B244,Dimension!$N$3:$P$89,3,FALSE),\"\")","v":""},null,null,{"$f":"IFERROR(VLOOKUP(E244,Dimension!$J$3:$K$179,2,FALSE),\"\")","v":""}]
[null,null,{"$f":"IFERROR(VLOOKUP(B245,Dimension!$N$3:$P$89,3,FALSE),\"\")","v":""},null,null,{"$f":"IFERROR(VLOOKUP(E245,Dimension!$J$3:$K$179,2,FALSE),\"\")","v":""}]
[null,null,{"$f":"IFERROR(VLOOKUP(B246,Dimension!$N$3:$P$89,3,FALSE),\"\")","v":""},null,null,{"$f":"IFERROR(VLOOKUP(E246,Dimension!$J$3:$K$179,2,FALSE),\"\")","v":""}]
[null,null,{"$f":"IFERROR(VLOOKUP(B247,Dimension!$N$3:$P$89,3,FALSE),\"\")","v":""},null,null,{"$f":"IFERROR(VLOOKUP(E247,Dimension!$J$3:$K$179,2,FALSE),\"\")","v":""}]
[null,null,{"$f":"IFERROR(VLOOKUP(B248,Dimension!$N$3:$P$89,3,FALSE),\"\")","v":""},null,null,{"$f":"IFERROR(VLOOKUP(E248,Dimension!$J$3:$K$179,2,FALSE),\"\")","v":""}]
[null,null,{"$f":"IFERROR(VLOOKUP(B249,Dimension!$N$3:$P$89,3,FALSE),\"\")","v":""},null,null,{"$f":"IFERROR(VLOOKUP(E249,Dimension!$J$3:$K$179,2,FALSE),\"\")","v":""}]
[null,null,{"$f":"IFERROR(VLOOKUP(B250,Dimension!$N$3:$P$89,3,FALSE),\"\")","v":""},null,null,{"$f":"IFERROR(VLOOKUP(E250,Dimension!$J$3:$K$179,2,FALSE),\"\")","v":""}]
[null,null,{"$f":"IFERROR(VLOOKUP(B251,Dimension!$N$3:$P$89,3,FALSE),\"\")","v":""},null,null,{"$f":"IFERROR(VLOOKUP(E251,Dimension!$J$3:$K$179,2,FALSE),\"\")","v":""}]
[null,null,{"$f":"IFERROR(VLOOKUP(B252,Dimension!$N$3:$P$89,3,FALSE),\"\")","v":""},null,null,{"$f":"IFERROR(VLOOKUP(E252,Dimension!$J$3:$K$179,2,FALSE),\"\")","v":""}]
[null,null,{"$f":"IFERROR(VLOOKUP(B253,Dimension!$N$3:$P$89,3,FALSE),\"\")","v":""},null,null,{"$f":"IFERROR(VLOOKUP(E253,Dimension!$J$3:$K$179,2,FALSE),\"\")","v":""}]
[null,null,{"$f":"IFERROR(VLOOKUP(B254,Dimension!$N$3:$P$89,3,FALSE),\"\")","v":""},null,null,{"$f":"IFERROR(VLOOKUP(E254,Dimension!$J$3:$K$179,2,FALSE),\"\")","v":""}]
[null,null,{"$f":"IFERROR(VLOOKUP(B255,Dimension!$N$3:$P$89,3,FALSE),\"\")","v":""},null,null,{"$f":"IFERROR(VLOOKUP(E255,Dimension!$J$3:$K$179,2,FALSE),\"\")","v":""}]
[null,null,{"$f":"IFERROR(VLOOKUP(B256,Dimension!$N$3:$P$89,3,FALSE),\"\")","v":""},null,null,{"$f":"IFERROR(VLOOKUP(E256,Dimension!$J$3:$K$179,2,FALSE),\"\")","v":""}]
[null,null,{"$f":"IFERROR(VLOOKUP(B257,Dimension!$N$3:$P$89,3,FALSE),\"\")","v":""},null,null,{"$f":"IFERROR(VLOOKUP(E257,Dimension!$J$3:$K$179,2,FALSE),\"\")","v":""}]
[null,null,{"$f":"IFERROR(VLOOKUP(B258,Dimension!$N$3:$P$89,3,FALSE),\"\")","v":""},null,null,{"$f":"IFERROR(VLOOKUP(E258,Dimension!$J$3:$K$179,2,FALSE),\"\")","v":""}]
[null,null,{"$f":"IFERROR(VLOOKUP(B259,Dimension!$N$3:$P$89,3,FALSE),\"\")","v":""},null,null,{"$f":"IFERROR(VLOOKUP(E259,Dimension!$J$3:$K$179,2,FALSE),\"\")","v":""}]
[null,null,{"$f":"IFERROR(VLOOKUP(B260,Dimension!$N$3:$P$89,3,FALSE),\"\")","v":""},null,null,{"$f":"IFERROR(VLOOKUP(E260,Dimension!$J$3:$K$179,2,FALSE),\"\")","v":""}]
[null,null,{"$f":"IFERROR(VLOOKUP(B261,Dimension!$N$3:$P$89,3,FALSE),\"\")","v":""},null,null,{"$f":"IFERROR(VLOOKUP(E261,Dimension!$J$3:$K$179,2,FALSE),\"\")","v":""}]
[null,null,{"$f":"IFERROR(VLOOKUP(B262,Dimension!$N$3:$P$89,3,FALSE),\"\")","v":""},null,null,{"$f":"IFERROR(VLOOKUP(E262,Dimension!$J$3:$K$179,2,FALSE),\"\")","v":""}]
[null,null,{"$f":"IFERROR(VLOOKUP(B263,Dimension!$N$3:$P$89,3,FALSE),\"\")","v":""},null,null,{"$f":"IFERROR(VLOOKUP(E263,Dimension!$J$3:$K$179,2,FALSE),\"\")","v":""}]
[null,null,{"$f":"IFERROR(VLOOKUP(B264,Dimension!$N$3:$P$89,3,FALSE),\"\")","v":""},null,null,{"$f":"IFERROR(VLOOKUP(E264,Dimension!$J$3:$K$179,2,FALSE),\"\")","v":""}]
[null,null,{"$f":"IFERROR(VLOOKUP(B265,Dimension!$N$3:$P$89,3,FALSE),\"\")","v":""},null,null,{"$f":"IFERROR(VLOOKUP(E265,Dimension!$J$3:$K$179,2,FALSE),\"\")","v":""}]
[null,null,{"$f":"IFERROR(VLOOKUP(B266,Dimension!$N$3:$P$89,3,FALSE),\"\")","v":""},null,null,{"$f":"IFERROR(VLOOKUP(E266,Dimension!$J$3:$K$179,2,FALSE),\"\")","v":""}]
[null,null,{"$f":"IFERROR(VLOOKUP(B267,Dimension!$N$3:$P$89,3,FALSE),\"\")","v":""},null,null,{"$f":"IFERROR(VLOOKUP(E267,Dimension!$J$3:$K$179,2,FALSE),\"\")","v":""}]
[null,null,{"$f":"IFERROR(VLOOKUP(B268,Dimension!$N$3:$P$89,3,FALSE),\"\")","v":""},null,null,{"$f":"IFERROR(VLOOKUP(E268,Dimension!$J$3:$K$179,2,FALSE),\"\")","v":""}]
[null,null,{"$f":"IFERROR(VLOOKUP(B269,Dimension!$N$3:$P$89,3,FALSE),\"\")","v":""},null,null,{"$f":"IFERROR(VLOOKUP(E269,Dimension!$J$3:$K$179,2,FALSE),\"\")","v":""}]
[null,null,{"$f":"IFERROR(VLOOKUP(B270,Dimension!$N$3:$P$89,3,FALSE),\"\")","v":""},null,null,{"$f":"IFERROR(VLOOKUP(E270,Dimension!$J$3:$K$179,2,FALSE),\"\")","v":""}]
[null,null,{"$f":"IFERROR(VLOOKUP(B271,Dimension!$N$3:$P$89,3,FALSE),\"\")","v":""},null,null,{"$f":"IFERROR(VLOOKUP(E271,Dimension!$J$3:$K$179,2,FALSE),\"\")","v":""}]
[null,null,{"$f":"IFERROR(VLOOKUP(B272,Dimension!$N$3:$P$89,3,FALSE),\"\")","v":""},null,null,{"$f":"IFERROR(VLOOKUP(E272,Dimension!$J$3:$K$179,2,FALSE),\"\")","v":""}]
[null,null,{"$f":"IFERROR(VLOOKUP(B273,Dimension!$N$3:$P$89,3,FALSE),\"\")","v":""},null,null,{"$f":"IFERROR(VLOOKUP(E273,Dimension!$J$3:$K$179,2,FALSE),\"\")","v":""}]
[null,null,{"$f":"IFERROR(VLOOKUP(B274,Dimension!$N$3:$P$89,3,FALSE),\"\")","v":""},null,null,{"$f":"IFERROR(VLOOKUP(E274,Dimension!$J$3:$K$179,2,FALSE),\"\")","v":""}]
[null,null,{"$f":"IFERROR(VLOOKUP(B275,Dimension!$N$3:$P$89,3,FALSE),\"\")","v":""},null,null,{"$f":"IFERROR(VLOOKUP(E275,Dimension!$J$3:$K$179,2,FALSE),\"\")","v":""}]
[null,null,{"$f":"IFERROR(VLOOKUP(B276,Dimension!$N$3:$P$89,3,FALSE),\"\")","v":""},null,null,{"$f":"IFERROR(VLOOKUP(E276,Dimension!$J$3:$K$179,2,FALSE),\"\")","v":""}]
[null,null,{"$f":"IFERROR(VLOOKUP(B277,Dimension!$N$3:$P$89,3,FALSE),\"\")","v":""},null,null,{"$f":"IFERROR(VLOOKUP(E277,Dimension!$J$3:$K$179,2,FALSE),\"\")","v":""}]
[null,null,{"$f":"IFERROR(VLOOKUP(B278,Dimension!$N$3:$P$89,3,FALSE),\"\")","v":""},null,null,{"$f":"IFERROR(VLOOKUP(E278,Dimension!$J$3:$K$179,2,FALSE),\"\")","v":""}]
[null,null,{"$f":"IFERROR(VLOOKUP(B279,Dimension!$N$3:$P$89,3,FALSE),\"\")","v":""},null,null,{"$f":"IFERROR(VLOOKUP(E279,Dimension!$J$3:$K$179,2,FALSE),\"\")","v":""}]
[null,null,{"$f":"IFERROR(VLOOKUP(B280,Dimension!$N$3:$P$89,3,FALSE),\"\")","v":""},null,null,{"$f":"IFERROR(VLOOKUP(E280,Dimension!$J$3:$K$179,2,FALSE),\"\")","v":""}]
[null,null,{"$f":"IFERROR(VLOOKUP(B281,Dimension!$N$3:$P$89,3,FALSE),\"\")","v":""},null,null,{"$f":"IFERROR(VLOOKUP(E281,Dimension!$J$3:$K$179,2,FALSE),\"\")","v":""}]
[null,null,{"$f":"IFERROR(VLOOKUP(B282,Dimension!$N$3:$P$89,3,FALSE),\"\")","v":""},null,null,{"$f":"IFERROR(VLOOKUP(E282,Dimension!$J$3:$K$179,2,FALSE),\"\")","v":""}]
[null,null,{"$f":"IFERROR(VLOOKUP(B283,Dimension!$N$3:$P$89,3,FALSE),\"\")","v":""},null,null,{"$f":"IFERROR(VLOOKUP(E283,Dimension!$J$3:$K$179,2,FALSE),\"\")","v":""}]
[null,null,{"$f":"IFERROR(VLOOKUP(B284,Dimension!$N$3:$P$89,3,FALSE),\"\")","v":""},null,null,{"$f":"IFERROR(VLOOKUP(E284,Dimension!$J$3:$K$179,2,FALSE),\"\")","v":""}]
[null,null,{"$f":"IFERROR(VLOOKUP(B285,Dimension!$N$3:$P$89,3,FALSE),\"\")","v":""},null,null,{"$f":"IFERROR(VLOOKUP(E285,Dimension!$J$3:$K$179,2,FALSE),\"\")","v":""}]
[null,null,{"$f":"IFERROR(VLOOKUP(B286,Dimension!$N$3:$P$89,3,FALSE),\"\")","v":""},null,null,{"$f":"IFERROR(VLOOKUP(E286,Dimension!$J$3:$K$179,2,FALSE),\"\")","v":""}]
[null,null,{"$f":"IFERROR(VLOOKUP(B287,Dimension!$N$3:$P$89,3,FALSE),\"\")","v":""},null,null,{"$f":"IFERROR(VLOOKUP(E287,Dimension!$J$3:$K$179,2,FALSE),\"\")","v":""}]
[null,null,{"$f":"IFERROR(VLOOKUP(B288,Dimension!$N$3:$P$89,3,FALSE),\"\")","v":""},null,null,{"$f":"IFERROR(VLOOKUP(E288,Dimension!$J$3:$K$179,2,FALSE),\"\")","v":""}]
[null,null,{"$f":"IFERROR(VLOOKUP(B289,Dimension!$N$3:$P$89,3,FALSE),\"\")","v":""},null,null,{"$f":"IFERROR(VLOOKUP(E289,Dimension!$J$3:$K$179,2,FALSE),\"\")","v":""}]
[null,null,{"$f":"IFERROR(VLOOKUP(B290,Dimension!$N$3:$P$89,3,FALSE),\"\")","v":""},null,null,{"$f":"IFERROR(VLOOKUP(E290,Dimension!$J$3:$K$179,2,FALSE),\"\")","v":""}]
[null,null,{"$f":"IFERROR(VLOOKUP(B291,Dimension!$N$3:$P$89,3,FALSE),\"\")","v":""},null,null,{"$f":"IFERROR(VLOOKUP(E291,Dimension!$J$3:$K$179,2,FALSE),\"\")","v":""}]
[null,null,{"$f":"IFERROR(VLOOKUP(B292,Dimension!$N$3:$P$89,3,FALSE),\"\")","v":""},null,null,{"$f":"IFERROR(VLOOKUP(E292,Dimension!$J$3:$K$179,2,FALSE),\"\")","v":""}]
[null,null,{"$f":"IFERROR(VLOOKUP(B293,Dimension!$N$3:$P$89,3,FALSE),\"\")","v":""},null,null,{"$f":"IFERROR(VLOOKUP(E293,Dimension!$J$3:$K$179,2,FALSE),\"\")","v":""}]
[null,null,{"$f":"IFERROR(VLOOKUP(B294,Dimension!$N$3:$P$89,3,FALSE),\"\")","v":""},null,null,{"$f":"IFERROR(VLOOKUP(E294,Dimension!$J$3:$K$179,2,FALSE),\"\")","v":""}]
[null,null,{"$f":"IFERROR(VLOOKUP(B295,Dimension!$N$3:$P$89,3,FALSE),\"\")","v":""},null,null,{"$f":"IFERROR(VLOOKUP(E295,Dimension!$J$3:$K$179,2,FALSE),\"\")","v":""}]
[null,null,{"$f":"IFERROR(VLOOKUP(B296,Dimension!$N$3:$P$89,3,FALSE),\"\")","v":""},null,null,{"$f":"IFERROR(VLOOKUP(E296,Dimension!$J$3:$K$179,2,FALSE),\"\")","v":""}]
[null,null,{"$f":"IFERROR(VLOOKUP(B297,Dimension!$N$3:$P$89,3,FALSE),\"\")","v":""},null,null,{"$f":"IFERROR(VLOOKUP(E297,Dimension!$J$3:$K$179,2,FALSE),\"\")","v":""}]
[null,null,{"$f":"IFERROR(VLOOKUP(B298,Dimension!$N$3:$P$89,3,FALSE),\"\")","v":""},null,null,{"$f":"IFERROR(VLOOKUP(E298,Dimension!$J$3:$K$179,2,FALSE),\"\")","v":""}]
[null,null,{"$f":"IFERROR(VLOOKUP(B299,Dimension!$N$3:$P$89,3,FALSE),\"\")","v":""},null,null,{"$f":"IFERROR(VLOOKUP(E299,Dimension!$J$3:$K$179,2,FALSE),\"\")","v":""}]
[null,null,{"$f":"IFERROR(VLOOKUP(B300,Dimension!$N$3:$P$89,3,FALSE),\"\")","v":""},null,null,{"$f":"IFERROR(VLOOKUP(E300,Dimension!$J$3:$K$179,2,FALSE),\"\")","v":""}]
[null,null,{"$f":"IFERROR(VLOOKUP(B301,Dimension!$N$3:$P$89,3,FALSE),\"\")","v":""},null,null,{"$f":"IFERROR(VLOOKUP(E301,Dimension!$J$3:$K$179,2,FALSE),\"\")","v":""}]
[null,null,{"$f":"IFERROR(VLOOKUP(B302,Dimension!$N$3:$P$89,3,FALSE),\"\")","v":""},null,null,{"$f":"IFERROR(VLOOKUP(E302,Dimension!$J$3:$K$179,2,FALSE),\"\")","v":""}]
[null,null,{"$f":"IFERROR(VLOOKUP(B303,Dimension!$N$3:$P$89,3,FALSE),\"\")","v":""},null,null,{"$f":"IFERROR(VLOOKUP(E303,Dimension!$J$3:$K$179,2,FALSE),\"\")","v":""}]
[null,null,{"$f":"IFERROR(VLOOKUP(B304,Dimension!$N$3:$P$89,3,FALSE),\"\")","v":""},null,null,{"$f":"IFERROR(VLOOKUP(E304,Dimension!$J$3:$K$179,2,FALSE),\"\")","v":""}]
[null,null,{"$f":"IFERROR(VLOOKUP(B305,Dimension!$N$3:$P$89,3,FALSE),\"\")","v":""},null,null,{"$f":"IFERROR(VLOOKUP(E305,Dimension!$J$3:$K$179,2,FALSE),\"\")","v":""}]
[null,null,{"$f":"IFERROR(VLOOKUP(B306,Dimension!$N$3:$P$89,3,FALSE),\"\")","v":""},null,null,{"$f":"IFERROR(VLOOKUP(E306,Dimension!$J$3:$K$179,2,FALSE),\"\")","v":""}]
[null,null,{"$f":"IFERROR(VLOOKUP(B307,Dimension!$N$3:$P$89,3,FALSE),\"\")","v":""},null,null,{"$f":"IFERROR(VLOOKUP(E307,Dimension!$J$3:$K$179,2,FALSE),\"\")","v":""}]
[null,null,{"$f":"IFERROR(VLOOKUP(B308,Dimension!$N$3:$P$89,3,FALSE),\"\")","v":""},null,null,{"$f":"IFERROR(VLOOKUP(E308,Dimension!$J$3:$K$179,2,FALSE),\"\")","v":""}]
[null,null,{"$f":"IFERROR(VLOOKUP(B309,Dimension!$N$3:$P$89,3,FALSE),\"\")","v":""},null,null,{"$f":"IFERROR(VLOOKUP(E309,Dimension!$J$3:$K$179,2,FALSE),\"\")","v":""}]
[null,null,{"$f":"IFERROR(VLOOKUP(B310,Dimension!$N$3:$P$89,3,FALSE),\"\")","v":""},null,null,{"$f":"IFERROR(VLOOKUP(E310,Dimension!$J$3:$K$179,2,FALSE),\"\")","v":""}]
[null,null,{"$f":"IFERROR(VLOOKUP(B311,Dimension!$N$3:$P$89,3,FALSE),\"\")","v":""},null,null,{"$f":"IFERROR(VLOOKUP(E311,Dimension!$J$3:$K$179,2,FALSE),\"\")","v":""}]
[null,null,{"$f":"IFERROR(VLOOKUP(B312,Dimension!$N$3:$P$89,3,FALSE),\"\")","v":""},null,null,{"$f":"IFERROR(VLOOKUP(E312,Dimension!$J$3:$K$179,2,FALSE),\"\")","v":""}]
[null,null,{"$f":"IFERROR(VLOOKUP(B313,Dimension!$N$3:$P$89,3,FALSE),\"\")","v":""},null,null,{"$f":"IFERROR(VLOOKUP(E313,Dimension!$J$3:$K$179,2,FALSE),\"\")","v":""}]
[null,null,{"$f":"IFERROR(VLOOKUP(B314,Dimension!$N$3:$P$89,3,FALSE),\"\")","v":""},null,null,{"$f":"IFERROR(VLOOKUP(E314,Dimension!$J$3:$K$179,2,FALSE),\"\")","v":""}]
[null,null,{"$f":"IFERROR(VLOOKUP(B315,Dimension!$N$3:$P$89,3,FALSE),\"\")","v":""},null,null,{"$f":"IFERROR(VLOOKUP(E315,Dimension!$J$3:$K$179,2,FALSE),\"\")","v":""}]
[null,null,{"$f":"IFERROR(VLOOKUP(B316,Dimension!$N$3:$P$89,3,FALSE),\"\")","v":""},null,null,{"$f":"IFERROR(VLOOKUP(E316,Dimension!$J$3:$K$179,2,FALSE),\"\")","v":""}]
[null,null,{"$f":"IFERROR(VLOOKUP(B317,Dimension!$N$3:$P$89,3,FALSE),\"\")","v":""},null,null,{"$f":"IFERROR(VLOOKUP(E317,Dimension!$J$3:$K$179,2,FALSE),\"\")","v":""}]
[null,null,{"$f":"IFERROR(VLOOKUP(B318,Dimension!$N$3:$P$89,3,FALSE),\"\")","v":""},null,null,{"$f":"IFERROR(VLOOKUP(E318,Dimension!$J$3:$K$179,2,FALSE),\"\")","v":""}]
[null,null,{"$f":"IFERROR(VLOOKUP(B319,Dimension!$N$3:$P$89,3,FALSE),\"\")","v":""},null,null,{"$f":"IFERROR(VLOOKUP(E319,Dimension!$J$3:$K$179,2,FALSE),\"\")","v":""}]
[null,null,{"$f":"IFERROR(VLOOKUP(B320,Dimension!$N$3:$P$89,3,FALSE),\"\")","v":""},null,null,{"$f":"IFERROR(VLOOKUP(E320,Dimension!$J$3:$K$179,2,FALSE),\"\")","v":""}]
[null,null,{"$f":"IFERROR(VLOOKUP(B321,Dimension!$N$3:$P$89,3,FALSE),\"\")","v":""},null,null,{"$f":"IFERROR(VLOOKUP(E321,Dimension!$J$3:$K$179,2,FALSE),\"\")","v":""}]
[null,null,{"$f":"IFERROR(VLOOKUP(B322,Dimension!$N$3:$P$89,3,FALSE),\"\")","v":""},null,null,{"$f":"IFERROR(VLOOKUP(E322,Dimension!$J$3:$K$179,2,FALSE),\"\")","v":""}]
[null,null,{"$f":"IFERROR(VLOOKUP(B323,Dimension!$N$3:$P$89,3,FALSE),\"\")","v":""},null,null,{"$f":"IFERROR(VLOOKUP(E323,Dimension!$J$3:$K$179,2,FALSE),\"\")","v":""}]
[null,null,{"$f":"IFERROR(VLOOKUP(B324,Dimension!$N$3:$P$89,3,FALSE),\"\")","v":""},null,null,{"$f":"IFERROR(VLOOKUP(E324,Dimension!$J$3:$K$179,2,FALSE),\"\")","v":""}]
[null,null,{"$f":"IFERROR(VLOOKUP(B325,Dimension!$N$3:$P$89,3,FALSE),\"\")","v":""},null,null,{"$f":"IFERROR(VLOOKUP(E325,Dimension!$J$3:$K$179,2,FALSE),\"\")","v":""}]
[null,null,{"$f":"IFERROR(VLOOKUP(B326,Dimension!$N$3:$P$89,3,FALSE),\"\")","v":""},null,null,{"$f":"IFERROR(VLOOKUP(E326,Dimension!$J$3:$K$179,2,FALSE),\"\")","v":""}]
[null,null,{"$f":"IFERROR(VLOOKUP(B327,Dimension!$N$3:$P$89,3,FALSE),\"\")","v":""},null,null,{"$f":"IFERROR(VLOOKUP(E327,Dimension!$J$3:$K$179,2,FALSE),\"\")","v":""}]
[null,null,{"$f":"IFERROR(VLOOKUP(B328,Dimension!$N$3:$P$89,3,FALSE),\"\")","v":""},null,null,{"$f":"IFERROR(VLOOKUP(E328,Dimension!$J$3:$K$179,2,FALSE),\"\")","v":""}]
[null,null,{"$f":"IFERROR(VLOOKUP(B329,Dimension!$N$3:$P$89,3,FALSE),\"\")","v":""},null,null,{"$f":"IFERROR(VLOOKUP(E329,Dimension!$J$3:$K$179,2,FALSE),\"\")","v":""}]
[null,null,{"$f":"IFERROR(VLOOKUP(B330,Dimension!$N$3:$P$89,3,FALSE),\"\")","v":""},null,null,{"$f":"IFERROR(VLOOKUP(E330,Dimension!$J$3:$K$179,2,FALSE),\"\")","v":""}]
[null,null,{"$f":"IFERROR(VLOOKUP(B331,Dimension!$N$3:$P$89,3,FALSE),\"\")","v":""},null,null,{"$f":"IFERROR(VLOOKUP(E331,Dimension!$J$3:$K$179,2,FALSE),\"\")","v":""}]
[null,null,{"$f":"IFERROR(VLOOKUP(B332,Dimension!$N$3:$P$89,3,FALSE),\"\")","v":""},null,null,{"$f":"IFERROR(VLOOKUP(E332,Dimension!$J$3:$K$179,2,FALSE),\"\")","v":""}]
[null,null,{"$f":"IFERROR(VLOOKUP(B333,Dimension!$N$3:$P$89,3,FALSE),\"\")","v":""},null,null,{"$f":"IFERROR(VLOOKUP(E333,Dimension!$J$3:$K$179,2,FALSE),\"\")","v":""}]
[null,null,{"$f":"IFERROR(VLOOKUP(B334,Dimension!$N$3:$P$89,3,FALSE),\"\")","v":""},null,null,{"$f":"IFERROR(VLOOKUP(E334,Dimension!$J$3:$K$179,2,FALSE),\"\")","v":""}]
[null,null,{"$f":"IFERROR(VLOOKUP(B335,Dimension!$N$3:$P$89,3,FALSE),\"\")","v":""},null,null,{"$f":"IFERROR(VLOOKUP(E335,Dimension!$J$3:$K$179,2,FALSE),\"\")","v":""}]
[null,null,{"$f":"IFERROR(VLOOKUP(B336,Dimension!$N$3:$P$89,3,FALSE),\"\")","v":""},null,null,{"$f":"IFERROR(VLOOKUP(E336,Dimension!$J$3:$K$179,2,FALSE),\"\")","v":""}]
[null,null,{"$f":"IFERROR(VLOOKUP(B337,Dimension!$N$3:$P$89,3,FALSE),\"\")","v":""},null,null,{"$f":"IFERROR(VLOOKUP(E337,Dimension!$J$3:$K$179,2,FALSE),\"\")","v":""}]
[null,null,{"$f":"IFERROR(VLOOKUP(B338,Dimension!$N$3:$P$89,3,FALSE),\"\")","v":""},null,null,{"$f":"IFERROR(VLOOKUP(E338,Dimension!$J$3:$K$179,2,FALSE),\"\")","v":""}]
[null,null,{"$f":"IFERROR(VLOOKUP(B339,Dimension!$N$3:$P$89,3,FALSE),\"\")","v":""},null,null,{"$f":"IFERROR(VLOOKUP(E339,Dimension!$J$3:$K$179,2,FALSE),\"\")","v":""}]
[null,null,{"$f":"IFERROR(VLOOKUP(B340,Dimension!$N$3:$P$89,3,FALSE),\"\")","v":""},null,null,{"$f":"IFERROR(VLOOKUP(E340,Dimension!$J$3:$K$179,2,FALSE),\"\")","v":""}]
[null,null,{"$f":"IFERROR(VLOOKUP(B341,Dimension!$N$3:$P$89,3,FALSE),\"\")","v":""},null,null,{"$f":"IFERROR(VLOOKUP(E341,Dimension!$J$3:$K$179,2,FALSE),\"\")","v":""}]
[null,null,{"$f":"IFERROR(VLOOKUP(B342,Dimension!$N$3:$P$89,3,FALSE),\"\")","v":""},null,null,{"$f":"IFERROR(VLOOKUP(E342,Dimension!$J$3:$K$179,2,FALSE),\"\")","v":""}]
[null,null,{"$f":"IFERROR(VLOOKUP(B343,Dimension!$N$3:$P$89,3,FALSE),\"\")","v":""},null,null,{"$f":"IFERROR(VLOOKUP(E343,Dimension!$J$3:$K$179,2,FALSE),\"\")","v":""}]
[null,null,{"$f":"IFERROR(VLOOKUP(B344,Dimension!$N$3:$P$89,3,FALSE),\"\")","v":""},null,null,{"$f":"IFERROR(VLOOKUP(E344,Dimension!$J$3:$K$179,2,FALSE),\"\")","v":""}]
[null,null,{"$f":"IFERROR(VLOOKUP(B345,Dimension!$N$3:$P$89,3,FALSE),\"\")","v":""},null,null,{"$f":"IFERROR(VLOOKUP(E345,Dimension!$J$3:$K$179,2,FALSE),\"\")","v":""}]
[null,null,{"$f":"IFERROR(VLOOKUP(B346,Dimension!$N$3:$P$89,3,FALSE),\"\")","v":""},null,null,{"$f":"IFERROR(VLOOKUP(E346,Dimension!$J$3:$K$179,2,FALSE),\"\")","v":""}]
[null,null,{"$f":"IFERROR(VLOOKUP(B347,Dimension!$N$3:$P$89,3,FALSE),\"\")","v":""},null,null,{"$f":"IFERROR(VLOOKUP(E347,Dimension!$J$3:$K$179,2,FALSE),\"\")","v":""}]
[null,null,{"$f":"IFERROR(VLOOKUP(B348,Dimension!$N$3:$P$89,3,FALSE),\"\")","v":""},null,null,{"$f":"IFERROR(VLOOKUP(E348,Dimension!$J$3:$K$179,2,FALSE),\"\")","v":""}]
[null,null,{"$f":"IFERROR(VLOOKUP(B349,Dimension!$N$3:$P$89,3,FALSE),\"\")","v":""},null,null,{"$f":"IFERROR(VLOOKUP(E349,Dimension!$J$3:$K$179,2,FALSE),\"\")","v":""}]
[null,null,{"$f":"IFERROR(VLOOKUP(B350,Dimension!$N$3:$P$89,3,FALSE),\"\")","v":""},null,null,{"$f":"IFERROR(VLOOKUP(E350,Dimension!$J$3:$K$179,2,FALSE),\"\")","v":""}]
[null,null,{"$f":"IFERROR(VLOOKUP(B351,Dimension!$N$3:$P$89,3,FALSE),\"\")","v":""},null,null,{"$f":"IFERROR(VLOOKUP(E351,Dimension!$J$3:$K$179,2,FALSE),\"\")","v":""}]
[null,null,{"$f":"IFERROR(VLOOKUP(B352,Dimension!$N$3:$P$89,3,FALSE),\"\")","v":""},null,null,{"$f":"IFERROR(VLOOKUP(E352,Dimension!$J$3:$K$179,2,FALSE),\"\")","v":""}]
[null,null,{"$f":"IFERROR(VLOOKUP(B353,Dimension!$N$3:$P$89,3,FALSE),\"\")","v":""},null,null,{"$f":"IFERROR(VLOOKUP(E353,Dimension!$J$3:$K$179,2,FALSE),\"\")","v":""}]
[null,null,{"$f":"IFERROR(VLOOKUP(B354,Dimension!$N$3:$P$89,3,FALSE),\"\")","v":""},null,null,{"$f":"IFERROR(VLOOKUP(E354,Dimension!$J$3:$K$179,2,FALSE),\"\")","v":""}]
[null,null,{"$f":"IFERROR(VLOOKUP(B355,Dimension!$N$3:$P$89,3,FALSE),\"\")","v":""},null,null,{"$f":"IFERROR(VLOOKUP(E355,Dimension!$J$3:$K$179,2,FALSE),\"\")","v":""}]
[null,null,{"$f":"IFERROR(VLOOKUP(B356,Dimension!$N$3:$P$89,3,FALSE),\"\")","v":""},null,null,{"$f":"IFERROR(VLOOKUP(E356,Dimension!$J$3:$K$179,2,FALSE),\"\")","v":""}]
[null,null,{"$f":"IFERROR(VLOOKUP(B357,Dimension!$N$3:$P$89,3,FALSE),\"\")","v":""},null,null,{"$f":"IFERROR(VLOOKUP(E357,Dimension!$J$3:$K$179,2,FALSE),\"\")","v":""}]
[null,null,{"$f":"IFERROR(VLOOKUP(B358,Dimension!$N$3:$P$89,3,FALSE),\"\")","v":""},null,null,{"$f":"IFERROR(VLOOKUP(E358,Dimension!$J$3:$K$179,2,FALSE),\"\")","v":""}]
[null,null,{"$f":"IFERROR(VLOOKUP(B359,Dimension!$N$3:$P$89,3,FALSE),\"\")","v":""},null,null,{"$f":"IFERROR(VLOOKUP(E359,Dimension!$J$3:$K$179,2,FALSE),\"\")","v":""}]
[null,null,{"$f":"IFERROR(VLOOKUP(B360,Dimension!$N$3:$P$89,3,FALSE),\"\")","v":""},null,null,{"$f":"IFERROR(VLOOKUP(E360,Dimension!$J$3:$K$179,2,FALSE),\"\")","v":""}]
[null,null,{"$f":"IFERROR(VLOOKUP(B361,Dimension!$N$3:$P$89,3,FALSE),\"\")","v":""},null,null,{"$f":"IFERROR(VLOOKUP(E361,Dimension!$J$3:$K$179,2,FALSE),\"\")","v":""}]
[null,null,{"$f":"IFERROR(VLOOKUP(B362,Dimension!$N$3:$P$89,3,FALSE),\"\")","v":""},null,null,{"$f":"IFERROR(VLOOKUP(E362,Dimension!$J$3:$K$179,2,FALSE),\"\")","v":""}]
[null,null,{"$f":"IFERROR(VLOOKUP(B363,Dimension!$N$3:$P$89,3,FALSE),\"\")","v":""},null,null,{"$f":"IFERROR(VLOOKUP(E363,Dimension!$J$3:$K$179,2,FALSE),\"\")","v":""}]
[null,null,{"$f":"IFERROR(VLOOKUP(B364,Dimension!$N$3:$P$89,3,FALSE),\"\")","v":""},null,null,{"$f":"IFERROR(VLOOKUP(E364,Dimension!$J$3:$K$179,2,FALSE),\"\")","v":""}]
[null,null,{"$f":"IFERROR(VLOOKUP(B365,Dimension!$N$3:$P$89,3,FALSE),\"\")","v":""},null,null,{"$f":"IFERROR(VLOOKUP(E365,Dimension!$J$3:$K$179,2,FALSE),\"\")","v":""}]
[null,null,{"$f":"IFERROR(VLOOKUP(B366,Dimension!$N$3:$P$89,3,FALSE),\"\")","v":""},null,null,{"$f":"IFERROR(VLOOKUP(E366,Dimension!$J$3:$K$179,2,FALSE),\"\")","v":""}]
[null,null,{"$f":"IFERROR(VLOOKUP(B367,Dimension!$N$3:$P$89,3,FALSE),\"\")","v":""},null,null,{"$f":"IFERROR(VLOOKUP(E367,Dimension!$J$3:$K$179,2,FALSE),\"\")","v":""}]
[null,null,{"$f":"IFERROR(VLOOKUP(B368,Dimension!$N$3:$P$89,3,FALSE),\"\")","v":""},null,null,{"$f":"IFERROR(VLOOKUP(E368,Dimension!$J$3:$K$179,2,FALSE),\"\")","v":""}]
[null,null,{"$f":"IFERROR(VLOOKUP(B369,Dimension!$N$3:$P$89,3,FALSE),\"\")","v":""},null,null,{"$f":"IFERROR(VLOOKUP(E369,Dimension!$J$3:$K$179,2,FALSE),\"\")","v":""}]
[null,null,{"$f":"IFERROR(VLOOKUP(B370,Dimension!$N$3:$P$89,3,FALSE),\"\")","v":""},null,null,{"$f":"IFERROR(VLOOKUP(E370,Dimension!$J$3:$K$179,2,FALSE),\"\")","v":""}]
[null,null,{"$f":"IFERROR(VLOOKUP(B371,Dimension!$N$3:$P$89,3,FALSE),\"\")","v":""},null,null,{"$f":"IFERROR(VLOOKUP(E371,Dimension!$J$3:$K$179,2,FALSE),\"\")","v":""}]
[null,null,{"$f":"IFERROR(VLOOKUP(B372,Dimension!$N$3:$P$89,3,FALSE),\"\")","v":""},null,null,{"$f":"IFERROR(VLOOKUP(E372,Dimension!$J$3:$K$179,2,FALSE),\"\")","v":""}]
[null,null,{"$f":"IFERROR(VLOOKUP(B373,Dimension!$N$3:$P$89,3,FALSE),\"\")","v":""},null,null,{"$f":"IFERROR(VLOOKUP(E373,Dimension!$J$3:$K$179,2,FALSE),\"\")","v":""}]
[null,null,{"$f":"IFERROR(VLOOKUP(B374,Dimension!$N$3:$P$89,3,FALSE),\"\")","v":""},null,null,{"$f":"IFERROR(VLOOKUP(E374,Dimension!$J$3:$K$179,2,FALSE),\"\")","v":""}]
[null,null,{"$f":"IFERROR(VLOOKUP(B375,Dimension!$N$3:$P$89,3,FALSE),\"\")","v":""},null,null,{"$f":"IFERROR(VLOOKUP(E375,Dimension!$J$3:$K$179,2,FALSE),\"\")","v":""}]
[null,null,{"$f":"IFERROR(VLOOKUP(B376,Dimension!$N$3:$P$89,3,FALSE),\"\")","v":""},null,null,{"$f":"IFERROR(VLOOKUP(E376,Dimension!$J$3:$K$179,2,FALSE),\"\")","v":""}]
[null,null,{"$f":"IFERROR(VLOOKUP(B377,Dimension!$N$3:$P$89,3,FALSE),\"\")","v":""},null,null,{"$f":"IFERROR(VLOOKUP(E377,Dimension!$J$3:$K$179,2,FALSE),\"\")","v":""}]
[null,null,{"$f":"IFERROR(VLOOKUP(B378,Dimension!$N$3:$P$89,3,FALSE),\"\")","v":""},null,null,{"$f":"IFERROR(VLOOKUP(E378,Dimension!$J$3:$K$179,2,FALSE),\"\")","v":""}]
[null,null,{"$f":"IFERROR(VLOOKUP(B379,Dimension!$N$3:$P$89,3,FALSE),\"\")","v":""},null,null,{"$f":"IFERROR(VLOOKUP(E379,Dimension!$J$3:$K$179,2,FALSE),\"\")","v":""}]
[null,null,{"$f":"IFERROR(VLOOKUP(B380,Dimension!$N$3:$P$89,3,FALSE),\"\")","v":""},null,null,{"$f":"IFERROR(VLOOKUP(E380,Dimension!$J$3:$K$179,2,FALSE),\"\")","v":""}]
[null,null,{"$f":"IFERROR(VLOOKUP(B381,Dimension!$N$3:$P$89,3,FALSE),\"\")","v":""},null,null,{"$f":"IFERROR(VLOOKUP(E381,Dimension!$J$3:$K$179,2,FALSE),\"\")","v":""}]
[null,null,{"$f":"IFERROR(VLOOKUP(B382,Dimension!$N$3:$P$89,3,FALSE),\"\")","v":""},null,null,{"$f":"IFERROR(VLOOKUP(E382,Dimension!$J$3:$K$179,2,FALSE),\"\")","v":""}]
[null,null,{"$f":"IFERROR(VLOOKUP(B383,Dimension!$N$3:$P$89,3,FALSE),\"\")","v":""},null,null,{"$f":"IFERROR(VLOOKUP(E383,Dimension!$J$3:$K$179,2,FALSE),\"\")","v":""}]
[null,null,{"$f":"IFERROR(VLOOKUP(B384,Dimension!$N$3:$P$89,3,FALSE),\"\")","v":""},null,null,{"$f":"IFERROR(VLOOKUP(E384,Dimension!$J$3:$K$179,2,FALSE),\"\")","v":""}]
[null,null,{"$f":"IFERROR(VLOOKUP(B385,Dimension!$N$3:$P$89,3,FALSE),\"\")","v":""},null,null,{"$f":"IFERROR(VLOOKUP(E385,Dimension!$J$3:$K$179,2,FALSE),\"\")","v":""}]
[null,null,{"$f":"IFERROR(VLOOKUP(B386,Dimension!$N$3:$P$89,3,FALSE),\"\")","v":""},null,null,{"$f":"IFERROR(VLOOKUP(E386,Dimension!$J$3:$K$179,2,FALSE),\"\")","v":""}]
[null,null,{"$f":"IFERROR(VLOOKUP(B387,Dimension!$N$3:$P$89,3,FALSE),\"\")","v":""},null,null,{"$f":"IFERROR(VLOOKUP(E387,Dimension!$J$3:$K$179,2,FALSE),\"\")","v":""}]
[null,null,{"$f":"IFERROR(VLOOKUP(B388,Dimension!$N$3:$P$89,3,FALSE),\"\")","v":""},null,null,{"$f":"IFERROR(VLOOKUP(E388,Dimension!$J$3:$K$179,2,FALSE),\"\")","v":""}]
[null,null,{"$f":"IFERROR(VLOOKUP(B389,Dimension!$N$3:$P$89,3,FALSE),\"\")","v":""},null,null,{"$f":"IFERROR(VLOOKUP(E389,Dimension!$J$3:$K$179,2,FALSE),\"\")","v":""}]
[null,null,{"$f":"IFERROR(VLOOKUP(B390,Dimension!$N$3:$P$89,3,FALSE),\"\")","v":""},null,null,{"$f":"IFERROR(VLOOKUP(E390,Dimension!$J$3:$K$179,2,FALSE),\"\")","v":""}]
[null,null,{"$f":"IFERROR(VLOOKUP(B391,Dimension!$N$3:$P$89,3,FALSE),\"\")","v":""},null,null,{"$f":"IFERROR(VLOOKUP(E391,Dimension!$J$3:$K$179,2,FALSE),\"\")","v":""}]
[null,null,{"$f":"IFERROR(VLOOKUP(B392,Dimension!$N$3:$P$89,3,FALSE),\"\")","v":""},null,null,{"$f":"IFERROR(VLOOKUP(E392,Dimension!$J$3:$K$179,2,FALSE),\"\")","v":""}]
[null,null,{"$f":"IFERROR(VLOOKUP(B393,Dimension!$N$3:$P$89,3,FALSE),\"\")","v":""},null,null,{"$f":"IFERROR(VLOOKUP(E393,Dimension!$J$3:$K$179,2,FALSE),\"\")","v":""}]
[null,null,{"$f":"IFERROR(VLOOKUP(B394,Dimension!$N$3:$P$89,3,FALSE),\"\")","v":""},null,null,{"$f":"IFERROR(VLOOKUP(E394,Dimension!$J$3:$K$179,2,FALSE),\"\")","v":""}]
[null,null,{"$f":"IFERROR(VLOOKUP(B395,Dimension!$N$3:$P$89,3,FALSE),\"\")","v":""},null,null,{"$f":"IFERROR(VLOOKUP(E395,Dimension!$J$3:$K$179,2,FALSE),\"\")","v":""}]
[null,null,{"$f":"IFERROR(VLOOKUP(B396,Dimension!$N$3:$P$89,3,FALSE),\"\")","v":""},null,null,{"$f":"IFERROR(VLOOKUP(E396,Dimension!$J$3:$K$179,2,FALSE),\"\")","v":""}]
[null,null,{"$f":"IFERROR(VLOOKUP(B397,Dimension!$N$3:$P$89,3,FALSE),\"\")","v":""},null,null,{"$f":"IFERROR(VLOOKUP(E397,Dimension!$J$3:$K$179,2,FALSE),\"\")","v":""}]
[null,null,{"$f":"IFERROR(VLOOKUP(B398,Dimension!$N$3:$P$89,3,FALSE),\"\")","v":""},null,null,{"$f":"IFERROR(VLOOKUP(E398,Dimension!$J$3:$K$179,2,FALSE),\"\")","v":""}]
[null,null,{"$f":"IFERROR(VLOOKUP(B399,Dimension!$N$3:$P$89,3,FALSE),\"\")","v":""},null,null,{"$f":"IFERROR(VLOOKUP(E399,Dimension!$J$3:$K$179,2,FALSE),\"\")","v":""}]
[null,null,{"$f":"IFERROR(VLOOKUP(B400,Dimension!$N$3:$P$89,3,FALSE),\"\")","v":""},null,null,{"$f":"IFERROR(VLOOKUP(E400,Dimension!$J$3:$K$179,2,FALSE),\"\")","v":""}]
[null,null,{"$f":"IFERROR(VLOOKUP(B401,Dimension!$N$3:$P$89,3,FALSE),\"\")","v":""},null,null,{"$f":"IFERROR(VLOOKUP(E401,Dimension!$J$3:$K$179,2,FALSE),\"\")","v":""}]
[null,null,{"$f":"IFERROR(VLOOKUP(B402,Dimension!$N$3:$P$89,3,FALSE),\"\")","v":""},null,null,{"$f":"IFERROR(VLOOKUP(E402,Dimension!$J$3:$K$179,2,FALSE),\"\")","v":""}]
[null,null,{"$f":"IFERROR(VLOOKUP(B403,Dimension!$N$3:$P$89,3,FALSE),\"\")","v":""},null,null,{"$f":"IFERROR(VLOOKUP(E403,Dimension!$J$3:$K$179,2,FALSE),\"\")","v":""}]
[null,null,{"$f":"IFERROR(VLOOKUP(B404,Dimension!$N$3:$P$89,3,FALSE),\"\")","v":""},null,null,{"$f":"IFERROR(VLOOKUP(E404,Dimension!$J$3:$K$179,2,FALSE),\"\")","v":""}]
[null,null,{"$f":"IFERROR(VLOOKUP(B405,Dimension!$N$3:$P$89,3,FALSE),\"\")","v":""},null,null,{"$f":"IFERROR(VLOOKUP(E405,Dimension!$J$3:$K$179,2,FALSE),\"\")","v":""}]
[null,null,{"$f":"IFERROR(VLOOKUP(B406,Dimension!$N$3:$P$89,3,FALSE),\"\")","v":""},null,null,{"$f":"IFERROR(VLOOKUP(E406,Dimension!$J$3:$K$179,2,FALSE),\"\")","v":""}]
[null,null,{"$f":"IFERROR(VLOOKUP(B407,Dimension!$N$3:$P$89,3,FALSE),\"\")","v":""},null,null,{"$f":"IFERROR(VLOOKUP(E407,Dimension!$J$3:$K$179,2,FALSE),\"\")","v":""}]
[null,null,{"$f":"IFERROR(VLOOKUP(B408,Dimension!$N$3:$P$89,3,FALSE),\"\")","v":""},null,null,{"$f":"IFERROR(VLOOKUP(E408,Dimension!$J$3:$K$179,2,FALSE),\"\")","v":""}]
[null,null,{"$f":"IFERROR(VLOOKUP(B409,Dimension!$N$3:$P$89,3,FALSE),\"\")","v":""},null,null,{"$f":"IFERROR(VLOOKUP(E409,Dimension!$J$3:$K$179,2,FALSE),\"\")","v":""}]
[null,null,{"$f":"IFERROR(VLOOKUP(B410,Dimension!$N$3:$P$89,3,FALSE),\"\")","v":""},null,null,{"$f":"IFERROR(VLOOKUP(E410,Dimension!$J$3:$K$179,2,FALSE),\"\")","v":""}]
[null,null,{"$f":"IFERROR(VLOOKUP(B411,Dimension!$N$3:$P$89,3,FALSE),\"\")","v":""},null,null,{"$f":"IFERROR(VLOOKUP(E411,Dimension!$J$3:$K$179,2,FALSE),\"\")","v":""}]
[null,null,{"$f":"IFERROR(VLOOKUP(B412,Dimension!$N$3:$P$89,3,FALSE),\"\")","v":""},null,null,{"$f":"IFERROR(VLOOKUP(E412,Dimension!$J$3:$K$179,2,FALSE),\"\")","v":""}]
[null,null,{"$f":"IFERROR(VLOOKUP(B413,Dimension!$N$3:$P$89,3,FALSE),\"\")","v":""},null,null,{"$f":"IFERROR(VLOOKUP(E413,Dimension!$J$3:$K$179,2,FALSE),\"\")","v":""}]
[null,null,{"$f":"IFERROR(VLOOKUP(B414,Dimension!$N$3:$P$89,3,FALSE),\"\")","v":""},null,null,{"$f":"IFERROR(VLOOKUP(E414,Dimension!$J$3:$K$179,2,FALSE),\"\")","v":""}]
[null,null,{"$f":"IFERROR(VLOOKUP(B415,Dimension!$N$3:$P$89,3,FALSE),\"\")","v":""},null,null,{"$f":"IFERROR(VLOOKUP(E415,Dimension!$J$3:$K$179,2,FALSE),\"\")","v":""}]
[null,null,{"$f":"IFERROR(VLOOKUP(B416,Dimension!$N$3:$P$89,3,FALSE),\"\")","v":""},null,null,{"$f":"IFERROR(VLOOKUP(E416,Dimension!$J$3:$K$179,2,FALSE),\"\")","v":""}]
[null,null,{"$f":"IFERROR(VLOOKUP(B417,Dimension!$N$3:$P$89,3,FALSE),\"\")","v":""},null,null,{"$f":"IFERROR(VLOOKUP(E417,Dimension!$J$3:$K$179,2,FALSE),\"\")","v":""}]
[null,null,{"$f":"IFERROR(VLOOKUP(B418,Dimension!$N$3:$P$89,3,FALSE),\"\")","v":""},null,null,{"$f":"IFERROR(VLOOKUP(E418,Dimension!$J$3:$K$179,2,FALSE),\"\")","v":""}]
[null,null,{"$f":"IFERROR(VLOOKUP(B419,Dimension!$N$3:$P$89,3,FALSE),\"\")","v":""},null,null,{"$f":"IFERROR(VLOOKUP(E419,Dimension!$J$3:$K$179,2,FALSE),\"\")","v":""}]
[null,null,{"$f":"IFERROR(VLOOKUP(B420,Dimension!$N$3:$P$89,3,FALSE),\"\")","v":""},null,null,{"$f":"IFERROR(VLOOKUP(E420,Dimension!$J$3:$K$179,2,FALSE),\"\")","v":""}]
[null,null,{"$f":"IFERROR(VLOOKUP(B421,Dimension!$N$3:$P$89,3,FALSE),\"\")","v":""},null,null,{"$f":"IFERROR(VLOOKUP(E421,Dimension!$J$3:$K$179,2,FALSE),\"\")","v":""}]
[null,null,{"$f":"IFERROR(VLOOKUP(B422,Dimension!$N$3:$P$89,3,FALSE),\"\")","v":""},null,null,{"$f":"IFERROR(VLOOKUP(E422,Dimension!$J$3:$K$179,2,FALSE),\"\")","v":""}]
[null,null,{"$f":"IFERROR(VLOOKUP(B423,Dimension!$N$3:$P$89,3,FALSE),\"\")","v":""},null,null,{"$f":"IFERROR(VLOOKUP(E423,Dimension!$J$3:$K$179,2,FALSE),\"\")","v":""}]
[null,null,{"$f":"IFERROR(VLOOKUP(B424,Dimension!$N$3:$P$89,3,FALSE),\"\")","v":""},null,null,{"$f":"IFERROR(VLOOKUP(E424,Dimension!$J$3:$K$179,2,FALSE),\"\")","v":""}]
[null,null,{"$f":"IFERROR(VLOOKUP(B425,Dimension!$N$3:$P$89,3,FALSE),\"\")","v":""},null,null,{"$f":"IFERROR(VLOOKUP(E425,Dimension!$J$3:$K$179,2,FALSE),\"\")","v":""}]
[null,null,{"$f":"IFERROR(VLOOKUP(B426,Dimension!$N$3:$P$89,3,FALSE),\"\")","v":""},null,null,{"$f":"IFERROR(VLOOKUP(E426,Dimension!$J$3:$K$179,2,FALSE),\"\")","v":""}]
[null,null,{"$f":"IFERROR(VLOOKUP(B427,Dimension!$N$3:$P$89,3,FALSE),\"\")","v":""},null,null,{"$f":"IFERROR(VLOOKUP(E427,Dimension!$J$3:$K$179,2,FALSE),\"\")","v":""}]
[null,null,{"$f":"IFERROR(VLOOKUP(B428,Dimension!$N$3:$P$89,3,FALSE),\"\")","v":""},null,null,{"$f":"IFERROR(VLOOKUP(E428,Dimension!$J$3:$K$179,2,FALSE),\"\")","v":""}]
[null,null,{"$f":"IFERROR(VLOOKUP(B429,Dimension!$N$3:$P$89,3,FALSE),\"\")","v":""},null,null,{"$f":"IFERROR(VLOOKUP(E429,Dimension!$J$3:$K$179,2,FALSE),\"\")","v":""}]
[null,null,{"$f":"IFERROR(VLOOKUP(B430,Dimension!$N$3:$P$89,3,FALSE),\"\")","v":""},null,null,{"$f":"IFERROR(VLOOKUP(E430,Dimension!$J$3:$K$179,2,FALSE),\"\")","v":""}]
[null,null,{"$f":"IFERROR(VLOOKUP(B431,Dimension!$N$3:$P$89,3,FALSE),\"\")","v":""},null,null,{"$f":"IFERROR(VLOOKUP(E431,Dimension!$J$3:$K$179,2,FALSE),\"\")","v":""}]
[null,null,{"$f":"IFERROR(VLOOKUP(B432,Dimension!$N$3:$P$89,3,FALSE),\"\")","v":""},null,null,{"$f":"IFERROR(VLOOKUP(E432,Dimension!$J$3:$K$179,2,FALSE),\"\")","v":""}]
[null,null,{"$f":"IFERROR(VLOOKUP(B433,Dimension!$N$3:$P$89,3,FALSE),\"\")","v":""},null,null,{"$f":"IFERROR(VLOOKUP(E433,Dimension!$J$3:$K$179,2,FALSE),\"\")","v":""}]
[null,null,{"$f":"IFERROR(VLOOKUP(B434,Dimension!$N$3:$P$89,3,FALSE),\"\")","v":""},null,null,{"$f":"IFERROR(VLOOKUP(E434,Dimension!$J$3:$K$179,2,FALSE),\"\")","v":""}]
[null,null,{"$f":"IFERROR(VLOOKUP(B435,Dimension!$N$3:$P$89,3,FALSE),\"\")","v":""},null,null,{"$f":"IFERROR(VLOOKUP(E435,Dimension!$J$3:$K$179,2,FALSE),\"\")","v":""}]
[null,null,{"$f":"IFERROR(VLOOKUP(B436,Dimension!$N$3:$P$89,3,FALSE),\"\")","v":""},null,null,{"$f":"IFERROR(VLOOKUP(E436,Dimension!$J$3:$K$179,2,FALSE),\"\")","v":""}]
[null,null,{"$f":"IFERROR(VLOOKUP(B437,Dimension!$N$3:$P$89,3,FALSE),\"\")","v":""},null,null,{"$f":"IFERROR(VLOOKUP(E437,Dimension!$J$3:$K$179,2,FALSE),\"\")","v":""}]
[null,null,{"$f":"IFERROR(VLOOKUP(B438,Dimension!$N$3:$P$89,3,FALSE),\"\")","v":""},null,null,{"$f":"IFERROR(VLOOKUP(E438,Dimension!$J$3:$K$179,2,FALSE),\"\")","v":""}]
[null,null,{"$f":"IFERROR(VLOOKUP(B439,Dimension!$N$3:$P$89,3,FALSE),\"\")","v":""},null,null,{"$f":"IFERROR(VLOOKUP(E439,Dimension!$J$3:$K$179,2,FALSE),\"\")","v":""}]
[null,null,{"$f":"IFERROR(VLOOKUP(B440,Dimension!$N$3:$P$89,3,FALSE),\"\")","v":""},null,null,{"$f":"IFERROR(VLOOKUP(E440,Dimension!$J$3:$K$179,2,FALSE),\"\")","v":""}]
[null,null,{"$f":"IFERROR(VLOOKUP(B441,Dimension!$N$3:$P$89,3,FALSE),\"\")","v":""},null,null,{"$f":"IFERROR(VLOOKUP(E441,Dimension!$J$3:$K$179,2,FALSE),\"\")","v":""}]
[null,null,{"$f":"IFERROR(VLOOKUP(B442,Dimension!$N$3:$P$89,3,FALSE),\"\")","v":""},null,null,{"$f":"IFERROR(VLOOKUP(E442,Dimension!$J$3:$K$179,2,FALSE),\"\")","v":""}]
[null,null,{"$f":"IFERROR(VLOOKUP(B443,Dimension!$N$3:$P$89,3,FALSE),\"\")","v":""},null,null,{"$f":"IFERROR(VLOOKUP(E443,Dimension!$J$3:$K$179,2,FALSE),\"\")","v":""}]
[null,null,{"$f":"IFERROR(VLOOKUP(B444,Dimension!$N$3:$P$89,3,FALSE),\"\")","v":""},null,null,{"$f":"IFERROR(VLOOKUP(E444,Dimension!$J$3:$K$179,2,FALSE),\"\")","v":""}]
[null,null,{"$f":"IFERROR(VLOOKUP(B445,Dimension!$N$3:$P$89,3,FALSE),\"\")","v":""},null,null,{"$f":"IFERROR(VLOOKUP(E445,Dimension!$J$3:$K$179,2,FALSE),\"\")","v":""}]
[null,null,{"$f":"IFERROR(VLOOKUP(B446,Dimension!$N$3:$P$89,3,FALSE),\"\")","v":""},null,null,{"$f":"IFERROR(VLOOKUP(E446,Dimension!$J$3:$K$179,2,FALSE),\"\")","v":""}]
[null,null,{"$f":"IFERROR(VLOOKUP(B447,Dimension!$N$3:$P$89,3,FALSE),\"\")","v":""},null,null,{"$f":"IFERROR(VLOOKUP(E447,Dimension!$J$3:$K$179,2,FALSE),\"\")","v":""}]
[null,null,{"$f":"IFERROR(VLOOKUP(B448,Dimension!$N$3:$P$89,3,FALSE),\"\")","v":""},null,null,{"$f":"IFERROR(VLOOKUP(E448,Dimension!$J$3:$K$179,2,FALSE),\"\")","v":""}]
[null,null,{"$f":"IFERROR(VLOOKUP(B449,Dimension!$N$3:$P$89,3,FALSE),\"\")","v":""},null,null,{"$f":"IFERROR(VLOOKUP(E449,Dimension!$J$3:$K$179,2,FALSE),\"\")","v":""}]
[null,null,{"$f":"IFERROR(VLOOKUP(B450,Dimension!$N$3:$P$89,3,FALSE),\"\")","v":""},null,null,{"$f":"IFERROR(VLOOKUP(E450,Dimension!$J$3:$K$179,2,FALSE),\"\")","v":""}]
[null,null,{"$f":"IFERROR(VLOOKUP(B451,Dimension!$N$3:$P$89,3,FALSE),\"\")","v":""},null,null,{"$f":"IFERROR(VLOOKUP(E451,Dimension!$J$3:$K$179,2,FALSE),\"\")","v":""}]
[null,null,{"$f":"IFERROR(VLOOKUP(B452,Dimension!$N$3:$P$89,3,FALSE),\"\")","v":""},null,null,{"$f":"IFERROR(VLOOKUP(E452,Dimension!$J$3:$K$179,2,FALSE),\"\")","v":""}]
[null,null,{"$f":"IFERROR(VLOOKUP(B453,Dimension!$N$3:$P$89,3,FALSE),\"\")","v":""},null,null,{"$f":"IFERROR(VLOOKUP(E453,Dimension!$J$3:$K$179,2,FALSE),\"\")","v":""}]
[null,null,{"$f":"IFERROR(VLOOKUP(B454,Dimension!$N$3:$P$89,3,FALSE),\"\")","v":""},null,null,{"$f":"IFERROR(VLOOKUP(E454,Dimension!$J$3:$K$179,2,FALSE),\"\")","v":""}]
[null,null,{"$f":"IFERROR(VLOOKUP(B455,Dimension!$N$3:$P$89,3,FALSE),\"\")","v":""},null,null,{"$f":"IFERROR(VLOOKUP(E455,Dimension!$J$3:$K$179,2,FALSE),\"\")","v":""}]
[null,null,{"$f":"IFERROR(VLOOKUP(B456,Dimension!$N$3:$P$89,3,FALSE),\"\")","v":""},null,null,{"$f":"IFERROR(VLOOKUP(E456,Dimension!$J$3:$K$179,2,FALSE),\"\")","v":""}]
[null,null,{"$f":"IFERROR(VLOOKUP(B457,Dimension!$N$3:$P$89,3,FALSE),\"\")","v":""},null,null,{"$f":"IFERROR(VLOOKUP(E457,Dimension!$J$3:$K$179,2,FALSE),\"\")","v":""}]
[null,null,{"$f":"IFERROR(VLOOKUP(B458,Dimension!$N$3:$P$89,3,FALSE),\"\")","v":""},null,null,{"$f":"IFERROR(VLOOKUP(E458,Dimension!$J$3:$K$179,2,FALSE),\"\")","v":""}]
[null,null,{"$f":"IFERROR(VLOOKUP(B459,Dimension!$N$3:$P$89,3,FALSE),\"\")","v":""},null,null,{"$f":"IFERROR(VLOOKUP(E459,Dimension!$J$3:$K$179,2,FALSE),\"\")","v":""}]
[null,null,{"$f":"IFERROR(VLOOKUP(B460,Dimension!$N$3:$P$89,3,FALSE),\"\")","v":""},null,null,{"$f":"IFERROR(VLOOKUP(E460,Dimension!$J$3:$K$179,2,FALSE),\"\")","v":""}]
[null,null,{"$f":"IFERROR(VLOOKUP(B461,Dimension!$N$3:$P$89,3,FALSE),\"\")","v":""},null,null,{"$f":"IFERROR(VLOOKUP(E461,Dimension!$J$3:$K$179,2,FALSE),\"\")","v":""}]
[null,null,{"$f":"IFERROR(VLOOKUP(B462,Dimension!$N$3:$P$89,3,FALSE),\"\")","v":""},null,null,{"$f":"IFERROR(VLOOKUP(E462,Dimension!$J$3:$K$179,2,FALSE),\"\")","v":""}]
[null,null,{"$f":"IFERROR(VLOOKUP(B463,Dimension!$N$3:$P$89,3,FALSE),\"\")","v":""},null,null,{"$f":"IFERROR(VLOOKUP(E463,Dimension!$J$3:$K$179,2,FALSE),\"\")","v":""}]
[null,null,{"$f":"IFERROR(VLOOKUP(B464,Dimension!$N$3:$P$89,3,FALSE),\"\")","v":""},null,null,{"$f":"IFERROR(VLOOKUP(E464,Dimension!$J$3:$K$179,2,FALSE),\"\")","v":""}]
[null,null,{"$f":"IFERROR(VLOOKUP(B465,Dimension!$N$3:$P$89,3,FALSE),\"\")","v":""},null,null,{"$f":"IFERROR(VLOOKUP(E465,Dimension!$J$3:$K$179,2,FALSE),\"\")","v":""}]
[null,null,{"$f":"IFERROR(VLOOKUP(B466,Dimension!$N$3:$P$89,3,FALSE),\"\")","v":""},null,null,{"$f":"IFERROR(VLOOKUP(E466,Dimension!$J$3:$K$179,2,FALSE),\"\")","v":""}]
[null,null,{"$f":"IFERROR(VLOOKUP(B467,Dimension!$N$3:$P$89,3,FALSE),\"\")","v":""},null,null,{"$f":"IFERROR(VLOOKUP(E467,Dimension!$J$3:$K$179,2,FALSE),\"\")","v":""}]
[null,null,{"$f":"IFERROR(VLOOKUP(B468,Dimension!$N$3:$P$89,3,FALSE),\"\")","v":""},null,null,{"$f":"IFERROR(VLOOKUP(E468,Dimension!$J$3:$K$179,2,FALSE),\"\")","v":""}]
[null,null,{"$f":"IFERROR(VLOOKUP(B469,Dimension!$N$3:$P$89,3,FALSE),\"\")","v":""},null,null,{"$f":"IFERROR(VLOOKUP(E469,Dimension!$J$3:$K$179,2,FALSE),\"\")","v":""}]
[null,null,{"$f":"IFERROR(VLOOKUP(B470,Dimension!$N$3:$P$89,3,FALSE),\"\")","v":""},null,null,{"$f":"IFERROR(VLOOKUP(E470,Dimension!$J$3:$K$179,2,FALSE),\"\")","v":""}]
[null,null,{"$f":"IFERROR(VLOOKUP(B471,Dimension!$N$3:$P$89,3,FALSE),\"\")","v":""},null,null,{"$f":"IFERROR(VLOOKUP(E471,Dimension!$J$3:$K$179,2,FALSE),\"\")","v":""}]
[null,null,{"$f":"IFERROR(VLOOKUP(B472,Dimension!$N$3:$P$89,3,FALSE),\"\")","v":""},null,null,{"$f":"IFERROR(VLOOKUP(E472,Dimension!$J$3:$K$179,2,FALSE),\"\")","v":""}]
[null,null,{"$f":"IFERROR(VLOOKUP(B473,Dimension!$N$3:$P$89,3,FALSE),\"\")","v":""},null,null,{"$f":"IFERROR(VLOOKUP(E473,Dimension!$J$3:$K$179,2,FALSE),\"\")","v":""}]
[null,null,{"$f":"IFERROR(VLOOKUP(B474,Dimension!$N$3:$P$89,3,FALSE),\"\")","v":""},null,null,{"$f":"IFERROR(VLOOKUP(E474,Dimension!$J$3:$K$179,2,FALSE),\"\")","v":""}]
[null,null,{"$f":"IFERROR(VLOOKUP(B475,Dimension!$N$3:$P$89,3,FALSE),\"\")","v":""},null,null,{"$f":"IFERROR(VLOOKUP(E475,Dimension!$J$3:$K$179,2,FALSE),\"\")","v":""}]
[null,null,{"$f":"IFERROR(VLOOKUP(B476,Dimension!$N$3:$P$89,3,FALSE),\"\")","v":""},null,null,{"$f":"IFERROR(VLOOKUP(E476,Dimension!$J$3:$K$179,2,FALSE),\"\")","v":""}]
[null,null,{"$f":"IFERROR(VLOOKUP(B477,Dimension!$N$3:$P$89,3,FALSE),\"\")","v":""},null,null,{"$f":"IFERROR(VLOOKUP(E477,Dimension!$J$3:$K$179,2,FALSE),\"\")","v":""}]
[null,null,{"$f":"IFERROR(VLOOKUP(B478,Dimension!$N$3:$P$89,3,FALSE),\"\")","v":""},null,null,{"$f":"IFERROR(VLOOKUP(E478,Dimension!$J$3:$K$179,2,FALSE),\"\")","v":""}]
[null,null,{"$f":"IFERROR(VLOOKUP(B479,Dimension!$N$3:$P$89,3,FALSE),\"\")","v":""},null,null,{"$f":"IFERROR(VLOOKUP(E479,Dimension!$J$3:$K$179,2,FALSE),\"\")","v":""}]
[null,null,{"$f":"IFERROR(VLOOKUP(B480,Dimension!$N$3:$P$89,3,FALSE),\"\")","v":""},null,null,{"$f":"IFERROR(VLOOKUP(E480,Dimension!$J$3:$K$179,2,FALSE),\"\")","v":""}]
[null,null,{"$f":"IFERROR(VLOOKUP(B481,Dimension!$N$3:$P$89,3,FALSE),\"\")","v":""},null,null,{"$f":"IFERROR(VLOOKUP(E481,Dimension!$J$3:$K$179,2,FALSE),\"\")","v":""}]
[null,null,{"$f":"IFERROR(VLOOKUP(B482,Dimension!$N$3:$P$89,3,FALSE),\"\")","v":""},null,null,{"$f":"IFERROR(VLOOKUP(E482,Dimension!$J$3:$K$179,2,FALSE),\"\")","v":""}]
[null,null,{"$f":"IFERROR(VLOOKUP(B483,Dimension!$N$3:$P$89,3,FALSE),\"\")","v":""},null,null,{"$f":"IFERROR(VLOOKUP(E483,Dimension!$J$3:$K$179,2,FALSE),\"\")","v":""}]
[null,null,{"$f":"IFERROR(VLOOKUP(B484,Dimension!$N$3:$P$89,3,FALSE),\"\")","v":""},null,null,{"$f":"IFERROR(VLOOKUP(E484,Dimension!$J$3:$K$179,2,FALSE),\"\")","v":""}]
[null,null,{"$f":"IFERROR(VLOOKUP(B485,Dimension!$N$3:$P$89,3,FALSE),\"\")","v":""},null,null,{"$f":"IFERROR(VLOOKUP(E485,Dimension!$J$3:$K$179,2,FALSE),\"\")","v":""}]
[null,null,{"$f":"IFERROR(VLOOKUP(B486,Dimension!$N$3:$P$89,3,FALSE),\"\")","v":""},null,null,{"$f":"IFERROR(VLOOKUP(E486,Dimension!$J$3:$K$179,2,FALSE),\"\")","v":""}]
[null,null,{"$f":"IFERROR(VLOOKUP(B487,Dimension!$N$3:$P$89,3,FALSE),\"\")","v":""},null,null,{"$f":"IFERROR(VLOOKUP(E487,Dimension!$J$3:$K$179,2,FALSE),\"\")","v":""}]
[null,null,{"$f":"IFERROR(VLOOKUP(B488,Dimension!$N$3:$P$89,3,FALSE),\"\")","v":""},null,null,{"$f":"IFERROR(VLOOKUP(E488,Dimension!$J$3:$K$179,2,FALSE),\"\")","v":""}]
[null,null,{"$f":"IFERROR(VLOOKUP(B489,Dimension!$N$3:$P$89,3,FALSE),\"\")","v":""},null,null,{"$f":"IFERROR(VLOOKUP(E489,Dimension!$J$3:$K$179,2,FALSE),\"\")","v":""}]
[null,null,{"$f":"IFERROR(VLOOKUP(B490,Dimension!$N$3:$P$89,3,FALSE),\"\")","v":""},null,null,{"$f":"IFERROR(VLOOKUP(E490,Dimension!$J$3:$K$179,2,FALSE),\"\")","v":""}]
[null,null,{"$f":"IFERROR(VLOOKUP(B491,Dimension!$N$3:$P$89,3,FALSE),\"\")","v":""},null,null,{"$f":"IFERROR(VLOOKUP(E491,Dimension!$J$3:$K$179,2,FALSE),\"\")","v":""}]
[null,null,{"$f":"IFERROR(VLOOKUP(B492,Dimension!$N$3:$P$89,3,FALSE),\"\")","v":""},null,null,{"$f":"IFERROR(VLOOKUP(E492,Dimension!$J$3:$K$179,2,FALSE),\"\")","v":""}]
[null,null,{"$f":"IFERROR(VLOOKUP(B493,Dimension!$N$3:$P$89,3,FALSE),\"\")","v":""},null,null,{"$f":"IFERROR(VLOOKUP(E493,Dimension!$J$3:$K$179,2,FALSE),\"\")","v":""}]
[null,null,{"$f":"IFERROR(VLOOKUP(B494,Dimension!$N$3:$P$89,3,FALSE),\"\")","v":""},null,null,{"$f":"IFERROR(VLOOKUP(E494,Dimension!$J$3:$K$179,2,FALSE),\"\")","v":""}]
[null,null,{"$f":"IFERROR(VLOOKUP(B495,Dimension!$N$3:$P$89,3,FALSE),\"\")","v":""},null,null,{"$f":"IFERROR(VLOOKUP(E495,Dimension!$J$3:$K$179,2,FALSE),\"\")","v":""}]
[null,null,{"$f":"IFERROR(VLOOKUP(B496,Dimension!$N$3:$P$89,3,FALSE),\"\")","v":""},null,null,{"$f":"IFERROR(VLOOKUP(E496,Dimension!$J$3:$K$179,2,FALSE),\"\")","v":""}]
[null,null,{"$f":"IFERROR(VLOOKUP(B497,Dimension!$N$3:$P$89,3,FALSE),\"\")","v":""},null,null,{"$f":"IFERROR(VLOOKUP(E497,Dimension!$J$3:$K$179,2,FALSE),\"\")","v":""}]
[null,null,{"$f":"IFERROR(VLOOKUP(B498,Dimension!$N$3:$P$89,3,FALSE),\"\")","v":""},null,null,{"$f":"IFERROR(VLOOKUP(E498,Dimension!$J$3:$K$179,2,FALSE),\"\")","v":""}]
[null,null,{"$f":"IFERROR(VLOOKUP(B499,Dimension!$N$3:$P$89,3,FALSE),\"\")","v":""},null,null,{"$f":"IFERROR(VLOOKUP(E499,Dimension!$J$3:$K$179,2,FALSE),\"\")","v":""}]
[null,null,{"$f":"IFERROR(VLOOKUP(B500,Dimension!$N$3:$P$89,3,FALSE),\"\")","v":""},null,null,{"$f":"IFERROR(VLOOKUP(E500,Dimension!$J$3:$K$179,2,FALSE),\"\")","v":""}]

{"sheet":"Dimension","index":5,"n_rows":251,"n_cols":25,"rows_kept":251,"cut":false,"hidden":true,"merged":[]}
[]
["Customer Type",null,"Customer  ID Type",null,"Payment Instrument Type ID",null,"Courntry Code","Country Description",null,"Currency Code","Currency Desc",null,"Customer Name","Customer Code","Customer Type ID","Customer Name",null,"Year","Month\nName","Month",null,"Purpose",null,"Delivery Type"]
["คนไทย",null,"324001 : เลขประจำตัวประชาชน",null,"0753600001 : เงินสด",null,"TH","TH : ไทย",null,"USD","USD : ดอลลาร์ สหรัฐอเมริกา",null,"002 : ธ. กรุงเทพ จำกัด (มหาชน)","002","176039","002 : ธ. กรุงเทพ จำกัด (มหาชน)",null,{"$f":"YEAR(TODAY())-1","v":2020},"มกราคม",1,null,"เดินทาง/ท่องเที่ยว",null,"สถานประกอบการ"]
["นิติบุคคลไทย",null,"324004 : เลขที่จดทะเบียนนิติบุคคล",null,"0753600002 : เช็คเดินทาง",null,"MY","MY : มาเลเซีย",null,"EUR","EUR : ยูโร",null,"006 : ธ. กรุงไทย จำกัด (มหาชน)","006","176039","006 : ธ. กรุงไทย จำกัด (มหาชน)",null,{"$f":"YEAR(TODAY())","v":2021},"กุมภาพันธ์",2]
["ชาวต่างชาติ",null,"324002 : เลขที่หนังสือเดินทาง",null,"0753600003 : บัญชีเงินฝาก หรือ บัตรเดบิต",null,"JP","JP : ญี่ปุ่น",null,"GBP","GBP : ปอนด์สเตอลิง",null,"025 : ธ. กรุงศรีอยุธยา จำกัด (มหาชน)","025","176039","025 : ธ. กรุงศรีอยุธยา จำกัด (มหาชน)",null,{"$f":"YEAR(TODAY())+1","v":2022},"มีนาคม",3,null,null,null,"สถานประกอบการ"]
["สถาบันการเงินในประเทศ",null,"324007 : รหัสสถาบันการเงิน",null,"0753600004 : บัตรเครดิต",null,"US","US : สหรัฐอเมริกา",null,"HKD","HKD : ดอลลาร์ ฮ่องกง",null,"004 : ธ. กสิกรไทย จำกัด (มหาชน)","004","176039","004 : ธ. กสิกรไทย จำกัด (มหาชน)",null,{"$f":"YEAR(TODAY())+2","v":2023},"เมษายน",4]
["สถาบันการเงินในต่างประเทศ",null,"324008 : รหัสมาตรฐาน Swift",null,"0753600005 : เงินอิเล็กทรอนิกส์",null,"GB","GB : สหราชอาณาจักร",null,"MYR","MYR : ริงกิต มาเลเซีย",null,"069 : ธ. เกียรตินาคิน จำกัด (มหาชน)","069","176039","069 : ธ. เกียรตินาคิน จำกัด (มหาชน)",null,{"$f":"YEAR(TODAY())+3","v":2024},"พฤษภาคม",5]
["MC ในประเทศ",null,"324010 : รหัสนิติบุคคลในประเทศอื่น ",null,null,null,"DE","DE : เยอรมนี",null,"SGD","SGD : ดอลลาร์ สิงคโปร์",null,"028 : ธ. เครดิต อะกริกอล คอร์ปอเรทแอนด์อินเวสเมนท์แบงก์","028","176040","028 : ธ. เครดิต อะกริกอล คอร์ปอเรทแอนด์อินเวสเมนท์แบงก์",null,{"$f":"YEAR(TODAY())+4","v":2025},"มิถุนายน",6,null,null,null,null,"จุดซื้อ/จุดขายเงินตราต่างประเทศ"]
["MC ต่างประเทศ",null,"324005 : เลขที่ใบอนุญาตของบุคคลรับอนุญาต",null,"0753600001 : เงินสด",null,"FR","FR : ฝรั่งเศส",null,"CHF","CHF : ฟรังก์สวิส",null,"072 : ธ. จีอี มันนี่ เพื่อรายย่อย จำกัด (มหาชน)","072","176004","072 : ธ. จีอี มันนี่ เพื่อรายย่อย จำกัด (มหาชน)",null,{"$f":"YEAR(TODAY())+5","v":2026},"กรกฎาคม",7]
[null,null,"324012 : รหัสอื่นๆ",null,"0753600003 : บัญชีเงินฝาก หรือ บัตรเดบิต",null,"CN","CN : จีน",null,"AUD","AUD : ดอลลาร์ ออสเตรเลีย",null,"008 : ธ. เจพีมอร์แกน เชส","008","176040","008 : ธ. เจพีมอร์แกน เชส",null,null,"สิงหาคม",8,null,null,null,"สถานประกอบการ"]
[null,null,null,null,"0753600004 : บัตรเครดิต",null,"KR","KR : เกาหลีใต้",null,"JPY","JPY : เยน",null,"017 : ธ. ซิตี้แบงก์ เอ็น.เอ.","017","176040","017 : ธ. ซิตี้แบงก์ เอ็น.เอ.",null,null,"กันยายน",9]
["คนไทย","คนไทย","324001 : เลขประจำตัวประชาชน","CA",null,null,"HK","HK : ฮ่องกง",null,"CAD","CAD : ดอลลาร์ แคนาดา",null,"022 : ธ. ซีไอเอ็มบี ไทย จำกัด (มหาชน)","022","176039","022 : ธ. ซีไอเอ็มบี ไทย จำกัด (มหาชน)",null,null,"ตุลาคม",10]
["ชาวต่างชาติ",null,"324002 : เลขที่หนังสือเดินทาง",null,null,null,"TW","TW : ไต้หวัน",null,"CNY","CNY : หยวนเหรินหมินปี้",null,"080 : ธ. ซูมิโตโม มิตซุย ทรัสต์ (ไทย) จำกัด (มหาชน)","080","176005","080 : ธ. ซูมิโตโม มิตซุย ทรัสต์ (ไทย) จำกัด (มหาชน)",null,null,"พฤศจิกายน",11]
["สถาบันการเงินในประเทศ",null,"324012 : รหัสอื่นๆ",null,null,null,"SG","SG : สิงคโปร์",null,"DKK","DKK : โครน เดนมาร์ก",null,"018 : ธ. ซูมิโตโม มิตซุย แบงกิ้ง คอร์ปอเรชั่น","018","176040","018 : ธ. ซูมิโตโม มิตซุย แบงกิ้ง คอร์ปอเรชั่น",null,null,"ธันวาคม",12,null,null,null,null,"จุดรับ/จ่ายเงินบาท"]
["สถาบันการเงินในต่างประเทศ",null,null,null,null,null,"AD","AD : อันดอร์รา",null,"AED","AED : ดีแรห์ม สหรัฐอาหรับเอมิเรตส์",null,"041 : ธ. โซซิเยเต้ เจเนราล","041","176040","041 : ธ. โซซิเยเต้ เจเนราล"]
["MC ในประเทศ","นิติบุคคลไทย","324004 : เลขที่จดทะเบียนนิติบุคคล","CB",null,null,"AE","AE : สหรัฐอาหรับเอมิเรตส์",null,"AFN","AFN : อัฟกานิ",null,"032 : ธ. ดอยซ์แบงก์","032","176040","032 : ธ. ดอยซ์แบงก์"]
["MC ต่างประเทศ",null,"324012 : รหัสอื่นๆ",null,null,null,"AF","AF : อัฟกานิสถาน",null,"ALL","ALL : เลค",null,"011 : ธ. ทหารไทย จำกัด (มหาชน)","011","176039","011 : ธ. ทหารไทย จำกัด (มหาชน)"]
[null,null,null,null,null,null,"AG","AG : แอนติกาและบาร์บูดา",null,"AMD","AMD : ดีแรห์ม อาร์เมเนีย",null,"067 : ธ. ทิสโก้ จำกัด (มหาชน)","067","176039","067 : ธ. ทิสโก้ จำกัด (มหาชน)"]
[null,null,null,null,null,null,"AI","AI : แองกลิวลา",null,"ANG","ANG : กิลเดอร์ เนเธอร์แลนด์แอนทิลลิส",null,"071 : ธ. ไทยเครดิตเพื่อรายย่อย จำกัด (มหาชน)","071","176004","071 : ธ. ไทยเครดิตเพื่อรายย่อย จำกัด (มหาชน)"]
[null,"ชาวต่างชาติ","324002 : เลขที่หนังสือเดินทาง","CC",null,null,"AL","AL : แอลเบเนีย",null,"AOA","AOA : ควันซา",null,"014 : ธ. ไทยพาณิชย์ จำกัด (มหาชน)","014","176039","014 : ธ. ไทยพาณิชย์ จำกัด (มหาชน)"]
[null,null,"324010 : รหัสนิติบุคคลในประเทศอื่น ",null,null,null,"AM","AM : อาร์เมเนีย",null,"ARS","ARS : เปโซ อาร์เจนตินา",null,"065 : ธ. ธนชาต จำกัด (มหาชน)","065","176039","065 : ธ. ธนชาต จำกัด (มหาชน)"]
[null,null,"324012 : รหัสอื่นๆ",null,null,null,"AO","AO : แองโกลา",null,"AWG","AWG : กิลเดอร์ อารูบา",null,"015 : ธ. นครหลวงไทย จำกัด (มหาชน)","015","176039","015 : ธ. นครหลวงไทย จำกัด (มหาชน)"]
[null,null,null,null,null,null,"AQ","AQ : แอนตาร์กติกา",null,"AZN","AZN : มานาท อาเซอร์ไบจาน",null,"045 : ธ. บีเอ็นพี พารีบาส์","045","176040","045 : ธ. บีเอ็นพี พารีบาส์"]
[null,"สถาบันการเงินในประเทศ","324007 : รหัสสถาบันการเงิน","CD",null,null,"AR","AR : อาร์เจนตินา",null,"BAM","BAM : มาร์ค บอสเนียและเฮอร์เซโกวีนา",null,"026 : ธ. เมกะ สากลพาณิชย์ จำกัด (มหาชน)","026","176005","026 : ธ. เมกะ สากลพาณิชย์ จำกัด (มหาชน)"]
[null,null,null,null,null,null,"AS","AS : อเมริกันซามัว",null,"BBD","BBD : ดอลลาร์ บาร์เบโดส",null,"024 : ธ. ยูโอบี จำกัด (มหาชน)","024","176039","024 : ธ. ยูโอบี จำกัด (มหาชน)"]
[null,null,null,null,null,null,"AT","AT : ออสเตรีย",null,"BDT","BDT : ตากา",null,"073 : ธ. แลนด์ แอนด์ เฮ้าส์ จำกัด (มหาชน)","073","176039","073 : ธ. แลนด์ แอนด์ เฮ้าส์ จำกัด (มหาชน)"]
[null,"MC ในประเทศ","324005 : เลขที่ใบอนุญาตของบุคคลรับอนุญาต","CF",null,null,"AU","AU : ออสเตรเลีย",null,"BGN","BGN : เลฟ บัลแกเรีย",null,"020 : ธ. สแตนดาร์ดชาร์เตอร์ด (ไทย) จำกัด (มหาชน)","020","176039","020 : ธ. สแตนดาร์ดชาร์เตอร์ด (ไทย) จำกัด (มหาชน)"]
[null,null,null,null,null,null,"AW","AW : อารูบา",null,"BHD","BHD : ดีนาร์ บาห์เรน",null,"010 : ธ. แห่งโตเกียว-มิตซูบิชิ ยูเอฟเจ  จำกัด","010","176040","010 : ธ. แห่งโตเกียว-มิตซูบิชิ ยูเอฟเจ  จำกัด"]
[null,null,null,null,null,null,"AX","AX : หมู่เกาะอะแลนด์",null,"BIF","BIF : ฟรังก์ บุรุนดี",null,"053 : ธ. แห่งโนวาสโกเทีย","053","176040","053 : ธ. แห่งโนวาสโกเทีย"]
[null,null,null,null,null,null,"AZ","AZ : อาเซอร์ไบจาน",null,"BMD","BMD : ดอลลาร์ เบอร์มิวดา",null,"052 : ธ. แห่งประเทศจีน (ไทย) จำกัด (มหาชน)","052","176005","052 : ธ. แห่งประเทศจีน (ไทย) จำกัด (มหาชน)"]
[null,"สถาบันการเงินในต่างประเทศ","324010 : รหัสนิติบุคคลในประเทศอื่น ","CG",null,null,"BA","BA : บอสเนียและเฮอร์เซโกวีนา",null,"BND","BND : ดอลลาร์ บรูไนดารุสซาลาม",null,"027 : ธ. แห่งอเมริกาเนชั่นแนลแอสโซซิเอชั่น","027","176040","027 : ธ. แห่งอเมริกาเนชั่นแนลแอสโซซิเอชั่น"]
[null,null,"324012 : รหัสอื่นๆ",null,null,null,"BB","BB : บาร์เบโดส",null,"BOB","BOB : โบลีเวียโน",null,"023 : ธ. อาร์ เอช บี จำกัด","023","176040","023 : ธ. อาร์ เอช บี จำกัด"]
[null,null,null,null,null,null,"BD","BD : บังกลาเทศ",null,"BOV","BOV : ฟันด์ โค้ด อิมมิอูเบโดล์",null,"029 : ธ. อินเดียนโอเวอร์ซีส์","029","176040","029 : ธ. อินเดียนโอเวอร์ซีส์"]
[null,"MC ต่างประเทศ","324010 : รหัสนิติบุคคลในประเทศอื่น ","CE",null,null,"BE","BE : เบลเยียม",null,"BRL","BRL : เรียล บราซิล",null,"079 : ธ. เอเอ็นแซด (ไทย) จำกัด (มหาชน)","079","176005","079 : ธ. เอเอ็นแซด (ไทย) จำกัด (มหาชน)"]
[null,null,"324012 : รหัสอื่นๆ",null,null,null,"BF","BF : บูร์กินาฟาโซ",null,"BSD","BSD : ดอลลาร์ บาฮามาส",null,"068 : ธ. เอไอจี เพื่อรายย่อย จำกัด (มหาชน)","068","176004","068 : ธ. เอไอจี เพื่อรายย่อย จำกัด (มหาชน)"]
[null,null,null,null,null,null,"BG","BG : บัลแกเรีย",null,"BTN","BTN : เองกัลทรัม",null,"009 : ธ. โอเวอร์ซี-ไชนีสแบงกิ้งคอร์ปอเรชั่น จำกัด","009","176040","009 : ธ. โอเวอร์ซี-ไชนีสแบงกิ้งคอร์ปอเรชั่น จำกัด"]
[null,null,null,null,null,null,"BH","BH : บาห์เรน",null,"BWP","BWP : พูลา",null,"070 : ธ. ไอซีบีซี (ไทย) จำกัด (มหาชน)","070","176039","070 : ธ. ไอซีบีซี (ไทย) จำกัด (มหาชน)"]
[null,null,null,null,null,null,"BI","BI : บุรุนดี",null,"BYR","BYR : รูเบิล เบลารุส",null,"031 : ธ. ฮ่องกงและเซี่ยงไฮ้แบงกิ้งคอร์ปอเรชั่น จำกัด","031","176040","031 : ธ. ฮ่องกงและเซี่ยงไฮ้แบงกิ้งคอร์ปอเรชั่น จำกัด"]
[null,null,null,null,null,null,"BJ","BJ : เบนิน",null,"BZD","BZD : ดอลลาร์ เบลีซ",null,"039 : ธ.มิซูโฮ จำกัด สาขากรุงเทพฯ","039","176040","039 : ธ.มิซูโฮ จำกัด สาขากรุงเทพฯ"]
[null,null,null,null,null,null,"BL","BL : เซนต์บาร์เธเลมี",null,"CDF","CDF : ฟรังก์ คองโก",null,"0100551001088 : แคนเตอร์ ฟิทซ์เจอรัลด์ (ฮ่องกง) แคปิตอล มาเก็ตส์ ลิมิเต็ด","0100551001088","176058","0100551001088 : แคนเตอร์ ฟิทซ์เจอรัลด์ (ฮ่องกง) แคปิตอล มาเก็ตส์ ลิมิเต็ด"]
[null,null,null,null,null,null,"BM","BM : เบอร์มิวดา",null,"CLF","CLF : ฟันด์ โค้ด ยูนิแดด ดี โฟเมนโต",null,"0105542081800 : บริษัท หลักทรัพย์ ซีไอเอ็มบี (ประเทศไทย) จำกัด","0105542081800","176058","0105542081800 : บริษัท หลักทรัพย์ ซีไอเอ็มบี (ประเทศไทย) จำกัด"]
[null,null,null,null,null,null,"BN","BN : บรูไนดารุสซาลาม",null,"CLP","CLP : เปโซ ชิลี",null,"0107547000362 : หลักทรัพย์ กรุงศรี จำกัด (มหาชน)","0107547000362","176058","0107547000362 : หลักทรัพย์ กรุงศรี จำกัด (มหาชน)"]
[null,null,null,null,null,null,"BO","BO : รัฐพหุชนชาติแห่งโบลิเวีย",null,"CNH","CNH : หยวนเหรินหมินปี้",null,"0107545000128 : หลักทรัพย์ กสิกรไทย จำกัด (มหาชน)","0107545000128","176058","0107545000128 : หลักทรัพย์ กสิกรไทย จำกัด (มหาชน)"]
[null,null,null,null,null,null,"BQ","BQ : โบแนร์ ซินท์เอิสทาทิอุส และ ซาบา",null,"COP","COP : เปโซ โคลอมเบีย",null,"0105545078214 : หลักทรัพย์ โกลเบล็ก จำกัด","0105545078214","176058","0105545078214 : หลักทรัพย์ โกลเบล็ก จำกัด"]
[null,null,null,null,null,null,"BR","BR : บราซิล",null,"COU","COU : ยูนิแดด ดี วาโล เรียล",null,"0107537000572 : หลักทรัพย์ คันทรี่ กรุ๊ป จำกัด (มหาชน)","0107537000572","176058","0107537000572 : หลักทรัพย์ คันทรี่ กรุ๊ป จำกัด (มหาชน)"]
[null,null,null,null,null,null,"BS","BS : บาฮามาส",null,"CRC","CRC : โคโลน คอสตาริกา",null,"0107536000293 : หลักทรัพย์ เคจีไอ (ประเทศไทย) จำกัด (มหาชน)","0107536000293","176058","0107536000293 : หลักทรัพย์ เคจีไอ (ประเทศไทย) จำกัด (มหาชน)"]
[null,null,null,null,null,null,"BT","BT : ภูฏาน",null,"CUC","CUC : แปลงสภาพเปโซ",null,"0105543050517 : หลักทรัพย์ เคที ซีมิโก้ จำกัด","0105543050517","176058","0105543050517 : หลักทรัพย์ เคที ซีมิโก้ จำกัด"]
[null,null,null,null,null,null,"BV","BV : โบเวทไอแลนด์",null,"CUP","CUP : เปโซ คิวบา",null,"0105540100050 : หลักทรัพย์ เคทีบี (ประเทศไทย) จำกัด","0105540100050","176058","0105540100050 : หลักทรัพย์ เคทีบี (ประเทศไทย) จำกัด"]
[null,null,null,null,null,null,"BW","BW : บอตสวานา",null,"CVE","CVE : เอสคูโด เคปเวิร์ด",null,"0105541071665 : หลักทรัพย์ เครดิต สวิส (ประเทศไทย) จำกัด","0105541071665","176058","0105541071665 : หลักทรัพย์ เครดิต สวิส (ประเทศไทย) จำกัด"]
[null,null,null,null,null,null,"BY","BY : เบลารุส",null,"CZK","CZK : คราวน์ เช็ก",null,"0105517010465 : หลักทรัพย์ เจพีมอร์แกน (ประเทศไทย) จำกัด","0105517010465","176058","0105517010465 : หลักทรัพย์ เจพีมอร์แกน (ประเทศไทย) จำกัด"]
[null,null,null,null,null,null,"BZ","BZ : เบลีซ",null,"DJF","DJF : ฟรังก์ จิบูตี",null,"0105543032365 : หลักทรัพย์ ซิตี้คอร์ป (ประเทศไทย) จำกัด","0105543032365","176058","0105543032365 : หลักทรัพย์ ซิตี้คอร์ป (ประเทศไทย) จำกัด"]
[null,null,null,null,null,null,"CA","CA : แคนาดา",null,"DOP","DOP : เปโซ สาธารณรัฐโดมินิกัน",null,"0105535051836 : หลักทรัพย์ ซี แอล เอส เอ (ประเทศไทย) จำกัด","0105535051836","176058","0105535051836 : หลักทรัพย์ ซี แอล เอส เอ (ประเทศไทย) จำกัด"]
[null,null,null,null,null,null,"CC","CC : หมู่เกาะโคโคส, หมู่เกาะคีลิง",null,"DZD","DZD : ดีนาร์ แอลจีเรีย",null,"0107537002460 : หลักทรัพย์ ซีมิโก้ จำกัด (มหาชน)","0107537002460","176058","0107537002460 : หลักทรัพย์ ซีมิโก้ จำกัด (มหาชน)"]
[null,null,null,null,null,null,"CD","CD : คองโก",null,"EGP","EGP : ปอนด์ อียิปต์",null,"0105537003766 : หลักทรัพย์ ไซรัส จำกัด","0105537003766","176058","0105537003766 : หลักทรัพย์ ไซรัส จำกัด"]
[null,null,null,null,null,null,"CF","CF : สาธารณรัฐแอฟริกากลาง",null,"ERN","ERN : นาคฟา",null,"0105539127012 : หลักทรัพย์ ดีบีเอส วิคเคอร์ส (ประเทศไทย) จำกัด","0105539127012","176058","0105539127012 : หลักทรัพย์ ดีบีเอส วิคเคอร์ส (ประเทศไทย) จำกัด"]
[null,null,null,null,null,null,"CG","CG : สาธารณรัฐคองโก",null,"ETB","ETB : เปอร์ เอธิโอเปีย",null,"0105542027091 : หลักทรัพย์ ทรีนีตี้ จำกัด","0105542027091","176058","0105542027091 : หลักทรัพย์ ทรีนีตี้ จำกัด"]
[null,null,null,null,null,null,"CH","CH : สวิตเซอร์แลนด์",null,"FJD","FJD : ดอลลาร์ ฟิจิ",null,"0105541054710 : หลักทรัพย์ ทิสโก้ จำกัด","0105541054710","176058","0105541054710 : หลักทรัพย์ ทิสโก้ จำกัด"]
[null,null,null,null,null,null,"CI","CI : โกตดิวัวร์",null,"FKP","FKP : ปอนด์ หมู่เกาะฟอล์กแลนด์",null,"0105538025143 : หลักทรัพย์ ไทยพาณิชย์ จำกัด","0105538025143","176058","0105538025143 : หลักทรัพย์ ไทยพาณิชย์ จำกัด"]
[null,null,null,null,null,null,"CK","CK : หมู่เกาะคุก",null,"GEL","GEL : ลารี",null,"0107547000591 : หลักทรัพย์ ธนชาต จำกัด (มหาชน)","0107547000591","176058","0107547000591 : หลักทรัพย์ ธนชาต จำกัด (มหาชน)"]
[null,null,null,null,null,null,"CL","CL : ชิลี",null,"GHS","GHS : เซดี กานา",null,"0107537000653 : หลักทรัพย์ โนมูระ พัฒนสิน จำกัด (มหาชน)","0107537000653","176058","0107537000653 : หลักทรัพย์ โนมูระ พัฒนสิน จำกัด (มหาชน)"]
[null,null,null,null,null,null,"CM","CM : แคเมอรูน",null,"GIP","GIP : ปอนด์ ยิบรอลตาร์",null,"0107547000842 : หลักทรัพย์ บัวหลวง จำกัด (มหาชน)","0107547000842","176058","0107547000842 : หลักทรัพย์ บัวหลวง จำกัด (มหาชน)"]
[null,null,null,null,null,null,"CO","CO : โคลอมเบีย",null,"GMD","GMD : ดาราซี",null,"0105539027328 : หลักทรัพย์ บาร์เคลย์ แคปปิตอล (ประเทศไทย) จำกัด","0105539027328","176058","0105539027328 : หลักทรัพย์ บาร์เคลย์ แคปปิตอล (ประเทศไทย) จำกัด"]
[null,null,null,null,null,null,"CR","CR : คอสตาริกา",null,"GNF","GNF : ฟรังก์ กินี",null,"0107552000057 : หลักทรัพย์ เพื่อธุรกิจหลักทรัพย์ จำกัด","0107552000057","176058","0107552000057 : หลักทรัพย์ เพื่อธุรกิจหลักทรัพย์ จำกัด"]
[null,null,null,null,null,null,"CU","CU : คิวบา",null,"GTQ","GTQ : เก็ตซาล",null,"0105536092404 : หลักทรัพย์ ฟินันซ่า จำกัด","0105536092404","176058","0105536092404 : หลักทรัพย์ ฟินันซ่า จำกัด"]
[null,null,null,null,null,null,"CV","CV : เคปเวิร์ด",null,"GYD","GYD : ดอลลาร์ กายอานา",null,"0107547000079 : หลักทรัพย์ ฟินันเซีย ไซรัส จำกัด (มหาชน)","0107547000079","176058","0107547000079 : หลักทรัพย์ ฟินันเซีย ไซรัส จำกัด (มหาชน)"]
[null,null,null,null,null,null,"CW","CW : คูราเซา",null,"HNL","HNL : เลมพีรา ฮอนดูรัส",null,"0107548000064 : หลักทรัพย์ ภัทร จำกัด (มหาชน)","0107548000064","176058","0107548000064 : หลักทรัพย์ ภัทร จำกัด (มหาชน)"]
[null,null,null,null,null,null,"CX","CX : เกาะคริสต์มาส",null,"HRK","HRK : คูนา",null,"0107545000314 : หลักทรัพย์ เมย์แบงก์ กิมเอ็ง (ประเทศไทย) จำกัด (มหาชน)","0107545000314","176058","0107545000314 : หลักทรัพย์ เมย์แบงก์ กิมเอ็ง (ประเทศไทย) จำกัด (มหาชน)"]
[null,null,null,null,null,null,"CY","CY : ไซปรัส",null,"HTG","HTG : กอร์ด",null,"0105517009394 : หลักทรัพย์ เมอร์ริล ลินช์ (ประเทศไทย) จำกัด","0105517009394","176058","0105517009394 : หลักทรัพย์ เมอร์ริล ลินช์ (ประเทศไทย) จำกัด"]
[null,null,null,null,null,null,"CZ","CZ : สาธารณรัฐเช็ก",null,"HUF","HUF : ฟอรินท์",null,"0105539119915 : หลักทรัพย์ แมคควอรี (ประเทศไทย) จำกัด","0105539119915","176058","0105539119915 : หลักทรัพย์ แมคควอรี (ประเทศไทย) จำกัด"]
[null,null,null,null,null,null,"DJ","DJ : จิบูตี",null,"IDR","IDR : รูเปีย",null,"0105538093173 : หลักทรัพย์ ยูบีเอส (ประเทศไทย) จำกัด","0105538093173","176058","0105538093173 : หลักทรัพย์ ยูบีเอส (ประเทศไทย) จำกัด"]
[null,null,null,null,null,null,"DK","DK : เดนมาร์ก",null,"ILS","ILS : เชคเกิล อิสราเอล",null,"0107548000056 : หลักทรัพย์ ยูโอบี เคย์เฮียน (ประเทศไทย) จำกัด (มหาชน)","0107548000056","176058","0107548000056 : หลักทรัพย์ ยูโอบี เคย์เฮียน (ประเทศไทย) จำกัด (มหาชน)"]
[null,null,null,null,null,null,"DM","DM : โดมินิกา",null,"INR","INR : รูปี อินเดีย",null,"0107542000038 : หลักทรัพย์ แลนด์ แอนด์ เฮ้าส์ จำกัด (มหาชน)","0107542000038","176058","0107542000038 : หลักทรัพย์ แลนด์ แอนด์ เฮ้าส์ จำกัด (มหาชน)"]
[null,null,null,null,null,null,"DO","DO : สาธารณรัฐโดมินิกัน",null,"IQD","IQD : ดีนาร์ อิรัก",null,"0105541067072 : หลักทรัพย์ หยวนต้า (ประเทศไทย) จำกัด","0105541067072","176058","0105541067072 : หลักทรัพย์ หยวนต้า (ประเทศไทย) จำกัด"]
[null,null,null,null,null,null,"DZ","DZ : แอลจีเรีย",null,"IRR","IRR : เรียล อิหร่าน",null,"0107547000796 : หลักทรัพย์ อาร์เอชบี (ประเทศไทย) จำกัด (มหาชน)","0107547000796","176058","0107547000796 : หลักทรัพย์ อาร์เอชบี (ประเทศไทย) จำกัด (มหาชน)"]
[null,null,null,null,null,null,"EC","EC : เอกวาดอร์",null,"ISK","ISK : โครนา ไอซ์แลนด์",null,"0105558027044 : หลักทรัพย์ อีลิท จำกัด","0105558027044","176058","0105558027044 : หลักทรัพย์ อีลิท จำกัด"]
[null,null,null,null,null,null,"EE","EE : เอสโตเนีย",null,"JMD","JMD : ดอลลาร์ จาเมกา",null,"0105541053594 : หลักทรัพย์ เอเชีย เวลท์ จำกัด","0105541053594","176058","0105541053594 : หลักทรัพย์ เอเชีย เวลท์ จำกัด"]
[null,null,null,null,null,null,"EG","EG : อียิปต์",null,"JOD","JOD : ดอลลาร์ จอร์แดน",null,"0105557088431 : หลักทรัพย์ เอเซีย พลัส จำกัด","0105557088431","176058","0105557088431 : หลักทรัพย์ เอเซีย พลัส จำกัด"]
[null,null,null,null,null,null,"EH","EH : เวสเทิร์น ซาฮารา",null,"KES","KES : ชิลลิง เคนยา",null,"0105557157165 : หลักทรัพย์ เอสบีไอ ไทย ออนไลน์ จำกัด","0105557157165","176058","0105557157165 : หลักทรัพย์ เอสบีไอ ไทย ออนไลน์ จำกัด"]
[null,null,null,null,null,null,"ER","ER : เอริเทรีย",null,"KGS","KGS : ซอม",null,"0107536001575 : หลักทรัพย์ เออีซี จำกัด (มหาชน)","0107536001575","176058","0107536001575 : หลักทรัพย์ เออีซี จำกัด (มหาชน)"]
[null,null,null,null,null,null,"ES","ES : สเปน",null,"KHR","KHR : เรียล กัมพูชา",null,"0105556168287 : หลักทรัพย์ เอเอฟเอส (ประเทศไทย) จำกัด","0105556168287","176058","0105556168287 : หลักทรัพย์ เอเอฟเอส (ประเทศไทย) จำกัด"]
[null,null,null,null,null,null,"ET","ET : เอธิโอเปีย",null,"KMF","KMF : ฟรังก์ คอโมโรส",null,"0105557112811 : หลักทรัพย์ เอเอสแอล จำกัด","0105557112811","176058","0105557112811 : หลักทรัพย์ เอเอสแอล จำกัด"]
[null,null,null,null,null,null,"FI","FI : ฟินแลนด์",null,"KPW","KPW : วอน เกาหลีเหนือ",null,"0107557000063 : หลักทรัพย์ แอพเพิล เวลธ์ จำกัด (มหาชน)","0107557000063","176058","0107557000063 : หลักทรัพย์ แอพเพิล เวลธ์ จำกัด (มหาชน)"]
[null,null,null,null,null,null,"FJ","FJ : ฟิจิ",null,"KRW","KRW : วอน เกาหลีใต้",null,"0107547000184 : หลักทรัพย์ ไอ วี โกลบอล จำกัด (มหาชน)","0107547000184","176058","0107547000184 : หลักทรัพย์ ไอ วี โกลบอล จำกัด (มหาชน)"]
[null,null,null,null,null,null,"FK","FK : หมู่เกาะฟอล์กแลนด์",null,"KWD","KWD : ดีนาร์ คูเวต",null,"0105546027389 : หลักทรัพย์ ไอซีเอพี จำกัด","0105546027389","176058","0105546027389 : หลักทรัพย์ ไอซีเอพี จำกัด"]
[null,null,null,null,null,null,"FM","FM : ไมโครนีเซีย",null,"KYD","KYD : ดอลลาร์ หมู่เกาะเคย์แมน",null,"0107550000211 : หลักทรัพย์ ไอร่า จำกัด (มหาชน)","0107550000211","176058","0107550000211 : หลักทรัพย์ ไอร่า จำกัด (มหาชน)"]
[null,null,null,null,null,null,"FO","FO : หมู่เกาะแฟโร",null,"KZT","KZT : เทงเก",null,"0105518002334 : หลักทรัพย์กองทุนรวม จำกัด","0105518002334","176058","0105518002334 : หลักทรัพย์กองทุนรวม จำกัด"]
[null,null,null,null,null,null,"GA","GA : กาบอง",null,"LAK","LAK : กีบ",null,"0105545109071 : หลักทรัพย์จัดการเงินร่วมลงทุน วีเน็ท จำกัด","0105545109071","176058","0105545109071 : หลักทรัพย์จัดการเงินร่วมลงทุน วีเน็ท จำกัด"]
[null,null,null,null,null,null,"GD","GD : เกรเนดา",null,"LBP","LBP : ปอนด์ เลบานอน",null,"0105556058937 : หลักทรัพย์นายหน้าซื้อขายหน่วยลงทุน อมุนดิ (ประเทศไทย) จำกัด","0105556058937","176058","0105556058937 : หลักทรัพย์นายหน้าซื้อขายหน่วยลงทุน อมุนดิ (ประเทศไทย) จำกัด"]
[null,null,null,null,null,null,"GE","GE : จอร์เจีย",null,"LKR","LKR : รูปี ศรีลังกา",null,"0107536000650 : หลักทรัพย์ฟิลลิป (ประเทศไทย) จำกัด (มหาชน)","0107536000650","176058","0107536000650 : หลักทรัพย์ฟิลลิป (ประเทศไทย) จำกัด (มหาชน)"]
[null,null,null,null,null,null,"GF","GF : เฟรนช์เกียนา",null,"LRD","LRD : ดอลลาร์ ไลบีเรีย",null," : Non Resident ",null,176066,"บุคคลผู้มีถิ่นที่อยู่ในต่างประเทศ"]
[null,null,null,null,null,null,"GG","GG : เกาะเกอร์นซี",null,"LSL","LSL : โลตี"]
[null,null,null,null,null,null,"GH","GH : กานา",null,"LTL","LTL : ลีทาส ลิทัวเนีย"]
[null,null,null,null,null,null,"GI","GI : ยิบรอลตาร์",null,"LVL","LVL : ลัตส์ ลัตเวีย"]
[null,null,null,null,null,null,"GL","GL : กรีนแลนด์, กะลาลลิตนูนาต",null,"LYD","LYD : ดีนาร์ ลิเบีย"]
[null,null,null,null,null,null,"GM","GM : แกมเบีย",null,"MAD","MAD : ดีแรห์ม โมร็อกโก"]
[null,null,null,null,null,null,"GN","GN : กินี",null,"MDL","MDL : ลิว มอลโดวา"]
[null,null,null,null,null,null,"GP","GP : กวาเดอลูป",null,"MGA","MGA : อเรียรี่ มาดากัสการ์"]
[null,null,null,null,null,null,"GQ","GQ : อิเควทอเรียลกินี",null,"MKD","MKD : ดีนาร์ มาซิโดเนีย"]
[null,null,null,null,null,null,"GR","GR : กรีซ",null,"MMK","MMK : จัต"]
[null,null,null,null,null,null,"GS","GS : เกาะเซาท์ จอร์เจียและหมู่เกาะเซาท์แซนด์วิช",null,"MNT","MNT : ทูกริค"]
[null,null,null,null,null,null,"GT","GT : กัวเตมาลา",null,"MOP","MOP : พาทากา"]
[null,null,null,null,null,null,"GU","GU : กวม",null,"MRO","MRO : อูกุยยา / อูกียา"]
[null,null,null,null,null,null,"GW","GW : กินีบิสเซา",null,"MUR","MUR : รูปี มอริเชียส"]
[null,null,null,null,null,null,"GY","GY : กายอานา",null,"MVR","MVR : รูฟียา"]
[null,null,null,null,null,null,"HM","HM : เกาะเฮิร์ดและหมู่เกาะแมกดอนัลด์",null,"MWK","MWK : ควาซา มาลาวี"]
[null,null,null,null,null,null,"HN","HN : ฮอนดูรัส",null,"MXN","MXN : เปโซ เม็กซิโก"]
[null,null,null,null,null,null,"HR","HR : โครเอเชีย",null,"MZN","MZN : เมททิคัล โมซัมบิก"]
[null,null,null,null,null,null,"HT","HT : เฮติ",null,"NAD","NAD : ดอลลาร์ นามิเบีย"]
[null,null,null,null,null,null,"HU","HU : ฮังการี",null,"NGN","NGN : ไนรา"]
[null,null,null,null,null,null,"ID","ID : อินโดนีเซีย",null,"NIO","NIO : คอร์โดบา"]
[null,null,null,null,null,null,"IE","IE : ไอร์แลนด์",null,"NOK","NOK : โครน นอร์เวย์"]
[null,null,null,null,null,null,"IL","IL : อิสราเอล",null,"NPR","NPR : รูปี เนปาล"]
[null,null,null,null,null,null,"IM","IM : เกาะแมน",null,"NZD","NZD : ดอลลาร์ นิวซีแลนด์"]
[null,null,null,null,null,null,"IN","IN : อินเดีย",null,"OMR","OMR : เรียล โอมาน"]
[null,null,null,null,null,null,"IO","IO : บริติชอินเดียนโอเชียนเทร์ริทอรี",null,"PAB","PAB : บัลโบอา"]
[null,null,null,null,null,null,"IQ","IQ : อิรัก",null,"PEN","PEN : ซัล เปรู"]
[null,null,null,null,null,null,"IR","IR : อิหร่าน",null,"PGK","PGK : คีนา"]
[null,null,null,null,null,null,"IS","IS : ไอซ์แลนด์",null,"PHP","PHP : เปโซ ฟิลิปปินส์"]
[null,null,null,null,null,null,"IT","IT : อิตาลี",null,"PKR","PKR : รูปี ปากีสถาน"]
[null,null,null,null,null,null,"JE","JE : เจอซี่",null,"PLN","PLN : สล็อตตี"]
[null,null,null,null,null,null,"JM","JM : จาเมกา",null,"PYG","PYG : กวารานี"]
[null,null,null,null,null,null,"JO","JO : จอร์แดน",null,"QAR","QAR : เรียล กาตาร์"]
[null,null,null,null,null,null,"KE","KE : เคนยา",null,"RON","RON : ลิว โรมาเนีย"]
[null,null,null,null,null,null,"KG","KG : คีร์กีซสถาน",null,"RSD","RSD : ดีนาร์ เซอร์เบีย"]
[null,null,null,null,null,null,"KH","KH : กัมพูชา",null,"RUB","RUB : รูเบิล รัสเซีย"]
[null,null,null,null,null,null,"KI","KI : คิริบาส, คิริบาตี",null,"RWF","RWF : ฟรังก์ รวันดา"]
[null,null,null,null,null,null,"KM","KM : คอโมโรส",null,"SAR","SAR : ริยัล ซาอุดีอาระเบีย"]
[null,null,null,null,null,null,"KN","KN : เซนต์คิตส์และเนวิส",null,"SBD","SBD : ดอลลาร์ หมู่เกาะโซโลมอน"]
[null,null,null,null,null,null,"KP","KP : เกาหลีเหนือ",null,"SCR","SCR : รูปี เซเชลส์"]
[null,null,null,null,null,null,"KW","KW : คูเวต",null,"SDG","SDG : ปอนด์ ซูดาน"]
[null,null,null,null,null,null,"KY","KY : หมู่เกาะเคย์แมน",null,"SEK","SEK : โครนา สวีเดน"]
[null,null,null,null,null,null,"KZ","KZ : คาซัคสถาน",null,"SHP","SHP : ปอนด์ เซนต์เฮเลนา"]
[null,null,null,null,null,null,"LA","LA : ลาว",null,"SLL","SLL : ลีโอน"]
[null,null,null,null,null,null,"LB","LB : เลบานอน",null,"SOS","SOS : ชิลลิง โซมาเลีย"]
[null,null,null,null,null,null,"LC","LC : เซนต์ลูเซีย",null,"SRD","SRD : ดอลลาร์ ซูรินาเม"]
[null,null,null,null,null,null,"LI","LI : ลิกเตนสไตน์",null,"SSP","SSP : ปอนด์ เซาท์ซูดาน"]
[null,null,null,null,null,null,"LK","LK : ศรีลังกา",null,"STD","STD : โดบรา"]
[null,null,null,null,null,null,"LR","LR : ไลบีเรีย",null,"SVC","SVC : โคโลน เอลซัลวาดอร์"]
[null,null,null,null,null,null,"LS","LS : เลโซโท",null,"SYP","SYP : ปอนด์ ซีเรีย"]
[null,null,null,null,null,null,"LT","LT : ลิทัวเนีย",null,"SZL","SZL : ลิลอนเกนี"]
[null,null,null,null,null,null,"LU","LU : ลักเซมเบิร์ก",null,"TJS","TJS : โซโมนิ"]
[null,null,null,null,null,null,"LV","LV : ลัตเวีย",null,"TMT","TMT : มานาท เติร์กเมนิสถานใหม่"]
[null,null,null,null,null,null,"LY","LY : ลิเบีย",null,"TND","TND : ดีนาร์ ตูนิเซีย"]
[null,null,null,null,null,null,"MA","MA : โมร็อกโก",null,"TOP","TOP : พาอานกา"]
[null,null,null,null,null,null,"MC","MC : โมนาโก",null,"TRY","TRY : ลีร์ ตุรกี"]
[null,null,null,null,null,null,"MD","MD : มอลโดวา",null,"TTD","TTD : ดอลลาร์ ตรินิแดดและโตเบโก"]
[null,null,null,null,null,null,"ME","ME : มอนเตเนโกร",null,"TWD","TWD : ดอลลาร์ ไต้หวัน"]
[null,null,null,null,null,null,"MF","MF : เซนต์มาร์ติน",null,"TZS","TZS : ชิลลิง แทนซาเนีย"]
[null,null,null,null,null,null,"MG","MG : มาดากัสการ์",null,"UAH","UAH : รีฟเนีย"]
[null,null,null,null,null,null,"MH","MH : หมู่เกาะมาร์แชลล์",null,"UGX","UGX : ชิลลิง ยูกันดา"]
[null,null,null,null,null,null,"MK","MK : มาซิโดเนีย",null,"USN","USN : ดอลลาร์ สหรัฐอเมริกา เน็กซ์เดย์ฟัน"]
[null,null,null,null,null,null,"ML","ML : มาลี",null,"UYI","UYI : อุรุกวัย เปโซ เอ็น อุนดิดาเดซ  อินเด็กซาดาซ"]
[null,null,null,null,null,null,"MM","MM : พม่า",null,"UYU","UYU : เปโซ อุรุกวัย"]
[null,null,null,null,null,null,"MN","MN : มองโกเลีย",null,"UZS","UZS : โซม อุซเบกิสถาน"]
[null,null,null,null,null,null,"MO","MO : มาเก๊า",null,"VEF","VEF : โบลิวาร์"]
[null,null,null,null,null,null,"MP","MP : หมู่เกาะนอร์เทิร์นมาเรียนา",null,"VND","VND : ดอง"]
[null,null,null,null,null,null,"MQ","MQ : มาร์ตินีก",null,"VUV","VUV : วาตู"]
[null,null,null,null,null,null,"MR","MR : มอริเตเนีย",null,"WST","WST : ทาลา"]
[null,null,null,null,null,null,"MS","MS : มอนต์เซอร์รัต",null,"XAF","XAF : ฟรังก์ ซีเอฟเอ บีอีเอซี"]
[null,null,null,null,null,null,"MT","MT : มอลตา",null,"XAG","XAG : เงิน"]
[null,null,null,null,null,null,"MU","MU : มอริเชียส",null,"XAU","XAU : ทองคำ"]
[null,null,null,null,null,null,"MV","MV : มัลดีฟส์",null,"XBA","XBA : อียูอาร์ซีโอ"]
[null,null,null,null,null,null,"MW","MW : มาลาวี",null,"XBB","XBB : อีเอ็มยู 6"]
[null,null,null,null,null,null,"MX","MX : เม็กซิโก",null,"XBC","XBC : บัญชี อียู 9"]
[null,null,null,null,null,null,"MZ","MZ : โมซัมบิก",null,"XBD","XBD : บัญชี อียู 17"]
[null,null,null,null,null,null,"NA","NA : นามิเบีย",null,"XCD","XCD : ดอลลาร์ คาริบเบียลตะวันออก"]
[null,null,null,null,null,null,"NC","NC : นิวแคลิโดเนีย, นูแวลกาเลโดนี",null,"XDR","XDR : สิทธิพิเศษถอนเงิน (กองทุนการเงินระหว่างประเทศ)"]
[null,null,null,null,null,null,"NE","NE : ไนเจอร์",null,"XEU","XEU : อี ซี ยู"]
[null,null,null,null,null,null,"NF","NF : เกาะนอร์ฟอล์ก",null,"XFU","XFU : ยูไอซี ฟรังก์"]
[null,null,null,null,null,null,"NG","NG : ไนจีเรีย",null,"XOF","XOF : ฟรังก์ ซีเอฟเอ บีซีอีเอโอ"]
[null,null,null,null,null,null,"NI","NI : นิการากัว",null,"XPD","XPD : พัลเลเดียม"]
[null,null,null,null,null,null,"NL","NL : เนเธอร์แลนด์",null,"XPF","XPF : ฟรังก์ ซีเอฟพี"]
[null,null,null,null,null,null,"NO","NO : นอร์เวย์",null,"XPT","XPT : แพลตตินัม"]
[null,null,null,null,null,null,"NP","NP : เนปาล",null,"XSU","XSU : ซูเคร"]
[null,null,null,null,null,null,"NR","NR : นาอูรู",null,"XUA","XUA : เอดีบี"]
[null,null,null,null,null,null,"NU","NU : นีอูเอ",null,"YER","YER : เรียล เยเมน"]
[null,null,null,null,null,null,"NZ","NZ : นิวซีแลนด์",null,"ZAR","ZAR : แรนด์"]
[null,null,null,null,null,null,"OM","OM : โอมาน",null,"ZMK","ZMK : ควาซา แซมเบีย"]
[null,null,null,null,null,null,"PA","PA : ปานามา",null,"ZWL","ZWL : ดอลลาร์ ซิมบับเว"]
[null,null,null,null,null,null,"PE","PE : เปรู"]
[null,null,null,null,null,null,"PF","PF : เฟรนช์โปลินีเซีย"]
[null,null,null,null,null,null,"PG","PG : ปาปัวนิวกินี"]
[null,null,null,null,null,null,"PH","PH : ฟิลิปปินส์"]
[null,null,null,null,null,null,"PK","PK : ปากีสถาน"]
[null,null,null,null,null,null,"PL","PL : โปแลนด์"]
[null,null,null,null,null,null,"PM","PM : แซงปิแยร์และมีเกอลง"]
[null,null,null,null,null,null,"PN","PN : หมู่เกาะพิตแคร์น"]
[null,null,null,null,null,null,"PR","PR : เครือรัฐเปอร์โตริโก"]
[null,null,null,null,null,null,"PS","PS : ปาเลสไตน์"]
[null,null,null,null,null,null,"PT","PT : โปรตุเกส"]
[null,null,null,null,null,null,"PW","PW : ปาเลา"]
[null,null,null,null,null,null,"PY","PY : ปารากวัย"]
[null,null,null,null,null,null,"QA","QA : กาตาร์"]
[null,null,null,null,null,null,"RE","RE : เรอูนียง"]
[null,null,null,null,null,null,"RO","RO : โรมาเนีย"]
[null,null,null,null,null,null,"RS","RS : เซอร์เบีย"]
[null,null,null,null,null,null,"RU","RU : รัสเซีย"]
[null,null,null,null,null,null,"RW","RW : รวันดา"]
[null,null,null,null,null,null,"SA","SA : ซาอุดีอาระเบีย"]
[null,null,null,null,null,null,"SB","SB : หมู่เกาะโซโลมอน"]
[null,null,null,null,null,null,"SC","SC : เซเชลส์"]
[null,null,null,null,null,null,"SD","SD : ซูดาน"]
[null,null,null,null,null,null,"SE","SE : สวีเดน"]
[null,null,null,null,null,null,"SH","SH : เซนต์เฮเลนา"]
[null,null,null,null,null,null,"SI","SI : สโลวีเนีย"]
[null,null,null,null,null,null,"SJ","SJ : สฟาลบาร์"]
[null,null,null,null,null,null,"SK","SK : สโลวาเกีย"]
[null,null,null,null,null,null,"SL","SL : เซียร์ราลีโอน"]
[null,null,null,null,null,null,"SM","SM : ซานมารีโน"]
[null,null,null,null,null,null,"SN","SN : เซเนกัล"]
[null,null,null,null,null,null,"SO","SO : โซมาเลีย"]
[null,null,null,null,null,null,"SR","SR : ซูรินาเม"]
[null,null,null,null,null,null,"SS","SS : เซาท์ซูดาน"]
[null,null,null,null,null,null,"ST","ST : เซาตูเมและปรินซิปี"]
[null,null,null,null,null,null,"SV","SV : เอลซัลวาดอร์"]
[null,null,null,null,null,null,"SX","SX : ซินท์มาร์เทิน"]
[null,null,null,null,null,null,"SY","SY : ซีเรีย"]
[null,null,null,null,null,null,"SZ","SZ : สวาซิแลนด์"]
[null,null,null,null,null,null,"TC","TC : หมู่เกาะเติกส์และหมู่เกาะเคคอส"]
[null,null,null,null,null,null,"TD","TD : ชาด"]
[null,null,null,null,null,null,"TF","TF : เฟรนช์เซาเทิร์นและแอนตาร์กติกเทร์ริทอรีส์"]
[null,null,null,null,null,null,"TG","TG : โตโก"]
[null,null,null,null,null,null,"TJ","TJ : ทาจิกิสถาน"]
[null,null,null,null,null,null,"TK","TK : โตเกเลา"]
[null,null,null,null,null,null,"TL","TL : ติมอร์-เลสเต"]
[null,null,null,null,null,null,"TM","TM : เติร์กเมนิสถาน"]
[null,null,null,null,null,null,"TN","TN : ตูนิเซีย"]
[null,null,null,null,null,null,"TO","TO : ตองกา"]
[null,null,null,null,null,null,"TR","TR : ตุรกี"]
[null,null,null,null,null,null,"TT","TT : ตรินิแดดและโตเบโก"]
[null,null,null,null,null,null,"TV","TV : ตูวาลู"]
[null,null,null,null,null,null,"TZ","TZ : แทนซาเนีย"]
[null,null,null,null,null,null,"UA","UA : ยูเครน"]
[null,null,null,null,null,null,"UG","UG : ยูกันดา"]
[null,null,null,null,null,null,"UM","UM : ยูเอส ไมเนอร์"]
[null,null,null,null,null,null,"UY","UY : อุรุกวัย"]
[null,null,null,null,null,null,"UZ","UZ : อุซเบกิสถาน"]
[null,null,null,null,null,null,"VA","VA : นครรัฐวาติกัน"]
[null,null,null,null,null,null,"VC","VC : เซนต์วินเซนต์ และเกรนาดีนส์"]
[null,null,null,null,null,null,"VE","VE : สาธารณรัฐโบลีวาร์แห่งเวเนซุเอลา"]
[null,null,null,null,null,null,"VG","VG : หมู่เกาะเวอร์จินของอังกฤษ"]
[null,null,null,null,null,null,"VI","VI : หมู่เกาะเวอร์จินของสหรัฐอเมริกา"]
[null,null,null,null,null,null,"VN","VN : เวียดนาม"]
[null,null,null,null,null,null,"VU","VU : วานูอาตู"]
[null,null,null,null,null,null,"WF","WF : หมู่เกาะวาลลิสและหมู่เกาะฟุตูนา"]
[null,null,null,null,null,null,"WS","WS : ซามัว"]
[null,null,null,null,null,null,"YE","YE : เยเมน"]
[null,null,null,null,null,null,"YT","YT : มายอต"]
[null,null,null,null,null,null,"ZA","ZA : แอฟริกาใต้"]
[null,null,null,null,null,null,"ZM","ZM : แซมเบีย"]
[null,null,null,null,null,null,"ZW","ZW : ซิมบับเว"]

{"sheet":"Balance","index":6,"n_rows":5,"n_cols":5,"rows_kept":5,"cut":false,"hidden":true,"merged":[[0,0,0,4],[3,0,4,0],[3,1,3,2],[3,3,3,4]]}
["รายงานยอดคงค้างเงินตราต่างประเทศของบุคคลรับอนุญาต"]
["ชื่อบุคคลรับอนุญาต :",null,null,"      License No :"]
["สถานประกอบการ :",null,null,"ข้อมูล ณ"]
["สกุลเงิน","ยอดยกมา",null,"ยอดยกไป"]
[null,"ธนบัตร","เช็คเดินทาง","ธนบัตร","เช็คเดินทาง"]

{"sheet":"Summary Buy_Sell","index":7,"n_rows":8,"n_cols":11,"rows_kept":8,"cut":false,"hidden":true,"merged":[[1,0,1,10],[2,1,2,4],[4,0,6,0],[4,1,5,2],[4,3,4,5],[4,6,4,8],[4,9,5,10],[5,3,5,4],[5,7,5,8]]}
[]
["รายงานสรุปการซื้อ/ขายธนบัตรและเช็คเดินทางต่างประเทศของบุคคลรับอนุญาต ประจำเดือน MMMMM YYY"]
["ชื่อบุคคลรับอนุญาต :",null,null,null,null,"      License No :",null,null,null,9,2558]
["สถานประกอบการ :",null,null,null,null,"เลขที่ หรือรหัสพื้นที่ของสถานประกอบการ :",null,10]
["สกุลเงิน","ยอดยกมา",null,"ซื้อ",null,null,"ขาย",null,null,"ยอดยกไป"]
[null,null,null,"ลูกค้า",null,"ธนาคาร/MC อื่น","ลูกค้า","ธนาคาร/MC อื่น"]
[null,"ธนบัตร","เช็คเดินทาง","ธนบัตร","เช็คเดินทาง","ธนบัตร","ธนบัตร","ธนบัตร","เช็คเดินทาง","ธนบัตร","เช็คเดินทาง"]
[null,null,null,null,null,null,null,null,null,{"$f":"B8+D8+F8-G8-H8","v":0},{"$f":"C8+E8-I8","v":0}]